{"text_format":"2","workbook":"xlsx","n_sheets":30,"sheets":["Validacion","Balanza","F3","F9-IDP","F9-EDP","F9-IAO","F10","F11","F7B","F18A","F19A","F21","F22","F23","F1","F1LDF","F6","F2","F4A1","F4A2","F5","F7","F7A","F8","F8B","F12","F16","F17","F18","F19"],"not_rendered":{"charts":0,"images":0,"macros":0,"external_links":0,"defined_names":12,"comments":0,"pivot_tables":0},"unopened":[],"bounds":{"document_bytes":16777216,"sheet_cells":100000,"run_cost":"one","rows_first":2000,"rows_last":500,"rows_between":2000,"halvings":0,"cell_chars":16384,"cell_head_chars":4096},"cells_cut":0,"cells_raw":0,"read":"whole","date_system":"1900"}

{"sheet":"Validacion","index":0,"n_rows":681,"n_cols":25,"rows_kept":681,"cut":false,"hidden":false,"merged":[[120,2,120,39],[121,2,121,39],[122,2,122,39],[57,24,57,39],[58,24,58,39],[55,24,55,39],[45,12,45,23],[50,12,50,23],[54,0,54,5],[54,6,54,11],[54,18,54,23],[46,0,46,11],[47,0,47,11],[48,0,48,11],[45,0,45,11],[52,18,52,23],[52,0,52,5],[45,24,45,39],[46,12,46,23],[47,12,47,23],[48,12,48,23],[49,12,49,23],[46,24,46,39],[47,24,47,39],[48,24,48,39],[56,0,56,5],[56,6,56,11],[0,0,0,39],[1,0,3,39],[11,0,11,39],[44,0,44,39],[4,0,4,39],[5,0,5,39],[7,0,7,39],[9,0,9,39],[10,0,10,39],[8,0,8,39],[6,0,6,39],[12,0,12,16383],[22,0,22,16383],[29,0,29,16383],[39,0,39,16383],[42,0,42,16383],[56,18,56,23],[55,12,56,17],[49,24,49,39],[50,24,50,39],[51,24,51,39],[59,0,59,39],[55,0,55,5],[55,6,55,11],[55,18,55,23],[58,0,58,5],[58,6,58,11],[58,18,58,23],[57,0,57,5],[69,2,69,39],[69,0,72,1],[71,2,71,39],[70,2,70,39],[72,2,72,39],[60,0,62,1],[63,0,65,1],[63,2,63,39],[64,2,64,39],[65,2,65,39],[60,2,60,39],[61,2,61,39],[57,6,57,11],[57,12,58,17],[57,18,57,23],[56,24,56,39],[86,2,86,39],[97,2,97,39],[98,2,98,39],[87,0,89,1],[87,2,87,39],[88,2,88,39],[92,2,92,39],[93,2,93,39],[94,2,94,39],[95,2,95,39],[96,2,96,39],[53,24,53,39],[53,12,54,17],[53,18,53,23],[49,0,49,11],[50,0,50,11],[51,0,51,11],[53,0,53,5],[53,6,53,11],[51,12,51,23],[52,6,52,11],[52,12,52,17],[54,24,54,39],[52,24,52,39],[62,2,62,39],[66,0,68,1],[66,2,66,39],[67,2,67,39],[68,2,68,39],[73,0,77,1],[73,2,73,39],[74,2,74,39],[75,2,75,39],[77,2,77,39],[76,2,76,39],[78,0,79,1],[78,2,78,39],[79,2,79,39],[101,2,101,39],[106,2,106,39],[101,0,106,1],[102,2,102,39],[103,2,103,39],[104,2,104,39],[105,2,105,39],[99,2,99,39],[100,2,100,39],[90,2,90,39],[91,2,91,39],[89,2,89,39],[90,0,100,1],[80,2,80,39],[81,2,81,39],[83,2,83,39],[80,0,83,1],[82,2,82,39],[84,0,86,1],[84,2,84,39],[85,2,85,39],[123,0,128,1],[123,2,123,39],[124,2,124,39],[125,2,125,39],[128,2,128,39],[126,2,126,39],[127,2,127,39],[107,2,107,39],[108,2,108,39],[109,2,109,39],[110,2,110,39],[107,0,110,1],[111,0,114,1],[111,2,111,39],[112,2,112,39],[113,2,113,39],[114,2,114,39],[115,0,118,1],[115,2,115,39],[116,2,116,39],[117,2,117,39],[118,2,118,39],[119,0,122,1],[119,2,119,39]]}
["NOMBRE DEL ENTE PÚBLICO"]
["Atemajac de Brizuela"]
[]
[]
["INFORMACIÓN"]
["Nombre del presidente municipal o titular de la entidad pública"]
["C. SANTIAGO LEON CASTRO"]
["Nombre del encargado de la hacienda pública o finanzas de la entidad pública"]
["L.T. JOCELYN SANCHEZ HERRERA"]
["Mes o corte a informar"]
["DICIEMBRE, 2do. Informe de Avance de Gestión Financiera y Corte Anual"]
["VERIFICACIÓN DE ESTADOS E INFORMES FINANCIEROS"]
["Estados e informes contables:"]
[{"$f":"IF(ROUND(SUM(A47:L49),2)>0,IF(ROUND((M47),2)=ROUND((M48+M49),2),IF(ROUND(A47,2)=ROUND((A48+A49),2),\"X\",\"\")),\"\")","v":"X"},"Estado de situación financiera (F1)"]
[{"$f":"IF(ROUND('F2'!G33,2)=0,\"\",\"X\")","v":"X"},"Estado de variación de la hacienda pública (F2)"]
[{"$f":"IF(ROUND('F3'!F60,2)>0,\"X\",\"\")","v":"X"},"Estado de flujo de efectivo (F3)"]
[{"$f":"IF(ROUND(F4A1!D18,2)>0,\"X\",\"\")","v":"X"},"Conciliación entre los ingresos presupuestarios y contables (F4A1)"]
[{"$f":"IF(ROUND(F4A2!D37,2)>0,\"X\",\"\")","v":"X"},"Conciliación entre los egresos presupuestarios y los gastos contables (F4A2)"]
[{"$f":"IF(ROUND('F5'!H6,2)>0,\"X\",\"\")","v":"X"},"Estado analítico del activo (F5)"]
[{"$f":"IF(ROUND(SUM(A50:L51),2)>0,IF(ROUND(M50,2)>0,\"X\",\"\"),\"\")","v":"X"},"Estado de actividades (F6)"]
[{"$f":"IF(ROUND('F16'!E6,2)=0,\"\",\"X\")","v":"X"},"Estado de cambios en la situación financiera (F16)"]
[{"$f":"IF('F11'!A6>0,\"X\",\"\")","v":"X"},"Informe sobre pasivos contingentes (F11)"]
["Estados e informes presupuestarios:"]
[{"$f":"IF(ROUND(SUM('F7'!E70:F70),2)>0,\"X\",\"\")","v":"X"},"Estado analítico de ingresos por clasificación por rubro de ingresos (F7)"]
[{"$f":"IF(ROUND(SUM(F7A!F23:G23),2)>0,\"X\",\"\")","v":"X"},"Estado analítico de ingresos por clasificación por fuente de financiamiento (F7A)"]
[{"$f":"IF(ROUND(SUM('F8'!E80:F80),2)>0,\"X\",\"\")","v":"X"},"Estado analítico del ejercicio del presupuesto de egresos por clasificación por objeto del gasto (F8)"]
[{"$f":"IF(ROUND(SUM('F17'!E13:F13),2)>0,\"X\",\"\")","v":"X"},"Estado analítico del ejercicio del presupuesto de egresos por clasificación por tipo de gasto (F17)"]
[{"$f":"IF(ROUND(SUM('F18'!D58:E58),2)>0,\"X\",\"\")","v":"X"},"Estado analítico del ejercicio del presupuesto de egresos por clasificación administrativa (F18)"]
[{"$f":"IF(ROUND(SUM('F19'!E40:F40),2)>0,\"X\",\"\")","v":"X"},"Estado analítico del ejercicio del presupuesto de egresos por clasificación funcional (F19)"]
["Estados e informes de la Ley de Disciplina Financiera:"]
[{"$f":"IF(ROUND(SUM(A47:L49),2)>0,IF(ROUND(M47,2)=ROUND((M48+M49),2),IF(ROUND(A47,2)=ROUND((A48+A49),2),\"X\",\"\")),\"\")","v":"X"},"Estado de situación financiera detallado - LDF (F1LDF)"]
[{"$f":"IF('F9-IDP'!J3>0,\"X\",\"\")","v":"X"},"Estado e informe analítico de la deuda pública y otros pasivos (F9-EDP)"]
[{"$f":"IF('F9-IAO'!C12>0,\"X\",\"\")","v":"X"},"Informe analítico de obligaciones diferentes de financiamiento (F9-IAO)"]
[{"$f":"IF(ROUND(SUM('F22'!F10:G10),2)>0,\"X\",\"\")","v":"X"},"Balance presupuestario - LDF (F22)"]
[{"$f":"IF(ROUND(SUM(F7B!E64:F64),2)>0,\"X\",\"\")","v":"X"},"Estado analítico de ingresos detallados - LDF (F7B)"]
[{"$f":"IF(ROUND(SUM(F8B!F155:G155),2)>0,\"X\",\"\")","v":"X"},"Estado analítico del ejercicio del presupuesto de egresos detallado - LDF por clasificación por objeto del gasto (F8B)"]
[{"$f":"IF(ROUND(SUM(F18A!F62:G62),2)>0,\"X\",\"\")","v":"X"},"Estado analítico del ejercicio del presupuesto de egresos detallado - LDF por clasificación administrativa (F18A)"]
[{"$f":"IF(ROUND(SUM(F19A!F76:G76),2)>0,\"X\",\"\")","v":"X"},"Estado analítico del ejercicio del presupuesto de egresos detallado - LDF por clasificación funcional (F19A)"]
[{"$f":"IF(ROUND(SUM('F21'!F32:G32),2)>0,\"X\",\"\")","v":"X"},"Estado analítico del ejercicio del presupuesto de egresos detallado - LDF por servicios personales por categoría (F21)"]
["Informes complementarios:"]
[{"$f":"IF('F10'!B6>0,\"X\",\"\")","v":"X"},"Informativa de proveedores (F10)"]
[{"$f":"IF('F23'!A9>0,\"X\",\"\")","v":"X"},"Informativa de obra pública (F23)"]
["Informe de Avances de Gestión Financiera"]
[{"$f":"IF(ROUND(SUM('F12'!E30:F30),2)>0,\"X\",\"\")","v":"X"},"Flujo contable de ingresos y egresos (F12)"]
["INFORMACIÓN FINANCIERA GENERAL"]
["EJERCICIO 2021",{"$nulls":11},"EJERCICIO 2020",{"$nulls":11},"CONCEPTO"]
[{"$f":"ROUND('F1'!AF106,2)","v":29129868.989999998},{"$nulls":11},{"$f":"ROUND('F1'!AG106,2)","v":20676732.960000001},{"$nulls":11},"Activo"]
[{"$f":"ROUND('F1'!BM80,2)","v":327242.73},{"$nulls":11},{"$f":"ROUND('F1'!BN80,2)","v":3948060.41},{"$nulls":11},"Pasivo"]
[{"$f":"ROUND('F1'!BM104,2)","v":28802626.260000002},{"$nulls":11},{"$f":"ROUND('F1'!BN104,2)","v":16728672.550000001},{"$nulls":11},"Hacienda pública/patrimonio"]
[{"$f":"ROUND('F6'!AX184,2)","v":49351198},{"$nulls":11},{"$f":"ROUND('F6'!AY184,2)","v":43025166.68},{"$nulls":11},"Ingresos"]
[{"$f":"ROUND('F6'!AX543,2)","v":37277244.289999999},{"$nulls":11},{"$f":"ROUND('F6'!AY543,2)","v":34757794.979999997},{"$nulls":11},"Egresos"]
[{"$f":"ROUND('F6'!AX544,2)","v":12073953.710000001},{"$nulls":11},{"$f":"ROUND('F6'!AY544,2)","v":8267371.7000000002},{"$nulls":11},"Ahorro/desahorro"]
["F1",{"$nulls":5},"F9-EDP",{"$nulls":5},"F1",{"$nulls":5},"F9-EDP",{"$nulls":5},"CONCEPTO"]
[{"$f":"ROUND('F1'!BM23,2)","v":0},{"$nulls":5},{"$f":"ROUND('F9-EDP'!AP12,2)","v":0},{"$nulls":5},{"$f":"ROUND('F1'!BN23+'F1'!BN60,2)","v":2450000},{"$nulls":5},{"$f":"ROUND('F9-EDP'!N12,2)","v":2450000},{"$nulls":5},"Deuda pública instituciones de crédito C/P"]
[{"$f":"ROUND('F1'!BM60,2)","v":0},{"$nulls":5},{"$f":"ROUND('F9-EDP'!AP16,2)","v":0},{"$nulls":11},{"$f":"ROUND('F9-EDP'!N16,2)","v":0},{"$nulls":5},"Deuda pública instituciones de crédito L/P"]
[{"$f":"ROUND('F1'!BM27,2)","v":0},{"$nulls":5},{"$f":"ROUND('F9-EDP'!AP13,2)","v":0},{"$nulls":5},{"$f":"ROUND('F1'!BN27+'F1'!BN58,2)","v":0},{"$nulls":5},{"$f":"ROUND('F9-EDP'!N13,2)","v":0},{"$nulls":5},"Deuda pública títulos y valores C/P"]
[{"$f":"ROUND('F1'!BM58,2)","v":0},{"$nulls":5},{"$f":"ROUND('F9-EDP'!AP17,2)","v":0},{"$nulls":11},{"$f":"ROUND('F9-EDP'!N17,2)","v":0},{"$nulls":5},"Deuda pública títulos y valores L/P"]
[{"$f":"ROUND('F1'!BM25,2)","v":0},{"$nulls":5},{"$f":"ROUND('F9-EDP'!AP14,2)","v":0},{"$nulls":5},{"$f":"ROUND('F1'!BN25+'F1'!BN62,2)","v":0},{"$nulls":5},{"$f":"ROUND('F9-EDP'!N14,2)","v":0},{"$nulls":5},"Deuda pública arrendamiento financiero C/P"]
[{"$f":"ROUND('F1'!BM62,2)","v":0},{"$nulls":5},{"$f":"ROUND('F9-EDP'!AP18,2)","v":0},{"$nulls":11},{"$f":"ROUND('F9-EDP'!N18,2)","v":0},{"$nulls":5},"Deuda pública arrendamiento financiero L/P"]
["INCONSISTENCIAS"]
["1. Validación a la balanza de comprobación (contable)",null,{"$f":"IF(ROUND(Balanza!$C$753,2)=ROUND(Balanza!$D$753,2),\"\",\"1.1. Balanza de comprobación (contable) descuadarada en el saldo inicial.\")","v":""}]
[null,null,{"$f":"IF(ROUND(Balanza!$E$753,2)=ROUND(Balanza!$F$753,2),\"\",\"1.2. Balanza de comprobación (contable) descuadarada en los movimientos de cargo y abono.\")","v":""}]
[null,null,{"$f":"IF(ROUND(Balanza!$G$753,2)=ROUND(Balanza!$H$753,2),\"\",\"1.3. Balanza de comprobación (contable) descuadarada en el saldo final.\")","v":""}]
["2. Validación a la balanza de comprobación (orden género 7)",null,{"$f":"IF(ROUND(Balanza!$C$792,2)=ROUND(Balanza!$D$792,2),\"\",\"2.1. Balanza de comprobación (orden) descuadarada en el saldo inicial.\")","v":""}]
[null,null,{"$f":"IF(ROUND(Balanza!$E$792,2)=ROUND(Balanza!$F$792,2),\"\",\"2.2. Balanza de comprobación (orden) descuadarada en los movimientos de cargo y abono.\")","v":""}]
[null,null,{"$f":"IF(ROUND(Balanza!$G$792,2)=ROUND(Balanza!$H$792,2),\"\",\"2.3. Balanza de comprobación (orden) descuadarada en el saldo final.\")","v":""}]
["3. Validación a la balanza de comprobación (orden presupuestal)",null,{"$f":"IF(ROUND(Balanza!$C$2087,2)=ROUND(Balanza!$D$2087,2),\"\",\"3.1. Balanza de comprobación (orden presupuestal) descuadarada en el saldo inicial.\")","v":""}]
[null,null,{"$f":"IF(ROUND(Balanza!$E$2087,2)=ROUND(Balanza!$F$2087,2),\"\",\"3.2. Balanza de comprobación (orden presupuestal) descuadarada en los movimientos de cargo y abono.\")","v":""}]
[null,null,{"$f":"IF(ROUND(Balanza!$G$2087,2)=ROUND(Balanza!$H$2087,2),\"\",\"3.3. Balanza de comprobación (presupuestal) descuadarada en el saldo final.\")","v":""}]
["4. Validación al estado de situación financiera (F1)",null,{"$f":"IF(ROUND($M$47,2)=ROUND(($M$48+$M$49),2),\"\",\"4.1. En el estado de situación financiera ejercicio 2019, no es igual el activo y el pasivo más la hacienda pública/patrimonio.\")","v":""}]
[null,null,{"$f":"IF(ROUND($A$47,2)=ROUND(($A$48+$A$49),2),\"\",\"4.2. En el estado de situación financiera ejercicio 2020, no es igual el activo y el pasivo más la hacienda pública/patrimonio.\")","v":""}]
[null,null,{"$f":"IF(ROUND('F6'!$AY$544,2)=ROUND('F1'!$BN$87,2),\"\",\"4.3. El resultado del ejercicio (ahorro/desarrollo) del estado de actividades (F6) no es igual al resultado del ejercicio del estado de situación financiera (F1), estos del ejercicio 2019.\")","v":""}]
[null,null,{"$f":"IF(ROUND('F6'!$AX$544,2)=ROUND('F1'!$BM$87,2),\"\",\"4.4. El resultado del ejercicio (ahorro/desarrollo) del estado de actividades (F6) no es igual al resultado del ejercicio del estado de situación financiera (F1), estos del ejercicio 2020.\")","v":""}]
["5. Validación al estado de variación en la hacienda pública (F2)",null,{"$f":"IF(ROUND('F2'!C6,2)=ROUND('F1'!BN82,2),\"\",\"5.1. El saldo de la hacienda pública/patrimonio contribuido neto del 2019 en el estado de variación de la hacienda publica (F2), no es igual a la hacienda pública/patrimonio contribuido del estado de situación financiera (F1) en la columna ejercicio 2019.\")","v":""}]
[null,null,{"$f":"IF(ROUND('F2'!G10,2)=ROUND('F1'!BN86,2),\"\",\"5.2. El saldo de la hacienda pública/patrimonio generado neto del 2019 de la columna total en el estado de variación de la hacienda publica (F2), no es igual a la hacienda pública/patrimonio generado \"&\"del estado de situación financiera (F1) en la columna ejercicio 2019.\")","v":""}]
[null,null,{"$f":"IF(ROUND('F2'!G16,2)=ROUND('F1'!BN101,2),\"\",\"5.3. El saldo del exceso o insuficiencia en la actualización de la hacienda pública/patrimonio neto de 2019 de la columna total en el estado de variación de la hacienda publica (F2),\"&\" no es igual al exceso o insuficiencia en la actualización de la hacienda pública/patrimonio del estado de situación financiera (F1) en la columna ejercicio 2019.\")","v":""}]
[null,null,{"$f":"IF(ROUND('F2'!G19,2)=ROUND('F1'!BN104,2),\"\",\"5.4. El saldo de la hacienda pública/patrimonio neto final de 2019 de la columna total en el estado de variación de la hacienda publica (F2),\"&\" no es igual al total de la hacienda pública/patrimonio del estado de situación financiera (F1) en la columna ejercicio 2019.\")","v":""}]
[null,null,{"$f":"IF(ROUND('F2'!G33,2)=ROUND('F1'!BM104,2),\"\",\"5.6. El saldo de la hacienda pública/patrimonio neto final de 2020 de la columna total en el estado de variación de la hacienda publica (F2),\"&\" no es igual al total de la hacienda pública/patrimonio del estado de situación financiera (F1) en la columna ejercicio 2020.\")","v":""}]
["6. Validación de conciliaciones prespu. vs conta. (F4A1, F4A2)",null,{"$f":"IF(ROUND(F4A1!D18,2)=ROUND('F6'!AX184,2),\"\",\"6.1. El importe de total de ingresos contables de la conciliación entre los ingresos presupuestal y contable (F4A1),\"&\" no es igual al total ingresos del estado de actividades (F6) en la columna ejercicio 2020.\")","v":""}]
[null,null,{"$f":"IF(ROUND(F4A2!D37,2)=ROUND('F6'!AX543,2),\"\",\"6.2. El importe del total de gastos contables de la conciliación entre los egresos presupuestal y gastos contables (F4A2),\"&\" no es igual al total gastos y otras perdidas del estado de actividades (F6) en la columna ejercicio 2020.\")","v":""}]
["7. Validación al estado de cambios de la situación financiera (F16)",null,{"$f":"IF(ROUND(('F16'!E43-'F16'!F43),2)=ROUND('F2'!C20,2),\"\",\"7.1. El saldo de la hacienda pública/patrimonio contribuido neto del 2020 del estado de variación de la hacienda publica (F2), \"&\"es diferente a la hacienda pública/patrimonio contribuido del estado de cambios de la situación financiera (F16) en la columna ejercicio 2020.\")","v":""}]
[null,null,{"$f":"IF(ROUND((SUM('F16'!E50:E52)+SUM('F16'!F50:F52)),2)=ROUND(SUM('F2'!E27:E29),2),\"\",\"7.2. La suma de las filas de revalúos, reservas y rectificaciones de resultados de ejercicios anteriores 2020, del estado de variación de la hacienda publica (F2), \"&\"es diferente a la que se muestra en estos rubros del estado de cambios de la situación financiera (F16) en la columna ejercicio 2020.\")","v":""}]
[null,null,{"$f":"IF(ROUND(('F16'!E49+'F16'!F49),2)=ROUND('F2'!D24,2),\"\",\"7.3. El saldo del resultado de ejercicios anteriores del apartado variaciones de la hacienda pública/patrimonio contribuido neto del 2020 del estado de variación de la hacienda publica (F2), \"&\"es diferente al apartado de ejercicios anteriores del estado de cambios de la situación financiera (F16) en la columna ejercicio 2020.\")","v":""}]
[null,null,{"$f":"IF(ROUND(('F16'!E53-'F16'!F53),2)=ROUND('F2'!F30,2),\"\",\"7.4. El saldo del exceso o insuficiencia en la actuialización de la hacienda pública/patrimonio neto 2020, del estado de variación de la hacienda publica (F2), \"&\"es diferente al apartado del exceso o insuficiencia en la actualización de la hacienda pública /patrimonio del estado de cambios de la situación financiera (F16) en la columna ejercicio 2020.\")","v":""}]
["8. Validación al estado de flujo de efectivo (F3)",null,{"$f":"IF(ROUND('F3'!F58,2)=ROUND(('F16'!E8+'F16'!F8),2),\"\",\"8.1. El incremento/disminución neta en el efectivo y equivalentes del flujo de efectivo (F3) de la columna 2020, no es igual al que se muestra en el estado de \"&\"cambios en la situación financiera (F16) en la fila de efectivo y equivalentes ya sea de la columna de origen o aplicación.\")","v":""}]
[null,null,{"$f":"IF(ROUND('F3'!G60,2)=ROUND('F1'!AG8,2),\"\",\"8.2. El efectivo y equivalentes al efectivo al final del ejercicio columna 2019, del estado de flujo de efectivo (F3), es diferente al saldo del\"&\" rubro de efectivo y equivalentes de la columna 2019 del estado de situación financiera (F1).\")","v":""}]
[null,null,{"$f":"IF(ROUND('F3'!F60,2)=ROUND('F1'!AF8,2),\"\",\"8.3. El efectivo y equivalentes al efectivo al final del ejercicio columna 2020, del estado de flujo de efectivo (F3), es diferente al saldo del\"&\" rubro de efectivo y equivalentes de la columna 2020 del estado de situación financiera (F1).\")","v":""}]
["9. Validación al estado analítico del activo (F5)",null,{"$f":"IF(ROUND('F5'!E6,2)=ROUND('F1'!AG106,2),\"\",\"9.1. El total del activo del estado analítico del activo (F5) en la columna de saldo inicial, es diferente al total del activo en el estado de situación financiera (F1), en la columna correspondiente al ejercicio 2019\")","v":""}]
[null,null,{"$f":"IF(ROUND('F5'!H6,2)=ROUND('F1'!AF106,2),\"\",\"9.2. El total del activo del estado analítico del activo (F5) en la columna de saldo final, es diferente al total del activo en el estado de situación financiera (F1), en la columna correspondiente al ejercicio 2020\")","v":""}]
[null,null,{"$f":"IF(ROUND('F5'!I6,2)=ROUND('F16'!E6+'F16'!F6,2),\"\",\"9.3. La cifra de la fila del rubro de activo de la columna de variación del periodo del estado analítico del activo (F5), es diferente a los rubros del activo en las columnas de origen o aplicación del estado de cambios en la situación financiera (F16)\")","v":""}]
["10. Validación al estado analítico de la deuda y otros pasivos (F9)",null,{"$f":"IF(ROUND((S54+S55),2)=ROUND(M54,2),\"\",\"10.1. El saldo de la deuda pública al 1° de enero de 2020 con instituciones de crédito a corto y largo plazo, del estado e informe análitico de la deuda pública y \"&\"otros pasivos (F9-EDP), no es igual a los rubros de la deuda pública interna por pagar a corto y largo plazo (suma de las cuentas 2131 y 2233 columna ejercicio 2019) del estado de situación financiera (F1).\")","v":""}]
[null,null,{"$f":"IF(ROUND((S56+S57),2)=ROUND(M56,2),\"\",\"10.2. El saldo de la deuda pública al 1° de enero de 2020 en títulos y valores de corto y largo plazo, del estado e informe análitico de la deuda pública y otros \"&\"pasivos (F9-EDP), no es igual al rubro de títulos y valores por pagar a corto y largo plazo (suma de las cuentas 2141 y 2231 columna ejercicio 2019) del estado de situación financiera (F1).\")","v":""}]
[null,null,{"$f":"IF(ROUND((S58+S59),2)=ROUND(M58,2),\"\",\"10.3. El saldo de la deuda pública al 1° de enero de 2020 en arrendamiento financiero de corto y largo plazo, del estado e informe análitico de la deuda pública y \"&\"otros pasivos (F9-EDP), no es igual al rubro de arrendamiento financiero por pagar a corto y largo plazo (suma de las cuentas 2133 y 2235 columna ejercicio 2019) del estado de situación financiera (F1).\")","v":""}]
[null,null,{"$f":"IF(ROUND(A54,2)=ROUND(G54,2),\"\",\"10.4. El saldo de la deuda pública del periodo con instituciones de crédito a corto plazo, del estado e informe análitico de la deuda pública y otros pasivos (F9-EDP), \"&\"no es igual al rubro de la porción de la deuda pública interna por pagar a corto plazo (cuenta 2131 columna ejercicio 2020) del estado de situación financiera (F1).\")","v":""}]
[null,null,{"$f":"IF(ROUND(A55,2)=ROUND(G55,2),\"\",\"10.5. El saldo de la deuda pública del periodo con instituciones de crédito a largo plazo, del estado e informe análitico de la deuda pública y otros pasivos (F9-EDP), \"&\"no es igual al rubro de préstamos de la deuda pública interna por pagar a largo plazo (cuenta 2233 columna ejercicio 2020) del estado de situación financiera (F1).\")","v":""}]
[null,null,{"$f":"IF(ROUND(A56,2)=ROUND(G56,2),\"\",\"10.6. El saldo de la deuda pública del periodo en títulos y valores a corto plazo, del estado e informe análitico de la deuda pública y otros pasivos (F9-EDP), no es \"&\"igual al rubro de títulos y valores de la deuda pública interna por pagar a corto plazo (cuenta 2141 columna ejercicio 2020) del estado de situación financiera (F1).\")","v":""}]
[null,null,{"$f":"IF(ROUND(A57,2)=ROUND(G57,2),\"\",\"10.7. El saldo de la deuda pública del periodo en títulos y valores a largo plazo, del estado e informe análitico de la deuda pública y otros pasivos (F9-EDP), no es \"&\"igual al rubro de títulos y valores de la deuda pública interna por pagar a largo plazo (cuenta 2231 columna ejercicio 2020) del estado de situación financiera (F1).\")","v":""}]
[null,null,{"$f":"IF(ROUND(A58,2)=ROUND(G58,2),\"\",\"10.8. El saldo de la deuda pública del periodo en arrendamiento financiero a corto plazo, del estado e informe análitico de la deuda pública y otros pasivos\"&\" (F9-EDP), no es igual al rubro de la porción de arrendamiento financiero de la deuda pública interna por pagar a corto plazo (cuenta 2133 columna ejercicio 2020) del estado de situación financiera (F1).\")","v":""}]
[null,null,{"$f":"IF(ROUND(A59,2)=ROUND(G59,2),\"\",\"10.9. El saldo de la deuda pública del periodo en arrendamiento financiero a largo plazo, del estado e informe análitico de la deuda pública y otros pasivos (F9-EDP), \"&\"no es igual al rubro de arrendamiento financiero de la deuda pública interna por pagar a largo plazo (cuenta 2235 columna ejercicio 2020) del estado de situación financiera (F1).\")","v":""}]
[null,null,{"$f":"IF(ROUND('F9-EDP'!N20,2)=ROUND('F1'!BN80,2),\"\",\"10.10. El total del pasivo al inicio del ejercicio 2020 del estado e informe análitico de la deuda pública y otros pasivos (F9-EDP), no es igua al pasivo (columna del ejercicio 2019) en el estado de situación financiera (F1).\")","v":""}]
[null,null,{"$f":"IF(ROUND('F9-EDP'!AP20,2)=ROUND('F1'!BM80,2),\"\",\"10.11. El total del pasivo del periodo informado del ejercicio 2020 del estado e informe análitico de la deuda pública y otros pasivos (F9-EDP), no es igua al pasivo (columna del ejercicio 2020) en el estado de situación financiera (F1).\")","v":""}]
["11. Validación flujo contable de ingresos y egresos (F12)",null,{"$f":"IF(ROUND('F7'!C70,2)=ROUND('F12'!C17,2),\"\",\"11.1. El importe total de ingresos estimado del estado analítico de ingresos (F7),\"&\" no es igual al total ingresos del flujo contable del ingreso y egresos (F12) columna estimado.\")","v":""}]
[null,null,{"$f":"IF(ROUND('F7'!D70,2)=ROUND('F12'!D17,2),\"\",\"11.2. El importe total de ingresos de ampliaciones y reducciones del estado analítico de ingresos (F7),\"&\" no es igual al total ingresos del flujo contable del ingreso y egresos (F12) columna amplación y reducción.\")","v":""}]
[null,null,{"$f":"IF(ROUND('F7'!F70,2)=ROUND('F12'!F17,2),\"\",\"11.3. El importe total de ingresos devengados del estado analítico de ingresos (F7),\"&\" no es igual al total ingresos del flujo contable del ingreso y egresos (F12) columna devengado.\")","v":""}]
[null,null,{"$f":"IF(ROUND('F8'!C80,2)=ROUND('F12'!C30,2),\"\",\"11.4. El importe total de egreso aporbado del estado analítico del ejercicio del prespuesto de egresos (F8),\"&\" no es igual al total egresos del flujo contable del ingreso y egresos (F12) columna aprobado.\")","v":""}]
[null,null,{"$f":"IF(ROUND('F8'!D80,2)=ROUND('F12'!D30,2),\"\",\"11.5. El importe total de egresos de ampliaciones y reducciones del estado analítico del ejercicio del prespuesto de egresos (F8),\"&\" no es igual al total egresos del flujo contable del ingreso y egresos (F12) columna amplación y reducción.\")","v":""}]
[null,null,{"$f":"IF(ROUND('F8'!F80,2)=ROUND('F12'!F30,2),\"\",\"11.6. El importe total de egresos devengados del estado analítico del ejercicio del prespuesto de egresos (F8),\"&\" no es igual al total egresos del flujo contable del ingreso y egresos (F12) columna devengado.\")","v":""}]
["12. Validación Estado Analítico del Ingreso - LDF (F7B)",null,{"$f":"IF(ROUND('F7'!C70,2)=ROUND(F7B!C64,2),\"\",\"12.1. El importe total de ingresos estimados del estado analítico de ingresos detallado - LDF (F7B),\"&\" no es igual al estado analítico de ingresos (F7) columna estimado.\")","v":""}]
[null,null,{"$f":"IF(ROUND('F7'!D70,2)=ROUND(F7B!D64,2),\"\",\"12.2. El importe total de ingresos modificado del estado analítico de ingresos detallado - LDF (F7B),\"&\" no es igual al estado analítico de ingresos (F7) columna modificado.\")","v":""}]
[null,null,{"$f":"IF(ROUND('F7'!F70,2)=ROUND(F7B!F64,2),\"\",\"12.3. El importe total de ingresos devengado del estado analítico de ingresos detallado - LDF (F7B),\"&\" no es igual al estado analítico de ingresos (F7) columna devengado.\")","v":""}]
[null,null,{"$f":"IF(ROUND('F7'!G70,2)=ROUND(F7B!G64,2),\"\",\"12.4. El importe total de ingresos recaudado del estado analítico de ingresos detallado - LDF (F7B),\"&\" no es igual al estado analítico de ingresos (F7) columna recaudado.\")","v":""}]
["13. Validación Estado Analítico del Egreso (COG) - LDF (F8B)",null,{"$f":"IF(ROUND(F8B!D155,2)=ROUND('F8'!C80,2),\"\",\"13.1. El importe total del gasto aprobado del estado analítico del ejercicio del prespuesto de egresos detallado - LDF (F8A),\"&\" no es igual al estado analítico del ejercicio del prespuesto de egresos (F8) columna aprobado.\")","v":""}]
[null,null,{"$f":"IF(ROUND(F8B!F155,2)=ROUND('F8'!E80,2),\"\",\"13.2. El importe total del gasto modificado del estado analítico del ejercicio del prespuesto de egresos detallado - LDF (F8A),\"&\" no es igual al estado analítico del ejercicio del prespuesto de egresos (F8) columna modificado.\")","v":""}]
[null,null,{"$f":"IF(ROUND(F8B!G155,2)=ROUND('F8'!F80,2),\"\",\"13.3. El importe total del gasto devengado del estado analítico del ejercicio del prespuesto de egresos detallado - LDF (F8A),\"&\" no es igual al estado analítico del ejercicio del prespuesto de egresos (F8) columna devengado.\")","v":""}]
[null,null,{"$f":"IF(ROUND(F8B!H155,2)=ROUND('F8'!G80,2),\"\",\"13.4. El importe total del gasto pagado del estado analítico del ejercicio del prespuesto de egresos detallado - LDF (F8A),\"&\" no es igual al estado analítico del ejercicio del prespuesto de egresos (F8) columna pagado.\")","v":""}]
["14. Validación Estado Analítico del Egreso (CF) -  (F19A)",null,{"$f":"IF(ROUND(F19A!D76,2)=ROUND('F19'!C40,2),\"\",\"14.1. El importe total del gasto aprobado del estado analítico del ejercicio del prespuesto de egresos detallado - LDF (F19A),\"&\" no es igual al estado analítico del ejercicio del prespuesto de egresos (F19) columna aprobado.\")","v":""}]
[null,null,{"$f":"IF(ROUND(F19A!F76,2)=ROUND('F19'!E40,2),\"\",\"14.2. El importe total del gasto modificado del estado analítico del ejercicio del prespuesto de egresos detallado - LDF (F19A),\"&\" no es igual al estado analítico del ejercicio del prespuesto de egresos (F19) columna modificado.\")","v":""}]
[null,null,{"$f":"IF(ROUND(F19A!G76,2)=ROUND('F19'!F40,2),\"\",\"14.3. El importe total del gasto devengado del estado analítico del ejercicio del prespuesto de egresos detallado - LDF (F19A),\"&\" no es igual al estado analítico del ejercicio del prespuesto de egresos (F19) columna devengado.\")","v":""}]
[null,null,{"$f":"IF(ROUND(F19A!H76,2)=ROUND('F19'!G40,2),\"\",\"14.4. El importe total del gasto pagado del estado analítico del ejercicio del prespuesto de egresos detallado - LDF (F19A),\"&\" no es igual al estado analítico del ejercicio del prespuesto de egresos (F19) columna pagado.\")","v":""}]
["15. Validación Estado Analítico del Egreso (CA) - LDF (F18A)",null,{"$f":"IF(ROUND(F18A!B62,2)=ROUND('F18'!B58,2),\"\",\"15.1. El importe total del gasto aprobado del estado analítico del ejercicio del prespuesto de egresos detallado - LDF (F18A),\"&\" no es igual al estado analítico del ejercicio del prespuesto de egresos (F18) columna aprobado.\")","v":""}]
[null,null,{"$f":"IF(ROUND(F18A!C62,2)=ROUND('F18'!C58,2),\"\",\"15.2. El importe total del gasto modificado del estado analítico del ejercicio del prespuesto de egresos detallado - LDF (F18A),\"&\" no es igual al estado analítico del ejercicio del prespuesto de egresos (F18) columna modificado.\")","v":""}]
[null,null,{"$f":"IF(ROUND(F18A!E62,2)=ROUND('F18'!E58,2),\"\",\"15.3. El importe total del gasto devengado del estado analítico del ejercicio del prespuesto de egresos detallado - LDF (F18A),\"&\" no es igual al estado analítico del ejercicio del prespuesto de egresos (F18) columna devengado.\")","v":""}]
[null,null,{"$f":"IF(ROUND(F18A!F62,2)=ROUND('F18'!F58,2),\"\",\"15.4. El importe total del gasto pagado del estado analítico del ejercicio del prespuesto de egresos detallado - LDF (F18A),\"&\" no es igual al estado analítico del ejercicio del prespuesto de egresos (F18) columna pagado.\")","v":""}]
["16. Validación Balance Presupuestario - LDF (F22)",null,{"$f":"IF(ROUND(SUM('F22'!E7:E8)+('F22'!E27),2)=ROUND('F7'!C70,2),\"\",\"16.1. El importe de ingresos totales estimado del balance presupuestario - LDF (F22),\"&\" no es igual al estado analítico de ingresos (F7) columna estimado.\")","v":""}]
[null,null,{"$f":"IF(ROUND(SUM('F22'!F7:F8)+('F22'!F27),2)=ROUND('F7'!F70,2),\"\",\"16.2. El importe de ingresos totales devengado del balance presupuestario - LDF (F22),\"&\" no es igual al estado analítico de ingresos (F7) columna devengado.\")","v":""}]
[null,null,{"$f":"IF(ROUND(SUM('F22'!G7:G8)+('F22'!G27),2)=ROUND('F7'!G70,2),\"\",\"16.3. El importe de ingresos totales recaudado del balance presupuestario - LDF (F22),\"&\" no es igual al estado analítico de ingresos (F7) columna recaudado.\")","v":""}]
[null,null,{"$f":"IF(ROUND(('F22'!E10+'F22'!E30),2)=ROUND('F8'!C80,2),\"\",\"16.4. El importe de egresos presupuestarios aprobado del balance presupuestario - LDF (F22),\"&\" no es igual al estado analítico del ejercicio del presupuesto de egresos COG (F8) columna aprobado.\")","v":""}]
[null,null,{"$f":"IF(ROUND(('F22'!F10+'F22'!F30),2)=ROUND('F8'!F80,2),\"\",\"16.5. El importe de egresos presupuestarios devengado del balance presupuestario - LDF (F22),\"&\" no es igual al estado analítico del ejercicio del presupuesto de egresos COG (F8) columna devengado.\")","v":""}]
[null,null,{"$f":"IF(ROUND(('F22'!G10+'F22'!G30),2)=ROUND('F8'!G80,2),\"\",\"16.6. El importe de egresos presupuestarios pagado del balance presupuestario - LDF (F22),\"&\" no es igual al estado analítico del ejercicio del presupuesto de egresos COG (F8) columna pagado.\")","v":""}]
[]
[null,"Acatic","ENERO","31 de Enero de 2021","Del 1° al 31 de Enero de 2021"]
[null,"Acatlán de Juárez","FEBRERO","28 de Febrero de 2021","Del 1° al 28 de Febrero de 2021"]
[null,"Administración de Estacionómetros para la Asistencia Social del Municipio de Zapotlán el Grande","MARZO","31 de Marzo de 2021","Del 1° al 31 de Marzo de 2021"]
[null,"Coordinación General Estratégica de Crecimiento y Desarrollo Económico","ABRIL","30 de Abril de 2021","Del 1° al 30 de Abril de 2021"]
[null,"Instituto Jalisciense de Asistencia Social","MAYO","31 de Mayo de 2021","Del 1° al 31 de Mayo de 2021"]
[null,"Agencia Metropolitana de Seguridad Pública del Área Metropolitana de Guadalajara","JUNIO, 1er. Informe de Avance de Gestión Financiera y Corte Semestral","30 de Junio de 2021","Del 1° al 30 de Junio de 2021"]
[null,"Coordinación General Estratégica de Desarrollo Social","JULIO","31 de Julio de 2021","Del 1° al 31 de Julio de 2021"]
[null,"Agua y Saneamiento del Municipio de Tepatitlán","AGOSTO","31 de Agosto de 2021","Del 1° al 31 de Agosto de 2021"]
[null,"Ahualulco de Mercado","SEPTIEMBRE","30 de Septiembre de 2021","Del 1° al 30 de Septiembre de 2021"]
[null,"Albergue \"Las Cuadritas\" Fray Antonio Alcalde","OCTUBRE","31 de Octubre de 2021","Del 1° al 31 de Octubre de 2021"]
[null,"Amacueca","NOVIEMBRE","30 de Noviembre de 2021","Del 1° al 30 de Noviembre de 2021"]
[null,"Amatitán","DICIEMBRE, 2do. Informe de Avance de Gestión Financiera y Corte Anual","31 de Diciembre de 2021","Del 1° al 31 de Diciembre de 2021"]
[null,"Ameca"]
[null,"Arandas"]
[null,"Asociación Intermunicipal para la Protección del Medio Ambiente y el Desarrollo Sustentable del Lago de Chapala"]
[null,"Atemajac de Brizuela"]
[null,"Atengo"]
[null,"Atenguillo"]
[null,"Atotonilco el Alto"]
[null,"Atoyac"]
[null,"Coordinación General Estratégica de Gestión del Territorio"]
[null,"Autlán de Navarro"]
[null,"Ayotlán"]
[null,"Ayutla"]
[null,"Bolaños"]
[null,"Sistema de Transporte Colectivo de la Zona Metropolitana (SITECOZOME)"]
[null,"Cabo Corrientes"]
[null,"Cañadas de Obregón"]
[null,"Casimiro Castillo"]
[null,"Coordinación General Estratégica de Seguridad"]
[null,"Centro de Estimulación para Personas con Discapacidad Intelectual de Tlajomulco de Zúñiga"]
[null,"Chapala"]
[null,"Chimaltitán"]
[null,"Chiquilistlán"]
[null,"Cihuatlán"]
[null,"Cocula"]
[null,"Estado de Jalisco"]
[null,"Fiscalía Estatal"]
[null,"Consejo Forestal y de la Fauna del Estado de Jalisco"]
[null,"Colotlán"]
[null,"Consejo Estatal para el Desarrollo Turístico del Estado de Jalisco"]
[null,"Secretaría de Administración"]
[null,"Patronato de las Fiestas de Octubre de la Zona Metropolitana de Guadalajara"]
[null,"Secretaría de Agricultura y Desarrollo Rural"]
[null,"Secretaría de Cultura"]
[null,"Secretaría de Desarrollo Económico"]
[null,"Concepción de Buenos Aires"]
[null,"Secretaría de Educación"]
[null,"Secretaría de Gestión Integral del Agua"]
[null,"Consejo Económico y Social del Estado de Jalisco para el Desarrollo y Competitividad"]
[null,"Secretaría de Igualdad Sustantiva"]
[null,"Secretaría de Infraestructura y Obra Pública"]
[null,"Instituto de Estudios del Federalismo Prisciliano Sánchez"]
[null,"Secretaría de Innovación, Ciencia y Tecnología"]
[null,"Secretaría de la Hacienda Pública"]
[null,"Secretaría de Medio Ambiente y Desarrollo Territorial"]
[null,"Consejo Municipal contra las Adicciones en San Pedro Tlaquepaque"]
[null,"Consejo Municipal del Deporte de Ahualulco de Mercado"]
[null,"Consejo Municipal del Deporte de Degollado, Jalisco"]
[null,"Consejo Municipal del Deporte de Guadalajara"]
[null,"Consejo Municipal del Deporte de Jocotepec"]
[null,"Consejo Municipal del Deporte de La Barca"]
[null,"Consejo Municipal del Deporte de Puerto Vallarta"]
[null,"Consejo Municipal del Deporte de San Pedro Tlaquepaque"]
[null,"Consejo Municipal del Deporte de Tonalá"]
[null,"Consejo Municipal del Deporte de Yahualica de González Gallo"]
[null,"Consejo Municipal del Deporte de Zapopan"]
[null,"Consejo Social de Cooperación para el Desarrollo Urbano de Guadalajara"]
[null,"Contraloría del Estado"]
[null,"Secretaría de Planeación y Participación Ciudadana"]
[null,"Secretaría de Salud"]
[null,"Secretaría de Seguridad"]
[null,"Secretaría de Turismo"]
[null,"Secretaría del Sistema de Asistencia Social"]
[null,"Cuautitlán de García Barragán"]
[null,"Cuautla"]
[null,"Cuquío"]
[null,"Degollado"]
[null,"DIF Municipal de Acatic"]
[null,"DIF Municipal de Acatlán de Juárez"]
[null,"DIF Municipal de Ahualulco de Mercado"]
[null,"DIF Municipal de Amacueca"]
[null,"DIF Municipal de Amatitán"]
[null,"DIF Municipal de Ameca"]
[null,"DIF Municipal de Arandas"]
[null,"DIF Municipal de Atemajac de Brizuela"]
[null,"DIF Municipal de Atengo"]
[null,"DIF Municipal de Atenguillo"]
[null,"DIF Municipal de Atotonilco el Alto"]
[null,"DIF Municipal de Atoyac"]
[null,"DIF Municipal de Autlán de Navarro"]
[null,"DIF Municipal de Ayotlán"]
[null,"DIF Municipal de Ayutla"]
[null,"DIF Municipal de Bolaños"]
[null,"DIF Municipal de Cabo Corrientes"]
[null,"DIF Municipal de Cañadas de Obregón"]
[null,"DIF Municipal de Casimiro Castillo"]
[null,"DIF Municipal de Chapala"]
[null,"DIF Municipal de Chimaltitán"]
[null,"DIF Municipal de Chiquilistlán"]
[null,"DIF Municipal de Cihuatlán"]
[null,"DIF Municipal de Cocula"]
[null,"DIF Municipal de Colotlán"]
[null,"DIF Municipal de Concepción de Buenos Aires"]
[null,"DIF Municipal de Cuautitlán de García Barragán"]
[null,"DIF Municipal de Cuautla"]
[null,"DIF Municipal de Cuquío"]
[null,"DIF Municipal de Degollado"]
[null,"DIF Municipal de Ejutla"]
[null,"DIF Municipal de El Arenal"]
[null,"DIF Municipal de El Grullo"]
[null,"DIF Municipal de El Limón"]
[null,"DIF Municipal de El Salto"]
[null,"DIF Municipal de Encarnación de Díaz"]
[null,"DIF Municipal de Etzatlán"]
[null,"DIF Municipal de Gómez Farías"]
[null,"DIF Municipal de Guachinango"]
[null,"DIF Municipal de Guadalajara"]
[null,"DIF Municipal de Hostotipaquillo"]
[null,"DIF Municipal de Huejúcar"]
[null,"DIF Municipal de Huejuquilla el Alto"]
[null,"DIF Municipal de Ixtlahuacán de los Membrillos"]
[null,"DIF Municipal de Ixtlahuacán del Río"]
[null,"DIF Municipal de Jalostotitlán"]
[null,"DIF Municipal de Jamay"]
[null,"DIF Municipal de Jesús María"]
[null,"DIF Municipal de Jilotlán de los Dolores"]
[null,"DIF Municipal de Jocotepec"]
[null,"DIF Municipal de Juanacatlán"]
[null,"DIF Municipal de Juchitlán"]
[null,"DIF Municipal de La Barca"]
[null,"DIF Municipal de La Huerta"]
[null,"DIF Municipal de La Manzanilla de la Paz"]
[null,"DIF Municipal de Lagos de Moreno"]
[null,"DIF Municipal de Magdalena"]
[null,"DIF Municipal de Mascota"]
[null,"DIF Municipal de Mazamitla"]
[null,"DIF Municipal de Mexticacán"]
[null,"DIF Municipal de Mezquitic"]
[null,"DIF Municipal de Mixtlán"]
[null,"DIF Municipal de Ocotlán"]
[null,"DIF Municipal de Ojuelos de Jalisco"]
[null,"DIF Municipal de Pihuamo"]
[null,"DIF Municipal de Poncitlán"]
[null,"DIF Municipal de Puerto Vallarta"]
[null,"DIF Municipal de Quitupan"]
[null,"DIF Municipal de San Cristóbal de la Barranca"]
[null,"DIF Municipal de San Diego de Alejandría"]
[null,"DIF Municipal de San Gabriel"]
[null,"DIF Municipal de San Ignacio Cerro Gordo"]
[null,"DIF Municipal de San Juan de los Lagos"]
[null,"DIF Municipal de San Juanito de Escobedo"]
[null,"DIF Municipal de San Julián"]
[null,"DIF Municipal de San Marcos"]
[null,"DIF Municipal de San Martín de Bolaños"]
[null,"DIF Municipal de San Martín Hidalgo"]
[null,"DIF Municipal de San Miguel el Alto"]
[null,"DIF Municipal de San Pedro Tlaquepaque"]
[null,"DIF Municipal de San Sebastián del Oeste"]
[null,"DIF Municipal de Santa María de los Ángeles"]
[null,"DIF Municipal de Santa María del Oro"]
[null,"DIF Municipal de Sayula"]
[null,"DIF Municipal de Tala"]
[null,"DIF Municipal de Talpa de Allende"]
[null,"DIF Municipal de Tamazula de Gordiano"]
[null,"DIF Municipal de Tapalpa"]
[null,"DIF Municipal de Tecalitlán"]
[null,"DIF Municipal de Techaluta de Montenegro"]
[null,"DIF Municipal de Tecolotlán"]
[null,"DIF Municipal de Tenamaxtlán"]
[null,"DIF Municipal de Teocaltiche"]
[null,"DIF Municipal de Teocuitatlán de Corona"]
[null,"DIF Municipal de Tepatitlán de Morelos"]
[null,"DIF Municipal de Tequila"]
[null,"DIF Municipal de Teuchitlán"]
[null,"DIF Municipal de Tizapán el Alto"]
[null,"DIF Municipal de Tlajomulco de Zúñiga"]
[null,"DIF Municipal de Tolimán"]
[null,"DIF Municipal de Tomatlán"]
[null,"DIF Municipal de Tonalá"]
[null,"DIF Municipal de Tonaya"]
[null,"DIF Municipal de Tonila"]
[null,"DIF Municipal de Totatiche"]
[null,"DIF Municipal de Tototlán"]
[null,"DIF Municipal de Tuxcacuesco"]
[null,"DIF Municipal de Tuxcueca"]
[null,"DIF Municipal de Tuxpan"]
[null,"DIF Municipal de Unión de San Antonio"]
[null,"DIF Municipal de Unión de Tula"]
[null,"DIF Municipal de Valle de Guadalupe"]
[null,"DIF Municipal de Valle de Juárez"]
[null,"DIF Municipal de Villa Corona"]
[null,"DIF Municipal de Villa Guerrero"]
[null,"DIF Municipal de Villa Hidalgo"]
[null,"DIF Municipal de Villa Purificación"]
[null,"DIF Municipal de Yahualica de González Gallo"]
[null,"DIF Municipal de Zacoalco de Torres"]
[null,"DIF Municipal de Zapopan"]
[null,"DIF Municipal de Zapotiltic"]
[null,"DIF Municipal de Zapotitlán de Vadillo"]
[null,"DIF Municipal de Zapotlán del Rey"]
[null,"DIF Municipal de Zapotlán el Grande"]
[null,"DIF Municipal de Zapotlanejo"]
[null,"Ejutla"]
[null,"El Arenal"]
[null,"Secretaría del Trabajo y Previsión Social"]
[null,"El Grullo"]
[null,"El Limón"]
[null,"El Salto"]
[null,"Encarnación de Díaz"]
[null,"Instituto de Información Territorial del Estado de Jalisco"]
[null,"Secretaría del Transporte"]
[null,"Etzatlán"]
[null,"Secretaría General de Gobierno"]
[null,"Fideicomiso Coeficiente de Utilización del Suelo"]
[null,"Tribunal de Arbitraje y Escalafón"]
[null,"Unidades Administrativas de Apoyo al Gobernador del Estado"]
[null,"Fideicomiso de Administración, Garantía y Fuente de Pago para la concesión de Alumbrado Público del Municipio de Zapopan"]
[null,"Fideicomiso Bosque de la Primavera"]
[null,"Fideicomiso Comisión de Filmaciones del Estado de Jalisco"]
[null,"Fideicomiso de Equipamiento e Infraestructura Urbana y Vial en la Zona del Bajío"]
[null,"Fideicomiso de Administración Irrevocable del Proyecto Maestro de Rehabilitación de la Imagen Urbana de Tequila Jalisco"]
[null,"Fideicomiso de Apoyo de Seguridad Social"]
[null,"Fideicomiso de Desarrollo Urbano de Jalisco"]
[null,"Fideicomiso de Inversión y Administración del \"Fondo Estatal de Protección al Ambiente del Estado de Jalisco\""]
[null,"Fideicomiso de Inversión y Administración para la Mejora de la Seguridad Vial"]
[null,"Fideicomiso de Inversión y Fuente de Pago para la Administración de Recursos Asignados al Programa Especial Denominado \"Caracol\""]
[null,"Fideicomiso de la Orquesta Filarmónica del Estado de Jalisco"]
[null,"Fideicomiso de Turismo de Puerto Vallarta"]
[null,"Fideicomiso de Pensiones y Jubilaciones de los Servidores Públicos de Base del Organismo Público Descentralizado del Hospital Civil de Guadalajara"]
[null,"Fideicomiso del Centro Cultural Universitario"]
[null,"Fideicomiso de Turismo de la Zona Metropolitana de Guadalajara"]
[null,"Fideicomiso de Turismo de los Municipios del Interior del Estado de Jalisco"]
[null,"Fideicomiso de Turismo de San Juan de los Lagos"]
[null,"Fideicomiso del Fondo Metropolitano de Ocotlán"]
[null,"Fideicomiso del Fondo Metropolitano de Puerto Vallarta y Bahía de Banderas"]
[null,"Fideicomiso Fondo de Apoyo al Programa Especial de Financiamiento a la Vivienda para el Magisterio en el Estado"]
[null,"Fideicomiso Hecho por Mujeres de Zapopan"]
[null,"Fideicomiso Fondo de Apoyo al Proyecto de Tecnologías Educativas y de Información para Maestros de Educación Básica del Estado de Jalisco"]
[null,"Fideicomiso Fondo de Garantía de las Empresas de Solidaridad del Estado de Jalisco"]
[null,"Fideicomiso Fondo Jalisco de Fomento Empresarial"]
[null,"Fideicomiso Irrevocable \"Fondo Mixto para el Desarrollo y Publicidad Turística de Ciudades Coloniales\""]
[null,"Fideicomiso Irrevocable de Administración e Inversión de la Alianza para el Campo en el Estado de Jalisco"]
[null,"Fideicomiso Irrevocable de Administración y Fuente Alterna de Pago para la Reestructura de la Deuda del SIAPA"]
[null,"Fideicomiso Irrevocable de Administración y Fuente de Pago con (SANTANDER-BANORTE)"]
[null,"Fideicomiso Irrevocable de Administración y Pago \"Adquisición de Vagones para la Línea 1 del Tren eléctrico Urbano de Guadalajara\""]
[null,"Fideicomiso Irrevocable de Administración y Fuente de Pago con Santander"]
[null,"Fideicomiso Irrevocable de Administración y Fuente de Pago entre SIAPA y Santander"]
[null,"Fideicomiso Irrevocable de Administración y Fuente de Pago Línea de Crédito Global Municipal"]
[null,"Fideicomiso Irrevocable de Garantía y Administración \"Fondo de Garantía Agropecuaria del Estado de Jalisco\""]
[null,"Fideicomiso Irrevocable de Administración y Pago \"Batallón La Ringlera\""]
[null,"Fideicomiso Irrevocable de Garantía, Administración y Fuente de Pago (Zapopan)"]
[null,"Fideicomiso Irrevocable de Inversión y Fuente de Pago \"Fondo Estatal de Desastres Naturales Jalisco\""]
[null,"Fideicomiso Irrevocable de Administración y Pago con Banamex"]
[null,"Fideicomiso Maestro de Fomento Económico para el Municipio de Zapopan"]
[null,"Fideicomiso Nuevo Sistema de Justicia Penal para el Estado de Jalisco"]
[null,"Fideicomiso Irrevocable de Administración y Pago Fondo de Aportaciones para la Infraestructura Social"]
[null,"Fideicomiso Irrevocable de Garantía, Administración y Fuente de Pago \"INVEX\" Solucash"]
[null,"Fideicomiso Maestro Ciudad Creativa Digital"]
[null,"Fideicomiso para el Desarrollo de Infraestructura y Equipamiento Deportivo de Diversas Obligaciones de Pago a cargo del Gobierno del Estado"]
[null,"Fideicomiso para el Desarrollo de la Región Centro Occidente"]
[null,"Fideicomiso para el Desarrollo de los Sistemas de Enseñanza Vivencial e Indagatoria de la Ciencia en el Estado de Jalisco (SEVIC Jalisco)"]
[null,"Fideicomiso para el Desarrollo Rural del Estado de Jalisco"]
[null,"Fideicomiso Premio IJAS"]
[null,"Fideicomiso para la Administración del Programa de Desarrollo Forestal de Jalisco"]
[null,"Fideicomiso para la Protección del Estero del Salado y Desarrollo de las Áreas Colindantes"]
[null,"Fideicomiso Plan Múltiple de Beneficios para los Trabajadores del Gobierno del Estado - FPBTGE"]
[null,"Fideicomiso Público de Administración e Inversión \"Fondo Metropolitano Ciudad de Guadalajara\""]
[null,"Fideicomiso Público de Administración e Inversión \"Fondo Metropolitano de Ocotlán\""]
[null,"Fideicomiso Público de Administración e Inversión Fondo Mixto CONACYT-Gobierno del Estado de Jalisco"]
[null,"Fideicomiso Revocable de Administración, Inversión y Fuente de Pago para la Atención de los Jaliscienses en el Extranjero (Migrantes)"]
[null,"Fideicomiso Revocable de Administración e Inversión \"Por mi Jalisco\""]
[null,"Fideicomiso Revocable de Administración, Inversión y Fuente de Pago \"Av. Juan Palomar Arias\""]
[null,"Fideicomiso Revocable de Inversión y Administración del Programa Nacional de Becas y Financiamiento (Pronabes/Manutención)"]
[null,"Fideicomiso Revocable de Inversión y Administración Fondo Estatal de Fomento para la Cultura y las Artes"]
[null,"Fideicomiso Revocable de Inversión y Asignación de Recursos \"Programa Escuelas de Calidad\""]
[null,"Fideicomiso Revocable de Inversión, Administración y Fuente de Pago Fondo Evalúa Jalisco"]
[null,"Fideicomiso Sistema Estatal de Ahorro para el Retiro de los Servidores Públicos del Estado de Jalisco"]
[null,"Fideicomiso Sistema Macrobús"]
[null,"Fideicomiso Vive Incluyente"]
[null,"Fideicomiso Público Irrevocable de Administración e Inversión \"Fondo Metropolitano de Puerto Vallarta\""]
[null,"Fideicomiso Público Revocable de Administración y Fuente de Pago Fuerza Única y de Seguridad Pública del Estado de Jalisco"]
[null,"Fondo de Seguridad Pública en el Estado de Jalisco"]
[null,"Gómez Farías"]
[null,"Guachinango"]
[null,"Guadalajara"]
[null,"Fideicomiso Público Revocable de Administración y Medio de Pago del Nuevo Sistema de Justicia Penal y Juicios Orales del Estado de Jalisco"]
[null,"Fideicomiso Público Revocable para el Relleno Sanitario de la Zona Metropolitana de Guadalajara (PICACHOS)"]
[null,"Hostotipaquillo"]
[null,"Huejúcar"]
[null,"Huejuquilla el Alto"]
[null,"Universidad de Guadalajara"]
[null,"Comisión de Valuación del Estado de Jalisco"]
[null,"Instituto de Alternativas para los Jóvenes de Tlajomulco de Zúñiga"]
[null,"Instituto de Alternativas para los Jóvenes de Tonalá"]
[null,"Sistema para el Desarrollo Integral de la Familia del Estado de Jalisco"]
[null,"Instituto de Atención a la Juventud Teocaltichense"]
[null,"Instituto de Cultura, Recreación y Deporte del Municipio de Tlajomulco de Zúñiga"]
[null,"Hogar Juan Cruz Ruíz de Cabañas y Crespo"]
[null,"Instituto Cultural Cabañas"]
[null,"Instituto de Fomento al Comercio Exterior del Estado de Jalisco"]
[null,"Industria Jalisciense de Rehabilitación Social"]
[null,"Consejo Estatal para el Fomento Deportivo"]
[null,"Sistema Estatal de Tren Eléctrico Urbano"]
[null,"Instituto Jalisciense de Cancerología"]
[null,"Instituto de la Juventud de La Barca"]
[null,"Instituto de la Juventud Jocotepec"]
[null,"Instituto de la Juventud San Gabriel"]
[null,"Instituto de la Juventud Yahualicense"]
[null,"Instituto de la Mujer de Teocaltiche"]
[null,"Instituto de la Mujer Tenamaxtlán"]
[null,"Instituto de las Mujeres de Cuquío"]
[null,"Parque Metropolitano de Guadalajara"]
[null,"Comisión Estatal de Agua y Saneamiento de Jalisco"]
[null,"Servicios y Transportes"]
[null,"Colegio de Bachilleres del Estado de Jalisco"]
[null,"Colegio de Estudios Científicos y Tecnológicos del Estado de Jalisco"]
[null,"Hospital Civil de Guadalajara"]
[null,"Instituto Jalisciense de las Mujeres"]
[null,"Instituto Tecnológico Superior de Arandas"]
[null,"Instituto Tecnológico Superior de Chapala"]
[null,"Instituto Tecnológico Superior de Lagos de Moreno"]
[null,"Instituto Tecnológico Superior de Puerto Vallarta"]
[null,"Instituto Tecnológico Superior de Zapopan"]
[null,"Organismo Público Descentralizado Servicios de Salud Jalisco"]
[null,"Instituto Metropolitano de Planeación"]
[null,"Instituto Municipal de Atención a la Juventud de Guadalajara"]
[null,"Instituto Municipal de la Juventud en San Pedro Tlaquepaque"]
[null,"Instituto Municipal de la Juventud Mazamitla"]
[null,"Instituto Municipal de la Mujer de Jilotlán"]
[null,"Instituto Municipal de la Mujer de Tonalá"]
[null,"Instituto Municipal de la Mujer de Zapotitlán de Vadillo"]
[null,"Instituto Municipal de la Mujer del Municipio de Autlán de Navarro"]
[null,"Instituto Municipal de la Mujer en La Barca"]
[null,"Instituto Municipal de la Mujer en San Diego de Alejandría"]
[null,"Instituto Municipal de la Mujer en San Ignacio Cerro Gordo"]
[null,"Instituto Municipal de la Mujer en Zapotlán el Grande"]
[null,"Instituto Municipal de la Mujer Pihuamense en Pihuamo"]
[null,"Instituto Municipal de la Mujer Tlajomulquense de Tlajomulco de Zúñiga"]
[null,"Instituto Municipal de la Mujer Yahualicense de Yahualica de González Gallo"]
[null,"Instituto Municipal de la Vivienda de Guadalajara"]
[null,"Instituto Municipal de las Mujeres de El Grullo"]
[null,"Instituto Municipal de las Mujeres de Mazamitla"]
[null,"Instituto Municipal de las Mujeres de San Julián"]
[null,"Instituto Municipal de las Mujeres en Guadalajara"]
[null,"Instituto Municipal de las Mujeres en Jamay"]
[null,"Instituto Municipal de las Mujeres Tamazulenses"]
[null,"Instituto Municipal de las Mujeres y para la Igualdad Sustantiva en San Pedro Tlaquepaque"]
[null,"Instituto Municipal de las Mujeres Zapopanas para la Igualdad Sustantiva"]
[null,"Instituto Municipal de Planeación de Lagos de Moreno"]
[null,"Instituto Para la Igualdad Sustantiva entre Hombres y Mujeres de Jocotepec"]
[null,"Instituto Tecalitlense de la Mujer"]
[null,"Centro de Atención para las Víctimas del Delito"]
[null,"Instituto de Artesanía Jalisciense"]
[null,"Instituto Jalisciense de la Juventud"]
[null,"Colegio de Educación Profesional Técnica del Estado de Jalisco"]
[null,"Instituto Jalisciense de Ciencias Forenses"]
[null,"Organismo Operador del Parque de la Solidaridad y Roberto Montenegro"]
[null,"Instituto Tecnológico José Mario Molina Pasquel y Henríquez de El Grullo"]
[null,"Instituto Tecnológico Superior de Tequila"]
[null,"Instituto Tecnológico Superior de Zapotlanejo"]
[null,"Consejo Estatal de Trasplantes de Órganos y Tejidos"]
[null,"Instituto de Formación para el Trabajo del Estado de Jalisco"]
[null,"Sistema Jalisciense de Radio y Televisión"]
[null,"Unidad Estatal de Protección Civil y Bomberos"]
[null,"Instituto Tecnológico Superior de La Huerta"]
[null,"Instituto Vallartense de Cultura"]
[null,"Instituto Zapotlense de la Juventud de Zapotlán el Grande"]
[null,"Ixtlahuacán de los Membrillos"]
[null,"Ixtlahuacán del Río"]
[null,"Jalostotitlán"]
[null,"Jamay"]
[null,"Jesús María"]
[null,"Jilotlán de los Dolores"]
[null,"Jocotepec"]
[null,"Juanacatlán"]
[null,"Juchitlán"]
[null,"Junta Intermunicipal de Medio Ambiente Altos Sur"]
[null,"Junta Intermunicipal de Medio Ambiente de la Costa Sur"]
[null,"Junta Intermunicipal de Medio Ambiente de Sierra Occidental y Costa"]
[null,"Junta Intermunicipal de Medio Ambiente para la Gestión Integral de la Cuenca del Río Coahuayana"]
[null,"Junta Intermunicipal de Medio Ambiente para la Gestión Integral de la Región Norte del Estado de Jalisco"]
[null,"Junta Intermunicipal de Medio Ambiente para la Gestión Integral de la Región Valles"]
[null,"Junta Intermunicipal del Medio Ambiente para la Gestión Integral de la Cuenca Baja del Río Ayuquila"]
[null,"La Barca"]
[null,"La Huerta"]
[null,"La Manzanilla de la Paz"]
[null,"Lagos de Moreno"]
[null,"Magdalena"]
[null,"Mascota"]
[null,"Mazamitla"]
[null,"Mexticacán"]
[null,"Mezquitic"]
[null,"Mixtlán"]
[null,"Instituto Tecnológico Superior de Tamazula de Gordiano"]
[null,"O.P.D. Comité del Carnaval Sayula"]
[null,"Ocotlán"]
[null,"Ojuelos de Jalisco"]
[null,"Universidad Tecnológica de Jalisco"]
[null,"Instituto Tecnológico Superior de Cocula"]
[null,"Organismo Público Descentralizado Comité de la Feria de Zapotlán el Grande"]
[null,"Organismo Público Descentralizado Servicios de Salud del Municipio de Zapopan"]
[null,"Instituto Tecnológico Superior de Mascota"]
[null,"Organismo Público Descentralizado Zoológico Guadalajara"]
[null,"Instituto Tecnológico Superior de Tala"]
[null,"Instituto Jalisciense del Adulto Mayor"]
[null,"Patronato de las Instalaciones de la Feria de Lagos de Moreno"]
[null,"Patronato del Centro Histórico y Barrios Tradicionales de Tonalá, Jalisco \"Tonalá Mágico\""]
[null,"Patronato del Centro Histórico y Franja Turística de Puerto Vallarta"]
[null,"Patronato del Centro Histórico, Barrios y Zonas Tradicionales de la ciudad de Guadalajara"]
[null,"Patronato Nacional de la Cerámica"]
[null,"Pihuamo"]
[null,"Poncitlán"]
[null,"Consejo Estatal de Ciencia y Tecnología de Jalisco"]
[null,"Instituto de Información Estadística y Geográfica del Estado de Jalisco"]
[null,"Puerto Vallarta"]
[null,"Quitupan"]
[null,"Red de Bosques Urbanos de Guadalajara"]
[null,"Comisión de Arbitraje Médico del Estado de Jalisco"]
[null,"San Cristóbal de la Barranca"]
[null,"San Diego de Alejandría"]
[null,"San Gabriel"]
[null,"San Ignacio Cerro Gordo"]
[null,"San Juan de los Lagos"]
[null,"San Juanito de Escobedo"]
[null,"San Julián"]
[null,"San Marcos"]
[null,"San Martín de Bolaños"]
[null,"San Martín Hidalgo"]
[null,"San Miguel el Alto"]
[null,"San Pedro Tlaquepaque"]
[null,"San Sebastián del Oeste"]
[null,"Santa María de los Ángeles"]
[null,"Santa María del Oro"]
[null,"Sayula"]
[null,"Secretaría de Administración"]
[null,"Procuraduría de Desarrollo Urbano"]
[null,"Escuela de Conservación y Restauración de Occidente"]
[null,"Universidad Tecnológica de la Zona Metropolitana de Guadalajara"]
[null,"Secretaría de Desarrollo e Integración Social"]
[null,"Consejo Estatal de Promoción Económica"]
[null,"Secretaría de Desarrollo Rural"]
[null,"Secretaría de Desarrollo Urbano"]
[null,"Instituto Estatal para la Educación de Jóvenes y Adultos"]
[null,"Secretaría de Finanzas"]
[null,"Universidad Politécnica de la Zona Metropolitana de Guadalajara"]
[null,"Procuraduría Social del Estado"]
[null,"Comisión Estatal del Agua de Jalisco"]
[null,"Comisión Estatal Indígena"]
[null,"Instituto de Pensiones del Estado de Jalisco"]
[null,"Bosque la Primavera"]
[null,"Secretaría de Movilidad"]
[null,"Secretaría de Planeación"]
[null,"Instituto de Infraestructura Física Educativa del Estado de Jalisco"]
[null,"Secretaría de Planeación, Administración y Finanzas"]
[null,"Secretaría de Promoción Económica"]
[null,"Instituto Jalisciense de la Vivienda"]
[null,"Instituto Tecnológico José Mario Molina Pasquel y Henríquez"]
[null,"Régimen Estatal de Protección Social en Salud de Jalisco"]
[null,"Secretaría de Vialidad y Transporte"]
[null,"Agencia de Energía del Estado de Jalisco"]
[null,"Secretaría Ejecutiva del Sistema Estatal Anticorrupción"]
[null,"Centro de Coordinación, Comando, Control, Comunicaciones y Cómputo del Estado de Jalisco"]
[null,"Instituto de Movilidad y Transporte del Estado de Jalisco"]
[null,"Agencia Estatal de Entretenimiento de Jalisco"]
[null,"Instituto Jalisciense del Emprendedor"]
[null,"Sistema Administrativo Municipal de Agua Potable y Alcantarillado de Ixtlahuacán de los Membrillos"]
[null,"Sistema Barquense de Agua Potable, Alcantarillado y Saneamiento"]
[null,"Sistema de Agua Potable Alcantarillado y Saneamiento del Municipio de Ameca"]
[null,"Sistema de Agua Potable y Alcantarillado de Mascota"]
[null,"Sistema de Agua Potable y Alcantarillado del Municipio de Unión de Tula"]
[null,"Sistema de Agua Potable, Alcantarillado y Saneamiento de Magdalena"]
[null,"Sistema de Agua Potable, Alcantarillado y Saneamiento del Municipio de Amacueca (SAPASA)"]
[null,"Sistema de Agua Potable, Alcantarillado y Saneamiento del Municipio de Arandas"]
[null,"Sistema de Agua Potable, Alcantarillado y Saneamiento del Municipio de Atotonilco el Alto (SAPAMA)"]
[null,"Sistema de Agua Potable, Alcantarillado y Saneamiento del Municipio de Chapala (SIMAPA)"]
[null,"Sistema de Agua Potable, Alcantarillado y Saneamiento del Municipio de Colotlán"]
[null,"Sistema de Agua Potable, Alcantarillado y Saneamiento del Municipio de Degollado (SIAPADEG)"]
[null,"Sistema de Agua Potable, Alcantarillado y Saneamiento del Municipio de Jamay (SIMAPAS)"]
[null,"Sistema De Agua Potable, Alcantarillado y Saneamiento del Municipio de La Huerta"]
[null,"Sistema de Agua Potable, Alcantarillado y Saneamiento del Municipio de San Ignacio Cerro Gordo"]
[null,"Sistema de Agua Potable, Alcantarillado y Saneamiento del Municipio de San Julián (SAPAJ)"]
[null,"Sistema de Agua Potable, Alcantarillado y Saneamiento del Municipio de San Martín Hidalgo"]
[null,"Sistema de Agua Potable, Alcantarillado y Saneamiento del Municipio de San Miguel el Alto (SAPASMA)"]
[null,"Sistema de Agua Potable, Alcantarillado y Saneamiento del Municipio de Talpa de Allende"]
[null,"Sistema de Agua Potable, Alcantarillado y Saneamiento del Municipio de Tototlán"]
[null,"Sistema de Agua Potable, Alcantarillado y Saneamiento del Municipio de Villa Hidalgo"]
[null,"Sistema de Agua Potable, Alcantarillado y Saneamiento del Municipio de Zapotlán el Grande"]
[null,"Sistema de Agua Potable, Alcantarillados y Saneamiento del Municipio de Mazamitla"]
[null,"Sistema de los Servicios de Agua Potable, Drenaje y Alcantarillado de Puerto Vallarta"]
[null,"Agencia para el Desarrollo de Industrias Creativas y Digitales"]
[null,"Museos, Exposiciones y Galerías de Jalisco"]
[null,"Sistema Integral de Agua de Tapalpa"]
[null,"Sistema Intermunicipal de los Servicios de Agua Potable y Alcantarillado"]
[null,"Sistema Intermunicipal de Manejo de Residuos (SIMAR SURESTE)"]
[null,"Sistema Intermunicipal de Manejo de Residuos Lagunas (SIMAR Lagunas)"]
[null,"Sistema Intermunicipal de Manejo de Residuos Sur-Sureste (SIMAR Sur-Sureste)"]
[null,"Comisión Estatal de Derechos Humanos Jalisco"]
[null,"Instituto de Transparencia, Información Pública y Protección de Datos Personales del Estado de Jalisco"]
[null,"Instituto Electoral y de Participación Ciudadana del Estado de Jalisco"]
[null,"Tala"]
[null,"Talpa de Allende"]
[null,"Tamazula de Gordiano"]
[null,"Tapalpa"]
[null,"Tecalitlán"]
[null,"Techaluta de Montenegro"]
[null,"Tecolotlán"]
[null,"Tenamaxtlán"]
[null,"Teocaltiche"]
[null,"Teocuitatlán de Corona"]
[null,"Tepatitlán de Morelos"]
[null,"Tequila"]
[null,"Teuchitlán"]
[null,"Tizapán el Alto"]
[null,"Tlajomulco de Zúñiga"]
[null,"Tolimán"]
[null,"Tomatlán"]
[null,"Tonalá"]
[null,"Tonaya"]
[null,"Tonila"]
[null,"Totatiche"]
[null,"Tototlán"]
[null,"Tribunal de Justicia Administrativa"]
[null,"Tribunal Electoral del Estado de Jalisco"]
[null,"Consejo de la Judicatura del Estado"]
[null,"Tribunal Electoral del Poder Judicial del Estado de Jalisco"]
[null,"Tuxcacuesco"]
[null,"Tuxcueca"]
[null,"Tuxpan"]
[null,"Instituto de Justicia Alternativa"]
[null,"Supremo Tribunal de Justicia"]
[null,"Unión de San Antonio"]
[null,"Unión de Tula"]
[null,"Auditoría Superior del Estado de Jalisco"]
[null,"Congreso del Estado de Jalisco"]
[null,"Cruz Roja Delegación Jalisco"]
[null,"El Colegio de Jalisco A.C."]
[null,"Valle de Guadalupe"]
[null,"Valle de Juárez"]
[null,"Villa Corona"]
[null,"Villa Guerrero"]
[null,"Villa Hidalgo"]
[null,"Villa Purificación"]
[null,"Yahualica de González Gallo"]
[null,"Zacoalco de Torres"]
[null,"Zapopan"]
[null,"Zapotiltic"]
[null,"Zapotitlán de Vadillo"]
[null,"Zapotlán del Rey"]
[null,"Zapotlán el Grande"]
[null,"Zapotlanejo"]

{"sheet":"Balanza","index":1,"n_rows":2087,"n_cols":8,"rows_kept":2087,"cut":false,"hidden":false,"merged":[[0,6,0,7],[0,0,1,0],[0,1,1,1],[0,2,0,3],[0,4,0,5]]}
["No. DE CUENTA","NOMBRE DE LA CUENTA","SALDO AL 31 DE\n DICIEMBRE DE 2020",null,"MOVIMIENTO",null,"SALDO FINAL DEL PERIODO A INFORMAR EJERCICIO 2021"]
[null,null,"DEUDOR","ACREEDOR","DEUDOR","ACREEDOR","DEUDOR","ACREEDOR"]
[10000,"ACTIVO ",{"$f":"C4+C43","v":20676732.960000001},null,{"$f":"E4+E43","v":165547245.24000001},{"$f":"F4+F43","v":157094109.21000001},{"$f":"G4+G43","v":29129868.989999987}]
[11000,"ACTIVO CIRCULANTE",{"$f":"C5+C13+C21+C27+C33+C35+C38","v":1638603.84},null,{"$f":"E5+E13+E21+E27+E33+E35+E38","v":156224649.84999999},{"$f":"F5+F13+F21+F27+F33+F35+F38","v":157094109.21000001},{"$f":"G5+G13+G21+G27+G33+G35+G38","v":769144.47999998927}]
[11100,"EFECTIVO Y EQUIVALENTES",{"$f":"SUM(C6:C12)","v":1439544.34},null,{"$f":"SUM(E6:E12)","v":110003201.92999999},{"$f":"SUM(F6:F12)","v":110677601.79000001},{"$f":"SUM(G6:G12)","v":765144.47999998927}]
[11110,"Efectivo",94925.3,null,49138852.93,49231221.210000001,{"$f":"C6+E6-F6","v":2557.0199999958277}]
[11120,"Bancos/Tesorería",1320619.04,null,60678724.479999997,61236756.060000002,762587.45999999344]
[11130,"Bancos/Dependencias y otros",24000,null,185624.52,209624.52,0]
[11140,"Inversiones temporales (hasta 3 meses)",0,null,0,0,0]
[11150,"Fondos con afectación específica",0,null,0,0,0]
[11160,"Depósitos de fondos de terceros en garantía y/o administración",0,null,0,0,0]
[11190,"Otros efectivos y equivalentes",0,null,0,0,0]
[11200,"DERECHOS A RECIBIR EFECTIVO O EQUIVALENTES",{"$f":"SUM(C14:C20)","v":199059.5},null,{"$f":"SUM(E14:E20)","v":43765425.82},{"$f":"SUM(F14:F20)","v":43960485.32},{"$f":"SUM(G14:G20)","v":4000}]
[11210,"Inversiones financieras de corto plazo",0,null,0,0,{"$f":"C14+E14-F14","v":0}]
[11220,"Cuentas por cobrar a corto plazo",0,null,31085147.780000001,31085147.780000001,0]
["11230","Deudores diversos por cobrar a corto plazo",176059.5,null,4489471.6500000004,4661531.1500000004,4000]
["11240","Ingresos por recuperar a corto plazo",0,null,7973215.3899999997,7973215.3899999997,0]
["11250","Deudores por anticipos de la tesorería a corto plazo",0,null,0,0,0]
["11260","Préstamos otorgados a corto plazo",23000,null,217591,240591,0]
["11290","Otros derechos a recibir efectivo o equivalentes a corto plazo",0,null,0,0,0]
["11300","DERECHOS A RECIBIR BIENES O SERVICIOS",{"$f":"SUM(C22:C26)","v":0},null,{"$f":"SUM(E22:E26)","v":0},{"$f":"SUM(F22:F26)","v":0},{"$f":"SUM(G22:G26)","v":0}]
["11310","Anticipo a proveedores por adquisición de bienes y prestación de servicios a corto plazo",0,null,0,0,{"$f":"C22+E22-F22","v":0}]
["11320","Anticipo a proveedores por adquisición de bienes inmuebles y muebles a corto plazo",0,null,0,0,{"$f":"C23+E23-F23","v":0}]
["11330","Anticipo a proveedores por adquisición de bienes intangibles a corto plazo",0,null,0,0,{"$f":"C24+E24-F24","v":0}]
["11340","Anticipo a contratistas por obras públicas a corto plazo",0,null,0,0,{"$f":"C25+E25-F25","v":0}]
["11390","Otros derechos a recibir bienes o servicios a corto plazo",0,null,0,0,{"$f":"C26+E26-F26","v":0}]
["11400","INVENTARIOS",{"$f":"SUM(C28:C32)","v":0},null,{"$f":"SUM(E28:E32)","v":0},{"$f":"SUM(F28:F32)","v":0},{"$f":"SUM(G28:G32)","v":0}]
["11410","Inventario de mercancías para venta",0,null,0,0]
["11420","Inventario de mercancías terminadas",0,null,0,0]
["11430","Inventario de mercancías en proceso de elaboración",0,null,0,0]
["11440","Inventario de materias primas, materiales y suministros para producción",0,null,0,0]
["11450","Bienes en tránsito",0,null,0,0]
["11500","ALMACENES",{"$f":"SUM(C34)","v":0},null,{"$f":"SUM(E34)","v":2456022.1},{"$f":"SUM(F34)","v":2456022.1},{"$f":"SUM(G34)","v":0}]
["11510","Almacén de materiales y suministros de consumo",0,null,2456022.1,2456022.1,{"$f":"C34+E34-F34","v":0}]
["11600","ESTIMACIÓN POR PÉRDIDA O DETERIORO DE ACTIVOS CIRCULANTES",{"$f":"SUM(C36:C37)","v":0},null,{"$f":"SUM(E36:E37)","v":0},{"$f":"SUM(F36:F37)","v":0},{"$f":"SUM(G36:G37)","v":0}]
["11610","Estimaciones para cuentas incobrables por derechos a recibir efectivo o equivalentes",0,null,0,0,{"$f":"C36+E36-F36","v":0}]
["11620","Estimación por deterioro de inventarios",0,null,0,0,{"$f":"C37+E37-F37","v":0}]
["11900","OTROS ACTIVOS CIRCULANTES",{"$f":"SUM(C39:C42)","v":0},null,{"$f":"SUM(E39:E42)","v":0},{"$f":"SUM(F39:F42)","v":0},{"$f":"SUM(G39:G42)","v":0}]
["11910","Valores en garantía",0,null,0,0,{"$f":"C39+E39-F39","v":0}]
["11920","Bienes en garantía (excluye depósitos de fondos)",0,null,0,0,{"$f":"C40+E40-F40","v":0}]
["11930","Bienes derivados de embargos,  decomisos, aseguramientos y dación en pago",0,null,0,0,{"$f":"C41+E41-F41","v":0}]
["11940","Adquisición con fondos de terceros",0,null,0,0,{"$f":"C42+E42-F42","v":0}]
["12000","ACTIVO NO CIRCULANTE",{"$f":"C44+C49+C55+C63+C72+C78+C84+C91+C97-D43","v":19038129.120000001},{"$f":"D44+D49+D55+D63+D72+D78+D84+D91+D97","v":0},{"$f":"E44+E49+E55+E63+E72+E78+E84+E91+E97","v":9322595.3900000006},{"$f":"F44+F49+F55+F63+F72+F78+F84+F91+F97","v":0},{"$f":"G44+G49+G55+G63+G72+G78+G84+G91+G97-H43","v":28360724.509999998},{"$f":"H44+H49+H55+H63+H72+H78+H84+H91+H97","v":0}]
["12100","INVERSIONES FINANCIERAS A LARGO PLAZO",{"$f":"SUM(C45:C48)","v":0},null,{"$f":"SUM(E45:E48)","v":0},{"$f":"SUM(F45:F48)","v":0},{"$f":"SUM(G45:G48)","v":0}]
["12110","Inversiones a largo plazo",0,null,0,0,{"$f":"C45+E45-F45","v":0}]
["12120","Títulos y valores a largo plazo",0,null,0,0,{"$f":"C46+E46-F46","v":0}]
["12130","Fideicomisos, mandatos y contratos análogos",0,null,0,0,{"$f":"C47+E47-F47","v":0}]
["12140","Participaciones y aportaciones de capital",0,null,0,0,{"$f":"C48+E48-F48","v":0}]
["12200","DERECHOS A RECIBIR EFECTIVO O EQUIVALENTES A LARGO PLAZO",{"$f":"SUM(C50:C54)","v":0},null,{"$f":"SUM(E50:E54)","v":0},{"$f":"SUM(F50:F54)","v":0},{"$f":"SUM(G50:G54)","v":0}]
["12210","Documentos por cobrar a largo plazo",0,null,0,0,{"$f":"C50+E50-F50","v":0}]
["12220","Deudores diversos a largo plazo",0,null,0,0,{"$f":"C51+E51-F51","v":0}]
["12230","Ingresos por recuperar a largo plazo",0,null,0,0,{"$f":"C52+E52-F52","v":0}]
["12240","Préstamos otorgados a largo plazo",0,null,0,0,{"$f":"C53+E53-F53","v":0}]
["12290","Otros derechos a recibir efectivo o equivalentes a largo plazo",0,null,0,0,{"$f":"C54+E54-F54","v":0}]
["12300","BIENES INMUEBLES, INFRAESTRUCTURA Y CONSTRUCCIONES EN PROCESO",{"$f":"SUM(C56:C62)","v":16868234.870000001},null,{"$f":"SUM(E56:E62)","v":8962182.4199999999},{"$f":"SUM(F56:F62)","v":0},{"$f":"SUM(G56:G62)","v":25830417.289999999}]
["12310","Terrenos",0,null,0,0,{"$f":"C56+E56-F56","v":0}]
["12320","Viviendas",0,null,0,0,0]
["12330","Edificios no habitacionales",0,null,0,0,0]
["12340","Infraestructura",0,null,0,0,0]
["12350","Construcciones en proceso en bienes de dominio público",16868234.870000001,null,8962182.4199999999,0,25830417.289999999]
["12360","Construcciones en proceso en bienes propios",0,null,0,0,0]
["12390","Otros bienes inmuebles",0,null,0,0,0]
["12400","BIENES MUEBLES",{"$f":"SUM(C64:C71)","v":2169894.25},null,{"$f":"SUM(E64:E71)","v":360412.97},{"$f":"SUM(F64:F71)","v":0},{"$f":"SUM(G64:G71)","v":2530307.2200000002}]
["12410","Mobiliario y equipo de administración",65188.01,null,132912.97,0,{"$f":"C64+E64-F64","v":198100.98}]
["12420","Mobiliario y equipo educacional y recreativo",0,null,0,0,0]
["12430","Equipo e instrumental médico y de laboratorio",0,null,0,0,0]
["12440","Vehículos y equipo de transporte",2104706.2400000002,null,227500,0,2332206.2400000002]
["12450","Equipo de defensa y seguridad",0,null,0,0,0]
["12460","Maquinaria, otros equipos y herramientas",0,null,0,0,0]
["12470","Colecciones, obras de arte y objetos valiosos",0,null,0,0,0]
["12480","Activos biológicos",0,null,0,0,0]
["12500","ACTIVOS INTANGIBLES",{"$f":"SUM(C73:C77)","v":0},null,{"$f":"SUM(E73:E77)","v":0},{"$f":"SUM(F73:F77)","v":0},{"$f":"SUM(G73:G77)","v":0}]
["12510","Software",0,null,0,0,{"$f":"C73+E73-F73","v":0}]
["12520","Patentes, marcas y derechos",0,null,0,0,{"$f":"C74+E74-F74","v":0}]
["12530","Concesiones y franquicias",0,null,0,0,{"$f":"C75+E75-F75","v":0}]
["12540","Licencias",0,null,0,0,{"$f":"C76+E76-F76","v":0}]
["12590","Otros activos intangibles",0,null,0,0,{"$f":"C77+E77-F77","v":0}]
["12600","DEPRECIACIÓN, DETERIORO Y AMORTIZACIÓN ACUMULADA DE BIENES",null,{"$f":"SUM(D79:D83)","v":0},{"$f":"SUM(E79:E83)","v":0},{"$f":"SUM(F79:F83)","v":0},null,{"$f":"D78+F78-E78","v":0}]
["12610","Depreciación acumulada de bienes inmuebles",null,0,0,0,null,{"$f":"D79+F79-E79","v":0}]
["12620","Depreciación acumulada de infraestructura",null,0,0,0,null,{"$f":"D80+F80-E80","v":0}]
["12630","Depreciación acumulada de bienes muebles",null,0,0,0,null,0]
["12640","Deterioro acumulado de activos biológicos",null,0,0,0,null,0]
["12650","Amortización acumulada de activos intangibles",null,0,0,0,null,0]
["12700","ACTIVOS DIFERIDOS",{"$f":"SUM(C85:C90)","v":0},null,{"$f":"SUM(E85:E90)","v":0},{"$f":"SUM(F85:F90)","v":0},{"$f":"SUM(G85:G90)","v":0}]
["12710","Estudios, formulación y evaluación de proyectos",0,null,0,0,{"$f":"C85+E85-F85","v":0}]
["12720","Derechos sobre bienes en régimen de arrendamiento financiero",0,null,0,0,0]
["12730","Gastos pagados por adelantado a largo plazo",0,null,0,0,0]
["12740","Anticipos a largo plazo",0,null,0,0,0]
["12750","Beneficios al retiro de empleados pagados por adelantado",0,null,0,0,0]
["12790","Otros activos diferidos",0,null,0,0,0]
["12800","ESTIMACIÓN POR PÉRDIDA O DETERIORO DE ACTIVOS NO CIRCULANTES",null,{"$f":"SUM(D92:D96)","v":0},{"$f":"SUM(E92:E96)","v":0},{"$f":"SUM(F92:F96)","v":0},null,{"$f":"D91+F91-E91","v":0}]
["12810","Estimaciones por pérdida de cuentas incobrables de documentos por cobrar a largo plazo",0,null,0,0,null,{"$f":"D92+F92-E92","v":0}]
["12820","Estimaciones por pérdida de cuentas incobrables de deudores diversos por cobrar a largo plazo",0,null,0,0,null,{"$f":"D93+F93-E93","v":0}]
["12830","Estimaciones por pérdida de cuentas incobrables de ingresos por cobrar a largo plazo",0,null,0,0,null,0]
["12840","Estimaciones por pérdida de cuentas incobrables de préstamos otorgados a largo plazo",0,null,0,0,null,0]
["12890","Estimaciones por pérdida de otras cuentas incobrables a largo plazo",0,null,0,0,null,0]
["12900","OTROS ACTIVOS NO CIRCULANTES",{"$f":"SUM(C98:C100)","v":0},null,{"$f":"SUM(E98:E100)","v":0},{"$f":"SUM(F98:F100)","v":0},{"$f":"SUM(G98:G100)","v":0}]
["12910","Bienes en concesión",0,null,0,0,{"$f":"C98+E98-F98","v":0}]
["12920","Bienes en arrendamiento financiero",0,null,0,0,{"$f":"C99+E99-F99","v":0}]
["12930","Bienes en comodato",0,null,0,0,{"$f":"C100+E100-F100","v":0}]
["20000","PASIVO",null,{"$f":"D102+D143","v":3948060.41},{"$f":"E102+E143","v":76441234.159999982},{"$f":"F102+F143","v":72820416.479999989},null,{"$f":"H102+H143","v":327242.72999999952}]
["21000","PASIVO CIRCULANTE",null,{"$f":"D103+D113+D117+D121+D124+D128+D135+D139","v":3948060.41},{"$f":"E103+E113+E117+E121+E124+E128+E135+E139","v":76441234.159999982},{"$f":"F103+F113+F117+F121+F124+F128+F135+F139","v":72820416.479999989},null,{"$f":"H103+H113+H117+H121+H124+H128+H135+H139","v":327242.72999999952}]
["21100","CUENTAS POR PAGAR A CORTO PLAZO",null,{"$f":"SUM(D104:D112)","v":0},{"$f":"SUM(E104:E112)","v":71300622.059999987},{"$f":"SUM(F104:F112)","v":71561682.789999992},null,{"$f":"SUM(H104:H112)","v":261060.72999999998}]
["21110","Servicios personales por pagar a corto plazo",null,0,14353238.810000001,14353238.810000001,null,{"$f":"D104+F104-E104","v":0}]
["21120","Proveedores por pagar a corto plazo",null,0,46058481.579999998,46058481.579999998,null,0]
["21130","Contratistas por obras públicas por pagar a corto plazo",null,0,7827081.9500000002,7827081.9500000002,null,0]
["21140","Participaciones y aportaciones por pagar a corto plazo",null,0,0,0,null,0]
["21150","Transferencias otorgadas por pagar a corto plazo",null,0,2951547.05,2951547.05,null,0]
["21160","Intereses, comisiones y otros gastos de la deuda pública por pagar a corto plazo",null,0,38454.21,38454.21,null,0]
["21170","Retenciones y contribuciones por pagar a corto plazo",null,0,71818.460000000006,332879.19,null,261060.72999999998]
["21180","Devoluciones de la ley de ingresos por pagar a corto plazo",null,0,0,0,null,0]
["21190","Otras cuentas por pagar a corto plazo",null,0,0,0,null,0]
["21200","DOCUMENTOS POR PAGAR A CORTO PLAZO",null,{"$f":"SUM(D114:D116)","v":1498060.41},{"$f":"SUM(E114:E116)","v":2490612.1},{"$f":"SUM(F114:F116)","v":1058733.69},null,{"$f":"SUM(H114:H116)","v":66181.999999999534}]
["21210","Documentos  comerciales por pagar a corto plazo",null,0,0,0,null,{"$f":"D114+F114-E114","v":0}]
["21220","Documentos con contratistas por obras públicas por pagar a corto plazo",null,0,0,0,null,{"$f":"D115+F115-E115","v":0}]
["21290","Otros documentos por pagar a corto plazo",null,1498060.41,2490612.1,1058733.69,null,{"$f":"D116+F116-E116","v":66181.999999999534}]
["21300","PORCIÓN A CORTO PLAZO DE LA DEUDA PÚBLICA A LARGO PLAZO",null,{"$f":"SUM(D118+D120)","v":2450000},{"$f":"SUM(E118+E120)","v":2650000},{"$f":"SUM(F118+F120)","v":200000},null,{"$f":"SUM(H118+H120)","v":0}]
["21310","Porción a corto plazo de la deuda pública interna",null,2450000,2650000,200000,null,{"$f":"D118+F118-E118","v":0}]
["21320","Porción a corto plazo de la deuda pública externa",null,0,0,0]
["21330","Porción a corto plazo de arrendamiento financiero",null,0,0,0,null,{"$f":"D120+F120-E120","v":0}]
["21400","TÍTULOS Y VALORES A CORTO PLAZO",null,{"$f":"SUM(D122)","v":0},{"$f":"SUM(E122)","v":0},{"$f":"SUM(F122)","v":0},null,{"$f":"SUM(H122)","v":0}]
["21410","Títulos y valores de la deuda pública interna a corto plazo",null,0,0,0,null,{"$f":"D122+F122-E122","v":0}]
["21420","Títulos y valores de la deuda pública externa a corto plazo",null,0,0,0]
["21500","PASIVOS DIFERIDOS A CORTO PLAZO",null,{"$f":"SUM(D125:D127)","v":0},{"$f":"SUM(E125:E127)","v":0},{"$f":"SUM(F125:F127)","v":0},null,{"$f":"SUM(H125:H127)","v":0}]
["21510","Ingresos cobrados por adelantado a corto plazo",null,0,0,0,null,{"$f":"D125+F125-E125","v":0}]
["21520","Intereses cobrados por adelantado a corto plazo",null,0,0,0,null,{"$f":"D126+F126-E126","v":0}]
["21590","Otros pasivos diferidos a corto plazo",null,0,0,0,null,{"$f":"D127+F127-E127","v":0}]
["21600","FONDOS Y BIENES DE TERCEROS EN GARANTÍA Y/O ADMINISTRACIÓN A CORTO PLAZO",null,{"$f":"SUM(D129:D134)","v":0},{"$f":"SUM(E129:E134)","v":0},{"$f":"SUM(F129:F134)","v":0},null,{"$f":"SUM(H129:H134)","v":0}]
["21610","Fondos en garantía a corto plazo",null,0,0,0,null,{"$f":"D129+F129-E129","v":0}]
["21620","Fondos en administración a corto plazo",null,0,0,0,null,0]
["21630","Fondos contingentes a corto plazo",null,0,0,0,null,0]
["21640","Fondos de fideicomisos, mandatos y contratos análogos a corto plazo",null,0,0,0,null,0]
["21650","Otros fondos de terceros en garantía y/o administración a corto plazo",null,0,0,0,null,0]
["21660","Valores y bienes en garantía a corto plazo",null,0,0,0,null,0]
["21700","PROVISIONES A CORTO PLAZO",null,{"$f":"SUM(D136:D138)","v":0},{"$f":"SUM(E136:E138)","v":0},{"$f":"SUM(F136:F138)","v":0},null,{"$f":"SUM(H136:H138)","v":0}]
["21710","Provisión para demandas y juicios a corto plazo",null,0,0,0,null,{"$f":"D136+F136-E136","v":0}]
["21720","Provisión para contingencias a corto plazo",null,0,0,0,null,{"$f":"D137+F137-E137","v":0}]
["21790","Otras provisiones a corto plazo",null,0,0,0,null,{"$f":"D138+F138-E138","v":0}]
["21900","OTROS PASIVOS A CORTO PLAZO",null,{"$f":"SUM(D140:D142)","v":0},{"$f":"SUM(E140:E142)","v":0},{"$f":"SUM(F140:F142)","v":0},null,{"$f":"SUM(H140:H142)","v":0}]
["21910","Ingresos por clasificar",null,0,0,0,null,{"$f":"D140+F140-E140","v":0}]
["21920","Recaudación por participar",null,0,0,0,null,{"$f":"D141+F141-E141","v":0}]
["21990","Otros pasivos circulantes",null,0,0,0,null,{"$f":"D142+F142-E142","v":0}]
["22000","PASIVO NO CIRCULANTE",null,{"$f":"SUM(D144+D147+D151+D157+D161+D168)","v":0},{"$f":"SUM(E144+E147+E151+E157+E161+E168)","v":0},{"$f":"SUM(F144+F147+F151+F157+F161+F168)","v":0},null,{"$f":"SUM(H144+H147+H151+H157+H161+H168)","v":0}]
["22100","CUENTAS POR PAGAR A LARGO PLAZO",null,{"$f":"SUM(D145:D146)","v":0},{"$f":"SUM(E145:E146)","v":0},{"$f":"SUM(F145:F146)","v":0},null,{"$f":"SUM(H145:H146)","v":0}]
["22110","Proveedores por pagar a largo plazo",null,0,0,0,null,{"$f":"D145+F145-E145","v":0}]
["22120","Contratistas por obras públicas por pagar a largo plazo",null,0,0,0,null,{"$f":"D146+F146-E146","v":0}]
["22200","DOCUMENTOS POR PAGAR A LARGO PLAZO",null,{"$f":"SUM(D148:D150)","v":0},{"$f":"SUM(E148:E150)","v":0},{"$f":"SUM(F148:F150)","v":0},null,{"$f":"SUM(H148:H150)","v":0}]
["22210","Documentos comerciales por pagar a largo plazo",null,0,0,0,null,{"$f":"D148+F148-E148","v":0}]
["22220","Documentos con contratistas por obras públicas por pagar a largo plazo",null,0,0,0,null,{"$f":"D149+F149-E149","v":0}]
["22290","Otros documentos por pagar a largo plazo",null,0,0,0,null,{"$f":"D150+F150-E150","v":0}]
["22300","DEUDA PÚBLICA A LARGO PLAZO",null,{"$f":"SUM(D152:D156)","v":0},{"$f":"SUM(E152:E156)","v":0},{"$f":"SUM(F152:F156)","v":0},null,{"$f":"SUM(H152:H156)","v":0}]
["22310","Títulos y valores de la deuda pública interna a largo plazo",null,0,0,0,null,{"$f":"D152+F152-E152","v":0}]
["22320","Títulos y valores de la deuda pública externa a largo plazo",null,0,0,0]
["22330","Préstamos de la deuda pública interna por pagar a largo plazo",null,0,0,0,null,{"$f":"D154+F154-E154","v":0}]
["22340","Préstamos de la deuda pública externa por pagar a largo plazo",null,0,0,0]
["22350","Arrendamiento financiero por pagar a largo plazo",null,0,0,0,null,{"$f":"D156+F156-E156","v":0}]
["22400","PASIVOS DIFERIDOS A LARGO PLAZO",null,{"$f":"SUM(D158:D160)","v":0},{"$f":"SUM(E158:E160)","v":0},{"$f":"SUM(F158:F160)","v":0},null,{"$f":"SUM(H158:H160)","v":0}]
["22410","Créditos diferidos a largo plazo",null,0,0,0,null,{"$f":"D158+F158-E158","v":0}]
["22420","Intereses cobrados por adelantado a largo plazo",null,0,0,0,null,{"$f":"D159+F159-E159","v":0}]
["22490","Otros pasivos diferidos a largo plazo",null,0,0,0,null,{"$f":"D160+F160-E160","v":0}]
["22500","FONDOS Y BIENES DE TERCEROS EN GARANTÍA Y/O ADMINISTRACIÓN A LARGO PLAZO",null,{"$f":"SUM(D162:D167)","v":0},{"$f":"SUM(E162:E167)","v":0},{"$f":"SUM(F162:F167)","v":0},null,{"$f":"SUM(H162:H167)","v":0}]
["22510","Fondos en garantía a largo plazo",null,0,0,0,null,{"$f":"D162+F162-E162","v":0}]
["22520","Fondos en administración a largo plazo",null,0,0,0,null,0]
["22530","Fondos contingentes a largo plazo",null,0,0,0,null,0]
["22540","Fondos de fideicomisos, mandatos y contratos análogos a largo plazo",null,0,0,0,null,0]
["22550","Otros fondos de terceros en garantía y/o administración a largo plazo",null,0,0,0,null,0]
["22560","Valores y bienes en garantía a largo plazo",null,0,0,0,null,0]
["22600","PROVISIONES A LARGO PLAZO",null,{"$f":"SUM(D169:D172)","v":0},{"$f":"SUM(E169:E172)","v":0},{"$f":"SUM(F169:F172)","v":0},null,{"$f":"SUM(H169:H172)","v":0}]
["22610","Provisión para demandas y juicios a largo plazo",null,0,0,0,null,{"$f":"D169+F169-E169","v":0}]
["22620","Provisión para pensiones a largo plazo",null,0,0,0,null,{"$f":"D170+F170-E170","v":0}]
["22630","Provisión para contingencias a largo plazo",null,0,0,0,null,{"$f":"D171+F171-E171","v":0}]
["22690","Otras provisiones a largo plazo",null,0,0,0,null,{"$f":"D172+F172-E172","v":0}]
["30000","HACIENDA PÚBLICA/ PATRIMONIO",null,{"$f":"D174+D178+D193","v":16728672.549999988},{"$f":"E174+E178+E193","v":0},{"$f":"F174+F178+F193","v":12073953.714000002},null,{"$f":"H174+H178+H193","v":28802626.263999991}]
["31000","HACIENDA PÚBLICA/ PATRIMONIO CONTRIBUIDO",null,{"$f":"SUM(D175:D177)","v":0},{"$f":"SUM(E175:E177)","v":0},{"$f":"SUM(F175:F177)","v":0},null,{"$f":"SUM(H175:H177)","v":0}]
["31100","APORTACIONES",null,0,0,0,null,{"$f":"D175+F175-E175","v":0}]
["31200","DONACIONES DE CAPITAL",null,0,0,0,null,{"$f":"D176+F176-E176","v":0}]
["31300","ACTUALIZACIÓN DE LA HACIENDA PÚBLICA/PATRIMONIO",null,0,0,0,null,{"$f":"D177+F177-E177","v":0}]
["32000","HACIENDA PÚBLICA/PATRIMONIO GENERADO",null,{"$f":"D179+D180+D181+D186+D190","v":16728672.549999988},{"$f":"E179+E180+E181+E186+E190","v":0},{"$f":"F179+F180+F181+F186+F190","v":12073953.714000002},null,{"$f":"H179+H180+H181+H186+H190","v":28802626.263999991}]
["32100","RESULTADOS DEL EJERCICIO (AHORRO/ DESAHORRO)",null,{"$f":"IF(C751>D752,C751,(D752)*-1)","v":8267371.6999999881},{"$f":"F752","v":0},{"$f":"E751","v":12073953.714000002},null,{"$f":"F179-E179","v":12073953.714000002}]
["32200","RESULTADOS DE EJERCICIOS ANTERIORES",null,8461300.8499999996,0,0,null,{"$f":"D179+D180+F180-E180","v":16728672.549999988}]
["32300","REVALÚOS",null,{"$f":"SUM(D182:D185)","v":0},{"$f":"SUM(E182:E185)","v":0},{"$f":"SUM(F182:F185)","v":0},null,{"$f":"SUM(H182:H185)","v":0}]
["32310","Revalúo de bienes inmuebles",null,0,0,0,null,{"$f":"D182+F182-E182","v":0}]
["32320","Revalúo de bienes muebles",null,0,0,0,null,{"$f":"D183+F183-E183","v":0}]
["32330","Revalúo de bienes intangibles",null,0,0,0,null,{"$f":"D184+F184-E184","v":0}]
["32390","Otros revalúos",null,0,0,0,null,{"$f":"D185+F185-E185","v":0}]
["32400","RESERVAS",null,{"$f":"SUM(D187:D189)","v":0},{"$f":"SUM(E187:E189)","v":0},{"$f":"SUM(F187:F189)","v":0},null,{"$f":"SUM(H187:H189)","v":0}]
["32410","Reservas de patrimonio",null,0,0,0,null,{"$f":"D187+F187-E187","v":0}]
["32420","Reservas territoriales",null,0,0,0,null,{"$f":"D188+F188-E188","v":0}]
["32430","Reservas por contingencias",null,0,0,0,null,{"$f":"D189+F189-E189","v":0}]
["32500","RECTIFICACIONES DE RESULTADOS DE EJERCICIOS ANTERIORES",null,{"$f":"SUM(D191:D192)","v":0},{"$f":"SUM(E191:E192)","v":0},{"$f":"SUM(F191:F192)","v":0},null,{"$f":"SUM(H191:H192)","v":0}]
["32510","Cambios en políticas contables",null,0,0,0,null,{"$f":"D191+F191-E191","v":0}]
["32520","Cambios por errores contables",null,0,0,0,null,{"$f":"D192+F192-E192","v":0}]
["33000","EXCESO O INSUFICIENCIA EN LA ACTUALIZACIÓN  DE LA HACIENDA PÚBLICA/ PATRIMONIO",null,{"$f":"SUM(D194:D195)","v":0},{"$f":"SUM(E194:E195)","v":0},{"$f":"SUM(F194:F195)","v":0},null,{"$f":"SUM(H194:H195)","v":0}]
["33100","RESULTADO POR POSICIÓN MONETARIA",null,0,0,0,null,{"$f":"D194+F194-E194","v":0}]
["33200","RESULTADO POR TENENCIA DE ACTIVOS NO MONETARIOS",null,0,0,0,null,{"$f":"D195+F195-E195","v":0}]
["40000","INGRESOS Y OTROS BENEFICIOS",null,{"$f":"D197+D307+D355","v":43025166.679999985},{"$f":"E197+E307+E355","v":0},{"$f":"F197+F307+F355","v":49351198},null,{"$f":"H197+H307+H355","v":49351198}]
["41000","INGRESOS DE GESTIÓN",null,{"$f":"D198+D219+D225+D230+D262+D271+D292+D304","v":5796928.2999999998},{"$f":"E198+E219+E225+E230+E262+E271+E292+E304","v":0},{"$f":"F198+F219+F225+F230+F262+F271+F292+F304","v":9645868.5699999984},null,{"$f":"H198+H219+H225+H230+H262+H271+H292+H304","v":9645868.5699999984}]
["41100","IMPUESTOS",null,{"$f":"D199+D201+D205+D206+D207+D208+D209+D215+D217","v":2849601.27},{"$f":"E199+E201+E205+E206+E207+E208+E209+E215+E217","v":0},{"$f":"F199+F201+F205+F206+F207+F208+F209+F215+F217","v":4282314.9799999995},null,{"$f":"H199+H201+H205+H206+H207+H208+H209+H215+H217","v":4282314.9799999995}]
[41110,"Impuestos sobre los ingresos",null,{"$f":"SUM(D200)","v":0},{"$f":"SUM(E200)","v":0},{"$f":"SUM(F200)","v":15088},null,{"$f":"F199-E199","v":15088}]
["41110-1","Impuestos sobre espectáculos públicos",null,0,0,15088,null,{"$f":"F200-E200","v":15088}]
[41120,"Impuestos sobre el patrimonio",null,{"$f":"SUM(D202:D204)","v":2801526.16},{"$f":"SUM(E202:E204)","v":0},{"$f":"SUM(F202:F204)","v":4235306.8499999996},null,4235306.8499999996]
["41120-1","Impuesto predial ",null,1862867.3,0,2162492.08,null,2162492.08]
["41120-2","Impuestos sobre transmisiones patrimoniales",null,938658.86,0,2022154.88,null,2022154.88]
["41120-3","Impuestos sobre negocios jurídicos",null,0,0,50659.89,null,50659.89]
["41130","Impuesto sobre la producción, el consumo y las transacciones",{"$nulls":5},0]
["41140","Impuestos al comercio exterior",{"$nulls":5},0]
["41150","Impuestos sobre nóminas y asimilables",{"$nulls":5},0]
["41160","Impuestos ecológicos",{"$nulls":5},0]
["41170","Accesorios de impuestos",null,{"$f":"SUM(D210:D214)","v":48075.11},{"$f":"SUM(E210:E214)","v":0},{"$f":"SUM(F210:F214)","v":31920.129999999997},null,31920.129999999997]
["41170-1","Recargos",null,35902.370000000003,0,12455.2,null,12455.2]
["41170-2","Actualizaciones",null,0,0,0,null,0]
["41170-3","Multas",null,12172.74,0,10490.8,null,10490.8]
["41170-4","Gastos de ejecución",null,0,0,0,null,0]
["41170-5","Otros no especificados",null,0,0,8974.1299999999992,null,8974.1299999999992]
["41180","Impuestos no comprendidos en la ley de ingresos vigente, causados en ejercicios fiscales anteriores pendientes de liquidar o pago",null,{"$f":"SUM(D216)","v":0},{"$f":"SUM(E216)","v":0},{"$f":"SUM(F216)","v":0},null,0]
["41180-1","Impuestos no comprendidos en la ley de ingresos vigente, causados en ejercicios fiscales anteriores pendientes de liquidar o pago",null,0,0,0,null,{"$f":"F216-E216","v":0}]
["41190","Otros impuestos",null,{"$f":"SUM(D218)","v":0},{"$f":"SUM(E218)","v":0},{"$f":"SUM(F218)","v":0},null,0]
["41190-1","Otros impuestos",null,0,0,0,null,0]
["41200","CUOTAS Y APORTACIONES DE SEGURIDAD SOCIAL",null,{"$f":"SUM(D220:D224)","v":0},{"$f":"SUM(E220:E224)","v":0},{"$f":"SUM(F220:F224)","v":0},null,{"$f":"SUM(H220:H224)","v":0}]
["41210","Aportaciones para fondos de vivienda"]
["41220","Cuotas para la seguridad social "]
["41230","Cuotas de ahorro para el retiro"]
["41240","Accesorios de cuotas y aportaciones de seguridad social"]
["41290","Otras cuotas y aportaciones para la seguridad social"]
["41300","CONTRIBUCIONES DE MEJORAS",null,{"$f":"SUM(D226+D228)","v":0},{"$f":"SUM(E226+E228)","v":0},{"$f":"SUM(F226+F228)","v":0},null,{"$f":"SUM(H226+H228)","v":0}]
["41310","Contribución de mejoras por obras públicas",null,{"$f":"SUM(D227)","v":0},{"$f":"SUM(E227)","v":0},{"$f":"SUM(F227)","v":0},null,{"$f":"F226-E226","v":0}]
["41310-1","Contribuciones de mejoras por obras públicas",null,0,0,0,null,{"$f":"F227-E227","v":0}]
["41320","Contribuciones de mejoras no comprendidas en la ley de ingresos vigente, causadas en ejercicios fiscales anteriores pendientes de liquidación o pago",null,{"$f":"SUM(D229)","v":0},{"$f":"SUM(E229)","v":0},{"$f":"SUM(F229)","v":0},null,{"$f":"F228-E228","v":0}]
["41320-1","Contribuciones de mejoras no comprendidas en la ley de ingresos vigente, causadas en ejercicios fiscales anteriores pendientes de liquidación o pago",null,0,0,0,null,{"$f":"F229-E229","v":0}]
["41400","DERECHOS",null,{"$f":"D231+D236+D237+D258+D260+D252","v":2154316.19},{"$f":"E231+E236+E237+E258+E260+E252","v":0},{"$f":"F231+F236+F237+F258+F260+F252","v":4717158.669999999},null,{"$f":"H231+H236+H237+H258+H260+H252","v":4717158.669999999}]
["41410","Derechos por el uso, goce, aprovechamiento o explotación de bienes de dominio público",null,{"$f":"SUM(D232:D235)","v":32057},{"$f":"SUM(E232:E235)","v":0},{"$f":"SUM(F232:F235)","v":157383},null,{"$f":"F231-E231","v":157383}]
["41410-1","Derechos por el uso del piso",null,4123,0,81581,null,{"$f":"F232-E232","v":81581}]
["41410-2","Derechos por el uso de los estacionamientos",null,0,0,0,null,{"$f":"F233-E233","v":0}]
["41410-3","Derechos de uso de cementerios y panteones municipales",null,27934,0,25732,null,{"$f":"F234-E234","v":25732}]
["41410-4","Derechos de concesiones y demás inmuebles de propiedad municipal",null,0,0,50070,null,{"$f":"F235-E235","v":50070}]
["41420","Derechos a los hidrocarburos (derogada)"]
["41430","Derechos por prestación de servicios",null,{"$f":"SUM(D238:D251)","v":2110077.19},{"$f":"SUM(E238:E251)","v":0},{"$f":"SUM(F238:F251)","v":4552870.1499999994},null,{"$f":"F237-E237","v":4552870.1499999994}]
["41430-1","Derechos de licencias y permisos de giros",null,89917.36,0,240109.44,null,240109.44]
["41430-2","Derechos de licencias y permisos de anuncios",null,0,0,2297,null,2297]
["41430-3","Derechos de licencias de construcción, reconstrucción, reparación o demolición de obras",null,158618.75,0,535054.02,null,535054.02]
["41430-4","Derechos de regularizaciones de los registros de obra",null,334838.71000000002,0,17582.63,null,17582.63]
["41430-5","Derechos de alineamiento, designación de número oficial e inspección",null,19033.7,0,572523.31999999995,null,572523.31999999995]
["41430-6","Derechos de licencias de cambio de régimen de propiedad y urbanización",null,0,0,168680.65,null,168680.65]
["41430-7","Derechos de servicios de obra",null,0,0,30202.31,null,30202.31]
["41430-8","Derechos de servicios de sanidad",null,9971.1299999999992,0,11878,null,11878]
["41430-9","Derechos de servicio de limpieza, recolección, traslado, tratamiento y disposición final de residuos",null,0,0,0,null,0]
["41430-10","Derechos de agua potable, drenaje, alcantarillado, tratamiento y disposición final de aguas residuales",null,867105.93,0,870571.82,null,870571.82]
["41430-11","Derechos del rastro",null,252976,0,273901,null,273901]
["41430-12","Derechos del registro civil",null,14227,0,12370,null,12370]
["41430-13","Derechos de las certificaciones",null,167914.41,0,167377.82,null,167377.82]
["41430-14","Derechos de los servicios de catastro",null,195474.2,0,1650322.14,null,1650322.14]
["41440","Accesorios de derecho",null,{"$f":"SUM(D253:D257)","v":12182},{"$f":"SUM(E253:E257)","v":0},{"$f":"SUM(F253:F257)","v":6905.52},null,6905.52]
["41440-1","Recargos",null,12182,0,900,null,900]
["41440-2","Actualizaciones",null,0,0,0,null,0]
["41440-3","Multas",null,0,0,0,null,0]
["41440-4","Gastos de ejecución",null,0,0,0,null,0]
["41440-5","Otros no especificados",null,0,0,6005.52,null,6005.52]
["41450","Derechos no comprendidos en la ley de ingresos vigente, causados en ejercicios fiscales anteriores pendientes de liquidación o pago",null,{"$f":"SUM(D259)","v":0},{"$f":"SUM(E259)","v":0},{"$f":"SUM(F259)","v":0},null,{"$f":"F258-E258","v":0}]
["41450-1","Derechos no comprendidos en la ley de ingresos vigente, causados en ejercicios fiscales anteriores pendientes de liquidación o pago",null,0,0,0,null,{"$f":"F259-E259","v":0}]
["41490","Otros derechos",null,{"$f":"SUM(D261)","v":0},{"$f":"SUM(E261)","v":0},{"$f":"SUM(F261)","v":0},null,0]
["41490-1","Otros derechos",null,0,0,0,null,0]
["41500","PRODUCTOS",null,{"$f":"D263+D266+D267+D268+D270","v":182923.84},{"$f":"E263+E266+E267+E268+E270","v":0},{"$f":"F263+F266+F267+F268+F270","v":53968.85},null,{"$f":"H263+H266+H267+H268+H270","v":53968.85}]
["41510","Productos",null,{"$f":"SUM(D264:D265)","v":182923.84},{"$f":"SUM(E264:E265)","v":0},{"$f":"SUM(F264:F265)","v":53968.85},null,{"$f":"F263-E263","v":53968.85}]
["41510-1","Uso, goce, aprovechamiento o explotación de bienes de dominio privado",null,103838,0,0,null,{"$f":"F264-E264","v":0}]
["41510-2","Productos diversos",null,79085.84,0,53968.85,null,{"$f":"F265-E265","v":53968.85}]
["41520","Enajenación de bienes muebles no sujetos a ser inventariados (derogada)"]
["41530","Accesorios de productos (derogada)"]
["41540","Productos no comprendidos en la ley de ingresos vigente, causadas en ejercicios fiscales anteriores pendientes de liquidación o pago",null,{"$f":"SUM(D269)","v":0},{"$f":"SUM(E269)","v":0},{"$f":"SUM(F269)","v":0},null,{"$f":"F268-E268","v":0}]
["41540-1","Productos no comprendidos en la ley de ingresos vigente, causadas en ejercicios fiscales anteriores pendientes de liquidación o pago",null,0,0,0,null,{"$f":"F269-E269","v":0}]
["41590","Otros productos que generan ingresos corrientes (derogada)"]
["41600","APROVECHAMIENTOS",null,{"$f":"SUM(D273+D275+D277+D279+D281+D290+D284)","v":610087},{"$f":"SUM(E273+E275+E277+E279+E281+E290+E284)","v":0},{"$f":"SUM(F273+F275+F277+F279+F281+F290+F284)","v":592426.06999999995},null,{"$f":"SUM(H273+H275+H277+H279+H281+H290+H284)","v":592426.06999999995}]
["41610","Incentivos derivados de la colaboración fiscal (derogada)"]
["41620","Multas",null,{"$f":"SUM(D274)","v":8058},{"$f":"SUM(E274)","v":0},{"$f":"SUM(F274)","v":0},null,{"$f":"F273-E273","v":0}]
["41620-1","Multas",null,8058,0,null,null,{"$f":"F274-E274","v":0}]
["41630","Indemnizaciones",null,{"$f":"SUM(D276)","v":0},{"$f":"SUM(E276)","v":0},{"$f":"SUM(F276)","v":0},null,0]
["41630-1","Indemnizaciones",null,0,0,0,null,0]
["41640","Reintegros",null,{"$f":"SUM(D278)","v":0},{"$f":"SUM(E278)","v":0},{"$f":"SUM(F278)","v":349127.05},null,349127.05]
["41640-1","Reintegros",null,0,0,349127.05,null,349127.05]
["41650","Aprovechamientos provenientes de obras públicas",null,{"$f":"SUM(D280)","v":0},{"$f":"SUM(E280)","v":0},{"$f":"SUM(F280)","v":0},null,0]
["41650-1","Aprovechamientos provenientes de obras públicas",null,0,0,0,null,0]
["41660","Aprovechamientos no comprendidos en la ley de ingresos vigente, causados en ejercicios fiscales anteriores pendientes de liquidación o pago",null,{"$f":"SUM(D282)","v":0},{"$f":"SUM(E282)","v":0},{"$f":"SUM(F282)","v":0},null,0]
["41660-1","Aprovechamientos no comprendidos en la ley de ingresos vigente, causados en ejercicios fiscales anteriores pendientes de liquidación o pago",null,0,0,0,null,0]
["41670","Aprovechamientos por aportaciones y cooperaciones (derogada)"]
["41680","Accesorios de aprovechamiento",null,{"$f":"SUM(D285:D289)","v":0},{"$f":"SUM(E285:E289)","v":0},{"$f":"SUM(F285:F289)","v":243299.02},null,{"$f":"F284-E284","v":243299.02}]
["41680-1","Recargos",null,0,0,0,null,0]
["41680-2","Actualizaciones",null,0,0,0,null,0]
["41680-3","Multas",null,0,0,16184,null,16184]
["41680-4","Gastos de ejecución",null,0,0,0,null,0]
["41680-5","Otros no especificados",null,0,0,227115.02,null,227115.02]
["41690","Otros aprovechamientos",null,{"$f":"SUM(D291)","v":602029},{"$f":"SUM(E291)","v":0},{"$f":"SUM(F291)","v":0},null,0]
["41690-1","Otros aprovechamientos",null,602029,0,null,null,0]
["41700","INGRESOS POR VENTAS DE BIENES Y PRESTACIÓN DE SERVICIOS",null,{"$f":"D293+D295+D296+D298+D299+D300+D301+D303","v":0},{"$f":"E293+E295+E296+E298+E299+E300+E301+E303","v":0},{"$f":"F293+F295+F296+F298+F299+F300+F301+F303","v":0},null,{"$f":"H293+H295+H296+H298+H299+H300+H301+H303","v":0}]
["41710","Ingresos por venta de bienes y prestación de servicios de instituciones públicas de seguridad social",null,{"$f":"SUM(D294)","v":0},{"$f":"SUM(E294)","v":0},{"$f":"SUM(F294)","v":0},null,{"$f":"F293-E293","v":0}]
["41710-1","Ingresos por venta de bienes y prestación de servicios de instituciones públicas de seguridad social",null,0,0,0,null,0]
["41720","Ingresos por venta de bienes y prestación de servicios de empresas productivas del estado",{"$nulls":5},0]
["41730","Ingresos por venta de bienes y prestación de servicios de entidades paraestatales y fideicomisos no empresariales y no financieros",null,{"$f":"SUM(D297)","v":0},{"$f":"SUM(E297)","v":0},{"$f":"SUM(F297)","v":0},null,0]
["41730-1","Ingresos por venta de bienes y prestación de servicios de entidades paraestatales y fideicomisos no empresariales y no financieros",null,0,0,0,null,0]
["41740","Ingresos por venta de bienes y prestación de servicios de entidades paraestatales empresariales no financieras con participación estatal mayoritaria",{"$nulls":5},0]
["41750","Ingresos por venta de bienes y prestación de servicios de entidades paraestatales empresariales financieras monetarias con participación estatal mayoritaria",{"$nulls":5},0]
["41760","Ingresos por venta de bienes y prestación de servicios de entidades paraestatales empresariales financieras no monetarias con participación estatal mayoritaria",{"$nulls":5},0]
["41770","Ingresos por venta de bienes y prestación de servicios de fideicomisos financieros públicos con participación estatal mayoritaria",null,{"$f":"SUM(D302)","v":0},{"$f":"SUM(E302)","v":0},{"$f":"SUM(F302)","v":0},null,0]
["41770-1","Ingresos por venta de bienes y prestación de servicios de fideicomisos financieros públicos con participación estatal mayoritaria",null,0,0,0,null,0]
["41780","Ingresos por venta de bienes y prestación de servicios de los poderes legislativo y judicial, y de los órganismos autónomos",{"$nulls":5},0]
["41900","INGRESOS NO COMPRENDIDOS EN LAS FRACCIONES DE LA LEY DE INGRESOS CAUSADOS EN EJERCICIOS FISCALES ANTERIORES PENDIENTES DE LIQUIDACIÓN O PAGO (DEROGADA) ",null,{"$f":"SUM(D305:D306)","v":0},{"$f":"SUM(E305:E306)","v":0},{"$f":"SUM(F305:F306)","v":0},null,{"$f":"SUM(H305:H306)","v":0}]
["41910","Impuestos no comprendidos en las fracciones de la ley de ingresos causados en ejercicios fiscales anteriores pendientes de liquidación o pago (derogada)"]
["41920","Cont. de mejoras, derechos, productos y aprovechamientos no comprendidos en las frac. de ley de la ingresos causados en ejercicios fiscales anteriores pendientes de liquidación o pago (derogada)"]
["42000","PARTICIPACIONES, APORTACIONES, CONVENIOS, INCENTIVOS DERIVADOS DE LA COLABORACIÓN FISCAL, FONDOS DISTINTOS DE APORTACIONES, TRANSFERENCIAS, ASIGNACIONES, SUBSIDIOS Y SUBVENCIONES, Y PENSIONES Y JUBILACIONES",null,{"$f":"D308+D341","v":37228238.379999988},{"$f":"E308+E341","v":0},{"$f":"F308+F341","v":39705329.43},null,{"$f":"H308+H341","v":39705329.43}]
["42100","PARTICIPACIONES, APORTACIONES, CONVENIOS, INCENTIVOS DERIVADOS DE LA COLABORACIÓN FISCAL Y FONDOS DISTINTOS DE APORTACIONES",null,{"$f":"D309+D322+D325+D332+D338","v":37228238.379999988},{"$f":"E309+E322+E325+E332+E338","v":0},{"$f":"F309+F322+F325+F332+F338","v":39705329.43},null,{"$f":"H309+H322+H325+H332+H338","v":39705329.43}]
["42110","Participaciones",null,{"$f":"SUM(D310:D321)","v":22279582.569999993},{"$f":"SUM(E310:E321)","v":0},{"$f":"SUM(F310:F321)","v":24420587.930000003},null,{"$f":"F309-E309","v":24420587.930000003}]
["42110-1","Fondo general de participaciones (federal)",null,16330744.789999999,0,17152650.690000001,null,17152650.690000001]
["42110-2","Fondo de fomento municipal (federal)",null,4176894.7,0,4099611.85,null,4099611.85]
["42110-3","Fondo de fiscalización y recaudación (federal)",null,264839.15000000002,0,232160.82,null,232160.82]
["42110-4","Fondo de compensación (federal)",null,0,0,0,null,0]
["42110-5","Fondo de extracción de hidrocarburos (federal)",null,0,0,0,null,0]
["42110-6","Impuesto especial sobre producción y servicios (federal)",null,399947.24,0,446914.35,null,446914.35]
["42110-7","0.136% de la recaudación federal participable (federal)",null,0,0,0,null,0]
["42110-8","3.17% sobre extracción de petróleo (federal)",null,0,0,0,null,0]
["42110-9","Gasolinas y diésel (federal)",null,883807.29,0,770457.35,null,770457.35]
["42110-10","Fondo del impuesto sobre la renta (federal)",null,0,0,1555537.17,null,1555537.17]
["42110-11","Fondo de estabilización de los ingresos de las entidades federativas (federal)",null,0,0,156538.9,null,156538.9]
["42110-12","Participaciones del estado",null,223349.4,0,6716.8,null,6716.8]
["42120","Aportaciones",null,{"$f":"SUM(D323:D324)","v":12751805.77},{"$f":"SUM(E323:E324)","v":0},{"$f":"SUM(F323:F324)","v":12954133.24},null,12954133.24]
["42120-1","Fondo de aportaciones para la infraestructura social municipal",null,7928909.46,0,7786787.1600000001,null,7786787.1600000001]
["42120-2","Fondo de aportaciones para el fortalecimiento municipal",null,4822896.3099999996,0,5167346.08,null,5167346.08]
["42130","Convenios",null,{"$f":"SUM(D326:D331)","v":1840233.49},{"$f":"SUM(E326:E331)","v":0},{"$f":"SUM(F326:F331)","v":1865390},null,1865390]
["42130-1","Convenios de protección social en salud",null,0,0,0,null,0]
["42130-2","Convenios de descentralizados",null,0,0,0,null,0]
["42130-3","Convenio de reasignación",null,0,0,0,null,0]
["42130-4","Otros convenios y subsidios (Con ingresos de libre disposición)",null,0,0,0,null,0]
["42130-5","Otros convenios y subsidios (Con ingresos etiquetados federales)",null,0,0,0,null,0]
["42130-6","Otros convenios y subsidios (Con ingresos etiquetados estatales)",null,1840233.49,0,1865390,null,1865390]
["42140","Incentivos derivados de la colaboración fiscal",null,{"$f":"SUM(D333:D337)","v":356616.55000000005},{"$f":"SUM(E333:E337)","v":0},{"$f":"SUM(F333:F337)","v":465218.26},null,465218.26]
["42140-1","Tenencia o uso de vehículos",null,540.53,0,301.58,null,301.58]
["42140-2","Fondo de compensación ISAN",null,67939.63,0,74455.320000000007,null,74455.320000000007]
["42140-3","Impuesto sobre automóviles nuevos",null,288136.39,0,390461.36,null,390461.36]
["42140-4","Fondo de compensación de repecos-intermedios",null,0,0,0,null,0]
["42140-5","Otros incentivos económicos",null,0,0,0,null,0]
["42150","Fondos distintos de aportaciones",null,{"$f":"SUM(D339:D340)","v":0},{"$f":"SUM(E339:E340)","v":0},{"$f":"SUM(F339:F340)","v":0},null,0]
["42150-1","Fondo para entidades federativas y municipios productores de hidrocarburos",null,0,0,0,null,0]
["42150-2","Fondo minero",null,0,0,0,null,0]
["42200","TRANSFERENCIAS, ASIGNACIONES, SUBSIDIOS Y SUBVENCIONES, Y PENSIONES Y JUBILACIONES",null,{"$f":"D342+D345+D346+D349+D350+D352+D353","v":0},{"$f":"E342+E345+E346+E349+E350+E352+E353","v":0},{"$f":"F342+F345+F346+F349+F350+F352+F353","v":0},null,{"$f":"H342+H345+H346+H349+H350+H352+H353","v":0}]
["42210","Transferencias y asignaciones",null,{"$f":"SUM(D343:D344)","v":0},{"$f":"SUM(E343:E344)","v":0},{"$f":"SUM(F343:F344)","v":0},null,{"$f":"F342-E342","v":0}]
["42210-1","Transferencias y asignaciones (con ingresos de libre disposición)",null,0,0,0,null,{"$f":"F343-E343","v":0}]
["42210-2","Transferencias y asignaciones (con ingresos etiquetados)",null,0,0,0,null,{"$f":"F344-E344","v":0}]
["42220","Transferencias del sector público (derogada)"]
["42230","Subsidios y subvenciones",null,{"$f":"SUM(D347:D348)","v":0},{"$f":"SUM(E347:E348)","v":0},{"$f":"SUM(F347:F348)","v":0},null,{"$f":"F346-E346","v":0}]
["42230-1","Subsidios y subvenciones (con ingresos de libre disposición)",null,0,0,0,null,{"$f":"F347-E347","v":0}]
["42230-2","Subsidios y subvenciones (con ingresos etiquetados)",null,0,0,0,null,{"$f":"F348-E348","v":0}]
["42240","Ayudas sociales (derogada)"]
["42250","Pensiones y jubilaciones",null,{"$f":"SUM(D351)","v":0},{"$f":"SUM(E351)","v":0},{"$f":"SUM(F351)","v":0},null,{"$f":"F350-E350","v":0}]
["42250-1","Pensiones y jubilaciones",null,0,0,0,null,{"$f":"F351-E351","v":0}]
["42260","Transferencias del exterior (derogada)"]
["42270","Transferencias del fondo mexicano del petróleo para la estabilización y el desarrollo",null,{"$f":"SUM(D354)","v":0},{"$f":"SUM(E354)","v":0},{"$f":"SUM(F354)","v":0},null,{"$f":"F353-E353","v":0}]
["42270-1","Transferencias del fondo mexicano del petróleo para la estabilización y el desarrollo",null,0,0,0,null,{"$f":"F354-E354","v":0}]
["43000","OTROS INGRESOS Y BENEFICIOS",null,{"$f":"D356+D361+D367+D370+D373","v":0},{"$f":"E356+E361+E367+E370+E373","v":0},{"$f":"F356+F361+F367+F370+F373","v":0},null,{"$f":"H356+H361+H367+H370+H373","v":0}]
["43100","INGRESOS FINANCIEROS",null,{"$f":"D357+D359","v":0},{"$f":"E357+E359","v":0},{"$f":"F357+F359","v":0},null,{"$f":"H357+H359","v":0}]
["43110","Intereses ganados de títulos, valores y demás instrumentos financieros",null,{"$f":"SUM(D358)","v":0},{"$f":"SUM(E358)","v":0},{"$f":"SUM(F358)","v":0},null,{"$f":"F357-E357","v":0}]
["43110-1","Intereses ganados de títulos, valores y demás instrumentos financieros",null,0,0,0,null,{"$f":"F358-E358","v":0}]
["43190","Otros ingresos financieros",null,{"$f":"SUM(D360)","v":0},{"$f":"SUM(E360)","v":0},{"$f":"SUM(F360)","v":0},null,{"$f":"F359-E359","v":0}]
["43190-1","Otros ingresos financieros",null,0,0,0,null,{"$f":"F360-E360","v":0}]
["43200","INCREMENTO POR VARIACIÓN DE INVENTARIOS",null,{"$f":"SUM(D362:D366)","v":0},{"$f":"SUM(E362:E366)","v":0},{"$f":"SUM(F362:F366)","v":0},null,{"$f":"SUM(H362:H366)","v":0}]
["43210","Incremento por variación de inventarios de mercancías para venta"]
["43220","Incremento por variación de inventarios de mercancías terminadas"]
["43230","Incremento por variación de inventarios de mercancías en proceso de elaboración"]
["43240","Incremento por variación de inventarios de materias primas, materiales y suministros para producción"]
["43250","Incremento por variación de almacén de mercancías primas, materiales y suministros de consumo"]
["43300","DISMINUCIÓN DEL EXCESO DE ESTIMACIONES POR PÉRDIDA O DETERIORO U OBSOLESCENCIA",null,{"$f":"SUM(D368)","v":0},0,0,null,{"$f":"SUM(H368)","v":0}]
["43310","Disminución del exceso de estimaciones por pérdida o deterioro u obsolescencia",null,0,0,0,null,{"$f":"F368-E368","v":0}]
["43310-1","Disminución del exceso de estimaciones por pérdida o deterioro u obsolescencia",null,0,0,0,null,{"$f":"F369-E369","v":0}]
["43400","DISMINUCIÓN DEL EXCESO DE PROVISIONES",null,{"$f":"SUM(D371)","v":0},0,0,null,{"$f":"SUM(H371)","v":0}]
["43410","Disminución del exceso de provisiones",null,0,0,0,null,{"$f":"F371-E371","v":0}]
["43410-1","Disminución del exceso de provisiones",null,0,0,0,null,{"$f":"F372-E372","v":0}]
["43900","OTROS INGRESOS Y BENEFICIOS VARIOS",null,{"$f":"D375+D377+D379+D381+D383+D385+D387","v":0},{"$f":"E375+E377+E379+E381+E383+E385+E387","v":0},{"$f":"F375+F377+F379+F381+F383+F385+F387","v":0},null,{"$f":"H375+H377+H379+H381+H383+H385+H387","v":0}]
["43910","Otros ingresos de ejercicios anteriores (derogada)"]
["43920","Bonificaciones y descuentos obtenidos",null,{"$f":"SUM(D376)","v":0},{"$f":"SUM(E376)","v":0},{"$f":"SUM(F376)","v":0},null,{"$f":"F375-E375","v":0}]
["43920-1","Bonificaciones y descuentos obtenidos",null,0,0,0,null,0]
["43930","Diferencias por tipo de cambio a favor",null,{"$f":"SUM(D378)","v":0},{"$f":"SUM(E378)","v":0},{"$f":"SUM(F378)","v":0},null,0]
["43930-1","Diferencias por tipo de cambio a favor",null,0,0,0,null,0]
["43940","Diferencias de cotizaciones a favor en valores negociables",null,{"$f":"SUM(D380)","v":0},{"$f":"SUM(E380)","v":0},{"$f":"SUM(F380)","v":0},null,0]
["43940-1","Diferencias de cotizaciones a favor en valores negociables",null,0,0,0,null,0]
["43950","Resultado por posición monetaria",null,{"$f":"SUM(D382)","v":0},{"$f":"SUM(E382)","v":0},{"$f":"SUM(F382)","v":0},null,0]
["43950-1","Resultado por posición monetaria",null,0,0,0,null,0]
["43960","Utilidades por participación patrimonial",null,{"$f":"SUM(D384)","v":0},{"$f":"SUM(E384)","v":0},{"$f":"SUM(F384)","v":0},null,0]
["43960-1","Utilidades por participación patrimonial",null,0,0,0,null,0]
["43970","Diferencias por reestructuración de deuda pública a favor",null,{"$f":"SUM(D386)","v":0},{"$f":"SUM(E386)","v":0},{"$f":"SUM(F386)","v":0},null,0]
["43970-1","Diferencias por reestructuración de deuda pública a favor",null,0,0,0,null,0]
["43990","Otros ingresos y beneficios varios",null,{"$f":"SUM(D388)","v":0},{"$f":"SUM(E388)","v":0},{"$f":"SUM(F388)","v":0},null,0]
["43990-1","Otros ingresos y beneficios varios",null,0,0,0,null,0]
["50000","GASTOS Y OTRAS PÉRDIDAS",{"$f":"C390+C576+C659+C683+C713+C746","v":34757794.979999997},null,{"$f":"E390+E576+E659+E683+E713+E746","v":37277244.285999998},{"$f":"F390+F576+F659+F683+F713+F746","v":0},{"$f":"G390+G576+G659+G683+G713+G746","v":37277244.285999998}]
["51000","GASTOS DE FUNCIONAMIENTO",{"$f":"C391+C426+C491","v":30396045.329999998},null,{"$f":"E391+E426+E491","v":33734915.456},{"$f":"F391+F426+F491","v":0},{"$f":"G391+G426+G491","v":33734915.456}]
["51100","SERVICIOS PERSONALES",{"$f":"SUM(C392+C397+C402+C411+C416+C423)","v":17054348.789999999},null,{"$f":"SUM(E392+E397+E402+E411+E416+E423)","v":18118436.470000003},{"$f":"SUM(F392+F397+F402+F411+F416+F423)","v":0},{"$f":"SUM(G392+G397+G402+G411+G416+G423)","v":18118436.470000003}]
["51110","Remuneraciones al personal de carácter permanente",{"$f":"SUM(C393:C396)","v":10287161.860000001},null,{"$f":"SUM(E393:E396)","v":10250517.66},{"$f":"SUM(F393:F396)","v":0},{"$f":"E392-F392","v":10250517.66}]
["51110-1","Dietas",1679546.65,null,1462276.57,0,{"$f":"E393-F393","v":1462276.57}]
["51110-2","Haberes",0,null,0,0,0]
["51110-3","Sueldos base al personal permanente",8607615.2100000009,null,8788241.0899999999,0,8788241.0899999999]
["51110-4","Remuneraciones por adscripción laboral en el extranjero",0,null,0,0]
["51120","Remuneraciones al personal de carácter transitorio",{"$f":"SUM(C398:C401)","v":4801844.1399999997},null,{"$f":"SUM(E398:E401)","v":5809910.1900000004},{"$f":"SUM(F398:F401)","v":0},5809910.1900000004]
["51120-1","Honorarios asimilables a salarios",0,null,0,0,0]
["51120-2","Sueldos base al personal eventual",4801844.1399999997,null,5809910.1900000004,0,5809910.1900000004]
["51120-3","Retribuciones por servicios de carácter social",0,null,0,0,0]
["51120-4","Retribución a los representantes de los trabajadores y de los patrones en la Junta de Conciliación y Arbitraje",0,null,0,0,0]
["51130","Remuneraciones adicionales y especiales",{"$f":"SUM(C403:C410)","v":1965342.79},null,{"$f":"SUM(E403:E410)","v":1992316.62},{"$f":"SUM(F403:F410)","v":0},1992316.62]
["51130-1","Primas por años de servicios efectivos prestados",0,null,0,0,0]
["51130-2","Primas de vacaciones, dominical y gratificación de fin de año",1893041.43,null,1935992.83,0,1935992.83]
["51130-3","Horas extraordinarias",72301.36,null,56323.79,0,56323.79]
["51130-4","Compensaciones",0,null,0,0,0]
["51130-5","Sobrehaberes",0,null,0,0,0]
["51130-6","Asignaciones de técnico, de mando, por comisión, de vuelo y de técnico especial",0,null,0,0,0]
["51130-7","Honorarios especiales",0,null,0,0,0]
["51130-8","Participaciones por vigilancia en el cumplimiento de la leyes y custodia de valores",0,null,0,0,0]
["51140","Seguridad social",{"$f":"SUM(C412:C415)","v":0},null,{"$f":"SUM(E412:E415)","v":0},{"$f":"SUM(F412:F415)","v":0},0]
["51140-1","Aportaciones de seguridad social",0,null,0,0,0]
["51140-2","Aportaciones a fondos de vivienda",0,null,0,0,0]
["51140-3","Aportaciones al sistema para el retiro",0,null,0,0,0]
["51140-4","Aportaciones para seguros",0,null,0,0,0]
["51150","Otras prestaciones sociales y económicas",{"$f":"SUM(C417:C422)","v":0},null,{"$f":"SUM(E417:E422)","v":65692},{"$f":"SUM(F417:F422)","v":0},65692]
["51150-1","Cuotas para el fondo de ahorro y fondo de trabajo",0,null,0,0,0]
["51150-2","Indemnizaciones",0,null,65692,0,65692]
["51150-3","Prestaciones y haberes de retiro",0,null,0,0,0]
["51150-4","Prestaciones contractuales",0,null,0,0,0]
["51150-5","Apoyos a la capacitación de los servidores públicos",0,null,0,0,0]
["51150-6","Otras prestaciones sociales y económicas",0,null,0,0,0]
["51160","Pago de estímulos a servidores públicos",{"$f":"SUM(C424:C425)","v":0},null,{"$f":"SUM(E424:E425)","v":0},{"$f":"SUM(F424:F425)","v":0},0]
["51160-1","Estímulos",0,null,0,0,0]
["51160-2","Recompensas",0,null,0,0,0]
["51200","MATERIALES Y SUMINISTROS",{"$f":"C427+C436+C440+C450+C460+C468+C471+C477+C481","v":4617870.82},null,{"$f":"E427+E436+E440+E450+E460+E468+E471+E477+E481","v":3906677.5060000001},{"$f":"F427+F436+F440+F450+F460+F468+F471+F477+F481","v":0},{"$f":"G427+G436+G440+G450+G460+G468+G471+G477+G481","v":3906677.5060000001}]
["51210","Materiales de administración, emisión de documentos y artículos oficiales",{"$f":"SUM(C428:C435)","v":296508.90000000002},null,{"$f":"SUM(E428:E435)","v":341096.15},{"$f":"SUM(F428:F435)","v":0},{"$f":"E427-F427","v":341096.15}]
["51210-1","Materiales, útiles y equipos menores de oficina",114171.41,null,145017.14000000001,0,145017.14000000001]
["51210-2","Materiales y útiles de impresión y reproducción",0,null,21615.78,0,21615.78]
["51210-3","Material estadístico y geográfico",0,null,0,0,0]
["51210-4","Materiales, útiles y equipos menores de tecnologías de la información y comunicaciones",0,null,0,0,0]
["51210-5","Material impreso e información digital",119128.6,null,106492.07,0,106492.07]
["51210-6","Material de limpieza",63208.89,null,38700.76,0,38700.76]
["51210-7","Materiales y útiles de enseñanza",0,null,0,0,0]
["51210-8","Materiales para el registro e identificación de bienes y personas",0,null,29270.400000000001,0,29270.400000000001]
["51220","Alimentos y utensilios",{"$f":"SUM(C437:C439)","v":292586.06},null,{"$f":"SUM(E437:E439)","v":292538.86},{"$f":"SUM(F437:F439)","v":0},292538.86]
["51220-1","Productos alimenticios para personas",292586.06,null,281273.40999999997,0,281273.40999999997]
["51220-2","Productos alimenticios para animales",0,null,0,0,0]
["51220-3","Utensilios para el servicio de alimentación",0,null,11265.45,0,11265.45]
["51230","Materias primas y materiales de producción y comercialización",{"$f":"SUM(C441:C449)","v":0},null,{"$f":"SUM(E441:E449)","v":0},{"$f":"SUM(F441:F449)","v":0},0]
["51230-1","Productos alimenticios, agropecuarios y forestales adquiridos como materia prima",0,null,0,0]
["51230-2","Insumos textiles adquiridos como materia prima",0,null,0,0]
["51230-3","Productos de papel, cartón e impresos adquiridos como materia prima",0,null,0,0]
["51230-4","Combustibles, lubricantes, aditivos, carbón y sus derivados adquiridos como materia prima",0,null,0,0]
["51230-5","Productos químicos, farmacéuticos y de laboratorio adquiridos como materia prima",0,null,0,0]
["51230-6","Productos metálicos y a base de minerales no metálicos adquiridos como materia prima",0,null,0,0]
["51230-7","Productos de cuero, piel, plástico y hule adquiridos como materia prima",0,null,0,0]
["51230-8","Mercancías adquiridas para su comercialización",0,null,0,0]
["51230-9","Otros productos adquiridos como materia prima",0,null,0,0]
["51240","Materiales y artículos de construcción y de reparación",{"$f":"SUM(C451:C459)","v":901394.74},null,{"$f":"SUM(E451:E459)","v":570184.72},{"$f":"SUM(F451:F459)","v":0},{"$f":"E450-F450","v":570184.72}]
["51240-1","Productos minerales no metálicos",0,null,0,0,0]
["51240-2","Cemento y productos de concreto",0,null,7320,0,7320]
["51240-3","Cal, yeso y productos de yeso",0,null,13200.04,0,13200.04]
["51240-4","Madera y productos de madera",0,null,0,0,0]
["51240-5","Vidrio y productos de vidrio",0,null,0,0,0]
["51240-6","Material eléctrico y electrónico",397772.52,null,309532.57,0,309532.57]
["51240-7","Artículos metálicos para la construcción",0,null,11359.76,0,11359.76]
["51240-8","Materiales complementarios",0,null,0,0,0]
["51240-9","Otros materiales y artículos de construcción y reparación",503622.22,null,228772.35,0,228772.35]
["51250","Productos químicos, farmacéuticos y de laboratorio",{"$f":"SUM(C461:C467)","v":117380.69},null,{"$f":"SUM(E461:E467)","v":155664.68},{"$f":"SUM(F461:F467)","v":0},155664.68]
["51250-1","Productos químicos básicos",0,null,520,0,520]
["51250-2","Fertilizantes, pesticidas y otros agroquímicos",0,null,500,0,500]
["51250-3","Medicinas y productos farmacéuticos",109666.69,null,19599.62,0,19599.62]
["51250-4","Materiales, accesorios y suministros médicos",0,null,700,0,700]
["51250-5","Materiales, accesorios y suministros de laboratorio",7714,null,0,0,0]
["51250-6","Fibras sintéticas, hules plásticos y derivados",0,null,24543.72,0,24543.72]
["51250-7","Otros productos químicos",0,null,109801.34,0,109801.34]
["51260","Combustibles, lubricantes y aditivos",{"$f":"SUM(C469:C470)","v":2618742.4},null,{"$f":"SUM(E469:E470)","v":1950927.5560000001},{"$f":"SUM(F469:F470)","v":0},1950927.5560000001]
["51260-1","Combustibles, lubricantes y aditivos",2618742.4,null,1950927.5560000001,0,1950927.5560000001]
["51260-2","Carbón y sus derivados",0,null,0,0,0]
["51270","Vestuario, blancos, prendas de protección y artículos deportivos",{"$f":"SUM(C472:C476)","v":50787.86},null,{"$f":"SUM(E472:E476)","v":98676.47},{"$f":"SUM(F472:F476)","v":0},98676.47]
["51270-1","Vestuario y uniformes",21111.34,null,56337.27,0,56337.27]
["51270-2","Prendas de seguridad y protección personal",8987.58,null,10687.2,0,10687.2]
["51270-3","Artículos deportivos",20688.939999999999,null,31572,0,31572]
["51270-4","Productos textiles",0,null,0,0,0]
["51270-5","Blancos y otros productos textiles, excepto prendas de vestir",0,null,80,0,80]
["51280","Materiales y suministros para seguridad",{"$f":"SUM(C478:C480)","v":0},null,{"$f":"SUM(E478:E480)","v":0},{"$f":"SUM(F478:F480)","v":0},0]
["51280-1","Sustancias y materiales explosivos",0,null,0,0,0]
["51280-2","Materiales de seguridad pública",0,null,0,0,0]
["51280-3","Prendas de protección para seguridad pública y nacional",0,null,0,0,0]
["51290","Herramientas, refacciones y accesorios menores",{"$f":"SUM(C482:C490)","v":340470.17},null,{"$f":"SUM(E482:E490)","v":497589.07000000007},{"$f":"SUM(F482:F490)","v":0},497589.07000000007]
["51290-1","Herramientas menores",0,null,50439.56,0,50439.56]
["51290-2","Refacciones y accesorios menores de edificios",5678.2,null,260,0,260]
["51290-3","Refacciones y accesorios menores de mobiliario  y equipo de administración, educacional y recreativo",0,null,0,0,0]
["51290-4","Refacciones y accesorios menores de equipo de cómputo y tecnologías de la información",103506.53,null,49236.23,0,49236.23]
["51290-5","Refacciones y accesorios menores de equipo e instrumental médico y de laboratorio",0,null,0,0,0]
["51290-6","Refacciones y accesorios menores de equipo de transporte",143599.93,null,395390.26,0,395390.26]
["51290-7","Refacciones y accesorios menores de equipo de defensa y seguridad",0,null,0,0,0]
["51290-8","Refacciones y accesorios menores de maquinaria y otros equipos",87685.51,null,2263.02,0,2263.02]
["51290-9","Refacciones y accesorios menores otros bienes muebles",0,null,0,0,0]
["51300","SERVICIOS GENERALES",{"$f":"C492+C502+C512+C522+C532+C542+C560+C566+C550","v":8723825.7199999988},null,{"$f":"E492+E502+E512+E522+E532+E542+E560+E566+E550","v":11709801.48},{"$f":"F492+F502+F512+F522+F532+F542+F560+F566+F550","v":0},{"$f":"G492+G502+G512+G522+G532+G542+G560+G566+G550","v":11709801.48}]
["51310","Servicios básicos",{"$f":"SUM(C493:C501)","v":5449869.8300000001},null,{"$f":"SUM(E493:E501)","v":5406917.370000001},{"$f":"SUM(F493:F501)","v":0},{"$f":"E492-F492","v":5406917.370000001}]
["51310-1","Energía eléctrica",5332026.9400000004,null,5234823.83,0,5234823.83]
["51310-2","Gas ",0,null,0,0,0]
["51310-3","Agua",0,null,114,0,114]
["51310-4","Telefonía tradicional",115851.87,null,90603.23,0,90603.23]
["51310-5","Telefonía celular",0,null,0,0,0]
["51310-6","Servicios de telecomunicaciones y satélites",0,null,0,0,0]
["51310-7","Servicios de acceso de Internet, redes y procesamiento de información",1991.02,null,80788.87,0,80788.87]
["51310-8","Servicios postales y telegráficos",0,null,587.44000000000005,0,587.44000000000005]
["51310-9","Servicios integrales y otros servicios",0,null,0,0,0]
["51320","Servicios de arrendamiento",{"$f":"SUM(C503:C511)","v":416110.99},null,{"$f":"SUM(E503:E511)","v":311487.51999999996},{"$f":"SUM(F503:F511)","v":0},311487.51999999996]
["51320-1","Arrendamiento de terrenos",0,null,0,0,0]
["51320-2","Arrendamiento de edificios",44800,null,43800,0,43800]
["51320-3","Arrendamiento de mobiliario y equipo de administración, educacional y recreativo",0,null,26321.279999999999,0,26321.279999999999]
["51320-4","Arrendamiento de equipo e instrumental médico y de laboratorio",0,null,0,0,0]
["51320-5","Arrendamiento de equipo de transporte",0,null,49416,0,49416]
["51320-6","Arrendamiento de maquinaria, otros equipos y herramientas",371310.99,null,180996.07,0,180996.07]
["51320-7","Arrendamiento de activos intangibles",0,null,0,0,0]
["51320-8","Arrendamiento financiero",0,null,0,0,0]
["51320-9","Otros arrendamientos",0,null,10954.17,0,10954.17]
["51330","Servicios profesionales, científicos, técnicos y otros servicios",{"$f":"SUM(C513:C521)","v":23200},null,{"$f":"SUM(E513:E521)","v":306097.40000000002},{"$f":"SUM(F513:F521)","v":0},306097.40000000002]
["51330-1","Servicios legales, de contabilidad, auditoría y relacionados",0,null,29000,0,29000]
["51330-2","Servicios de diseño, arquitectura, ingeniería y actividades relacionadas",0,null,0,0,0]
["51330-3","Servicios de consultoría administrativa, procesos, técnica y en tecnologías de la información",0,null,0,0,0]
["51330-4","Servicios de capacitación",0,null,0,0,0]
["51330-5","Servicios de investigación científica y desarrollo",0,null,0,0,0]
["51330-6","Servicios de apoyo administrativo, traducción, fotocopiado e impresión",0,null,0,0,0]
["51330-7","Servicios de protección y seguridad",0,null,0,0,0]
["51330-8","Servicios de vigilancia",0,null,45025.4,0,45025.4]
["51330-9","Servicios profesionales, científicos y técnicos integrales",23200,null,232072,0,232072]
["51340","Servicios financieros, bancarios y comerciales",{"$f":"SUM(C523:C531)","v":145475.31},null,{"$f":"SUM(E523:E531)","v":128396.59},{"$f":"SUM(F523:F531)","v":0},128396.59]
["51340-1","Servicios financieros y bancarios",28880.39,null,34859.51,0,34859.51]
["51340-2","Servicios de cobranza, investigación crediticia y similar",0,null,0,0,{"$f":"E524-F524","v":0}]
["51340-3","Servicios de recaudación, traslado y custodia de valores",0,null,0,0,0]
["51340-4","Seguros de responsabilidad patrimonial y fianzas",12747.24,null,0,0,0]
["51340-5","Seguro de bienes patrimoniales",79111.679999999993,null,71705.52,0,71705.52]
["51340-6","Almacenaje, envase y embalaje",0,null,0,0,0]
["51340-7","Fletes y maniobras",24736,null,10300,0,10300]
["51340-8","Comisiones por ventas",0,null,0,0,0]
["51340-9","Servicios financieros, bancarios y comerciales integrales",0,null,11531.56,0,11531.56]
["51350","Servicios de instalación, reparación, mantenimiento y conservación",{"$f":"SUM(C533:C541)","v":1462118.96},null,{"$f":"SUM(E533:E541)","v":2154074.7400000002},{"$f":"SUM(F533:F541)","v":0},2154074.7400000002]
["51350-1","Conservación y mantenimiento menor de inmuebles",68045.350000000006,null,51375.02,0,51375.02]
["51350-2","Instalación, reparación y mantenimiento de mobiliario y equipo de administración, educacional y recreativo",0,null,0,0,0]
["51350-3","Instalación, reparación y mantenimiento de equipo de cómputo y tecnología de la información",0,null,23363.08,0,23363.08]
["51350-4","Instalación, reparación y mantenimiento de equipo e instrumental médico y de laboratorio",0,null,0,0,0]
["51350-5","Reparación y mantenimiento de equipo de transporte",408123.76,null,574436.77,0,574436.77]
["51350-6","Reparación y mantenimiento de equipo de defensa y seguridad",0,null,0,0,0]
["51350-7","Instalación, reparación y mantenimiento de maquinaria, otros equipos y herramienta",18451.12,null,204952.83,0,204952.83]
["51350-8","Servicios de limpieza y manejo de desechos",967498.73,null,1299947.04,0,1299947.04]
["51350-9","Servicios de jardinería y fumigación",0,null,0,0,0]
["51360","Servicios de comunicación social y publicidad",{"$f":"SUM(C543:C549)","v":11600},null,{"$f":"SUM(E543:E549)","v":44660},{"$f":"SUM(F543:F549)","v":0},44660]
["51360-1","Difusión por radio, televisión y otros medios de mensajes sobre programas y actividades gubernamentales",0,null,0,0,0]
["51360-2","Difusión por radio, televisión y otros medios de mensajes comerciales para promover la venta de bienes o servicios",0,null,0,0,0]
["51360-3","Servicios de creatividad, preproducción y producción de publicidad, excepto Internet",0,null,0,0,0]
["51360-4","Servicios de revelado de  fotografías",0,null,0,0,0]
["51360-5","Servicios de la industria fílmica, del sonido y del video",0,null,0,0,0]
["51360-6","Servicio de creación y difusión de contenido exclusivamente a través de Internet",11600,null,44660,0,44660]
["51360-7","Otros servicios de información",0,null,0,0,0]
["51370","Servicios de traslado y viáticos",{"$f":"SUM(C551:C559)","v":409791.53},null,{"$f":"SUM(E551:E559)","v":450459.8},{"$f":"SUM(F551:F559)","v":0},450459.8]
["51370-1","Pasajes aéreos",0,null,13487,0,13487]
["51370-2","Pasajes terrestres",0,null,0,0,0]
["51370-3","Pasajes marítimos, lacustres y fluviales",0,null,0,0,0]
["51370-4","Autotransporte",0,null,225,0,225]
["51370-5","Viáticos en el país",409791.53,null,436747.8,0,436747.8]
["51370-6","Viáticos en el extranjero ",0,null,0,0,{"$f":"E556-F556","v":0}]
["51370-7","Gastos de instalación y traslado de menaje",0,null,0,0,0]
["51370-8","Servicios integrales de traslado y viáticos",0,null,0,0,0]
["51370-9","Otros servicios de traslado y hospedaje",0,null,0,0,0]
["51380","Servicios oficiales",{"$f":"SUM(C561:C565)","v":368365.1},null,{"$f":"SUM(E561:E565)","v":504090.52},{"$f":"SUM(F561:F565)","v":0},504090.52]
["51380-1","Gastos de ceremonial",0,null,3347.33,0,3347.33]
["51380-2","Gastos de orden  social y cultural",368365.1,null,500743.19,0,500743.19]
["51380-3","Congresos y convenciones",0,null,0,0,0]
["51380-4","Exposiciones",0,null,0,0,0]
["51380-5","Gastos de representación",0,null,0,0,0]
["51390","Otros servicios generales",{"$f":"SUM(C567:C575)","v":437294},null,{"$f":"SUM(E567:E575)","v":2403617.54},{"$f":"SUM(F567:F575)","v":0},2403617.54]
["51390-1","Servicios funerarios y de cementerios",0,null,0,0,0]
["51390-2","Impuestos y derechos",437294,null,734322.63,0,734322.63]
["51390-3","Impuestos y derechos de importación",0,null,0,0,0]
["51390-4","Sentencias y resoluciones por autoridad competente",0,null,0,0,0]
["51390-5","Penas, multas, accesorios y actualizaciones",0,null,0,0,0]
["51390-6","Otros gastos por responsabilidades",0,null,9795.0400000000009,0,9795.0400000000009]
["51390-7","Utilidades",0,null,0,0,0]
["51390-8","Impuesto sobre nómina y otros que se deriven de una relación laboral",0,null,1659499.87,0,1659499.87]
["51390-9","Otros servicios generales",0,null,0,0,0]
["52000","TRANSFERENCIAS, ASIGNACIONES, SUBSIDIOS Y OTRAS  AYUDAS",{"$f":"C577+C589+C597+C609+C622+C629+C639+C642+C653","v":4221984.17},null,{"$f":"E577+E589+E597+E609+E622+E629+E639+E642+E653","v":3503874.62},{"$f":"F577+F589+F597+F609+F622+F629+F639+F642+F653","v":0},{"$f":"G577+G589+G597+G609+G622+G629+G639+G642+G653","v":3503874.62}]
["52100","TRANSFERENCIAS INTERNAS Y ASIGNACIONES AL SECTOR PÚBLICO",{"$f":"SUM(C578:C588)","v":0},{"$f":"SUM(D578:D588)","v":0},1020000,0,1020000]
["52110","Asignaciones al sector público",{"$nulls":4},{"$f":"E578-F578","v":0}]
["52110-1","Asignaciones presupuestarias al Poder Ejecutivo",{"$nulls":4},{"$f":"E579-F579","v":0}]
["52110-2","Asignaciones presupuestarias al Poder Legislativo",{"$nulls":4},0]
["52110-3","Asignaciones presupuestarias al Poder Judicial",{"$nulls":4},0]
["52110-4","Asignaciones presupuestarias a Órganos Autónomos",{"$nulls":4},0]
["52110-5","Transferencias internas otorgadas a entidades paraestatales no empresariales y no financieras",{"$nulls":4},0]
["52110-6","Transferencias internas otorgadas a entidades paraestatales empresariales y no financieras",{"$nulls":4},0]
["52110-7","Transferencias internas otorgadas a fideicomisos públicos empresariales y no financieros",null,null,1020000,null,1020000]
["52110-8","Transferencias internas otorgadas a instituciones paraestatales públicas financieras",{"$nulls":4},0]
["52110-9","Transferencias internas otorgadas a fideicomisos públicos financieros",{"$nulls":4},0]
["52120","Transferencias internas al sector público",{"$nulls":4},{"$f":"E588-F588","v":0}]
["52200","TRANSFERENCIAS AL RESTO DEL SECTOR PÚBLICO",{"$f":"C590+C594","v":1273021},null,{"$f":"E590+E594","v":480000},{"$f":"F590+F594","v":0},{"$f":"G590+G594","v":480000}]
[52210,"Transferencias a entidades paraestatales",{"$f":"SUM(C591:C593)","v":1273021},null,{"$f":"SUM(E591:E593)","v":480000},{"$f":"SUM(F591:F593)","v":0},{"$f":"E590-F590","v":480000}]
["52210-1","Transferencias otorgadas a entidades paraestatales no empresariales y no financieras",1273021,null,480000,0,{"$f":"E591-F591","v":480000}]
["52210-2","Transferencias otorgadas para entidades paraestatales empresariales y no financieras",0,null,0,0,0]
["52210-3","Transferencias otorgadas para instituciones paraestatales públicas financieras  ",0,null,0,0,0]
[52220,"Transferencias a entidades federativas y municipios",{"$f":"SUM(C595:C596)","v":0},null,{"$f":"SUM(E595:E596)","v":0},{"$f":"SUM(F595:F596)","v":0},{"$f":"E594-F594","v":0}]
["52220-1","Transferencias otorgadas a entidades federativas y municipios",0,null,0,0,0]
["52220-2","Transferencias a fideicomisos de entidades federativas y municipios",0,null,null,0,0]
["52300","SUBSIDIOS Y SUBVENCIONES",{"$f":"SUM(C598+C607)","v":0},null,{"$f":"SUM(E598+E607)","v":0},{"$f":"SUM(F598+F607)","v":0},{"$f":"SUM(G598+G607)","v":0}]
["52310","Subsidios",{"$f":"SUM(C599:C606)","v":0},null,{"$f":"SUM(E599:E606)","v":0},{"$f":"SUM(F599:F606)","v":0},{"$f":"E598-F598","v":0}]
["52310-1","Subsidios a la producción",0,null,0,0,0]
["52310-2","Subsidios a la distribución",0,null,0,0,0]
["52310-3","Subsidios a la inversión",0,null,0,0,0]
["52310-4","Subsidios a la prestación de servicios públicos",0,null,0,0,0]
["52310-5","Subsidios para cubrir diferenciales de tasas de interés",0,null,0,0,0]
["52310-6","Subsidios a la vivienda ",0,null,0,0,0]
["52310-7","Subsidios a entidades federativas y municipios",0,null,0,0,0]
["52310-8","Otros subsidios",0,null,0,0,0]
["52320","Subvenciones",{"$f":"SUM(C608)","v":0},null,{"$f":"SUM(E608)","v":0},{"$f":"SUM(F608)","v":0},0]
["52320-1","Subvenciones al consumo",0,null,0,0,0]
["52400","AYUDAS SOCIALES",{"$f":"C610+C612+C614+C620","v":2918963.17},null,{"$f":"E610+E612+E614+E620","v":2003874.62},{"$f":"F610+F612+F614+F620","v":0},{"$f":"G610+G612+G614+G620","v":2003874.62}]
["52410","Ayudas sociales a personas",{"$f":"SUM(C611)","v":1192000.81},null,{"$f":"SUM(E611)","v":1432459.01},{"$f":"SUM(F611)","v":0},{"$f":"E610-F610","v":1432459.01}]
["52410-1","Ayudas sociales a personas ",1192000.81,null,1432459.01,0,1432459.01]
["52420","Becas",{"$f":"SUM(C613)","v":0},null,{"$f":"SUM(E613)","v":0},{"$f":"SUM(F613)","v":0},0]
["52420-1","Becas y otras ayudas para programas de capacitación",0,null,0,0,0]
["52430","Ayudas sociales a instituciones",{"$f":"SUM(C615:C619)","v":1726962.3599999999},null,{"$f":"SUM(E615:E619)","v":571415.61},{"$f":"SUM(F615:F619)","v":0},571415.61]
["52430-1","Ayudas sociales a instituciones de enseñanza",1168412.8899999999,null,234733,0,234733]
["52430-2","Ayudas sociales a actividades científicas o académicas",0,null,0,0,0]
["52430-3","Ayudas sociales a instituciones sin fines de lucro",558549.47,null,336682.61,0,336682.61]
["52430-4","Ayudas sociales a cooperativas",0,null,0,0,0]
["52430-5","Ayudas sociales a entidades de interés público",0,null,0,0,0]
["52440","Ayudas sociales por desastres naturales y otros siniestros",{"$f":"SUM(C621)","v":0},null,{"$f":"SUM(E621)","v":0},{"$f":"SUM(F621)","v":0},0]
["52440-1","Ayudas por desastres naturales y otros siniestros",0,null,0,0,0]
["52500","PENSIONES Y JUBILACIONES",{"$f":"C623+C625+C627","v":0},null,{"$f":"E623+E625+E627","v":0},{"$f":"F623+F625+F627","v":0},{"$f":"G623+G625+G627","v":0}]
["52510","Pensiones",{"$f":"SUM(C624)","v":0},null,{"$f":"SUM(E624)","v":0},{"$f":"SUM(F624)","v":0},{"$f":"E623-F623","v":0}]
["52510-1","Pensiones",0,null,0,0,0]
["52520","Jubilaciones",{"$f":"SUM(C626)","v":0},null,{"$f":"SUM(E626)","v":0},{"$f":"SUM(F626)","v":0},0]
["52520-1","Jubilaciones",0,null,0,0,0]
["52590","Otras pensiones y jubilaciones",{"$f":"SUM(C628)","v":0},null,{"$f":"SUM(E628)","v":0},{"$f":"SUM(F628)","v":0},0]
["52590-1","Otras pensiones y jubilaciones",0,null,0,0,0]
["52600","TRANSFERENCIAS A FIDEICOMISOS, MANDATOS Y CONTRATOS ANÁLOGOS",{"$f":"C630+C634","v":0},null,{"$f":"E630+E634","v":0},{"$f":"F630+F634","v":0},{"$f":"G630+G634","v":0}]
["52610","Transferencias a fideicomisos, mandatos y contratos análogos al gobierno",{"$f":"SUM(C631:C633)","v":0},null,{"$f":"SUM(E631:E633)","v":0},{"$f":"SUM(F631:F633)","v":0},{"$f":"E630-F630","v":0}]
["52610-1","Transferencias a fideicomisos del Poder Ejecutivo",0,null,0,0,0]
["52610-2","Transferencias a fideicomisos del Poder Legislativo",0,null,0,0,0]
["52610-3","Transferencias a fideicomisos del Poder Judicial",0,null,0,0,0]
["52620","Transferencias a fideicomisos, mandatos y contratos análogos a entidades paraestatales",{"$f":"SUM(C635:C638)","v":0},null,{"$f":"SUM(E635:E638)","v":0},{"$f":"SUM(F635:F638)","v":0},0]
["52620-1","Transferencias a fideicomisos públicos de entidades paraestatales no empresariales y no financieras",0,null,0,0,0]
["52620-2","Transferencias a fideicomisos públicos de entidades paraestatales empresariales y no financieras",0,null,0,0,0]
["52620-3","Transferencias a fideicomisos de instituciones públicas financieras",0,null,0,0,0]
["52620-4","Otras transferencias a fideicomisos   ",0,null,0,0,0]
["52700","TRANSFERENCIAS A LA SEGURIDAD SOCIAL",{"$f":"SUM(C640)","v":0},null,{"$f":"SUM(E640)","v":0},{"$f":"SUM(F640)","v":0},{"$f":"SUM(G640)","v":0}]
["52710","Transferencias por obligaciones de ley",{"$f":"SUM(C641)","v":0},null,{"$f":"SUM(E641)","v":0},{"$f":"SUM(F641)","v":0},{"$f":"E640-F640","v":0}]
["52710-1","Transferencias por obligación de ley",0,null,0,0,{"$f":"E641-F641","v":0}]
["52800","DONATIVOS",{"$f":"C643+C645+C647+C649+C651","v":30000},null,{"$f":"E643+E645+E647+E649+E651","v":0},{"$f":"F643+F645+F647+F649+F651","v":0},{"$f":"G643+G645+G647+G649+G651","v":0}]
["52810","Donativos a instituciones sin fines de lucro",{"$f":"SUM(C644)","v":30000},null,{"$f":"SUM(E644)","v":0},{"$f":"SUM(F644)","v":0},{"$f":"E643-F643","v":0}]
["52810-1","Donativos a instituciones sin fines de lucro",30000,null,0,0,0]
["52820","Donativos a entidades federativas y municipios",{"$f":"SUM(C646)","v":0},null,{"$f":"SUM(E646)","v":0},{"$f":"SUM(F646)","v":0},0]
["52820-1","Donativos a entidades federativas ",0,null,0,0,0]
["52830","Donativos a fideicomisos, mandatos y contratos análogos privados",{"$f":"SUM(C648)","v":0},null,{"$f":"SUM(E648)","v":0},{"$f":"SUM(F648)","v":0},0]
["52830-1","Donativos a fideicomisos privados",0,null,0,0,0]
["52840","Donativos a fideicomisos mandatos y contratos análogos estatales",{"$f":"SUM(C650)","v":0},null,{"$f":"SUM(E650)","v":0},{"$f":"SUM(F650)","v":0},0]
["52840-1","Donativos a fideicomisos estatales",0,null,0,0,0]
["52850","Donativos internacionales",{"$f":"SUM(C652)","v":0},null,{"$f":"SUM(E652)","v":0},{"$f":"SUM(F652)","v":0},0]
["52850-1","Donativos internacionales",0,null,0,0,0]
["52900","TRANSFERENCIAS AL EXTERIOR",{"$f":"C654+C657","v":0},null,{"$f":"E654+E657","v":0},{"$f":"F654+F657","v":0},{"$f":"G654+G657","v":0}]
["52910","Transferencias al exterior a gobiernos extranjeros y organismos internacionales",{"$f":"SUM(C655:C656)","v":0},null,{"$f":"SUM(E655:E656)","v":0},{"$f":"SUM(F655:F656)","v":0},{"$f":"E654-F654","v":0}]
["52910-1","Transferencias para gobiernos extranjeros",0,null,0,0,{"$f":"E655-F655","v":0}]
["52910-2","Transferencias para organismos internacionales",0,null,0,0,{"$f":"E656-F656","v":0}]
["52920","Transferencias al sector privado externo",{"$f":"SUM(C658)","v":0},null,{"$f":"SUM(E658)","v":0},{"$f":"SUM(F658)","v":0},{"$f":"E657-F657","v":0}]
["52920-1","Transferencias para el sector privado externo",0,null,0,0,{"$f":"E658-F658","v":0}]
["53000","PARTICIPACIONES Y APORTACIONES",{"$f":"C660+C669+C677","v":0},null,{"$f":"E660+E669+E677","v":0},{"$f":"F660+F669+F677","v":0},{"$f":"G660+G669+G677","v":0}]
["53100","PARTICIPACIONES",{"$f":"C661+C665","v":0},null,{"$f":"E661+E665","v":0},{"$f":"F661+F665","v":0},{"$f":"G661+G665","v":0}]
["53110","Participaciones de la federación a entidades federativas y municipios",{"$f":"SUM(C662:C664)","v":0},null,{"$f":"SUM(E662:E664)","v":0},{"$f":"SUM(F662:F664)","v":0},{"$f":"E661-F661","v":0}]
["53110-1","Fondo general de participaciones",0,null,0,0,0]
["53110-2","Otros conceptos participables de la Federación a entidades federativas",0,null,0,0,0]
["53110-3","Fondo de fomento municipal",0,null,0,0,0]
["53120","Participaciones de las entidades federativas a los municipios",{"$f":"SUM(C666:C668)","v":0},null,{"$f":"SUM(E666:E668)","v":0},{"$f":"SUM(F666:F668)","v":0},0]
["53120-1","Participaciones de las entidades federativas a los municipios",0,null,0,0,0]
["53120-2","Otros conceptos participables de la Federación a municipios",0,null,0,0,0]
["53120-3","Convenios de colaboración administrativa",0,null,0,0,0]
["53200","APORTACIONES",{"$f":"C670+C675","v":0},null,{"$f":"E670+E675","v":0},{"$f":"F670+F675","v":0},{"$f":"G670+G675","v":0}]
["53210","Aportaciones de la federación a entidades federativas y municipios",{"$f":"SUM(C671:C674)","v":0},null,{"$f":"SUM(E671:E674)","v":0},{"$f":"SUM(F671:F674)","v":0},{"$f":"SUM(G671:G674)","v":0}]
["53210-1","Aportaciones de la Federación a las entidades federativas",{"$nulls":4},{"$f":"E671-F671","v":0}]
["53210-2","Aportaciones de la Federación a municipios",{"$nulls":4},0]
["53210-3","Aportaciones  previstas en leyes y decretos al sistema de protección social",{"$nulls":4},0]
["53210-4","Aportaciones previstas en leyes y decretos compensatorias a entidades federativas y municipios",{"$nulls":4},0]
["53220","Aportaciones de las entidades federativas a los municipios",{"$f":"SUM(C676)","v":0},null,{"$f":"SUM(E676)","v":0},{"$f":"SUM(F676)","v":0},0]
["53220-1","Aportaciones de las entidades federativas a los municipios",0,null,0,0,0]
["53300","CONVENIOS",{"$f":"C678+C680","v":0},null,{"$f":"E678+E680","v":0},{"$f":"F678+F680","v":0},{"$f":"G678+G680","v":0}]
["53310","Convenios de reasignación",{"$f":"SUM(C679)","v":0},null,{"$f":"SUM(E679)","v":0},{"$f":"SUM(F679)","v":0},{"$f":"E678-F678","v":0}]
["53310-1","Convenios de reasignación",0,null,0,0,{"$f":"E679-F679","v":0}]
["53320","Convenios de descentralización y otros",{"$f":"SUM(C681:C682)","v":0},null,{"$f":"SUM(E681:E682)","v":0},{"$f":"SUM(F681:F682)","v":0},{"$f":"E680-F680","v":0}]
["53320-1","Convenios de descentralización",0,null,0,0,{"$f":"E681-F681","v":0}]
["53320-2","Otros convenios",0,null,0,0,{"$f":"E682-F682","v":0}]
["54000","INTERESES, COMISIONES Y OTROS GASTOS DE LA DEUDA PÚBLICA",{"$f":"C684+C695+C700+C705+C708","v":139765.48000000001},null,{"$f":"E684+E695+E700+E705+E708","v":38454.21},{"$f":"F684+F695+F700+F705+F708","v":0},{"$f":"G684+G695+G700+G705+G708","v":38454.21}]
["54100","INTERESES DE LA DEUDA PÚBLICA",{"$f":"C685+C689","v":139765.48000000001},null,{"$f":"E685+E689","v":38454.21},{"$f":"F685+F689","v":0},{"$f":"G685+G689","v":38454.21}]
["54110","Intereses de la deuda pública interna",{"$f":"SUM(C686:C688)","v":139765.48000000001},null,{"$f":"SUM(E686:E688)","v":38454.21},{"$f":"SUM(F686:F688)","v":0},{"$f":"E685-F685","v":38454.21}]
["54110-1","Intereses de la deuda interna con instituciones de crédito",139765.48000000001,null,38454.21,0,{"$f":"E686-F686","v":38454.21}]
["54110-2","Intereses derivados de la colocación de títulos y valores",0,null,0,0,{"$f":"E687-F687","v":0}]
["54110-3","Intereses por arrendamientos  financieros nacionales",0,null,0,0,{"$f":"E688-F688","v":0}]
["54120","Intereses de la deuda pública externa",{"$f":"SUM(C690:C694)","v":0},null,{"$f":"SUM(E690:E694)","v":0},{"$f":"SUM(F690:F694)","v":0},{"$f":"E689-F689","v":0}]
["54120-1","Intereses de la deuda externa con instituciones de crédito ",0,null,0,0]
["54120-2","Intereses de la deuda con organismos financieros internacionales",0,null,0,0]
["54120-3","Intereses de la deuda bilateral  ",0,null,0,0]
["54120-4","Intereses derivados de la colocación de títulos y valores en el exterior",0,null,0,0]
["54120-5","Intereses por arrendamientos financieros internacionales",0,null,0,0]
["54200","COMISIONES DE LA DEUDA PÚBLICA",{"$f":"SUM(C696+C698)","v":0},null,{"$f":"SUM(E696+E698)","v":0},{"$f":"SUM(F696+F698)","v":0},{"$f":"SUM(G696+G698)","v":0}]
["54210","Comisiones de la deuda pública interna",{"$f":"SUM(C697)","v":0},null,{"$f":"SUM(E697)","v":0},{"$f":"SUM(F697)","v":0},{"$f":"E696-F696","v":0}]
["54210-1","Comisiones de la deuda pública interna",0,null,0,0,{"$f":"E697-F697","v":0}]
["54220","Comisiones de la deuda pública externa",{"$f":"SUM(C699)","v":0},null,{"$f":"SUM(E699)","v":0},{"$f":"SUM(F699)","v":0},{"$f":"E698-F698","v":0}]
["54220-1","Comisiones de la deuda pública externa",0,null,0,0]
["54300","GASTOS DE LA DEUDA PÚBLICA",{"$f":"SUM(C701+C703)","v":0},null,{"$f":"SUM(E701+E703)","v":0},{"$f":"SUM(F701+F703)","v":0},{"$f":"SUM(G701+G703)","v":0}]
["54310","Gastos de la deuda pública interna",{"$f":"SUM(C702)","v":0},null,{"$f":"SUM(E702)","v":0},{"$f":"SUM(F702)","v":0},{"$f":"E701-F701","v":0}]
["54310-1","Gastos de la deuda pública interna",0,null,0,0,{"$f":"E702-F702","v":0}]
["54320","Gastos de la deuda pública externa",{"$f":"SUM(C704)","v":0},null,{"$f":"SUM(E704)","v":0},{"$f":"SUM(F704)","v":0},{"$f":"E703-F703","v":0}]
["54320-1","Gastos de la deuda  pública externa",0,null,0,0]
["54400","COSTO POR COBERTURAS",{"$f":"C706","v":0},null,{"$f":"E706","v":0},{"$f":"F706","v":0},{"$f":"G706","v":0}]
["54410","Costo por coberturas",{"$f":"SUM(C707)","v":0},null,{"$f":"SUM(E707)","v":0},{"$f":"SUM(F707)","v":0},{"$f":"E706-F706","v":0}]
["54410-1","Costos por coberturas",0,null,0,0,{"$f":"E707-F707","v":0}]
["54500","APOYOS FINANCIEROS",{"$f":"C709+C711","v":0},null,{"$f":"E709+E711","v":0},{"$f":"F709+F711","v":0},{"$f":"G709+G711","v":0}]
["54510","Apoyos financieros a intermediarios",{"$f":"SUM(C710)","v":0},null,{"$f":"SUM(E710)","v":0},{"$f":"SUM(F710)","v":0},{"$f":"E709-F709","v":0}]
["54510-1","Apoyos a intermediarios financieros",0,null,0,0,{"$f":"E710-F710","v":0}]
["54520","Apoyos financieros a ahorradores y deudores del sistema financiero nacional",{"$f":"SUM(C712)","v":0},null,{"$f":"SUM(E712)","v":0},{"$f":"SUM(F712)","v":0},{"$f":"E711-F711","v":0}]
["54520-1","Apoyos a ahorradores y deudores del Sistema Financiero Nacional",0,null,0,0,{"$f":"E712-F712","v":0}]
["55000","OTROS GASTOS Y PÉRDIDAS EXTRAORDINARIAS",{"$f":"C714+C723+C726+C732+C734+C736","v":0},null,{"$f":"E714+E723+E726+E732+E734+E736","v":0},{"$f":"F714+F723+F726+F732+F734+F736","v":0},{"$f":"G714+G723+G726+G732+G734+G736","v":0}]
["55100","ESTIMACIONES, DEPRECIACIONES, DETERIOROS, OBSOLESCENCIA Y AMORTIZACIONES",{"$f":"SUM(C715:C722)","v":0},null,{"$f":"SUM(E715:E722)","v":0},{"$f":"SUM(F715:F722)","v":0},{"$f":"SUM(G715:G722)","v":0}]
["55110","Estimaciones por pérdida o deterioro de activos circulantes",0,null,0,0,{"$f":"E715-F715","v":0}]
["55120","Estimaciones por pérdida o deterioro de activo no circulante",0,null,0,0,0]
["55130","Depreciación de bienes inmuebles",0,null,0,0,0]
["55140","Depreciación de infraestructura",0,null,0,0,0]
["55150","Depreciación de bienes muebles",0,null,0,0,0]
["55160","Deterioro de los activos biológicos",0,null,0,0,0]
["55170","Amortización de activos intangibles",0,null,0,0,0]
["55180","Disminución de bienes por pérdida, obsolescencia y deterioro",0,null,0,0,0]
["55200","PROVISIONES  ",{"$f":"SUM(C724:C725)","v":0},null,{"$f":"SUM(E724:E725)","v":0},{"$f":"SUM(F724:F725)","v":0},{"$f":"SUM(G724:G725)","v":0}]
["55210","Provisiones de pasivos a corto plazo",0,null,0,0,{"$f":"E724-F724","v":0}]
["55220","Provisiones de pasivos a largo plazo",0,null,0,0,{"$f":"E725-F725","v":0}]
["55300","DISMINUCIÓN DE INVENTARIOS",{"$f":"SUM(C727:C731)","v":0},null,{"$f":"SUM(E727:E731)","v":0},{"$f":"SUM(F727:F731)","v":0},{"$f":"SUM(G727:G731)","v":0}]
["55310","Disminución de inventarios de mercancías para venta"]
["55320","Disminución de inventarios de mercancías terminadas"]
["55330","Disminución de inventarios de mercancías en proceso de elaboración"]
["55340","Disminución de inventarios de materias primas, materiales y suministros para producción"]
["55350","Disminución de almacén de materiales y suministros de consumo"]
["55400","AUMENTO POR INSUFICIENCIA DE ESTIMACIONES POR PÉRDIDA O DETERIORO U OBSOLESCENCIA",{"$f":"SUM(C733)","v":0},null,{"$f":"SUM(E733)","v":0},{"$f":"SUM(F733)","v":0},{"$f":"SUM(G733)","v":0}]
["55410","Aumento por insuficiencia de estimaciones por pérdida o deterioro u obsolescencia",0,null,0,0,{"$f":"E733-F733","v":0}]
["55500","AUMENTO POR INSUFICIENCIA DE PROVISIONES",{"$f":"SUM(C735)","v":0},null,{"$f":"SUM(E735)","v":0},{"$f":"SUM(F735)","v":0},{"$f":"SUM(G735)","v":0}]
["55510","Aumento por insuficiencia de provisiones",0,null,0,0,{"$f":"E735-F735","v":0}]
["55900","OTROS GASTOS",{"$f":"SUM(C737:C745)","v":0},null,{"$f":"SUM(E737:E745)","v":0},{"$f":"SUM(F737:F745)","v":0},{"$f":"SUM(G737:G745)","v":0}]
["55910","Gastos de ejercicios anteriores",0,null,0,0,{"$f":"E737-F737","v":0}]
["55920","Pérdidas por responsabilidades",0,null,0,0,0]
["55930","Bonificaciones y descuentos otorgados",0,null,0,0,0]
["55940","Diferencias por tipo de cambio negativas",0,null,0,0,0]
["55950","Diferencias de cotizaciones negativas en valores negociables",0,null,0,0,0]
["55960","Resultado por posición monetaria",0,null,0,0,0]
["55970","Pérdidas por participación patrimonial",0,null,0,0,0]
["55980","Diferencias por reestructuración de deuda pública negativas",0,null,0,0,0]
["55990","Otros gastos varios",0,null,0,0,0]
["56000","INVERSIÓN PÚBLICA",{"$f":"C747","v":0},null,{"$f":"E747","v":0},{"$f":"F747","v":0},{"$f":"G747","v":0}]
["56100","INVERSIÓN PÚBLICA NO CAPITALIZABLE",{"$f":"SUM(C748)","v":0},null,{"$f":"SUM(E748)","v":0},{"$f":"SUM(F748)","v":0},{"$f":"SUM(G748)","v":0}]
["56110","Construcción en bienes no capitalizables",0,null,0,0,{"$f":"E748-F748","v":0}]
["60000","CUENTAS DE CIERRE CONTABLE",{"$f":"SUM(C750:C752)","v":8267371.6999999881},0,12073953.714000002,0,12073953.714000002,0]
["61000","RESUMEN DE INGRESOS Y GASTOS"]
["62000","AHORRO DE LA GESTIÓN",{"$f":"IF(D196>C389,D196-C389,0)","v":8267371.6999999881},null,{"$f":"IF((F196-E196)>(E389-F389),((F196-E196)-(E389-F389)),0)","v":12073953.714000002},null,{"$f":"E751","v":12073953.714000002}]
["63000","DESAHORRO DE LA GESTIÓN",null,{"$f":"IF(C389>D196,C389-D196,0)","v":0},null,{"$f":"IF((E389-F389)>(F196-E196),((E389-F389)-(F196-E196)),0)","v":0},null,{"$f":"F752","v":0}]
[" ","SUMAS IGUALES DE CUENTAS FINANCIERAS",{"$f":"C3+C101+C173+C196+C389+C749","v":63701899.639999986},63701899.639999971,291339677.39999998,291339677.40399998,78481066.98999998,78481066.993999988]
[70000,"CUENTAS DE ORDEN CONTABLES",{"$f":"C755+C762++C769+C776+C779+C782+C787","v":0},0,0,0,0,0]
[71000,"VALORES",{"$f":"SUM(C756:C761)","v":0},0,0,0,0,0]
[71100,"VALORES EN CUSTODIA",{"$nulls":4},{"$f":"C756+E756-F756","v":0}]
[71200,"CUSTODIA DE VALORES",{"$nulls":5},{"$f":"D757+F757-E757","v":0}]
[71300,"INSTRUMENTOS DE CRÉDITO PRESTADOS A FORMADORES DE MERCADO",{"$nulls":4},{"$f":"C758+E758-F758","v":0}]
[71400,"PRÉSTAMO DE INSTRUMENTOS DE CRÉDITO A FORMADORES DE MERCADO Y SU GARANTÍA",{"$nulls":5},{"$f":"D759+F759-E759","v":0}]
[71500,"INSTRUMENTOS DE CRÉDITO RECIBIDOS EN GARANTÍA DE LOS FORMADORES DE MERCADO",{"$nulls":4},{"$f":"C760+E760-F760","v":0}]
[71600,"GARANTÍA DE CRÉDITOS RECIBIDOS DE LOS FORMADORES DE MERCADO",{"$nulls":5},{"$f":"D761+F761-E761","v":0}]
[72000,"EMISION DE OBLIGACIONES",{"$f":"SUM(C763:C768)","v":0},0,0,0,0,0]
[72100,"AUTORIZACIÓN PARA LA EMISIÓN DE BONOS, TÍTULOS Y VALORES DE LA DEUDA PÚBLICA INTERNA",{"$nulls":4},{"$f":"C763+E763-F763","v":0}]
[72200,"AUTORIZACIÓN PARA LA EMISIÓN DE BONOS, TÍTULOS Y VALORES DE LA DEUDA PÚBLICA EXTERNA"]
[72300,"EMISIONES AUTORIZADAS DE LA DEUDA PÚBLICA INTERNA Y EXTERNA",{"$nulls":5},{"$f":"D765+F765-E765","v":0}]
[72400,"SUSCRIPCIÓN DE CONTRATOS DE PRÉSTAMOS Y OTRAS OBLIGACIONES DE LA DEUDA PÚBLICA INTERNA",{"$nulls":4},{"$f":"C766+E766-F766","v":0}]
[72500,"SUSCRIPCIÓN DE CONTRATOS DE PRÉSTAMOS Y OTRAS OBLIGACIONES DE LA DEUDA PÚBLICA EXTERNA"]
[72600,"CONTRATOS DE PRÉSTAMOS Y OTRAS OBLIGACIONES DE LA DEUDA PÚBLICA INTERNA Y EXTERNA",{"$nulls":5},{"$f":"D768+F768-E768","v":0}]
[73000,"AVALES Y GARANTIAS",{"$f":"SUM(C770:C775)","v":0},0,0,0,0,0]
[73100,"AVALES AUTORIZADOS",{"$nulls":4},{"$f":"C770+E770-F770","v":0}]
[73200,"AVALES FIRMADOS",{"$nulls":5},{"$f":"D771+F771-E771","v":0}]
[73300,"FIANZAS Y GARANTÍAS RECIBIDAS POR DEUDAS A COBRAR",{"$nulls":4},{"$f":"C772+E772-F772","v":0}]
[73400,"FIANZAS Y GARANTÍAS RECIBIDAS",{"$nulls":5},{"$f":"D773+F773-E773","v":0}]
[73500,"FIANZAS OTORGADAS PARA RESPALDAR OBLIGACIONES NO FISCALES DEL GOBIERNO",{"$nulls":4},{"$f":"C774+E774-F774","v":0}]
[73600,"FIANZAS OTORGADAS DEL GOBIERNO PARA RESPALDAR OBLIGACIONES NO FISCALES",{"$nulls":5},{"$f":"D775+F775-E775","v":0}]
[74000,"JUICIOS",{"$f":"SUM(C777:C778)","v":0},0,0,0,0,0]
[74100,"DEMANDAS JUDICIAL EN PROCESO DE RESOLUCIÓN",null,0,0,0,{"$f":"C777+E777-F777","v":0}]
[74200,"RESOLUCIÓN DE DEMANDAS EN PROCESO JUDICIAL",null,0,0,0,null,{"$f":"D778+F778-E778","v":0}]
[75000,"INVERSION MEDIANTE PROYECTOS PARA PRESTACION DE SERVICIOS (PPS) Y SIMILARES",{"$f":"SUM(C780:C781)","v":0},0,0,0,0,0]
[75100,"CONTRATOS PARA INVERSIÓN MEDIANTE PROYECTOS PARA PRESTACIÓN DE SERVICIOS (PPS) Y SIMILARES",{"$nulls":4},{"$f":"C780+E780-F780","v":0}]
[75200,"INVERSIÓN PÚBLICA CONTRATADA MEDIANTE PROYECTOS PARA PRESTACIÓN DE SERVICIOS (PPS) Y SIMILARES",{"$nulls":5},{"$f":"D781+F781-E781","v":0}]
[76000,"BIENES EN CONCESIONADOS O EN COMODATO",{"$f":"SUM(C783:C786)","v":0},0,0,0,0,0]
[76100,"BIENES BAJO CONTRATO EN CONCESIÓN",{"$nulls":4},{"$f":"C783+E783-F783","v":0}]
[76200,"CONTRATO DE CONCESIÓN POR BIENES",{"$nulls":5},{"$f":"D784+F784-E784","v":0}]
[76300,"BIENES BAJO CONTRATO EN COMODATO",{"$nulls":4},{"$f":"C785+E785-F785","v":0}]
[76400,"CONTRATO DE COMODATO POR BIENES",{"$nulls":5},{"$f":"D786+F786-E786","v":0}]
[77000,"BIENES ARQUEOLÓGICOS, ARTÍSTICOS E HISTÓRICOS",{"$f":"SUM(C788:C791)","v":0},0,0,0,0,0]
[77100,"BIENES ARQUEOLÓGICOS",{"$nulls":4},{"$f":"C788+E788-F788","v":0}]
[77200,"BIENES ARTÍSTICOS",{"$nulls":4},{"$f":"C789+E789-F789","v":0}]
[77300,"BIENES HISTÓRICOS",{"$nulls":4},{"$f":"C790+E790-F790","v":0}]
[77400,"ARQUEOLÓGICOS, ARTÍSTICOS E HISTÓRICOS BIENES",{"$nulls":5},{"$f":"D791+F791-E791","v":0}]
[" ","SUMAS IGUALES DE CUENTAS DE ORDEN",{"$f":"C754","v":0},0,0,0,0,0]
[80000,"CUENTAS DE ORDEN PRESUPUESTARIAS",null,null,{"$f":"E794+E1130","v":384899390.72000003},{"$f":"F794+F1130","v":384899390.72000003},{"$f":"G794+G1130","v":89997636},{"$f":"H794+H1130","v":89997636}]
[81000,"LEY DE INGRESOS",null,null,{"$f":"E795+E862+E929+E996+E1063","v":143701214},{"$f":"F795+F862+F929+F996+F1063","v":143701214},{"$f":"G795+G862+G929+G996+G1063","v":44998818},{"$f":"H795+H862+H929+H996+H1063","v":44998818}]
[81100,"LEY DE INGRESOS ESTIMADA",null,null,{"$f":"E796+E806+E812+E815+E822+E826+E831+E841+E848+E858","v":44998818},{"$f":"F796+F806+F812+F815+F822+F826+F831+F841+F848+F858","v":0},{"$f":"E795-F795","v":44998818}]
["81100-10","Impuestos",null,null,{"$f":"SUM(E797:E805)","v":3016201},{"$f":"SUM(F797:F805)","v":0},{"$f":"E796-F796","v":3016201}]
["81100-11","Impuestos sobre los ingresos",null,null,0,0,{"$f":"E797-F797","v":0}]
["81100-12","Impuestos sobre patrimonio",null,null,2968300,0,2968300]
["81100-13","Impuestos sobre la producción, el consumo y las transacciones",null,null,0,0,0]
["81100-14","Impuestos al comercio exterior",null,null,0,0,0]
["81100-15","Impuestos sobre nóminas y asimilables",null,null,0,0,0]
["81100-16","Impuestos ecológicos",null,null,0,0,0]
["81100-17","Accesorios",null,null,0,0,0]
["81100-18","Otros impuestos",null,null,47901,0,47901]
["81100-19","Impuestos no Comprendidos en la ley de ingresos vigente, causados en ejercicios fiscales anteriores pendientes de liquidar o pago",null,null,0,0,0]
["81100-20","Cuotas y aportaciones de seguridad social",null,null,{"$f":"SUM(E807:E811)","v":0},{"$f":"SUM(F807:F811)","v":0},0]
["81100-21","Aportaciones para fondos de vivienda",null,null,0,0,0]
["81100-22","Cuotas para la seguridad social",null,null,0,0,0]
["81100-23","Cuotas de ahorro para el retiro",null,null,0,0,0]
["81100-24","Otras cuotas y aportaciones para la seguridad social",null,null,0,0,0]
["81100-25","Accesorios de cuotas y aportaciones de seguridad social",null,null,0,0,0]
["81100-30","Contribuciones de mejora",null,null,{"$f":"SUM(E813:E814)","v":0},{"$f":"SUM(F813:F814)","v":0},0]
["81100-31","Contribuciones de mejoras por obras públicas",null,null,0,0,0]
["81100-32","Contribuciones de mejoras no  comprendidas en la ley de ingresos vigente, causadas en ejercicios fiscales anteriores pendientes de liquidación o pago",null,null,0,0,0]
["81100-40","Derechos",null,null,{"$f":"SUM(E816:E821)","v":1732545},{"$f":"SUM(F816:F821)","v":0},1732545]
["81100-41","Derechos por el uso, goce, aprovechamiento o explotación de bienes de dominio público",null,null,32899,0,32899]
["81100-42","Derecho a los hidrocarburos (derogado)",null,null,0,0,0]
["81100-43","Derechos por prestación de servicios",null,null,1686977,0,1686977]
["81100-44","Otros derechos",null,null,0,0,0]
["81100-45","Accesorios de derechos",null,null,12669,0,12669]
["81100-46","Derechos no comprendidos en la ley de ingresos vigente, causados en ejercicios fiscales anteriores pendientes de liquidación o pago",null,null,0,0,0]
["81100-50","Productos",null,null,{"$f":"SUM(E823:E825)","v":164588},{"$f":"SUM(F823:F825)","v":0},164588]
["81100-51","Productos",null,null,164588,0,164588]
["81100-52","Productos de capital (derogado)",null,null,0,0,0]
["81100-53","Productos no comprendidos en la ley de ingresos vigente, causados en ejercicios fiscales anteriores pendientes de liquidación o pago",null,null,0,0,0]
["81100-60","Aprovechamientos",null,null,{"$f":"SUM(E827:E830)","v":550910},{"$f":"SUM(F827:F830)","v":0},550910]
["81100-61","Aprovechamientos",null,null,8380,0,8380]
["81100-62","Aprovechamientos patrimoniales",null,null,0,0,0]
["81100-63","Accesorios de aprovechamientos",null,null,0,0,0]
["81100-64","Aprovechamientos no comprendidos en la ley de ingresos vigente, causados en ejercicios fiscales anteriores pendientes de liquidación o pago",null,null,542530,0,542530]
["81100-70","Ingresos por venta de bienes, prestación de servicios y otros ingresos",null,null,{"$f":"SUM(E832:E840)","v":0},{"$f":"SUM(F832:F840)","v":0},0]
["81100-71","Ingresos por venta de bienes y prestación de servicios de instituciones públicas de seguridad social",null,null,0,0,0]
["81100-72","Ingresos por venta de bienes y prestación de servicios de empresas productivas del estado",null,null,0,0,0]
["81100-73","Ingresos por venta de bienes y prestación de servicios de entidades paraestatales y fideicomisos no empresariales y no financieros",null,null,0,0,0]
["81100-74","Ingresos por venta de bienes y prestación de servicios de entidades paraestatales empresariales y no financieros con participación estatal mayoritaria",null,null,0,0,0]
["81100-75","Ingresos por venta de bienes y prestación de servicios de entidades paraestatales empresariales financieras monetarias con participación estatal mayoritaria",null,null,0,0,0]
["81100-76","Ingresos por venta de bienes y prestación de servicios de entidades paraestatales empresariales financieras no monetarias con participación estatal mayoritaria",null,null,0,0,0]
["81100-77","Ingresos por venta de bienes y prestación de servicios de fideicomisos financieros públicos con participación estatal mayoritaria",null,null,0,0,0]
["81100-78","Ingresos por venta de bienes y prestación de servicios de los poderes legislativo y judicial, y de los órganos autónomos",null,null,0,0,0]
["81100-79","Otros ingresos",null,null,0,0,0]
["81100-80","Participaciones, aportaciones, convenios, incentivos derivados de la colaboración fiscal y fondos distintos de aportaciones",null,null,{"$f":"SUM(E842:E847)","v":39534574},{"$f":"SUM(F842:F847)","v":0},39534574]
["81100-81","Participaciones",null,null,23528908,0,23528908]
["81100-82","Aportaciones",null,null,13005666,0,13005666]
["81100-83","Convenios (Con ingresos de libre disposición)",null,null,3000000,0,3000000]
["81100-84","Convenios (Con ingresos etiquetados)",null,null,0,0,0]
["81100-85","Incentivos derivados de la colaboración fiscal",null,null,0,0,0]
["81100-86","Fondos distintos de aportaciones",null,null,0,0,0]
["81100-90","Transferencias, asignaciones, subsidios y subvenciones, y pensiones y jubilaciones",null,null,{"$f":"SUM(E849:E857)","v":0},{"$f":"SUM(F849:F857)","v":0},0]
["81100-91","Transferencias y asignaciones (Con ingresos de libre disposición)",null,null,0,0,0]
["81100-92","Transferencias y asignaciones (Con ingresos etiquetados)",null,null,0,0,0]
["81100-93","Transferencias al resto del sector público (derogado)",null,null,0,0,0]
["81100-94","Subsidios y subvenciones (Con ingresos de libre disposición)",null,null,0,0,0]
["81100-95","Subsidios y subvenciones (Con ingresos etiquetados)",null,null,0,0,0]
["81100-96","Ayudas sociales (derogado)",null,null,0,0,0]
["81100-97","Pensiones y jubilaciones",null,null,0,0,0]
["81100-98","Transferencias a fideicomisos, mandatos y análogos (derogado)",null,null,0,0,0]
["81100-99","Transferencias del fondo mexicano del petróleo para la estabilización y el desarrollo",null,null,0,0,0]
["81100-00","Ingresos derivados de financiamiento",null,null,{"$f":"SUM(E859:E861)","v":0},{"$f":"SUM(F859:F861)","v":0},0]
["81100-01","Endeudamiento interno",null,null,0,0,0]
["81100-02","Endeudamiento externo",null,null,0,0,0]
["81100-03","Financiamiento interno",null,null,0,0,{"$f":"E861-F861","v":0}]
[81200,"LEY DE INGRESOS POR EJECUTAR",null,null,{"$f":"E863+E873+E879+E882+E889+E893+E898+E908+E915+E925","v":49351198},{"$f":"F863+F873+F879+F882+F889+F893+F898+F908+F915+F925","v":44998818},null,{"$f":"F862-E862","v":-4352380}]
["81200-10","Impuestos",null,null,{"$f":"SUM(E864:E872)","v":4282314.9799999995},{"$f":"SUM(F864:F872)","v":3016201},null,{"$f":"F863-E863","v":-1266113.9799999995}]
["81200-11","Impuestos sobre los ingresos",null,null,15088,0,null,-15088]
["81200-12","Impuestos sobre patrimonio",null,null,4235306.8499999996,2968300,null,-1267006.8499999996]
["81200-13","Impuestos sobre la producción, el consumo y las transacciones",null,null,0,0,null,0]
["81200-14","Impuestos al comercio exterior",null,null,0,0,null,0]
["81200-15","Impuestos sobre nóminas y asimilables",null,null,0,0,null,0]
["81200-16","Impuestos ecológicos",null,null,0,0,null,0]
["81200-17","Accesorios",null,null,0,0,null,0]
["81200-18","Otros impuestos",null,null,31920.13,47901,null,15980.869999999999]
["81200-19","Impuestos no Comprendidos en la ley de ingresos vigente, causados en ejercicios fiscales anteriores pendientes de liquidar o pago",null,null,0,0,null,0]
["81200-20","Cuotas y aportaciones de seguridad social",null,null,{"$f":"SUM(E874:E878)","v":0},{"$f":"SUM(F874:F878)","v":0},null,0]
["81200-21","Aportaciones para fondos de vivienda",null,null,0,0,null,0]
["81200-22","Cuotas para la seguridad social",null,null,0,0,null,0]
["81200-23","Cuotas de ahorro para el retiro",null,null,0,0,null,0]
["81200-24","Otras cuotas y aportaciones para la seguridad social",null,null,0,0,null,0]
["81200-25","Accesorios de cuotas y aportaciones de seguridad social",null,null,0,0,null,0]
["81200-30","Contribuciones de mejora",null,null,{"$f":"SUM(E880:E881)","v":0},{"$f":"SUM(F880:F881)","v":0},null,0]
["81200-31","Contribuciones de mejoras por obras públicas",null,null,0,0,null,0]
["81200-32","Contribuciones de mejoras no  comprendidas en la ley de ingresos vigente, causadas en ejercicios fiscales anteriores pendientes de liquidación o pago",null,null,0,0,null,0]
["81200-40","Derechos",null,null,{"$f":"SUM(E883:E888)","v":4717158.67},{"$f":"SUM(F883:F888)","v":1732545},null,-2984613.67]
["81200-41","Derechos por el uso, goce, aprovechamiento o explotación de bienes de dominio público",null,null,157383,32899,null,-124484]
["81200-42","Derecho a los hidrocarburos (derogado)",null,null,0,0,null,0]
["81200-43","Derechos por prestación de servicios",null,null,4552870.1500000004,1686977,null,-2865893.1500000004]
["81200-44","Otros derechos",null,null,0,0,null,0]
["81200-45","Accesorios de derechos",null,null,0,12669,null,12669]
["81200-46","Derechos no comprendidos en la ley de ingresos vigente, causados en ejercicios fiscales anteriores pendientes de liquidación o pago",null,null,6905.52,0,null,-6905.52]
["81200-50","Productos",null,null,{"$f":"SUM(E890:E892)","v":53968.85},{"$f":"SUM(F890:F892)","v":164588},null,110619.15]
["81200-51","Productos",null,null,53968.85,164588,null,110619.15]
["81200-52","Productos de capital (derogado)",null,null,0,0,null,0]
["81200-53","Productos no comprendidos en la ley de ingresos vigente, causados en ejercicios fiscales anteriores pendientes de liquidación o pago",null,null,0,0,null,0]
["81200-60","Aprovechamientos",null,null,{"$f":"SUM(E894:E897)","v":592426.06999999995},{"$f":"SUM(F894:F897)","v":550910},null,-41516.069999999949]
["81200-61","Aprovechamientos",null,null,349127.05,8380,null,-340747.05]
["81200-62","Aprovechamientos patrimoniales",null,null,0,0,null,0]
["81200-63","Accesorios de aprovechamientos",null,null,0,0,null,0]
["81200-64","Aprovechamientos no comprendidos en la ley de ingresos vigente, causados en ejercicios fiscales anteriores pendientes de liquidación o pago",null,null,243299.02,542530,null,299230.98]
["81200-70","Ingresos por venta de bienes, prestación de servicios y otros ingresos",null,null,{"$f":"SUM(E899:E907)","v":0},{"$f":"SUM(F899:F907)","v":0},null,0]
["81200-71","Ingresos por venta de bienes y prestación de servicios de instituciones públicas de seguridad social",null,null,0,0,null,0]
["81200-72","Ingresos por venta de bienes y prestación de servicios de empresas productivas del estado",null,null,0,0,null,0]
["81200-73","Ingresos por venta de bienes y prestación de servicios de entidades paraestatales y fideicomisos no empresariales y no financieros",null,null,0,0,null,0]
["81200-74","Ingresos por venta de bienes y prestación de servicios de entidades paraestatales empresariales y no financieros con participación estatal mayoritaria",null,null,0,0,null,0]
["81200-75","Ingresos por venta de bienes y prestación de servicios de entidades paraestatales empresariales financieras monetarias con participación estatal mayoritaria",null,null,0,0,null,0]
["81200-76","Ingresos por venta de bienes y prestación de servicios de entidades paraestatales empresariales financieras no monetarias con participación estatal mayoritaria",null,null,0,0,null,0]
["81200-77","Ingresos por venta de bienes y prestación de servicios de fideicomisos financieros públicos con participación estatal mayoritaria",null,null,0,0,null,0]
["81200-78","Ingresos por venta de bienes y prestación de servicios de los poderes legislativo y judicial, y de los órganos autónomos",null,null,0,0,null,0]
["81200-79","Otros ingresos",null,null,0,0,null,0]
["81200-80","Participaciones, aportaciones, convenios, incentivos derivados de la colaboración fiscal y fondos distintos de aportaciones",null,null,{"$f":"SUM(E909:E914)","v":39705329.43},{"$f":"SUM(F909:F914)","v":39534574},null,-170755.4299999997]
["81200-81","Participaciones",null,null,24420587.93,23528908,null,-891679.9299999997]
["81200-82","Aportaciones",null,null,12954133.24,13005666,null,51532.759999999776]
["81200-83","Convenios (Con ingresos de libre disposición)",null,null,1865390,3000000,null,1134610]
["81200-84","Convenios (Con ingresos etiquetados)",null,null,0,0,null,0]
["81200-85","Incentivos derivados de la colaboración fiscal",null,null,465218.26,0,null,-465218.26]
["81200-86","Fondos distintos de aportaciones",null,null,0,0,null,0]
["81200-90","Transferencias, asignaciones, subsidios y subvenciones, y pensiones y jubilaciones",null,null,{"$f":"SUM(E916:E924)","v":0},{"$f":"SUM(F916:F924)","v":0},null,0]
["81200-91","Transferencias y asignaciones (Con ingresos de libre disposición)",null,null,0,0,null,0]
["81200-92","Transferencias y asignaciones (Con ingresos etiquetados)",null,null,0,0,null,0]
["81200-93","Transferencias al resto del sector público (derogado)",null,null,0,0,null,0]
["81200-94","Subsidios y subvenciones (Con ingresos de libre disposición)",null,null,0,0,null,0]
["81200-95","Subsidios y subvenciones (Con ingresos etiquetados)",null,null,0,0,null,0]
["81200-96","Ayudas sociales (derogado)",null,null,0,0,null,0]
["81200-97","Pensiones y jubilaciones",null,null,0,0,null,0]
["81200-98","Transferencias a fideicomisos, mandatos y análogos (derogado)",null,null,0,0,null,0]
["81200-99","Transferencias del fondo mexicano del petróleo para la estabilización y el desarrollo",null,null,0,0,null,0]
["81200-00","Ingresos derivados de financiamiento",null,null,{"$f":"SUM(E926:E928)","v":0},{"$f":"SUM(F926:F928)","v":0},null,0]
["81200-01","Endeudamiento interno",null,null,0,0,null,0]
["81200-02","Endeudamiento externo",null,null,0,0,null,{"$f":"F927-E927","v":0}]
["81200-03","Financiamiento interno",null,null,0,0,null,{"$f":"F928-E928","v":0}]
[81300,"MODIFICACIONES A LA LEY DE INGRESOS ESTIMADA",null,null,{"$f":"E930+E940+E946+E949+E956+E960+E965+E975+E982+E992","v":0},{"$f":"F930+F940+F946+F949+F956+F960+F965+F975+F982+F992","v":0},{"$f":"E929-F929","v":0}]
["81300-10","Impuestos",null,null,{"$f":"SUM(E931:E939)","v":0},{"$f":"SUM(F931:F939)","v":0},{"$f":"E930-F930","v":0}]
["81300-11","Impuestos sobre los ingresos",null,null,0,0,0]
["81300-12","Impuestos sobre patrimonio",null,null,0,0,0]
["81300-13","Impuestos sobre la producción, el consumo y las transacciones",null,null,0,0,0]
["81300-14","Impuestos al comercio exterior",null,null,0,0,0]
["81300-15","Impuestos sobre nóminas y asimilables",null,null,0,0,0]
["81300-16","Impuestos ecológicos",null,null,0,0,0]
["81300-17","Accesorios",null,null,0,0,0]
["81300-18","Otros impuestos",null,null,0,0,0]
["81300-19","Impuestos no Comprendidos en la ley de ingresos vigente, causados en ejercicios fiscales anteriores pendientes de liquidar o pago",null,null,0,0,0]
["81300-20","Cuotas y aportaciones de seguridad social",null,null,{"$f":"SUM(E941:E945)","v":0},{"$f":"SUM(F941:F945)","v":0},0]
["81300-21","Aportaciones para fondos de vivienda",null,null,0,0,0]
["81300-22","Cuotas para la seguridad social",null,null,0,0,0]
["81300-23","Cuotas de ahorro para el retiro",null,null,0,0,0]
["81300-24","Otras cuotas y aportaciones para la seguridad social",null,null,0,0,0]
["81300-25","Accesorios de cuotas y aportaciones de seguridad social",null,null,0,0,0]
["81300-30","Contribuciones de mejora",null,null,{"$f":"SUM(E947:E948)","v":0},{"$f":"SUM(F947:F948)","v":0},0]
["81300-31","Contribuciones de mejoras por obras públicas",null,null,0,0,0]
["81300-32","Contribuciones de mejoras no  comprendidas en la ley de ingresos vigente, causadas en ejercicios fiscales anteriores pendientes de liquidación o pago",null,null,0,0,0]
["81300-40","Derechos",null,null,{"$f":"SUM(E950:E955)","v":0},{"$f":"SUM(F950:F955)","v":0},0]
["81300-41","Derechos por el uso, goce, aprovechamiento o explotación de bienes de dominio público",null,null,0,0,0]
["81300-42","Derecho a los hidrocarburos (derogado)",null,null,0,0,0]
["81300-43","Derechos por prestación de servicios",null,null,0,0,0]
["81300-44","Otros derechos",null,null,0,0,0]
["81300-45","Accesorios de derechos",null,null,0,0,0]
["81300-46","Derechos no comprendidos en la ley de ingresos vigente, causados en ejercicios fiscales anteriores pendientes de liquidación o pago",null,null,0,0,0]
["81300-50","Productos",null,null,{"$f":"SUM(E957:E959)","v":0},{"$f":"SUM(F957:F959)","v":0},0]
["81300-51","Productos",null,null,0,0,0]
["81300-52","Productos de capital (derogado)",null,null,0,0,0]
["81300-53","Productos no comprendidos en la ley de ingresos vigente, causados en ejercicios fiscales anteriores pendientes de liquidación o pago",null,null,0,0,0]
["81300-60","Aprovechamientos",null,null,{"$f":"SUM(E961:E964)","v":0},{"$f":"SUM(F961:F964)","v":0},0]
["81300-61","Aprovechamientos",null,null,0,0,0]
["81300-62","Aprovechamientos patrimoniales",null,null,0,0,0]
["81300-63","Accesorios de aprovechamientos",null,null,0,0,0]
["81300-64","Aprovechamientos no comprendidos en la ley de ingresos vigente, causados en ejercicios fiscales anteriores pendientes de liquidación o pago",null,null,0,0,0]
["81300-70","Ingresos por venta de bienes, prestación de servicios y otros ingresos",null,null,{"$f":"SUM(E966:E974)","v":0},{"$f":"SUM(F966:F974)","v":0},0]
["81300-71","Ingresos por venta de bienes y prestación de servicios de instituciones públicas de seguridad social",null,null,0,0,0]
["81300-72","Ingresos por venta de bienes y prestación de servicios de empresas productivas del estado",null,null,0,0,0]
["81300-73","Ingresos por venta de bienes y prestación de servicios de entidades paraestatales y fideicomisos no empresariales y no financieros",null,null,0,0,0]
["81300-74","Ingresos por venta de bienes y prestación de servicios de entidades paraestatales empresariales y no financieros con participación estatal mayoritaria",null,null,0,0,0]
["81300-75","Ingresos por venta de bienes y prestación de servicios de entidades paraestatales empresariales financieras monetarias con participación estatal mayoritaria",null,null,0,0,0]
["81300-76","Ingresos por venta de bienes y prestación de servicios de entidades paraestatales empresariales financieras no monetarias con participación estatal mayoritaria",null,null,0,0,0]
["81300-77","Ingresos por venta de bienes y prestación de servicios de fideicomisos financieros públicos con participación estatal mayoritaria",null,null,0,0,0]
["81300-78","Ingresos por venta de bienes y prestación de servicios de los poderes legislativo y judicial, y de los órganos autónomos",null,null,0,0,0]
["81300-79","Otros ingresos",null,null,0,0,0]
["81300-80","Participaciones, aportaciones, convenios, incentivos derivados de la colaboración fiscal y fondos distintos de aportaciones",null,null,{"$f":"SUM(E976:E981)","v":0},{"$f":"SUM(F976:F981)","v":0},0]
["81300-81","Participaciones",null,null,0,0,0]
["81300-82","Aportaciones",null,null,0,0,0]
["81300-83","Convenios (Con ingresos de libre disposición)",null,null,0,0,0]
["81300-84","Convenios (Con ingresos etiquetados)",null,null,0,0,0]
["81300-85","Incentivos derivados de la colaboración fiscal",null,null,0,0,0]
["81300-86","Fondos distintos de aportaciones",null,null,0,0,0]
["81300-90","Transferencias, asignaciones, subsidios y subvenciones, y pensiones y jubilaciones",null,null,{"$f":"SUM(E983:E991)","v":0},{"$f":"SUM(F983:F991)","v":0},0]
["81300-91","Transferencias y asignaciones (Con ingresos de libre disposición)",null,null,0,0,0]
["81300-92","Transferencias y asignaciones (Con ingresos etiquetados)",null,null,0,0,0]
["81300-93","Transferencias al resto del sector público (derogado)",null,null,0,0,0]
["81300-94","Subsidios y subvenciones (Con ingresos de libre disposición)",null,null,0,0,0]
["81300-95","Subsidios y subvenciones (Con ingresos etiquetados)",null,null,0,0,0]
["81300-96","Ayudas sociales (derogado)",null,null,0,0,0]
["81300-97","Pensiones y jubilaciones",null,null,0,0,0]
["81300-98","Transferencias a fideicomisos, mandatos y análogos (derogado)",null,null,0,0,0]
["81300-99","Transferencias del fondo mexicano del petróleo para la estabilización y el desarrollo",null,null,0,0,0]
["81300-00","Ingresos derivados de financiamiento",null,null,{"$f":"SUM(E993:E995)","v":0},{"$f":"SUM(F993:F995)","v":0},0]
["81300-01","Endeudamiento interno",null,null,0,0,0]
["81300-02","Endeudamiento externo",null,null,0,0,{"$f":"E994-F994","v":0}]
["81300-03","Financiamiento interno",null,null,0,0,0]
[81400,"LEY DE INGRESOS DEVENGADA",null,null,{"$f":"E997+E1007+E1013+E1016+E1023+E1027+E1032+E1042+E1049+E1059","v":49351198},{"$f":"F997+F1007+F1013+F1016+F1023+F1027+F1032+F1042+F1049+F1059","v":49351198},null,{"$f":"F996-E996","v":0}]
["81400-10","Impuestos",null,null,{"$f":"SUM(E998:E1006)","v":4282314.9799999995},{"$f":"SUM(F998:F1006)","v":4282314.9799999995},null,{"$f":"F997-E997","v":0}]
["81400-11","Impuestos sobre los ingresos",null,null,15088,15088,null,0]
["81400-12","Impuestos sobre patrimonio",null,null,4235306.8499999996,4235306.8499999996,null,0]
["81400-13","Impuestos sobre la producción, el consumo y las transacciones",null,null,0,0,null,0]
["81400-14","Impuestos al comercio exterior",null,null,0,0,null,0]
["81400-15","Impuestos sobre nóminas y asimilables",null,null,0,0,null,0]
["81400-16","Impuestos ecológicos",null,null,0,0,null,0]
["81400-17","Accesorios",null,null,31920.13,31920.13,null,0]
["81400-18","Otros impuestos",{"$nulls":5},0]
["81400-19","Impuestos no Comprendidos en la ley de ingresos vigente, causados en ejercicios fiscales anteriores pendientes de liquidar o pago",null,null,0,0,null,0]
["81400-20","Cuotas y aportaciones de seguridad social",null,null,{"$f":"SUM(E1008:E1012)","v":0},{"$f":"SUM(F1008:F1012)","v":0},null,0]
["81400-21","Aportaciones para fondos de vivienda",null,null,0,0,null,0]
["81400-22","Cuotas para la seguridad social",null,null,0,0,null,0]
["81400-23","Cuotas de ahorro para el retiro",null,null,0,0,null,0]
["81400-24","Otras cuotas y aportaciones para la seguridad social",null,null,0,0,null,0]
["81400-25","Accesorios de cuotas y aportaciones de seguridad social",null,null,0,0,null,0]
["81400-30","Contribuciones de mejora",null,null,{"$f":"SUM(E1014:E1015)","v":0},{"$f":"SUM(F1014:F1015)","v":0},null,0]
["81400-31","Contribuciones de mejoras por obras públicas",null,null,0,0,null,0]
["81400-32","Contribuciones de mejoras no  comprendidas en la ley de ingresos vigente, causadas en ejercicios fiscales anteriores pendientes de liquidación o pago",null,null,0,0,null,0]
["81400-40","Derechos",null,null,{"$f":"SUM(E1017:E1022)","v":4717158.67},{"$f":"SUM(F1017:F1022)","v":4717158.67},null,0]
["81400-41","Derechos por el uso, goce, aprovechamiento o explotación de bienes de dominio público",null,null,157383,157383,null,0]
["81400-42","Derecho a los hidrocarburos (derogado)",null,null,0,0,null,0]
["81400-43","Derechos por prestación de servicios",null,null,4552870.1500000004,4552870.1500000004,null,0]
["81400-44","Otros derechos",null,null,0,0,null,0]
["81400-45","Accesorios de derechos",null,null,6905.52,6905.52,null,0]
["81400-46","Derechos no comprendidos en la ley de ingresos vigente, causados en ejercicios fiscales anteriores pendientes de liquidación o pago",null,null,0,0,null,0]
["81400-50","Productos",null,null,{"$f":"SUM(E1024:E1026)","v":53968.85},{"$f":"SUM(F1024:F1026)","v":53968.85},null,0]
["81400-51","Productos",null,null,53968.85,53968.85,null,0]
["81400-52","Productos de capital (derogado)",null,null,0,0,null,0]
["81400-53","Productos no comprendidos en la ley de ingresos vigente, causados en ejercicios fiscales anteriores pendientes de liquidación o pago",null,null,0,0,null,0]
["81400-60","Aprovechamientos",null,null,{"$f":"SUM(E1028:E1031)","v":592426.06999999995},{"$f":"SUM(F1028:F1031)","v":592426.06999999995},null,0]
["81400-61","Aprovechamientos",null,null,349127.05,349127.05,null,0]
["81400-62","Aprovechamientos patrimoniales",null,null,0,0,null,0]
["81400-63","Accesorios de aprovechamientos",null,null,0,0,null,0]
["81400-64","Aprovechamientos no comprendidos en la ley de ingresos vigente, causados en ejercicios fiscales anteriores pendientes de liquidación o pago",null,null,243299.02,243299.02,null,0]
["81400-70","Ingresos por venta de bienes, prestación de servicios y otros ingresos",null,null,{"$f":"SUM(E1033:E1041)","v":0},{"$f":"SUM(F1033:F1041)","v":0},null,0]
["81400-71","Ingresos por venta de bienes y prestación de servicios de instituciones públicas de seguridad social",null,null,0,0,null,0]
["81400-72","Ingresos por venta de bienes y prestación de servicios de empresas productivas del estado",null,null,0,0,null,0]
["81400-73","Ingresos por venta de bienes y prestación de servicios de entidades paraestatales y fideicomisos no empresariales y no financieros",null,null,0,0,null,0]
["81400-74","Ingresos por venta de bienes y prestación de servicios de entidades paraestatales empresariales y no financieros con participación estatal mayoritaria",null,null,0,0,null,0]
["81400-75","Ingresos por venta de bienes y prestación de servicios de entidades paraestatales empresariales financieras monetarias con participación estatal mayoritaria",null,null,0,0,null,0]
["81400-76","Ingresos por venta de bienes y prestación de servicios de entidades paraestatales empresariales financieras no monetarias con participación estatal mayoritaria",null,null,0,0,null,0]
["81400-77","Ingresos por venta de bienes y prestación de servicios de fideicomisos financieros públicos con participación estatal mayoritaria",null,null,0,0,null,0]
["81400-78","Ingresos por venta de bienes y prestación de servicios de los poderes legislativo y judicial, y de los órganos autónomos",null,null,0,0,null,0]
["81400-79","Otros ingresos",null,null,0,0,null,0]
["81400-80","Participaciones, aportaciones, convenios, incentivos derivados de la colaboración fiscal y fondos distintos de aportaciones",null,null,{"$f":"SUM(E1043:E1048)","v":39705329.43},{"$f":"SUM(F1043:F1048)","v":39705329.43},null,0]
["81400-81","Participaciones",null,null,24420587.93,24420587.93,null,0]
["81400-82","Aportaciones",null,null,12954133.24,12954133.24,null,0]
["81400-83","Convenios (Con ingresos de libre disposición)",null,null,1865390,1865390,null,0]
["81400-84","Convenios (Con ingresos etiquetados)",null,null,0,0,null,0]
["81400-85","Incentivos derivados de la colaboración fiscal",null,null,465218.26,465218.26,null,0]
["81400-86","Fondos distintos de aportaciones",null,null,0,0,null,0]
["81400-90","Transferencias, asignaciones, subsidios y subvenciones, y pensiones y jubilaciones",null,null,{"$f":"SUM(E1050:E1058)","v":0},{"$f":"SUM(F1050:F1058)","v":0},null,0]
["81400-91","Transferencias y asignaciones (Con ingresos de libre disposición)",null,null,0,0,null,0]
["81400-92","Transferencias y asignaciones (Con ingresos etiquetados)",null,null,0,0,null,0]
["81400-93","Transferencias al resto del sector público (derogado)",null,null,0,0,null,0]
["81400-94","Subsidios y subvenciones (Con ingresos de libre disposición)",null,null,0,0,null,0]
["81400-95","Subsidios y subvenciones (Con ingresos etiquetados)",null,null,0,0,null,0]
["81400-96","Ayudas sociales (derogado)",null,null,0,0,null,0]
["81400-97","Pensiones y jubilaciones",null,null,0,0,null,0]
["81400-98","Transferencias a fideicomisos, mandatos y análogos (derogado)",null,null,0,0,null,0]
["81400-99","Transferencias del fondo mexicano del petróleo para la estabilización y el desarrollo",null,null,0,0,null,0]
["81400-00","Ingresos derivados de financiamiento",null,null,{"$f":"SUM(E1060:E1062)","v":0},{"$f":"SUM(F1060:F1062)","v":0},null,0]
["81400-01","Endeudamiento interno",null,null,0,0,null,0]
["81400-02","Endeudamiento externo",null,null,0,0,null,{"$f":"F1061-E1061","v":0}]
["81400-03","Financiamiento interno",null,null,0,0,null,0]
[81500,"LEY DE INGRESOS RECAUDADA",null,null,{"$f":"E1064+E1074+E1080+E1083+E1090+E1094+E1099+E1109+E1116+E1126","v":0},{"$f":"F1064+F1074+F1080+F1083+F1090+F1094+F1099+F1109+F1116+F1126","v":49351198},null,{"$f":"F1063-E1063","v":49351198}]
["81500-10","Impuestos",null,null,{"$f":"SUM(E1065:E1073)","v":0},{"$f":"SUM(F1065:F1073)","v":4282314.9799999995},null,{"$f":"F1064-E1064","v":4282314.9799999995}]
["81500-11","Impuestos sobre los ingresos",null,null,0,15088,null,15088]
["81500-12","Impuestos sobre patrimonio",null,null,0,4235306.8499999996,null,4235306.8499999996]
["81500-13","Impuestos sobre la producción, el consumo y las transacciones",null,null,0,0,null,0]
["81500-14","Impuestos al comercio exterior",null,null,0,0,null,0]
["81500-15","Impuestos sobre nóminas y asimilables",null,null,0,0,null,0]
["81500-16","Impuestos ecológicos",null,null,0,0,null,0]
["81500-17","Accesorios",null,null,0,0,null,0]
["81500-18","Otros impuestos",null,null,0,31920.13,null,31920.13]
["81500-19","Impuestos no Comprendidos en la ley de ingresos vigente, causados en ejercicios fiscales anteriores pendientes de liquidar o pago",null,null,0,0,null,0]
["81500-20","Cuotas y aportaciones de seguridad social",null,null,{"$f":"SUM(E1075:E1079)","v":0},{"$f":"SUM(F1075:F1079)","v":0},null,0]
["81500-21","Aportaciones para fondos de vivienda",null,null,0,0,null,0]
["81500-22","Cuotas para la seguridad social",null,null,0,0,null,0]
["81500-23","Cuotas de ahorro para el retiro",null,null,0,0,null,0]
["81500-24","Otras cuotas y aportaciones para la seguridad social",null,null,0,0,null,0]
["81500-25","Accesorios de cuotas y aportaciones de seguridad social",null,null,0,0,null,0]
["81500-30","Contribuciones de mejora",null,null,{"$f":"SUM(E1081:E1082)","v":0},{"$f":"SUM(F1081:F1082)","v":0},null,0]
["81500-31","Contribuciones de mejoras por obras públicas",null,null,0,0,null,0]
["81500-32","Contribuciones de mejoras no  comprendidas en la ley de ingresos vigente, causadas en ejercicios fiscales anteriores pendientes de liquidación o pago",null,null,0,0,null,0]
["81500-40","Derechos",null,null,{"$f":"SUM(E1084:E1089)","v":0},{"$f":"SUM(F1084:F1089)","v":4717158.67},null,4717158.67]
["81500-41","Derechos por el uso, goce, aprovechamiento o explotación de bienes de dominio público",null,null,0,157383,null,157383]
["81500-42","Derecho a los hidrocarburos (derogado)",null,null,0,0,null,0]
["81500-43","Derechos por prestación de servicios",null,null,0,4552870.1500000004,null,4552870.1500000004]
["81500-44","Otros derechos",null,null,0,0,null,0]
["81500-45","Accesorios de derechos",null,null,0,0,null,0]
["81500-46","Derechos no comprendidos en la ley de ingresos vigente, causados en ejercicios fiscales anteriores pendientes de liquidación o pago",null,null,0,6905.52,null,6905.52]
["81500-50","Productos",null,null,{"$f":"SUM(E1091:E1093)","v":0},{"$f":"SUM(F1091:F1093)","v":53968.85},null,53968.85]
["81500-51","Productos",null,null,0,53968.85,null,53968.85]
["81500-52","Productos de capital (derogado)",null,null,0,0,null,0]
["81500-53","Productos no comprendidos en la ley de ingresos vigente, causados en ejercicios fiscales anteriores pendientes de liquidación o pago",null,null,0,0,null,0]
["81500-60","Aprovechamientos",null,null,{"$f":"SUM(E1095:E1098)","v":0},{"$f":"SUM(F1095:F1098)","v":592426.06999999995},null,592426.06999999995]
["81500-61","Aprovechamientos",null,null,0,349127.05,null,349127.05]
["81500-62","Aprovechamientos patrimoniales",null,null,0,0,null,0]
["81500-63","Accesorios de aprovechamientos",null,null,0,0,null,0]
["81500-64","Aprovechamientos no comprendidos en la ley de ingresos vigente, causados en ejercicios fiscales anteriores pendientes de liquidación o pago",null,null,0,243299.02,null,243299.02]
["81500-70","Ingresos por venta de bienes, prestación de servicios y otros ingresos",null,null,{"$f":"SUM(E1100:E1108)","v":0},{"$f":"SUM(F1100:F1108)","v":0},null,0]
["81500-71","Ingresos por venta de bienes y prestación de servicios de instituciones públicas de seguridad social",null,null,0,0,null,0]
["81500-72","Ingresos por venta de bienes y prestación de servicios de empresas productivas del estado",null,null,0,0,null,0]
["81500-73","Ingresos por venta de bienes y prestación de servicios de entidades paraestatales y fideicomisos no empresariales y no financieros",null,null,0,0,null,0]
["81500-74","Ingresos por venta de bienes y prestación de servicios de entidades paraestatales empresariales y no financieros con participación estatal mayoritaria",null,null,0,0,null,0]
["81500-75","Ingresos por venta de bienes y prestación de servicios de entidades paraestatales empresariales financieras monetarias con participación estatal mayoritaria",null,null,0,0,null,0]
["81500-76","Ingresos por venta de bienes y prestación de servicios de entidades paraestatales empresariales financieras no monetarias con participación estatal mayoritaria",null,null,0,0,null,0]
["81500-77","Ingresos por venta de bienes y prestación de servicios de fideicomisos financieros públicos con participación estatal mayoritaria",null,null,0,0,null,0]
["81500-78","Ingresos por venta de bienes y prestación de servicios de los poderes legislativo y judicial, y de los órganos autónomos",null,null,0,0,null,0]
["81500-79","Otros ingresos",null,null,0,0,null,0]
["81500-80","Participaciones, aportaciones, convenios, incentivos derivados de la colaboración fiscal y fondos distintos de aportaciones",null,null,{"$f":"SUM(E1110:E1115)","v":0},{"$f":"SUM(F1110:F1115)","v":39705329.43},null,39705329.43]
["81500-81","Participaciones",null,null,0,24420587.93,null,24420587.93]
["81500-82","Aportaciones",null,null,0,12954133.24,null,12954133.24]
["81500-83","Convenios (Con ingresos de libre disposición)",null,null,0,1865390,null,1865390]
["81500-84","Convenios (Con ingresos etiquetados)",null,null,0,0,null,0]
["81500-85","Incentivos derivados de la colaboración fiscal",null,null,0,465218.26,null,465218.26]
["81500-86","Fondos distintos de aportaciones",null,null,0,0,null,0]
["81500-90","Transferencias, asignaciones, subsidios y subvenciones, y pensiones y jubilaciones",null,null,{"$f":"SUM(E1117:E1125)","v":0},{"$f":"SUM(F1117:F1125)","v":0},null,0]
["81500-91","Transferencias y asignaciones (Con ingresos de libre disposición)",null,null,0,0,null,0]
["81500-92","Transferencias y asignaciones (Con ingresos etiquetados)",null,null,0,0,null,0]
["81500-93","Transferencias al resto del sector público (derogado)",null,null,0,0,null,0]
["81500-94","Subsidios y subvenciones (Con ingresos de libre disposición)",null,null,0,0,null,0]
["81500-95","Subsidios y subvenciones (Con ingresos etiquetados)",null,null,0,0,null,0]
["81500-96","Ayudas sociales (derogado)",null,null,0,0,null,0]
["81500-97","Pensiones y jubilaciones",null,null,0,0,null,0]
["81500-98","Transferencias a fideicomisos, mandatos y análogos (derogado)",null,null,0,0,null,0]
["81500-99","Transferencias del fondo mexicano del petróleo para la estabilización y el desarrollo",null,null,0,0,null,0]
["81500-00","Ingresos derivados de financiamiento",null,null,{"$f":"SUM(E1127:E1129)","v":0},{"$f":"SUM(F1127:F1129)","v":0},null,0]
["81500-01","Endeudamiento interno",null,null,0,0,null,0]
["81500-02","Endeudamiento externo",null,null,0,0,null,{"$f":"F1128-E1128","v":0}]
["81500-03","Financiamiento interno",null,null,0,0,null,0]
[82000,"PRESUPUESTO DE EGRESOS",null,null,{"$f":"E1131+E1267+E1403+E1539+E1675+E1811+E1947","v":241198176.72000003},{"$f":"F1131+F1267+F1403+F1539+F1675+F1811+F1947","v":241198176.72000003},{"$f":"G1131+G1267+G1403+G1539+G1675+G1811+G1947","v":44998818},{"$f":"H1131+H1267+H1403+H1539+H1675+H1811+H1947","v":44998818}]
[82100,"PRESUPUESTO DE EGRESOS APROBADO",null,null,{"$f":"E1132+E1147+E1166+E1185+E1204+E1223+E1230+E1245+E1252","v":0},{"$f":"F1132+F1147+F1166+F1185+F1204+F1223+F1230+F1245+F1252","v":44998818},null,{"$f":"F1131-E1131","v":44998818}]
["82100-100","Servicios personales",null,null,{"$f":"SUM(E1133:E1146)","v":0},{"$f":"SUM(F1133:F1146)","v":16806207},null,{"$f":"F1132-E1132","v":16806207}]
["82100-101","Remuneraciones al personal de carácter permanente (no etiquetado)",null,null,0,9215244,null,9215244]
["82100-102","Remuneraciones al personal de carácter permanente (etiquetado)",null,null,0,1242168,null,1242168]
["82100-103","Remuneraciones al personal de carácter transitorio (no etiquetado)",null,null,0,3988817,null,3988817]
["82100-104","Remuneraciones al personal de carácter transitorio (etiquetado)",null,null,0,0,null,0]
["82100-105","Remuneraciones adicionales especiales (no etiquetado)",null,null,0,2159978,null,2159978]
["82100-106","Remuneraciones adicionales especiales (etiquetado)",null,null,0,0,null,0]
["82100-107","Seguridad social (no etiquetado)",null,null,0,0,null,0]
["82100-108","Seguridad social (etiquetado)",null,null,0,0,null,0]
["82100-109","Otras prestaciones sociales y económicas (no etiquetado)",null,null,0,200000,null,200000]
["82100-110","Otras prestaciones sociales y económicas (etiquetado)",null,null,0,0,null,0]
["82100-111","Previsiones (no etiquetado)",null,null,0,0,null,0]
["82100-112","Previsiones (etiquetado)",null,null,0,0,null,0]
["82100-113","Pago de estímulos a servidores públicos (no etiquetado)",null,null,0,0,null,0]
["82100-114","Pago de estímulos a servidores públicos (etiquetado)",null,null,0,0,null,0]
["82100-200","Materiales y suministros",null,null,{"$f":"SUM(E1148:E1165)","v":0},{"$f":"SUM(F1148:F1165)","v":4635580},null,4635580]
["82100-201","Materiales de administración, emisión de documentos y artículos oficiales (no etiquetado)",null,null,0,280000,null,280000]
["82100-202","Materiales de administración, emisión de documentos y artículos oficiales (etiquetado)",null,null,0,0,null,0]
["82100-203","Alimentos y utensilios (no etiquetado)",null,null,0,262000,null,262000]
["82100-204","Alimentos y utensilios (etiquetado)",null,null,0,40000,null,40000]
["82100-205","Materias primas y materiales de producción y comercialización (no etiquetado)",null,null,0,0,null,0]
["82100-206","Materias primas y materiales de producción y comercialización (etiquetado)",null,null,0,0,null,0]
["82100-207","Materiales y artículos de construcción y de reparación (no etiquetado)",null,null,0,520000,null,520000]
["82100-208","Materiales y artículos de construcción y de reparación (etiquetado)",null,null,0,0,null,0]
["82100-209","Productos químicos, farmacéuticos y de laboratorio (no etiquetado)",null,null,0,305000,null,305000]
["82100-210","Productos químicos, farmacéuticos y de laboratorio (etiquetado)",null,null,0,40000,null,40000]
["82100-211","Combustibles, lubricantes y aditivos (no etiquetado)",null,null,0,2143580,null,2143580]
["82100-212","Combustibles, lubricantes y aditivos (etiquetado)",null,null,0,480000,null,480000]
["82100-213","Vestuario, blancos, prendas de protección y artículos deportivos (no etiquetado)",null,null,0,100000,null,100000]
["82100-214","Vestuario, blancos, prendas de protección y artículos deportivos (etiquetado)",null,null,0,30000,null,30000]
["82100-215","Materiales y suministros de seguridad (no etiquetado)",null,null,0,0,null,0]
["82100-216","Materiales y suministros de seguridad (etiquetado)",null,null,0,15000,null,15000]
["82100-217","Herramientas, refacciones y accesorios menores (no etiquetado)",null,null,0,360000,null,360000]
["82100-218","Herramientas, refacciones y accesorios menores (etiquetado)",null,null,0,60000,null,60000]
["82100-300","Servicios generales",null,null,{"$f":"SUM(E1167:E1184)","v":0},{"$f":"SUM(F1167:F1184)","v":7342988},null,7342988]
["82100-301","Servicios básicos (no etiquetado)",null,null,0,467940,null,467940]
["82100-302","Servicios básicos (etiquetado)",null,null,0,2888788,null,2888788]
["82100-303","Servicios de arrendamiento (no etiquetado)",null,null,0,194960,null,194960]
["82100-304","Servicios de arrendamiento (etiquetado)",null,null,0,0,null,0]
["82100-305","Servicios profesionales, científicos, técnicos y otros servicios (no etiquetado)",null,null,0,10000,null,10000]
["82100-306","Servicios profesionales, científicos, técnicos y otros servicios (etiquetado)",null,null,0,0,null,0]
["82100-307","Servicios financieros, bancarios y comerciales (no etiquetado)",null,null,0,127000,null,127000]
["82100-308","Servicios financieros, bancarios y comerciales (etiquetado)",null,null,0,123000,null,123000]
["82100-309","Servicios de instalación, reparación, mantenimiento y conservación (no etiquetado)",null,null,0,1695000,null,1695000]
["82100-310","Servicios de instalación, reparación, mantenimiento y conservación (etiquetado)",null,null,0,0,null,0]
["82100-311","Servicios de comunicación social y publicidad (no etiquetado)",null,null,0,30000,null,30000]
["82100-312","Servicios de comunicación social y publicidad (etiquetado)",null,null,0,0,null,0]
["82100-313","Servicios de traslado y viáticos (no etiquetado)",null,null,0,186000,null,186000]
["82100-314","Servicios de traslado y viáticos (etiquetado)",null,null,0,0,null,0]
["82100-315","Servicios oficiales (no etiquetado)",null,null,0,720000,null,720000]
["82100-316","Servicios oficiales (etiquetado)",null,null,0,0,null,0]
["82100-317","Otros servicios generales (no etiquetado)",null,null,0,900300,null,900300]
["82100-318","Otros servicios generales (etiquetado)",null,null,0,0,null,0]
["82100-400","Transferencias, asignaciones, subsidios y otras ayudas ",null,null,{"$f":"SUM(E1186:E1203)","v":0},{"$f":"SUM(F1186:F1203)","v":3088878},null,3088878]
["82100-401","Transferencias internas y asignaciones al sector público (no etiquetado)",null,null,0,0,null,0]
["82100-402","Transferencias internas y asignaciones al sector público (etiquetado)",null,null,0,0,null,0]
["82100-403","Transferencias al resto del sector público (no etiquetado)",null,null,0,1320000,null,1320000]
["82100-404","Transferencias al resto del sector público (etiquetado)",null,null,0,0,null,0]
["82100-405","Subsidios y subvenciones (no etiquetado)",null,null,0,0,null,0]
["82100-406","Subsidios y subvenciones (etiquetado)",null,null,0,0,null,0]
["82100-407","Ayudas sociales (no etiquetado)",null,null,0,1768878,null,1768878]
["82100-408","Ayudas sociales  (etiquetado)",null,null,0,0,null,0]
["82100-409","Pensiones y jubilaciones (no etiquetado)",null,null,0,0,null,0]
["82100-410","Pensiones y jubilaciones (etiquetado)",null,null,0,0,null,0]
["82100-411","Transferencias a fideicomisos, mandatos y otros análogos (no etiquetado)",null,null,0,0,null,{"$f":"F1196-E1196","v":0}]
["82100-412","Transferencias a fideicomisos, mandatos y otros análogos (etiquetado)",null,null,0,0,null,0]
["82100-413","Transferencias a la seguridad social (no etiquetado)",null,null,0,0,null,0]
["82100-414","Transferencias a la seguridad social (etiquetado)",null,null,0,0,null,0]
["82100-415","Donativos (no etiquetado)",null,null,0,0,null,0]
["82100-416","Donativos (etiquetado)",null,null,0,0,null,0]
["82100-417","Transferencias al exterior (no etiquetado)",null,null,0,0,null,0]
["82100-418","Transferencias al exterior (etiquetado)",null,null,0,0,null,0]
["82100-500","Bienes muebles, inmuebles e intangibles",null,null,{"$f":"SUM(E1205:E1222)","v":0},{"$f":"SUM(F1205:F1222)","v":0},null,0]
["82100-501","Mobiliario y equipo de administración (no etiquetado)",null,null,0,0,null,0]
["82100-502","Mobiliario y equipo de administración (etiquetado)",null,null,0,0,null,0]
["82100-503","Mobiliario y equipo educacional y recreativo (no etiquetado)",null,null,0,0,null,0]
["82100-504","Mobiliario y equipo educacional y recreativo (etiquetado)",null,null,0,0,null,0]
["82100-505","Equipo instrumental médico y de laboratorio (no etiquetado)",null,null,0,0,null,0]
["82100-506","Equipo instrumental médico y de laboratorio (etiquetado)",null,null,0,0,null,0]
["82100-507","Vehículos y equipo de transporte (no etiquetado)",null,null,0,0,null,0]
["82100-508","Vehículos y equipo de transporte (etiquetado)",null,null,0,0,null,0]
["82100-509","Equipo de defensa y seguridad (no etiquetado)",null,null,0,0,null,0]
["82100-510","Equipo de defensa y seguridad (etiquetado)",null,null,0,0,null,0]
["82100-511","Maquinaria, otros equipos y herramientas (no etiquetado)",null,null,0,0,null,0]
["82100-512","Maquinaria, otros equipos y herramientas (etiquetado)",null,null,0,0,null,0]
["82100-513","Activos biológicos (no etiquetado)",null,null,0,0,null,0]
["82100-514","Activos biológicos (etiquetado)",null,null,0,0,null,0]
["82100-515","Bienes inmuebles (no etiquetado)",null,null,0,0,null,0]
["82100-516","Bienes inmuebles (etiquetado)",null,null,0,0,null,0]
["82100-517","Activos intangibles (no etiquetado)",null,null,0,0,null,0]
["82100-518","Activos intangibles (etiquetado)",null,null,0,0,null,0]
["82100-600","Inversión pública",null,null,{"$f":"SUM(E1224:E1229)","v":0},{"$f":"SUM(F1224:F1229)","v":11086710},null,11086710]
["82100-601","Obra pública en bienes de dominio público (no etiquetado)",null,null,0,0,null,0]
["82100-602","Obra pública en bienes de dominio público (etiquetado)",null,null,0,11086710,null,11086710]
["82100-603","Obra pública en bienes de dominio propios (no etiquetado)",null,null,0,0,null,0]
["82100-604","Obra pública en bienes de dominio propios (etiquetado)",null,null,0,0,null,0]
["82100-605","Proyectos productivos y acciones de fomento (no etiquetado)",null,null,0,0,null,0]
["82100-606","Proyectos productivos y acciones de fomento (etiquetado)",null,null,0,0,null,0]
["82100-700","Inversiones financieras y otras provisiones",null,null,{"$f":"SUM(E1231:E1244)","v":0},{"$f":"SUM(F1231:F1244)","v":0},null,0]
["82100-701","Inversiones para el fomento de actividades productivas (no etiquetado)",null,null,0,0,null,0]
["82100-702","Inversiones para el fomento de actividades productivas (etiquetado)",null,null,0,0,null,0]
["82100-703","Acciones y participaciones de capital (no etiquetado)",null,null,0,0,null,0]
["82100-704","Acciones y participaciones de capital (etiquetado)",null,null,0,0,null,0]
["82100-705","Compra de títulos y valores (no etiquetado)",null,null,0,0,null,0]
["82100-706","Compra de títulos y valores (etiquetado)",null,null,0,0,null,0]
["82100-707","Concesión de préstamos (no etiquetado)",null,null,0,0,null,0]
["82100-708","Concesión de préstamos (etiquetado)",null,null,0,0,null,0]
["82100-709","Inversiones en fideicomisos, mandatos y otros análogos (no etiquetado)",null,null,0,0,null,0]
["82100-710","Inversiones en fideicomisos, mandatos y otros análogos (etiquetado)",null,null,0,0,null,0]
["82100-711","Otras inversiones financieras (no etiquetado)",null,null,0,0,null,0]
["82100-712","Otras inversiones financieras (etiquetado)",null,null,0,0,null,0]
["82100-713","Provisiones para contingencias y otras erogaciones especiales (no etiquetado)",null,null,0,0,null,0]
["82100-714","Provisiones para contingencias y otras erogaciones especiales (etiquetado)",null,null,0,0,null,0]
["82100-800","Participaciones y aportaciones",null,null,{"$f":"SUM(E1246:E1251)","v":0},{"$f":"SUM(F1246:F1251)","v":0},null,0]
["82100-801","Participaciones (no etiquetado)",null,null,0,0,null,0]
["82100-802","Participaciones (etiquetado)",null,null,0,0,null,0]
["82100-803","Aportaciones (no etiquetado)",null,null,0,0,null,0]
["82100-804","Aportaciones (etiquetado)",null,null,0,0,null,0]
["82100-805","Convenios (no etiquetado)",null,null,0,0,null,0]
["82100-806","Convenios (etiquetado)",null,null,0,0,null,0]
["82100-900","Deuda pública",null,null,{"$f":"SUM(E1253:E1266)","v":0},{"$f":"SUM(F1253:F1266)","v":2038455},null,2038455]
["82100-901","Amortización de la deuda pública (no etiquetado)",null,null,0,2000000,null,2000000]
["82100-902","Amortización de la deuda pública (etiquetado)",null,null,0,0,null,0]
["82100-903","Intereses de la deuda pública (no etiquetado)",null,null,0,38455,null,38455]
["82100-904","Intereses de la deuda pública (etiquetado)",null,null,0,0,null,0]
["82100-905","Comisiones de la deuda pública (no etiquetado)",null,null,0,0,null,0]
["82100-906","Comisiones de la deuda pública (etiquetado)",null,null,0,0,null,0]
["82100-907","Gastos de la deuda pública (no etiquetado)",null,null,0,0,null,0]
["82100-908","Gastos de la deuda pública (etiquetado)",null,null,0,0,null,{"$f":"F1260-E1260","v":0}]
["82100-909","Costo por coberturas (no etiquetado)",null,null,0,0,null,0]
["82100-910","Costo por coberturas (etiquetado)",null,null,0,0,null,0]
["82100-911","Apoyos financieros (no etiquetado)",null,null,0,0,null,0]
["82100-912","Apoyos financieros (etiquetado)",null,null,0,0,null,0]
["82100-913","Adeudos de ejercicios anteriores (adefas) (no etiquetado)",null,null,0,0,null,0]
["82100-914","Adeudos de ejercicios anteriores (adefas) (etiquetado)",null,null,0,0,null,0]
[82200,"PRESUPUESTO DE EGRESOS POR EJERCER",null,null,{"$f":"E1268+E1283+E1302+E1321+E1340+E1359+E1366+E1381+E1388","v":44998818},{"$f":"F1268+F1283+F1302+F1321+F1340+F1359+F1366+F1381+F1388","v":49049839.680000007},{"$f":"E1267-F1267","v":-4051021.6800000072}]
["82200-100","Servicios personales",null,null,{"$f":"SUM(E1269:E1282)","v":16806207},{"$f":"SUM(F1269:F1282)","v":18118436.470000003},{"$f":"E1268-F1268","v":-1312229.4700000025}]
["82200-101","Remuneraciones al personal de carácter permanente (no etiquetado)",null,null,9215244,10250517.66,-1035273.6600000001]
["82200-102","Remuneraciones al personal de carácter permanente (etiquetado)",null,null,1242168,0,1242168]
["82200-103","Remuneraciones al personal de carácter transitorio (no etiquetado)",null,null,3988817,5809910.1900000004,-1821093.1900000004]
["82200-104","Remuneraciones al personal de carácter transitorio (etiquetado)",null,null,0,0,0]
["82200-105","Remuneraciones adicionales especiales (no etiquetado)",null,null,2159978,1992316.62,167661.37999999989]
["82200-106","Remuneraciones adicionales especiales (etiquetado)",null,null,0,0,0]
["82200-107","Seguridad social (no etiquetado)",null,null,0,0,0]
["82200-108","Seguridad social (etiquetado)",null,null,0,0,0]
["82200-109","Otras prestaciones sociales y económicas (no etiquetado)",null,null,200000,65692,134308]
["82200-110","Otras prestaciones sociales y económicas (etiquetado)",null,null,0,0,0]
["82200-111","Previsiones (no etiquetado)",null,null,0,0,0]
["82200-112","Previsiones (etiquetado)",null,null,0,0,0]
["82200-113","Pago de estímulos a servidores públicos (no etiquetado)",null,null,0,0,0]
["82200-114","Pago de estímulos a servidores públicos (etiquetado)",null,null,0,0,0]
["82200-200","Materiales y suministros",null,null,{"$f":"SUM(E1284:E1301)","v":4635580},{"$f":"SUM(F1284:F1301)","v":3906677.51},728902.49000000022]
["82200-201","Materiales de administración, emisión de documentos y artículos oficiales (no etiquetado)",null,null,280000,341096.15,-61096.150000000023]
["82200-202","Materiales de administración, emisión de documentos y artículos oficiales (etiquetado)",null,null,0,0,0]
["82200-203","Alimentos y utensilios (no etiquetado)",null,null,262000,287688.86,-25688.859999999986]
["82200-204","Alimentos y utensilios (etiquetado)",null,null,40000,4850,35150]
["82200-205","Materias primas y materiales de producción y comercialización (no etiquetado)",null,null,0,0,0]
["82200-206","Materias primas y materiales de producción y comercialización (etiquetado)",null,null,0,0,0]
["82200-207","Materiales y artículos de construcción y de reparación (no etiquetado)",null,null,520000,521026.72,-1026.7199999999721]
["82200-208","Materiales y artículos de construcción y de reparación (etiquetado)",null,null,0,49158,-49158]
["82200-209","Productos químicos, farmacéuticos y de laboratorio (no etiquetado)",null,null,305000,147463.75,157536.25]
["82200-210","Productos químicos, farmacéuticos y de laboratorio (etiquetado)",null,null,40000,8200.93,31799.07]
["82200-211","Combustibles, lubricantes y aditivos (no etiquetado)",null,null,2143580,1845124.4,298455.60000000009]
["82200-212","Combustibles, lubricantes y aditivos (etiquetado)",null,null,480000,105803.16,374196.83999999997]
["82200-213","Vestuario, blancos, prendas de protección y artículos deportivos (no etiquetado)",null,null,100000,98676.47,1323.5299999999988]
["82200-214","Vestuario, blancos, prendas de protección y artículos deportivos (etiquetado)",null,null,30000,0,30000]
["82200-215","Materiales y suministros de seguridad (no etiquetado)",null,null,0,0,0]
["82200-216","Materiales y suministros de seguridad (etiquetado)",null,null,15000,0,15000]
["82200-217","Herramientas, refacciones y accesorios menores (no etiquetado)",null,null,360000,491389.07,-131389.07]
["82200-218","Herramientas, refacciones y accesorios menores (etiquetado)",null,null,60000,6200,53800]
["82200-300","Servicios generales",null,null,{"$f":"SUM(E1303:E1320)","v":7342988},{"$f":"SUM(F1303:F1320)","v":11709801.48},-4366813.4800000004]
["82200-301","Servicios básicos (no etiquetado)",null,null,467940,450987.14,16952.859999999986]
["82200-302","Servicios básicos (etiquetado)",null,null,2888788,4955930.2300000004,-2067142.2300000004]
["82200-303","Servicios de arrendamiento (no etiquetado)",null,null,194960,311487.52,-116527.52000000002]
["82200-304","Servicios de arrendamiento (etiquetado)",null,null,0,0,0]
["82200-305","Servicios profesionales, científicos, técnicos y otros servicios (no etiquetado)",null,null,10000,306097.40000000002,-296097.40000000002]
["82200-306","Servicios profesionales, científicos, técnicos y otros servicios (etiquetado)",null,null,0,0,0]
["82200-307","Servicios financieros, bancarios y comerciales (no etiquetado)",null,null,127000,125159.95,1840.0500000000029]
["82200-308","Servicios financieros, bancarios y comerciales (etiquetado)",null,null,123000,3236.64,119763.36]
["82200-309","Servicios de instalación, reparación, mantenimiento y conservación (no etiquetado)",null,null,1695000,2154074.7400000002,-459074.74000000022]
["82200-310","Servicios de instalación, reparación, mantenimiento y conservación (etiquetado)",null,null,0,0,0]
["82200-311","Servicios de comunicación social y publicidad (no etiquetado)",null,null,30000,44660,-14660]
["82200-312","Servicios de comunicación social y publicidad (etiquetado)",null,null,0,0,0]
["82200-313","Servicios de traslado y viáticos (no etiquetado)",null,null,186000,450459.8,-264459.8]
["82200-314","Servicios de traslado y viáticos (etiquetado)",null,null,0,0,0]
["82200-315","Servicios oficiales (no etiquetado)",null,null,720000,504090.52,215909.47999999998]
["82200-316","Servicios oficiales (etiquetado)",null,null,0,0,0]
["82200-317","Otros servicios generales (no etiquetado)",null,null,900300,2403617.54,-1503317.54]
["82200-318","Otros servicios generales (etiquetado)",null,null,0,0,0]
["82200-400","Transferencias, asignaciones, subsidios y otras ayudas ",null,null,{"$f":"SUM(E1322:E1339)","v":3088878},{"$f":"SUM(F1322:F1339)","v":3503874.62},-414996.62000000011]
["82200-401","Transferencias internas y asignaciones al sector público (no etiquetado)",null,null,0,1020000,-1020000]
["82200-402","Transferencias internas y asignaciones al sector público (etiquetado)",null,null,0,0,0]
["82200-403","Transferencias al resto del sector público (no etiquetado)",null,null,1320000,480000,840000]
["82200-404","Transferencias al resto del sector público (etiquetado)",null,null,0,0,0]
["82200-405","Subsidios y subvenciones (no etiquetado)",null,null,0,0,0]
["82200-406","Subsidios y subvenciones (etiquetado)",null,null,0,0,0]
["82200-407","Ayudas sociales (no etiquetado)",null,null,1768878,2003874.62,-234996.62000000011]
["82200-408","Ayudas sociales  (etiquetado)",null,null,0,0,0]
["82200-409","Pensiones y jubilaciones (no etiquetado)",null,null,0,0,0]
["82200-410","Pensiones y jubilaciones (etiquetado)",null,null,0,0,0]
["82200-411","Transferencias a fideicomisos, mandatos y otros análogos (no etiquetado)",null,null,0,0,{"$f":"E1332-F1332","v":0}]
["82200-412","Transferencias a fideicomisos, mandatos y otros análogos (etiquetado)",null,null,0,0,0]
["82200-413","Transferencias a la seguridad social (no etiquetado)",null,null,0,0,0]
["82200-414","Transferencias a la seguridad social (etiquetado)",null,null,0,0,0]
["82200-415","Donativos (no etiquetado)",null,null,0,0,0]
["82200-416","Donativos (etiquetado)",null,null,0,0,0]
["82200-417","Transferencias al exterior (no etiquetado)",null,null,0,0,0]
["82200-418","Transferencias al exterior (etiquetado)",null,null,0,0,0]
["82200-500","Bienes muebles, inmuebles e Intangibles",null,null,{"$f":"SUM(E1341:E1358)","v":0},{"$f":"SUM(F1341:F1358)","v":360412.97},-360412.97]
["82200-501","Mobiliario y equipo de administración (no etiquetado)",null,null,0,98945.85,-98945.85]
["82200-502","Mobiliario y equipo de administración (etiquetado)",null,null,0,33967.120000000003,-33967.120000000003]
["82200-503","Mobiliario y equipo educacional y recreativo (no etiquetado)",null,null,0,0,0]
["82200-504","Mobiliario y equipo educacional y recreativo (etiquetado)",null,null,0,0,0]
["82200-505","Equipo instrumental médico y de laboratorio (no etiquetado)",null,null,0,0,0]
["82200-506","Equipo instrumental médico y de laboratorio (etiquetado)",null,null,0,0,0]
["82200-507","Vehículos y equipo de transporte (no etiquetado)",null,null,0,227500,-227500]
["82200-508","Vehículos y equipo de transporte (etiquetado)",null,null,0,0,0]
["82200-509","Equipo de defensa y seguridad (no etiquetado)",null,null,0,0,0]
["82200-510","Equipo de defensa y seguridad (etiquetado)",null,null,0,0,0]
["82200-511","Maquinaria, otros equipos y herramientas (no etiquetado)",null,null,0,0,0]
["82200-512","Maquinaria, otros equipos y herramientas (etiquetado)",null,null,0,0,0]
["82200-513","Activos biológicos (no etiquetado)",null,null,0,0,0]
["82200-514","Activos biológicos (etiquetado)",null,null,0,0,0]
["82200-515","Bienes inmuebles (no etiquetado)",null,null,0,0,0]
["82200-516","Bienes inmuebles (etiquetado)",null,null,0,0,0]
["82200-517","Activos intangibles (no etiquetado)",null,null,0,0,0]
["82200-518","Activos intangibles (etiquetado)",null,null,0,0,0]
["82200-600","Inversión pública",null,null,{"$f":"SUM(E1360:E1365)","v":11086710},{"$f":"SUM(F1360:F1365)","v":8962182.4199999999},2124527.58]
["82200-601","Obra pública en bienes de dominio público (no etiquetado)",null,null,0,1175395.26,-1175395.26]
["82200-602","Obra pública en bienes de dominio público (etiquetado)",null,null,11086710,7786787.1600000001,3299922.84]
["82200-603","Obra pública en bienes de dominio propios (no etiquetado)",null,null,0,0,0]
["82200-604","Obra pública en bienes de dominio propios (etiquetado)",null,null,0,0,0]
["82200-605","Proyectos productivos y acciones de fomento (no etiquetado)",null,null,0,0,0]
["82200-606","Proyectos productivos y acciones de fomento (etiquetado)",null,null,0,0,0]
["82200-700","Inversiones financieras y otras provisiones",null,null,{"$f":"SUM(E1367:E1380)","v":0},{"$f":"SUM(F1367:F1380)","v":0},0]
["82200-701","Inversiones para el fomento de actividades productivas (no etiquetado)",null,null,0,0,0]
["82200-702","Inversiones para el fomento de actividades productivas (etiquetado)",null,null,0,0,0]
["82200-703","Acciones y participaciones de capital (no etiquetado)",null,null,0,0,0]
["82200-704","Acciones y participaciones de capital (etiquetado)",null,null,0,0,0]
["82200-705","Compra de títulos y valores (no etiquetado)",null,null,0,0,0]
["82200-706","Compra de títulos y valores (etiquetado)",null,null,0,0,0]
["82200-707","Concesión de préstamos (no etiquetado)",null,null,0,0,0]
["82200-708","Concesión de préstamos (etiquetado)",null,null,0,0,0]
["82200-709","Inversiones en fideicomisos, mandatos y otros análogos (no etiquetado)",null,null,0,0,0]
["82200-710","Inversiones en fideicomisos, mandatos y otros análogos (etiquetado)",null,null,0,0,0]
["82200-711","Otras inversiones financieras (no etiquetado)",null,null,0,0,0]
["82200-712","Otras inversiones financieras (etiquetado)",null,null,0,0,0]
["82200-713","Provisiones para contingencias y otras erogaciones especiales (no etiquetado)",null,null,0,0,0]
["82200-714","Provisiones para contingencias y otras erogaciones especiales (etiquetado)",null,null,0,0,0]
["82200-800","Participaciones y aportaciones",null,null,{"$f":"SUM(E1382:E1387)","v":0},{"$f":"SUM(F1382:F1387)","v":0},0]
["82200-801","Participaciones (no etiquetado)",null,null,0,0,0]
["82200-802","Participaciones (etiquetado)",null,null,0,0,0]
["82200-803","Aportaciones (no etiquetado)",null,null,0,0,0]
["82200-804","Aportaciones (etiquetado)",null,null,0,0,0]
["82200-805","Convenios (no etiquetado)",null,null,0,0,0]
["82200-806","Convenios (etiquetado)",null,null,0,0,0]
["82200-900","Deuda pública",null,null,{"$f":"SUM(E1389:E1402)","v":2038455},{"$f":"SUM(F1389:F1402)","v":2488454.21},-449999.20999999996]
["82200-901","Amortización de la deuda pública (no etiquetado)",null,null,2000000,2450000,-450000]
["82200-902","Amortización de la deuda pública (etiquetado)",null,null,0,0,0]
["82200-903","Intereses de la deuda pública (no etiquetado)",null,null,38455,38454.21,0.79000000000087311]
["82200-904","Intereses de la deuda pública (etiquetado)",null,null,0,0,0]
["82200-905","Comisiones de la deuda pública (no etiquetado)",null,null,0,0,0]
["82200-906","Comisiones de la deuda pública (etiquetado)",null,null,0,0,0]
["82200-907","Gastos de la deuda pública (no etiquetado)",null,null,0,0,0]
["82200-908","Gastos de la deuda pública (etiquetado)",null,null,0,0,{"$f":"E1396-F1396","v":0}]
["82200-909","Costo por coberturas (no etiquetado)",null,null,0,0,0]
["82200-910","Costo por coberturas (etiquetado)",null,null,0,0,0]
["82200-911","Apoyos financieros (no etiquetado)",null,null,0,0,0]
["82200-912","Apoyos financieros (etiquetado)",null,null,0,0,0]
["82200-913","Adeudos de ejercicios anteriores (adefas) (no etiquetado)",null,null,0,0,0]
["82200-914","Adeudos de ejercicios anteriores (adefas) (etiquetado)",null,null,0,0,0]
[82300,"MODIFICACIONES AL PRESUPUESTO DE EGRESOS APROBADO",null,null,{"$f":"E1404+E1419+E1438+E1457+E1476+E1495+E1502+E1517+E1524","v":0},{"$f":"F1404+F1419+F1438+F1457+F1476+F1495+F1502+F1517+F1524","v":0},null,{"$f":"F1403-E1403","v":0}]
["82300-100","Servicios personales",null,null,{"$f":"SUM(E1405:E1418)","v":0},{"$f":"SUM(F1405:F1418)","v":0},null,{"$f":"F1404-E1404","v":0}]
["82300-101","Remuneraciones al personal de carácter permanente (no etiquetado)",null,null,0,0,null,0]
["82300-102","Remuneraciones al personal de carácter permanente (etiquetado)",null,null,0,0,null,0]
["82300-103","Remuneraciones al personal de carácter transitorio (no etiquetado)",null,null,0,0,null,0]
["82300-104","Remuneraciones al personal de carácter transitorio (etiquetado)",null,null,0,0,null,0]
["82300-105","Remuneraciones adicionales especiales (no etiquetado)",null,null,0,0,null,0]
["82300-106","Remuneraciones adicionales especiales (etiquetado)",null,null,0,0,null,0]
["82300-107","Seguridad social (no etiquetado)",null,null,0,0,null,0]
["82300-108","Seguridad social (etiquetado)",null,null,0,0,null,0]
["82300-109","Otras prestaciones sociales y económicas (no etiquetado)",null,null,0,0,null,0]
["82300-110","Otras prestaciones sociales y económicas (etiquetado)",null,null,0,0,null,0]
["82300-111","Previsiones (no etiquetado)",null,null,0,0,null,0]
["82300-112","Previsiones (etiquetado)",null,null,0,0,null,0]
["82300-113","Pago de estímulos a servidores públicos (no etiquetado)",null,null,0,0,null,0]
["82300-114","Pago de estímulos a servidores públicos (etiquetado)",null,null,0,0,null,0]
["82300-200","Materiales y suministros",null,null,{"$f":"SUM(E1420:E1437)","v":0},{"$f":"SUM(F1420:F1437)","v":0},null,0]
["82300-201","Materiales de administración, emisión de documentos y artículos oficiales (no etiquetado)",null,null,0,0,null,0]
["82300-202","Materiales de administración, emisión de documentos y artículos oficiales (etiquetado)",null,null,0,0,null,0]
["82300-203","Alimentos y utensilios (no etiquetado)",null,null,0,0,null,0]
["82300-204","Alimentos y utensilios (etiquetado)",null,null,0,0,null,0]
["82300-205","Materias primas y materiales de producción y comercialización (no etiquetado)",null,null,0,0,null,0]
["82300-206","Materias primas y materiales de producción y comercialización (etiquetado)",null,null,0,0,null,0]
["82300-207","Materiales y artículos de construcción y de reparación (no etiquetado)",null,null,0,0,null,0]
["82300-208","Materiales y artículos de construcción y de reparación (etiquetado)",null,null,0,0,null,0]
["82300-209","Productos químicos, farmacéuticos y de laboratorio (no etiquetado)",null,null,0,0,null,0]
["82300-210","Productos químicos, farmacéuticos y de laboratorio (etiquetado)",null,null,0,0,null,0]
["82300-211","Combustibles, lubricantes y aditivos (no etiquetado)",null,null,0,0,null,0]
["82300-212","Combustibles, lubricantes y aditivos (etiquetado)",null,null,0,0,null,0]
["82300-213","Vestuario, blancos, prendas de protección y artículos deportivos (no etiquetado)",null,null,0,0,null,0]
["82300-214","Vestuario, blancos, prendas de protección y artículos deportivos (etiquetado)",null,null,0,0,null,0]
["82300-215","Materiales y suministros de seguridad (no etiquetado)",null,null,0,0,null,0]
["82300-216","Materiales y suministros de seguridad (etiquetado)",null,null,0,0,null,0]
["82300-217","Herramientas, refacciones y accesorios menores (no etiquetado)",null,null,0,0,null,0]
["82300-218","Herramientas, refacciones y accesorios menores (etiquetado)",null,null,0,0,null,0]
["82300-300","Servicios generales",null,null,{"$f":"SUM(E1439:E1456)","v":0},{"$f":"SUM(F1439:F1456)","v":0},null,0]
["82300-301","Servicios básicos (no etiquetado)",null,null,0,0,null,0]
["82300-302","Servicios básicos (etiquetado)",null,null,0,0,null,0]
["82300-303","Servicios de arrendamiento (no etiquetado)",null,null,0,0,null,0]
["82300-304","Servicios de arrendamiento (etiquetado)",null,null,0,0,null,0]
["82300-305","Servicios profesionales, científicos, técnicos y otros servicios (no etiquetado)",null,null,0,0,null,0]
["82300-306","Servicios profesionales, científicos, técnicos y otros servicios (etiquetado)",null,null,0,0,null,0]
["82300-307","Servicios financieros, bancarios y comerciales (no etiquetado)",null,null,0,0,null,0]
["82300-308","Servicios financieros, bancarios y comerciales (etiquetado)",null,null,0,0,null,0]
["82300-309","Servicios de instalación, reparación, mantenimiento y conservación (no etiquetado)",null,null,0,0,null,0]
["82300-310","Servicios de instalación, reparación, mantenimiento y conservación (etiquetado)",null,null,0,0,null,0]
["82300-311","Servicios de comunicación social y publicidad (no etiquetado)",null,null,0,0,null,0]
["82300-312","Servicios de comunicación social y publicidad (etiquetado)",null,null,0,0,null,0]
["82300-313","Servicios de traslado y viáticos (no etiquetado)",null,null,0,0,null,0]
["82300-314","Servicios de traslado y viáticos (etiquetado)",null,null,0,0,null,0]
["82300-315","Servicios oficiales (no etiquetado)",null,null,0,0,null,0]
["82300-316","Servicios oficiales (etiquetado)",null,null,0,0,null,0]
["82300-317","Otros servicios generales (no etiquetado)",null,null,0,0,null,0]
["82300-318","Otros servicios generales (etiquetado)",null,null,0,0,null,0]
["82300-400","Transferencias, asignaciones, subsidios y otras ayudas ",null,null,{"$f":"SUM(E1458:E1475)","v":0},{"$f":"SUM(F1458:F1475)","v":0},null,0]
["82300-401","Transferencias internas y asignaciones al sector público (no etiquetado)",null,null,0,0,null,0]
["82300-402","Transferencias internas y asignaciones al sector público (etiquetado)",null,null,0,0,null,0]
["82300-403","Transferencias al resto del sector público (no etiquetado)",null,null,0,0,null,0]
["82300-404","Transferencias al resto del sector público (etiquetado)",null,null,0,0,null,0]
["82300-405","Subsidios y subvenciones (no etiquetado)",null,null,0,0,null,0]
["82300-406","Subsidios y subvenciones (etiquetado)",null,null,0,0,null,0]
["82300-407","Ayudas sociales (no etiquetado)",null,null,0,0,null,0]
["82300-408","Ayudas sociales  (etiquetado)",null,null,0,0,null,0]
["82300-409","Pensiones y jubilaciones (no etiquetado)",null,null,0,0,null,0]
["82300-410","Pensiones y jubilaciones (etiquetado)",null,null,0,0,null,0]
["82300-411","Transferencias a fideicomisos, mandatos y otros análogos (no etiquetado)",null,null,0,0,null,{"$f":"F1468-E1468","v":0}]
["82300-412","Transferencias a fideicomisos, mandatos y otros análogos (etiquetado)",null,null,0,0,null,0]
["82300-413","Transferencias a la seguridad social (no etiquetado)",null,null,0,0,null,0]
["82300-414","Transferencias a la seguridad social (etiquetado)",null,null,0,0,null,0]
["82300-415","Donativos (no etiquetado)",null,null,0,0,null,0]
["82300-416","Donativos (etiquetado)",null,null,0,0,null,0]
["82300-417","Transferencias al exterior (no etiquetado)",null,null,0,0,null,0]
["82300-418","Transferencias al exterior (etiquetado)",null,null,0,0,null,0]
["82300-500","Bienes muebles, inmuebles e intangibles",null,null,{"$f":"SUM(E1477:E1494)","v":0},{"$f":"SUM(F1477:F1494)","v":0},null,0]
["82300-501","Mobiliario y equipo de administración (no etiquetado)",null,null,0,0,null,0]
["82300-502","Mobiliario y equipo de administración (etiquetado)",null,null,0,0,null,0]
["82300-503","Mobiliario y equipo educacional y recreativo (no etiquetado)",null,null,0,0,null,0]
["82300-504","Mobiliario y equipo educacional y recreativo (etiquetado)",null,null,0,0,null,0]
["82300-505","Equipo instrumental médico y de laboratorio (no etiquetado)",null,null,0,0,null,0]
["82300-506","Equipo instrumental médico y de laboratorio (etiquetado)",null,null,0,0,null,0]
["82300-507","Vehículos y equipo de transporte (no etiquetado)",null,null,0,0,null,0]
["82300-508","Vehículos y equipo de transporte (etiquetado)",null,null,0,0,null,0]
["82300-509","Equipo de defensa y seguridad (no etiquetado)",null,null,0,0,null,0]
["82300-510","Equipo de defensa y seguridad (etiquetado)",null,null,0,0,null,0]
["82300-511","Maquinaria, otros equipos y herramientas (no etiquetado)",null,null,0,0,null,0]
["82300-512","Maquinaria, otros equipos y herramientas (etiquetado)",null,null,0,0,null,0]
["82300-513","Activos biológicos (no etiquetado)",null,null,0,0,null,0]
["82300-514","Activos biológicos (etiquetado)",null,null,0,0,null,0]
["82300-515","Bienes inmuebles (no etiquetado)",null,null,0,0,null,0]
["82300-516","Bienes inmuebles (etiquetado)",null,null,0,0,null,0]
["82300-517","Activos intangibles (no etiquetado)",null,null,0,0,null,0]
["82300-518","Activos intangibles (etiquetado)",null,null,0,0,null,0]
["82300-600","Inversión pública",null,null,{"$f":"SUM(E1496:E1501)","v":0},{"$f":"SUM(F1496:F1501)","v":0},null,0]
["82300-601","Obra pública en bienes de dominio público (no etiquetado)",null,null,0,0,null,0]
["82300-602","Obra pública en bienes de dominio público (etiquetado)",null,null,0,0,null,0]
["82300-603","Obra pública en bienes de dominio propios (no etiquetado)",null,null,0,0,null,0]
["82300-604","Obra pública en bienes de dominio propios (etiquetado)",null,null,0,0,null,0]
["82300-605","Proyectos productivos y acciones de fomento (no etiquetado)",null,null,0,0,null,0]
["82300-606","Proyectos productivos y acciones de fomento (etiquetado)",null,null,0,0,null,0]
["82300-700","Inversiones financieras y otras provisiones",null,null,{"$f":"SUM(E1503:E1516)","v":0},{"$f":"SUM(F1503:F1516)","v":0},null,0]
["82300-701","Inversiones para el fomento de actividades productivas (no etiquetado)",null,null,0,0,null,0]
["82300-702","Inversiones para el fomento de actividades productivas (etiquetado)",null,null,0,0,null,0]
["82300-703","Acciones y participaciones de capital (no etiquetado)",null,null,0,0,null,0]
["82300-704","Acciones y participaciones de capital (etiquetado)",null,null,0,0,null,0]
["82300-705","Compra de títulos y valores (no etiquetado)",null,null,0,0,null,0]
["82300-706","Compra de títulos y valores (etiquetado)",null,null,0,0,null,0]
["82300-707","Concesión de préstamos (no etiquetado)",null,null,0,0,null,0]
["82300-708","Concesión de préstamos (etiquetado)",null,null,0,0,null,0]
["82300-709","Inversiones en fideicomisos, mandatos y otros análogos (no etiquetado)",null,null,0,0,null,0]
["82300-710","Inversiones en fideicomisos, mandatos y otros análogos (etiquetado)",null,null,0,0,null,0]
["82300-711","Otras inversiones financieras (no etiquetado)",null,null,0,0,null,0]
["82300-712","Otras inversiones financieras (etiquetado)",null,null,0,0,null,0]
["82300-713","Provisiones para contingencias y otras erogaciones especiales (no etiquetado)",null,null,0,0,null,0]
["82300-714","Provisiones para contingencias y otras erogaciones especiales (etiquetado)",null,null,0,0,null,0]
["82300-800","Participaciones y aportaciones",null,null,{"$f":"SUM(E1518:E1523)","v":0},{"$f":"SUM(F1518:F1523)","v":0},null,0]
["82300-801","Participaciones (no etiquetado)",null,null,0,0,null,0]
["82300-802","Participaciones (etiquetado)",null,null,0,0,null,0]
["82300-803","Aportaciones (no etiquetado)",null,null,0,0,null,0]
["82300-804","Aportaciones (etiquetado)",null,null,0,0,null,0]
["82300-805","Convenios (no etiquetado)",null,null,0,0,null,0]
["82300-806","Convenios (etiquetado)",null,null,0,0,null,0]
["82300-900","Deuda pública",null,null,{"$f":"SUM(E1525:E1538)","v":0},{"$f":"SUM(F1525:F1538)","v":0},null,0]
["82300-901","Amortización de la deuda pública (no etiquetado)",null,null,0,0,null,0]
["82300-902","Amortización de la deuda pública (etiquetado)",null,null,0,0,null,0]
["82300-903","Intereses de la deuda pública (no etiquetado)",null,null,0,0,null,0]
["82300-904","Intereses de la deuda pública (etiquetado)",null,null,0,0,null,0]
["82300-905","Comisiones de la deuda pública (no etiquetado)",null,null,0,0,null,0]
["82300-906","Comisiones de la deuda pública (etiquetado)",null,null,0,0,null,0]
["82300-907","Gastos de la deuda pública (no etiquetado)",null,null,0,0,null,0]
["82300-908","Gastos de la deuda pública (etiquetado)",null,null,0,0,null,{"$f":"F1532-E1532","v":0}]
["82300-909","Costo por coberturas (no etiquetado)",null,null,0,0,null,0]
["82300-910","Costo por coberturas (etiquetado)",null,null,0,0,null,0]
["82300-911","Apoyos financieros (no etiquetado)",null,null,0,0,null,0]
["82300-912","Apoyos financieros (etiquetado)",null,null,0,0,null,0]
["82300-913","Adeudos de ejercicios anteriores (adefas) (no etiquetado)",null,null,0,0,null,0]
["82300-914","Adeudos de ejercicios anteriores (adefas) (etiquetado)",null,null,0,0,null,0]
[82400,"PRESUPUESTO DE EGRESOS COMPROMETIDO",null,null,{"$f":"E1540+E1555+E1574+E1593+E1612+E1631+E1638+E1653+E1660","v":49049839.680000007},{"$f":"F1540+F1555+F1574+F1593+F1612+F1631+F1638+F1653+F1660","v":49049839.680000007},{"$f":"E1539-F1539","v":0}]
["82400-100","Servicios personales",null,null,{"$f":"SUM(E1541:E1554)","v":18118436.470000003},{"$f":"SUM(F1541:F1554)","v":18118436.470000003},{"$f":"E1540-F1540","v":0}]
["82400-101","Remuneraciones al personal de carácter permanente (no etiquetado)",null,null,10250517.66,10250517.66,0]
["82400-102","Remuneraciones al personal de carácter permanente (etiquetado)",null,null,0,0,0]
["82400-103","Remuneraciones al personal de carácter transitorio (no etiquetado)",null,null,5809910.1900000004,5809910.1900000004,0]
["82400-104","Remuneraciones al personal de carácter transitorio (etiquetado)",null,null,0,0,0]
["82400-105","Remuneraciones adicionales especiales (no etiquetado)",null,null,1992316.62,1992316.62,0]
["82400-106","Remuneraciones adicionales especiales (etiquetado)",null,null,0,0,0]
["82400-107","Seguridad social (no etiquetado)",null,null,0,0,0]
["82400-108","Seguridad social (etiquetado)",null,null,0,0,0]
["82400-109","Otras prestaciones sociales y económicas (no etiquetado)",null,null,65692,65692,0]
["82400-110","Otras prestaciones sociales y económicas (etiquetado)",null,null,0,0,0]
["82400-111","Previsiones (no etiquetado)",null,null,0,0,0]
["82400-112","Previsiones (etiquetado)",null,null,0,0,0]
["82400-113","Pago de estímulos a servidores públicos (no etiquetado)",null,null,0,0,0]
["82400-114","Pago de estímulos a servidores públicos (etiquetado)",null,null,0,0,0]
["82400-200","Materiales y suministros",null,null,{"$f":"SUM(E1556:E1573)","v":3906677.51},{"$f":"SUM(F1556:F1573)","v":3906677.51},0]
["82400-201","Materiales de administración, emisión de documentos y artículos oficiales (no etiquetado)",null,null,341096.15,341096.15,0]
["82400-202","Materiales de administración, emisión de documentos y artículos oficiales (etiquetado)",null,null,0,0,0]
["82400-203","Alimentos y utensilios (no etiquetado)",null,null,287688.86,287688.86,0]
["82400-204","Alimentos y utensilios (etiquetado)",null,null,4850,4850,0]
["82400-205","Materias primas y materiales de producción y comercialización (no etiquetado)",null,null,0,0,0]
["82400-206","Materias primas y materiales de producción y comercialización (etiquetado)",null,null,0,0,0]
["82400-207","Materiales y artículos de construcción y de reparación (no etiquetado)",null,null,521026.72,521026.72,0]
["82400-208","Materiales y artículos de construcción y de reparación (etiquetado)",null,null,49158,49158,0]
["82400-209","Productos químicos, farmacéuticos y de laboratorio (no etiquetado)",null,null,147463.75,147463.75,0]
["82400-210","Productos químicos, farmacéuticos y de laboratorio (etiquetado)",null,null,8200.93,8200.93,0]
["82400-211","Combustibles, lubricantes y aditivos (no etiquetado)",null,null,1845124.4,1845124.4,0]
["82400-212","Combustibles, lubricantes y aditivos (etiquetado)",null,null,105803.16,105803.16,0]
["82400-213","Vestuario, blancos, prendas de protección y artículos deportivos (no etiquetado)",null,null,98676.47,98676.47,0]
["82400-214","Vestuario, blancos, prendas de protección y artículos deportivos (etiquetado)",{"$nulls":4},0]
["82400-215","Materiales y suministros de seguridad (no etiquetado)",null,null,0,0,0]
["82400-216","Materiales y suministros de seguridad (etiquetado)",null,null,0,0,0]
["82400-217","Herramientas, refacciones y accesorios menores (no etiquetado)",null,null,491389.07,491389.07,0]
["82400-218","Herramientas, refacciones y accesorios menores (etiquetado)",null,null,6200,6200,0]
["82400-300","Servicios generales",null,null,{"$f":"SUM(E1575:E1592)","v":11709801.48},{"$f":"SUM(F1575:F1592)","v":11709801.48},0]
["82400-301","Servicios básicos (no etiquetado)",null,null,450987.14,450987.14,0]
["82400-302","Servicios básicos (etiquetado)",null,null,4955930.2300000004,4955930.2300000004,0]
["82400-303","Servicios de arrendamiento (no etiquetado)",null,null,311487.52,311487.52,0]
["82400-304","Servicios de arrendamiento (etiquetado)",null,null,0,0,0]
["82400-305","Servicios profesionales, científicos, técnicos y otros servicios (no etiquetado)",null,null,306097.40000000002,306097.40000000002,0]
["82400-306","Servicios profesionales, científicos, técnicos y otros servicios (etiquetado)",null,null,0,0,0]
["82400-307","Servicios financieros, bancarios y comerciales (no etiquetado)",null,null,125159.95,125159.95,0]
["82400-308","Servicios financieros, bancarios y comerciales (etiquetado)",null,null,3236.64,3236.64,0]
["82400-309","Servicios de instalación, reparación, mantenimiento y conservación (no etiquetado)",null,null,2154074.7400000002,2154074.7400000002,0]
["82400-310","Servicios de instalación, reparación, mantenimiento y conservación (etiquetado)",null,null,0,0,0]
["82400-311","Servicios de comunicación social y publicidad (no etiquetado)",null,null,44660,44660,0]
["82400-312","Servicios de comunicación social y publicidad (etiquetado)",null,null,0,0,0]
["82400-313","Servicios de traslado y viáticos (no etiquetado)",null,null,450459.8,450459.8,0]
["82400-314","Servicios de traslado y viáticos (etiquetado)",null,null,0,0,0]
["82400-315","Servicios oficiales (no etiquetado)",null,null,504090.52,504090.52,0]
["82400-316","Servicios oficiales (etiquetado)",null,null,0,0,0]
["82400-317","Otros servicios generales (no etiquetado)",null,null,2403617.54,2403617.54,0]
["82400-318","Otros servicios generales (etiquetado)",null,null,0,0,0]
["82400-400","Transferencias, asignaciones, subsidios y otras ayudas ",null,null,{"$f":"SUM(E1594:E1611)","v":3503874.62},{"$f":"SUM(F1594:F1611)","v":3503874.62},0]
["82400-401","Transferencias internas y asignaciones al sector público (no etiquetado)",null,null,1020000,1020000,0]
["82400-402","Transferencias internas y asignaciones al sector público (etiquetado)",null,null,0,0,0]
["82400-403","Transferencias al resto del sector público (no etiquetado)",null,null,480000,480000,0]
["82400-404","Transferencias al resto del sector público (etiquetado)",null,null,0,0,0]
["82400-405","Subsidios y subvenciones (no etiquetado)",null,null,0,0,0]
["82400-406","Subsidios y subvenciones (etiquetado)",null,null,0,0,0]
["82400-407","Ayudas sociales (no etiquetado)",null,null,2003874.62,2003874.62,0]
["82400-408","Ayudas sociales  (etiquetado)",null,null,0,0,0]
["82400-409","Pensiones y jubilaciones (no etiquetado)",null,null,0,0,0]
["82400-410","Pensiones y jubilaciones (etiquetado)",null,null,0,0,0]
["82400-411","Transferencias a fideicomisos, mandatos y otros análogos (no etiquetado)",null,null,0,0,{"$f":"E1604-F1604","v":0}]
["82400-412","Transferencias a fideicomisos, mandatos y otros análogos (etiquetado)",null,null,0,0,0]
["82400-413","Transferencias a la seguridad social (no etiquetado)",null,null,0,0,0]
["82400-414","Transferencias a la seguridad social (etiquetado)",null,null,0,0,0]
["82400-415","Donativos (no etiquetado)",null,null,0,0,0]
["82400-416","Donativos (etiquetado)",null,null,0,0,0]
["82400-417","Transferencias al exterior (no etiquetado)",null,null,0,0,0]
["82400-418","Transferencias al exterior (etiquetado)",null,null,0,0,0]
["82400-500","Bienes muebles, inmuebles e intangibles",null,null,{"$f":"SUM(E1613:E1630)","v":360412.97},{"$f":"SUM(F1613:F1630)","v":360412.97},0]
["82400-501","Mobiliario y equipo de administración (no etiquetado)",null,null,98945.85,98945.85,0]
["82400-502","Mobiliario y equipo de administración (etiquetado)",null,null,33967.120000000003,33967.120000000003,0]
["82400-503","Mobiliario y equipo educacional y recreativo (no etiquetado)",null,null,0,0,0]
["82400-504","Mobiliario y equipo educacional y recreativo (etiquetado)",null,null,0,0,0]
["82400-505","Equipo instrumental médico y de laboratorio (no etiquetado)",null,null,0,0,0]
["82400-506","Equipo instrumental médico y de laboratorio (etiquetado)",null,null,0,0,0]
["82400-507","Vehículos y equipo de transporte (no etiquetado)",null,null,227500,227500,0]
["82400-508","Vehículos y equipo de transporte (etiquetado)",null,null,0,0,0]
["82400-509","Equipo de defensa y seguridad (no etiquetado)",null,null,0,0,0]
["82400-510","Equipo de defensa y seguridad (etiquetado)",null,null,0,0,0]
["82400-511","Maquinaria, otros equipos y herramientas (no etiquetado)",null,null,0,0,0]
["82400-512","Maquinaria, otros equipos y herramientas (etiquetado)",null,null,0,0,0]
["82400-513","Activos biológicos (no etiquetado)",null,null,0,0,0]
["82400-514","Activos biológicos (etiquetado)",null,null,0,0,0]
["82400-515","Bienes inmuebles (no etiquetado)",null,null,0,0,0]
["82400-516","Bienes inmuebles (etiquetado)",null,null,0,0,0]
["82400-517","Activos intangibles (no etiquetado)",null,null,0,0,0]
["82400-518","Activos intangibles (etiquetado)",null,null,0,0,0]
["82400-600","Inversión pública",null,null,{"$f":"SUM(E1632:E1637)","v":8962182.4199999999},{"$f":"SUM(F1632:F1637)","v":8962182.4199999999},0]
["82400-601","Obra pública en bienes de dominio público (no etiquetado)",null,null,1175395.26,1175395.26,0]
["82400-602","Obra pública en bienes de dominio público (etiquetado)",null,null,7786787.1600000001,7786787.1600000001,0]
["82400-603","Obra pública en bienes de dominio propios (no etiquetado)",null,null,0,0,0]
["82400-604","Obra pública en bienes de dominio propios (etiquetado)",null,null,0,0,0]
["82400-605","Proyectos productivos y acciones de fomento (no etiquetado)",null,null,0,0,0]
["82400-606","Proyectos productivos y acciones de fomento (etiquetado)",null,null,0,0,0]
["82400-700","Inversiones financieras y otras provisiones",null,null,{"$f":"SUM(E1639:E1652)","v":0},{"$f":"SUM(F1639:F1652)","v":0},0]
["82400-701","Inversiones para el fomento de actividades productivas (no etiquetado)",null,null,0,0,0]
["82400-702","Inversiones para el fomento de actividades productivas (etiquetado)",null,null,0,0,0]
["82400-703","Acciones y participaciones de capital (no etiquetado)",null,null,0,0,0]
["82400-704","Acciones y participaciones de capital (etiquetado)",null,null,0,0,0]
["82400-705","Compra de títulos y valores (no etiquetado)",null,null,0,0,0]
["82400-706","Compra de títulos y valores (etiquetado)",null,null,0,0,0]
["82400-707","Concesión de préstamos (no etiquetado)",null,null,0,0,0]
["82400-708","Concesión de préstamos (etiquetado)",null,null,0,0,0]
["82400-709","Inversiones en fideicomisos, mandatos y otros análogos (no etiquetado)",null,null,0,0,0]
["82400-710","Inversiones en fideicomisos, mandatos y otros análogos (etiquetado)",null,null,0,0,0]
["82400-711","Otras inversiones financieras (no etiquetado)",null,null,0,0,0]
["82400-712","Otras inversiones financieras (etiquetado)",null,null,0,0,0]
["82400-713","Provisiones para contingencias y otras erogaciones especiales (no etiquetado)",null,null,0,0,0]
["82400-714","Provisiones para contingencias y otras erogaciones especiales (etiquetado)",null,null,0,0,0]
["82400-800","Participaciones y portaciones",null,null,{"$f":"SUM(E1654:E1659)","v":0},{"$f":"SUM(F1654:F1659)","v":0},0]
["82400-801","Participaciones (no etiquetado)",null,null,0,0,0]
["82400-802","Participaciones (etiquetado)",null,null,0,0,0]
["82400-803","Aportaciones (no etiquetado)",null,null,0,0,0]
["82400-804","Aportaciones (etiquetado)",null,null,0,0,0]
["82400-805","Convenios (no etiquetado)",null,null,0,0,0]
["82400-806","Convenios (etiquetado)",null,null,0,0,0]
["82400-900","Deuda pública",null,null,{"$f":"SUM(E1661:E1674)","v":2488454.21},{"$f":"SUM(F1661:F1674)","v":2488454.21},0]
["82400-901","Amortización de la deuda pública (no etiquetado)",null,null,2450000,2450000,0]
["82400-902","Amortización de la deuda pública (etiquetado)",null,null,0,0,0]
["82400-903","Intereses de la deuda pública (no etiquetado)",null,null,38454.21,38454.21,0]
["82400-904","Intereses de la deuda pública (etiquetado)",null,null,0,0,0]
["82400-905","Comisiones de la deuda pública (no etiquetado)",null,null,0,0,0]
["82400-906","Comisiones de la deuda pública (etiquetado)",null,null,0,0,0]
["82400-907","Gastos de la deuda pública (no etiquetado)",null,null,0,0,0]
["82400-908","Gastos de la deuda pública (etiquetado)",null,null,0,0,{"$f":"E1668-F1668","v":0}]
["82400-909","Costo por coberturas (no etiquetado)",null,null,0,0,0]
["82400-910","Costo por coberturas (etiquetado)",null,null,0,0,0]
["82400-911","Apoyos financieros (no etiquetado)",null,null,0,0,0]
["82400-912","Apoyos financieros (etiquetado)",null,null,0,0,0]
["82400-913","Adeudos de ejercicios anteriores (adefas) (no etiquetado)",null,null,0,0,0]
["82400-914","Adeudos de ejercicios anteriores (adefas) (etiquetado)",null,null,0,0,0]
[82500,"PRESUPUESTO DE EGRESOS DEVENGADO",null,null,{"$f":"E1676+E1691+E1710+E1729+E1748+E1767+E1774+E1789+E1796","v":49049839.680000007},{"$f":"F1676+F1691+F1710+F1729+F1748+F1767+F1774+F1789+F1796","v":49049839.680000007},0]
["82500-100","Servicios personales",null,null,{"$f":"SUM(E1677:E1690)","v":18118436.470000003},{"$f":"SUM(F1677:F1690)","v":18118436.470000003},0]
["82500-101","Remuneraciones al personal de carácter permanente (no etiquetado)",null,null,10250517.66,10250517.66,0]
["82500-102","Remuneraciones al personal de carácter permanente (etiquetado)",null,null,0,0,0]
["82500-103","Remuneraciones al personal de carácter transitorio (no etiquetado)",null,null,5809910.1900000004,5809910.1900000004,0]
["82500-104","Remuneraciones al personal de carácter transitorio (etiquetado)",null,null,0,0,0]
["82500-105","Remuneraciones adicionales especiales (no etiquetado)",null,null,1992316.62,1992316.62,0]
["82500-106","Remuneraciones adicionales especiales (etiquetado)",null,null,0,0,0]
["82500-107","Seguridad social (no etiquetado)",null,null,0,0,0]
["82500-108","Seguridad social (etiquetado)",null,null,0,0,0]
["82500-109","Otras prestaciones sociales y económicas (no etiquetado)",null,null,65692,65692,0]
["82500-110","Otras prestaciones sociales y económicas (etiquetado)",null,null,0,0,0]
["82500-111","Previsiones (no etiquetado)",null,null,0,0,0]
["82500-112","Previsiones (etiquetado)",null,null,0,0,0]
["82500-113","Pago de estímulos a servidores públicos (no etiquetado)",null,null,0,0,0]
["82500-114","Pago de estímulos a servidores públicos (etiquetado)",null,null,0,0,0]
["82500-200","Materiales y suministros",null,null,{"$f":"SUM(E1692:E1709)","v":3906677.51},{"$f":"SUM(F1692:F1709)","v":3906677.51},0]
["82500-201","Materiales de administración, emisión de documentos y artículos oficiales (no etiquetado)",null,null,341096.15,341096.15,0]
["82500-202","Materiales de administración, emisión de documentos y artículos oficiales (etiquetado)",null,null,0,0,0]
["82500-203","Alimentos y utensilios (no etiquetado)",null,null,287688.86,287688.86,0]
["82500-204","Alimentos y utensilios (etiquetado)",null,null,4850,4850,0]
["82500-205","Materias primas y materiales de producción y comercialización (no etiquetado)",null,null,0,0,0]
["82500-206","Materias primas y materiales de producción y comercialización (etiquetado)",null,null,0,0,0]
["82500-207","Materiales y artículos de construcción y de reparación (no etiquetado)",null,null,521026.72,521026.72,0]
["82500-208","Materiales y artículos de construcción y de reparación (etiquetado)",null,null,49158,49158,0]
["82500-209","Productos químicos, farmacéuticos y de laboratorio (no etiquetado)",null,null,147463.75,147463.75,0]
["82500-210","Productos químicos, farmacéuticos y de laboratorio (etiquetado)",null,null,8200.93,8200.93,0]
["82500-211","Combustibles, lubricantes y aditivos (no etiquetado)",null,null,1845124.4,1845124.4,0]
["82500-212","Combustibles, lubricantes y aditivos (etiquetado)",null,null,105803.16,105803.16,0]
["82500-213","Vestuario, blancos, prendas de protección y artículos deportivos (no etiquetado)",null,null,98676.47,98676.47,0]
["82500-214","Vestuario, blancos, prendas de protección y artículos deportivos (etiquetado)",null,null,0,0,0]
["82500-215","Materiales y suministros de seguridad (no etiquetado)",null,null,0,0,0]
["82500-216","Materiales y suministros de seguridad (etiquetado)",null,null,0,0,0]
["82500-217","Herramientas, refacciones y accesorios menores (no etiquetado)",null,null,491389.07,491389.07,0]
["82500-218","Herramientas, refacciones y accesorios menores (etiquetado)",null,null,6200,6200,0]
["82500-300","Servicios generales",null,null,{"$f":"SUM(E1711:E1728)","v":11709801.48},{"$f":"SUM(F1711:F1728)","v":11709801.48},0]
["82500-301","Servicios básicos (no etiquetado)",null,null,450987.14,450987.14,0]
["82500-302","Servicios básicos (etiquetado)",null,null,4955930.2300000004,4955930.2300000004,0]
["82500-303","Servicios de arrendamiento (no etiquetado)",null,null,311487.52,311487.52,0]
["82500-304","Servicios de arrendamiento (etiquetado)",null,null,0,0,0]
["82500-305","Servicios profesionales, científicos, técnicos y otros servicios (no etiquetado)",null,null,306097.40000000002,306097.40000000002,0]
["82500-306","Servicios profesionales, científicos, técnicos y otros servicios (etiquetado)",null,null,0,0,0]
["82500-307","Servicios financieros, bancarios y comerciales (no etiquetado)",null,null,125159.95,125159.95,0]
["82500-308","Servicios financieros, bancarios y comerciales (etiquetado)",null,null,3236.64,3236.64,0]
["82500-309","Servicios de instalación, reparación, mantenimiento y conservación (no etiquetado)",null,null,2154074.7400000002,2154074.7400000002,0]
["82500-310","Servicios de instalación, reparación, mantenimiento y conservación (etiquetado)",null,null,0,0,0]
["82500-311","Servicios de comunicación social y publicidad (no etiquetado)",null,null,44660,44660,0]
["82500-312","Servicios de comunicación social y publicidad (etiquetado)",null,null,0,0,0]
["82500-313","Servicios de traslado y viáticos (no etiquetado)",null,null,450459.8,450459.8,0]
["82500-314","Servicios de traslado y viáticos (etiquetado)",null,null,0,0,0]
["82500-315","Servicios oficiales (no etiquetado)",null,null,504090.52,504090.52,0]
["82500-316","Servicios oficiales (etiquetado)",null,null,0,0,0]
["82500-317","Otros servicios generales (no etiquetado)",null,null,2403617.54,2403617.54,0]
["82500-318","Otros servicios generales (etiquetado)",null,null,0,0,0]
["82500-400","Transferencias, asignaciones, subsidios y otras ayudas ",null,null,{"$f":"SUM(E1730:E1747)","v":3503874.62},{"$f":"SUM(F1730:F1747)","v":3503874.62},0]
["82500-401","Transferencias internas y asignaciones al sector público (no etiquetado)",null,null,1020000,1020000,0]
["82500-402","Transferencias internas y asignaciones al sector público (etiquetado)",null,null,0,0,0]
["82500-403","Transferencias al resto del sector público (no etiquetado)",null,null,480000,480000,{"$f":"E1732-F1732","v":0}]
["82500-404","Transferencias al resto del sector público (etiquetado)",null,null,0,0,0]
["82500-405","Subsidios y subvenciones (no etiquetado)",null,null,0,0,0]
["82500-406","Subsidios y subvenciones (etiquetado)",null,null,0,0,0]
["82500-407","Ayudas sociales (no etiquetado)",null,null,2003874.62,2003874.62,0]
["82500-408","Ayudas sociales  (etiquetado)",null,null,0,0,0]
["82500-409","Pensiones y jubilaciones (no etiquetado)",null,null,0,0,0]
["82500-410","Pensiones y jubilaciones (etiquetado)",null,null,0,0,0]
["82500-411","Transferencias a fideicomisos, mandatos y otros análogos (no etiquetado)",null,null,0,0,0]
["82500-412","Transferencias a fideicomisos, mandatos y otros análogos (etiquetado)",null,null,0,0,0]
["82500-413","Transferencias a la seguridad social (no etiquetado)",null,null,0,0,0]
["82500-414","Transferencias a la seguridad social (etiquetado)",null,null,0,0,0]
["82500-415","Donativos (no etiquetado)",null,null,0,0,0]
["82500-416","Donativos (etiquetado)",null,null,0,0,0]
["82500-417","Transferencias al exterior (no etiquetado)",null,null,0,0,0]
["82500-418","Transferencias al exterior (etiquetado)",null,null,0,0,0]
["82500-500","Bienes muebles, inmuebles e intangibles",null,null,{"$f":"SUM(E1749:E1766)","v":360412.97},{"$f":"SUM(F1749:F1766)","v":360412.97},0]
["82500-501","Mobiliario y equipo de administración (no etiquetado)",null,null,98945.85,98945.85,0]
["82500-502","Mobiliario y equipo de administración (etiquetado)",null,null,33967.120000000003,33967.120000000003,0]
["82500-503","Mobiliario y equipo educacional y recreativo (no etiquetado)",null,null,0,0,0]
["82500-504","Mobiliario y equipo educacional y recreativo (etiquetado)",null,null,0,0,0]
["82500-505","Equipo instrumental médico y de laboratorio (no etiquetado)",null,null,0,0,0]
["82500-506","Equipo instrumental médico y de laboratorio (etiquetado)",null,null,0,0,0]
["82500-507","Vehículos y equipo de transporte (no etiquetado)",null,null,227500,227500,0]
["82500-508","Vehículos y equipo de transporte (etiquetado)",null,null,0,0,0]
["82500-509","Equipo de defensa y seguridad (no etiquetado)",null,null,0,0,0]
["82500-510","Equipo de defensa y seguridad (etiquetado)",null,null,0,0,0]
["82500-511","Maquinaria, otros equipos y herramientas (no etiquetado)",null,null,0,0,0]
["82500-512","Maquinaria, otros equipos y herramientas (etiquetado)",null,null,0,0,0]
["82500-513","Activos biológicos (no etiquetado)",null,null,0,0,0]
["82500-514","Activos biológicos (etiquetado)",null,null,0,0,0]
["82500-515","Bienes inmuebles (no etiquetado)",null,null,0,0,0]
["82500-516","Bienes inmuebles (etiquetado)",null,null,0,0,0]
["82500-517","Activos intangibles (no etiquetado)",null,null,0,0,0]
["82500-518","Activos intangibles (etiquetado)",null,null,0,0,0]
["82500-600","Inversión pública",null,null,{"$f":"SUM(E1768:E1773)","v":8962182.4199999999},{"$f":"SUM(F1768:F1773)","v":8962182.4199999999},0]
["82500-601","Obra pública en bienes de dominio público (no etiquetado)",null,null,1175395.26,1175395.26,0]
["82500-602","Obra pública en bienes de dominio público (etiquetado)",null,null,7786787.1600000001,7786787.1600000001,0]
["82500-603","Obra pública en bienes de dominio propios (no etiquetado)",null,null,0,0,0]
["82500-604","Obra pública en bienes de dominio propios (etiquetado)",null,null,0,0,0]
["82500-605","Proyectos productivos y acciones de fomento (no etiquetado)",null,null,0,0,0]
["82500-606","Proyectos productivos y acciones de fomento (etiquetado)",null,null,0,0,0]
["82500-700","Inversiones financieras y otras provisiones",null,null,{"$f":"SUM(E1775:E1788)","v":0},{"$f":"SUM(F1775:F1788)","v":0},0]
["82500-701","Inversiones para el fomento de actividades productivas (no etiquetado)",null,null,0,0,0]
["82500-702","Inversiones para el fomento de actividades productivas (etiquetado)",null,null,0,0,0]
["82500-703","Acciones y participaciones de capital (no etiquetado)",null,null,0,0,0]
["82500-704","Acciones y participaciones de capital (etiquetado)",null,null,0,0,0]
["82500-705","Compra de títulos y valores (no etiquetado)",null,null,0,0,0]
["82500-706","Compra de títulos y valores (etiquetado)",null,null,0,0,0]
["82500-707","Concesión de préstamos (no etiquetado)",null,null,0,0,0]
["82500-708","Concesión de préstamos (etiquetado)",null,null,0,0,0]
["82500-709","Inversiones en fideicomisos, mandatos y otros análogos (no etiquetado)",null,null,0,0,0]
["82500-710","Inversiones en fideicomisos, mandatos y otros análogos (etiquetado)",null,null,0,0,0]
["82500-711","Otras inversiones financieras (no etiquetado)",null,null,0,0,0]
["82500-712","Otras inversiones financieras (etiquetado)",null,null,0,0,0]
["82500-713","Provisiones para contingencias y otras erogaciones especiales (no etiquetado)",null,null,0,0,0]
["82500-714","Provisiones para contingencias y otras erogaciones especiales (etiquetado)",null,null,0,0,0]
["82500-800","Participaciones y aportaciones",null,null,{"$f":"SUM(E1790:E1795)","v":0},{"$f":"SUM(F1790:F1795)","v":0},0]
["82500-801","Participaciones (no etiquetado)",null,null,0,0,0]
["82500-802","Participaciones (etiquetado)",null,null,0,0,0]
["82500-803","Aportaciones (no etiquetado)",null,null,0,0,0]
["82500-804","Aportaciones (etiquetado)",null,null,0,0,0]
["82500-805","Convenios (no etiquetado)",null,null,0,0,0]
["82500-806","Convenios (etiquetado)",null,null,0,0,0]
["82500-900","Deuda pública",null,null,{"$f":"SUM(E1797:E1810)","v":2488454.21},{"$f":"SUM(F1797:F1810)","v":2488454.21},{"$f":"E1796-F1796","v":0}]
["82500-901","Amortización de la deuda pública (no etiquetado)",null,null,2450000,2450000,0]
["82500-902","Amortización de la deuda pública (etiquetado)",null,null,0,0,0]
["82500-903","Intereses de la deuda pública (no etiquetado)",null,null,38454.21,38454.21,0]
["82500-904","Intereses de la deuda pública (etiquetado)",null,null,0,0,0]
["82500-905","Comisiones de la deuda pública (no etiquetado)",null,null,0,0,0]
["82500-906","Comisiones de la deuda pública (etiquetado)",null,null,0,0,0]
["82500-907","Gastos de la deuda pública (no etiquetado)",null,null,0,0,0]
["82500-908","Gastos de la deuda pública (etiquetado)",null,null,0,0,0]
["82500-909","Costo por coberturas (no etiquetado)",null,null,0,0,0]
["82500-910","Costo por coberturas (etiquetado)",null,null,0,0,0]
["82500-911","Apoyos financieros (no etiquetado)",null,null,0,0,0]
["82500-912","Apoyos financieros (etiquetado)",null,null,0,0,0]
["82500-913","Adeudos de ejercicios anteriores (adefas) (no etiquetado)",null,null,0,0,0]
["82500-914","Adeudos de ejercicios anteriores (adefas) (etiquetado)",null,null,0,0,0]
[82600,"PRESUPUESTO DE EGRESOS EJERCIDO",null,null,{"$f":"E1812+E1827+E1846+E1865+E1884+E1903+E1910+E1925+E1932","v":49049839.680000007},{"$f":"F1812+F1827+F1846+F1865+F1884+F1903+F1910+F1925+F1932","v":49049839.680000007},0]
["82600-100","Servicios personales",null,null,{"$f":"SUM(E1813:E1826)","v":18118436.470000003},{"$f":"SUM(F1813:F1826)","v":18118436.470000003},0]
["82600-101","Remuneraciones al personal de carácter permanente (no etiquetado)",null,null,10250517.66,10250517.66,0]
["82600-102","Remuneraciones al personal de carácter permanente (etiquetado)",null,null,0,0,0]
["82600-103","Remuneraciones al personal de carácter transitorio (no etiquetado)",null,null,5809910.1900000004,5809910.1900000004,0]
["82600-104","Remuneraciones al personal de carácter transitorio (etiquetado)",null,null,0,0,0]
["82600-105","Remuneraciones adicionales especiales (no etiquetado)",null,null,1992316.62,1992316.62,0]
["82600-106","Remuneraciones adicionales especiales (etiquetado)",null,null,0,0,0]
["82600-107","Seguridad social (no etiquetado)",null,null,0,0,0]
["82600-108","Seguridad social (etiquetado)",null,null,0,0,0]
["82600-109","Otras prestaciones sociales y económicas (no etiquetado)",null,null,65692,65692,0]
["82600-110","Otras prestaciones sociales y económicas (etiquetado)",null,null,0,0,0]
["82600-111","Previsiones (no etiquetado)",null,null,0,0,0]
["82600-112","Previsiones (etiquetado)",null,null,0,0,0]
["82600-113","Pago de estímulos a servidores públicos (no etiquetado)",null,null,0,0,0]
["82600-114","Pago de estímulos a servidores públicos (etiquetado)",null,null,0,0,0]
["82600-200","Materiales y suministros",null,null,{"$f":"SUM(E1828:E1845)","v":3906677.51},{"$f":"SUM(F1828:F1845)","v":3906677.51},0]
["82600-201","Materiales de administración, emisión de documentos y artículos oficiales (no etiquetado)",null,null,341096.15,341096.15,0]
["82600-202","Materiales de administración, emisión de documentos y artículos oficiales (etiquetado)",null,null,0,0,0]
["82600-203","Alimentos y utensilios (no etiquetado)",null,null,287688.86,287688.86,0]
["82600-204","Alimentos y utensilios (etiquetado)",null,null,4850,4850,0]
["82600-205","Materias primas y materiales de producción y comercialización (no etiquetado)",null,null,0,0,0]
["82600-206","Materias primas y materiales de producción y comercialización (etiquetado)",null,null,0,0,0]
["82600-207","Materiales y artículos de construcción y de reparación (no etiquetado)",null,null,521026.72,521026.72,0]
["82600-208","Materiales y artículos de construcción y de reparación (etiquetado)",null,null,49158,49158,0]
["82600-209","Productos químicos, farmacéuticos y de laboratorio (no etiquetado)",null,null,147463.75,147463.75,0]
["82600-210","Productos químicos, farmacéuticos y de laboratorio (etiquetado)",null,null,8200.93,8200.93,0]
["82600-211","Combustibles, lubricantes y aditivos (no etiquetado)",null,null,1845124.4,1845124.4,0]
["82600-212","Combustibles, lubricantes y aditivos (etiquetado)",null,null,105803.16,105803.16,0]
["82600-213","Vestuario, blancos, prendas de protección y artículos deportivos (no etiquetado)",null,null,98676.47,98676.47,0]
["82600-214","Vestuario, blancos, prendas de protección y artículos deportivos (etiquetado)",null,null,0,0,0]
["82600-215","Materiales y suministros de seguridad (no etiquetado)",null,null,0,0,0]
["82600-216","Materiales y suministros de seguridad (etiquetado)",null,null,0,0,0]
["82600-217","Herramientas, refacciones y accesorios menores (no etiquetado)",null,null,491389.07,491389.07,0]
["82600-218","Herramientas, refacciones y accesorios menores (etiquetado)",null,null,6200,6200,0]
["82600-300","Servicios generales",null,null,{"$f":"SUM(E1847:E1864)","v":11709801.48},{"$f":"SUM(F1847:F1864)","v":11709801.48},0]
["82600-301","Servicios básicos (no etiquetado)",null,null,450987.14,450987.14,0]
["82600-302","Servicios básicos (etiquetado)",null,null,4955930.2300000004,4955930.2300000004,0]
["82600-303","Servicios de arrendamiento (no etiquetado)",null,null,311487.52,311487.52,0]
["82600-304","Servicios de arrendamiento (etiquetado)",null,null,0,0,0]
["82600-305","Servicios profesionales, científicos, técnicos y otros servicios (no etiquetado)",null,null,306097.40000000002,306097.40000000002,0]
["82600-306","Servicios profesionales, científicos, técnicos y otros servicios (etiquetado)",null,null,0,0,0]
["82600-307","Servicios financieros, bancarios y comerciales (no etiquetado)",null,null,125159.95,125159.95,0]
["82600-308","Servicios financieros, bancarios y comerciales (etiquetado)",null,null,3236.64,3236.64,0]
["82600-309","Servicios de instalación, reparación, mantenimiento y conservación (no etiquetado)",null,null,2154074.7400000002,2154074.7400000002,0]
["82600-310","Servicios de instalación, reparación, mantenimiento y conservación (etiquetado)",null,null,0,0,0]
["82600-311","Servicios de comunicación social y publicidad (no etiquetado)",null,null,44660,44660,0]
["82600-312","Servicios de comunicación social y publicidad (etiquetado)",null,null,0,0,0]
["82600-313","Servicios de traslado y viáticos (no etiquetado)",null,null,450459.8,450459.8,0]
["82600-314","Servicios de traslado y viáticos (etiquetado)",null,null,0,0,{"$f":"E1860-F1860","v":0}]
["82600-315","Servicios oficiales (no etiquetado)",null,null,504090.52,504090.52,0]
["82600-316","Servicios oficiales (etiquetado)",null,null,0,0,0]
["82600-317","Otros servicios generales (no etiquetado)",null,null,2403617.54,2403617.54,0]
["82600-318","Otros servicios generales (etiquetado)",null,null,0,0,0]
["82600-400","Transferencias, asignaciones, subsidios y otras ayudas ",null,null,{"$f":"SUM(E1866:E1883)","v":3503874.62},{"$f":"SUM(F1866:F1883)","v":3503874.62},0]
["82600-401","Transferencias internas y asignaciones al sector público (no etiquetado)",null,null,1020000,1020000,0]
["82600-402","Transferencias internas y asignaciones al sector público (etiquetado)",null,null,0,0,0]
["82600-403","Transferencias al resto del sector público (no etiquetado)",null,null,480000,480000,0]
["82600-404","Transferencias al resto del sector público (etiquetado)",null,null,0,0,0]
["82600-405","Subsidios y subvenciones (no etiquetado)",null,null,0,0,0]
["82600-406","Subsidios y subvenciones (etiquetado)",null,null,0,0,0]
["82600-407","Ayudas sociales (no etiquetado)",null,null,2003874.62,2003874.62,0]
["82600-408","Ayudas sociales  (etiquetado)",null,null,0,0,0]
["82600-409","Pensiones y jubilaciones (no etiquetado)",null,null,0,0,0]
["82600-410","Pensiones y jubilaciones (etiquetado)",null,null,0,0,0]
["82600-411","Transferencias a fideicomisos, mandatos y otros análogos (no etiquetado)",null,null,0,0,0]
["82600-412","Transferencias a fideicomisos, mandatos y otros análogos (etiquetado)",null,null,0,0,0]
["82600-413","Transferencias a la seguridad social (no etiquetado)",null,null,0,0,0]
["82600-414","Transferencias a la seguridad social (etiquetado)",null,null,0,0,0]
["82600-415","Donativos (no etiquetado)",null,null,0,0,0]
["82600-416","Donativos (etiquetado)",null,null,0,0,0]
["82600-417","Transferencias al exterior (no etiquetado)",null,null,0,0,0]
["82600-418","Transferencias al exterior (etiquetado)",null,null,0,0,0]
["82600-500","Bienes muebles, inmuebles e intangibles",null,null,{"$f":"SUM(E1885:E1902)","v":360412.97},{"$f":"SUM(F1885:F1902)","v":360412.97},0]
["82600-501","Mobiliario y equipo de administración (no etiquetado)",null,null,98945.85,98945.85,0]
["82600-502","Mobiliario y equipo de administración (etiquetado)",null,null,33967.120000000003,33967.120000000003,0]
["82600-503","Mobiliario y equipo educacional y recreativo (no etiquetado)",null,null,0,0,0]
["82600-504","Mobiliario y equipo educacional y recreativo (etiquetado)",null,null,0,0,0]
["82600-505","Equipo instrumental médico y de laboratorio (no etiquetado)",null,null,0,0,0]
["82600-506","Equipo instrumental médico y de laboratorio (etiquetado)",null,null,0,0,0]
["82600-507","Vehículos y equipo de transporte (no etiquetado)",null,null,227500,227500,0]
["82600-508","Vehículos y equipo de transporte (etiquetado)",null,null,0,0,0]
["82600-509","Equipo de defensa y seguridad (no etiquetado)",null,null,0,0,0]
["82600-510","Equipo de defensa y seguridad (etiquetado)",null,null,0,0,0]
["82600-511","Maquinaria, otros equipos y herramientas (no etiquetado)",null,null,0,0,0]
["82600-512","Maquinaria, otros equipos y herramientas (etiquetado)",null,null,0,0,0]
["82600-513","Activos biológicos (no etiquetado)",null,null,0,0,0]
["82600-514","Activos biológicos (etiquetado)",null,null,0,0,0]
["82600-515","Bienes inmuebles (no etiquetado)",null,null,0,0,0]
["82600-516","Bienes inmuebles (etiquetado)",null,null,0,0,0]
["82600-517","Activos intangibles (no etiquetado)",null,null,0,0,0]
["82600-518","Activos intangibles (etiquetado)",null,null,0,0,0]
["82600-600","Inversión pública",null,null,{"$f":"SUM(E1904:E1909)","v":8962182.4199999999},{"$f":"SUM(F1904:F1909)","v":8962182.4199999999},0]
["82600-601","Obra pública en bienes de dominio público (no etiquetado)",null,null,1175395.26,1175395.26,0]
["82600-602","Obra pública en bienes de dominio público (etiquetado)",null,null,7786787.1600000001,7786787.1600000001,0]
["82600-603","Obra pública en bienes de dominio propios (no etiquetado)",null,null,0,0,0]
["82600-604","Obra pública en bienes de dominio propios (etiquetado)",null,null,0,0,0]
["82600-605","Proyectos productivos y acciones de fomento (no etiquetado)",null,null,0,0,0]
["82600-606","Proyectos productivos y acciones de fomento (etiquetado)",null,null,0,0,0]
["82600-700","Inversiones financieras y otras provisiones",null,null,{"$f":"SUM(E1911:E1924)","v":0},{"$f":"SUM(F1911:F1924)","v":0},0]
["82600-701","Inversiones para el fomento de actividades productivas (no etiquetado)",null,null,0,0,0]
["82600-702","Inversiones para el fomento de actividades productivas (etiquetado)",null,null,0,0,0]
["82600-703","Acciones y participaciones de capital (no etiquetado)",null,null,0,0,0]
["82600-704","Acciones y participaciones de capital (etiquetado)",null,null,0,0,0]
["82600-705","Compra de títulos y valores (no etiquetado)",null,null,0,0,0]
["82600-706","Compra de títulos y valores (etiquetado)",null,null,0,0,0]
["82600-707","Concesión de préstamos (no etiquetado)",null,null,0,0,0]
["82600-708","Concesión de préstamos (etiquetado)",null,null,0,0,0]
["82600-709","Inversiones en fideicomisos, mandatos y otros análogos (no etiquetado)",null,null,0,0,0]
["82600-710","Inversiones en fideicomisos, mandatos y otros análogos (etiquetado)",null,null,0,0,0]
["82600-711","Otras inversiones financieras (no etiquetado)",null,null,0,0,0]
["82600-712","Otras inversiones financieras (etiquetado)",null,null,0,0,0]
["82600-713","Provisiones para contingencias y otras erogaciones especiales (no etiquetado)",null,null,0,0,0]
["82600-714","Provisiones para contingencias y otras erogaciones especiales (etiquetado)",null,null,0,0,{"$f":"E1924-F1924","v":0}]
["82600-800","Participaciones y aportaciones",null,null,{"$f":"SUM(E1926:E1931)","v":0},{"$f":"SUM(F1926:F1931)","v":0},0]
["82600-801","Participaciones (no etiquetado)",null,null,0,0,0]
["82600-802","Participaciones (etiquetado)",null,null,0,0,0]
["82600-803","Aportaciones (no etiquetado)",null,null,0,0,0]
["82600-804","Aportaciones (etiquetado)",null,null,0,0,0]
["82600-805","Convenios (no etiquetado)",null,null,0,0,0]
["82600-806","Convenios (etiquetado)",null,null,0,0,0]
["82600-900","Deuda pública",null,null,{"$f":"SUM(E1933:E1946)","v":2488454.21},{"$f":"SUM(F1933:F1946)","v":2488454.21},0]
["82600-901","Amortización de la deuda pública (no etiquetado)",null,null,2450000,2450000,0]
["82600-902","Amortización de la deuda pública (etiquetado)",null,null,0,0,0]
["82600-903","Intereses de la deuda pública (no etiquetado)",null,null,38454.21,38454.21,0]
["82600-904","Intereses de la deuda pública (etiquetado)",null,null,0,0,0]
["82600-905","Comisiones de la deuda pública (no etiquetado)",null,null,0,0,0]
["82600-906","Comisiones de la deuda pública (etiquetado)",null,null,0,0,0]
["82600-907","Gastos de la deuda pública (no etiquetado)",null,null,0,0,0]
["82600-908","Gastos de la deuda pública (etiquetado)",null,null,0,0,0]
["82600-909","Costo por coberturas (no etiquetado)",null,null,0,0,0]
["82600-910","Costo por coberturas (etiquetado)",null,null,0,0,0]
["82600-911","Apoyos financieros (no etiquetado)",null,null,0,0,0]
["82600-912","Apoyos financieros (etiquetado)",null,null,0,0,0]
["82600-913","Adeudos de ejercicios anteriores (adefas) (no etiquetado)",null,null,0,0,0]
["82600-914","Adeudos de ejercicios anteriores (adefas) (etiquetado)",null,null,0,0,0]
[82700,"PRESUPUESTO DE EGRESOS PAGADO",null,null,{"$f":"E1948+E1963+E1982+E2001+E2020+E2039+E2046+E2061+E2068","v":49049839.680000007},{"$f":"F1948+F1963+F1982+F2001+F2020+F2039+F2046+F2061+F2068","v":0},49049839.680000007]
["82700-100","Servicios personales",null,null,{"$f":"SUM(E1949:E1962)","v":18118436.470000003},{"$f":"SUM(F1949:F1962)","v":0},18118436.470000003]
["82700-101","Remuneraciones al personal de carácter permanente (no etiquetado)",null,null,10250517.66,0,10250517.66]
["82700-102","Remuneraciones al personal de carácter permanente (etiquetado)",null,null,0,0,0]
["82700-103","Remuneraciones al personal de carácter transitorio (no etiquetado)",null,null,5809910.1900000004,0,5809910.1900000004]
["82700-104","Remuneraciones al personal de carácter transitorio (etiquetado)",null,null,0,0,0]
["82700-105","Remuneraciones adicionales especiales (no etiquetado)",null,null,1992316.62,0,1992316.62]
["82700-106","Remuneraciones adicionales especiales (etiquetado)",null,null,0,0,0]
["82700-107","Seguridad social (no etiquetado)",null,null,0,0,0]
["82700-108","Seguridad social (etiquetado)",null,null,0,0,0]
["82700-109","Otras prestaciones sociales y económicas (no etiquetado)",null,null,65692,0,65692]
["82700-110","Otras prestaciones sociales y económicas (etiquetado)",null,null,0,0,0]
["82700-111","Previsiones (no etiquetado)",null,null,0,0,0]
["82700-112","Previsiones (etiquetado)",null,null,0,0,0]
["82700-113","Pago de estímulos a servidores públicos (no etiquetado)",null,null,0,0,0]
["82700-114","Pago de estímulos a servidores públicos (etiquetado)",null,null,0,0,0]
["82700-200","Materiales y suministros",null,null,{"$f":"SUM(E1964:E1981)","v":3906677.51},{"$f":"SUM(F1964:F1981)","v":0},3906677.51]
["82700-201","Materiales de administración, emisión de documentos y artículos oficiales (no etiquetado)",null,null,341096.15,0,341096.15]
["82700-202","Materiales de administración, emisión de documentos y artículos oficiales (etiquetado)",null,null,0,0,0]
["82700-203","Alimentos y utensilios (no etiquetado)",null,null,287688.86,0,287688.86]
["82700-204","Alimentos y utensilios (etiquetado)",null,null,4850,0,4850]
["82700-205","Materias primas y materiales de producción y comercialización (no etiquetado)",null,null,0,0,0]
["82700-206","Materias primas y materiales de producción y comercialización (etiquetado)",null,null,0,0,0]
["82700-207","Materiales y artículos de construcción y de reparación (no etiquetado)",null,null,521026.72,0,521026.72]
["82700-208","Materiales y artículos de construcción y de reparación (etiquetado)",null,null,49158,0,49158]
["82700-209","Productos químicos, farmacéuticos y de laboratorio (no etiquetado)",null,null,147463.75,0,147463.75]
["82700-210","Productos químicos, farmacéuticos y de laboratorio (etiquetado)",null,null,8200.93,0,8200.93]
["82700-211","Combustibles, lubricantes y aditivos (no etiquetado)",null,null,1845124.4,0,1845124.4]
["82700-212","Combustibles, lubricantes y aditivos (etiquetado)",null,null,105803.16,0,105803.16]
["82700-213","Vestuario, blancos, prendas de protección y artículos deportivos (no etiquetado)",null,null,98676.47,0,98676.47]
["82700-214","Vestuario, blancos, prendas de protección y artículos deportivos (etiquetado)",null,null,0,0,0]
["82700-215","Materiales y suministros de seguridad (no etiquetado)",null,null,0,0,0]
["82700-216","Materiales y suministros de seguridad (etiquetado)",null,null,0,0,0]
["82700-217","Herramientas, refacciones y accesorios menores (no etiquetado)",null,null,491389.07,0,491389.07]
["82700-218","Herramientas, refacciones y accesorios menores (etiquetado)",null,null,6200,0,6200]
["82700-300","Servicios generales",null,null,{"$f":"SUM(E1983:E2000)","v":11709801.48},{"$f":"SUM(F1983:F2000)","v":0},11709801.48]
["82700-301","Servicios básicos (no etiquetado)",null,null,450987.14,null,450987.14]
["82700-302","Servicios básicos (etiquetado)",null,null,4955930.2300000004,null,4955930.2300000004]
["82700-303","Servicios de arrendamiento (no etiquetado)",null,null,311487.52,0,311487.52]
["82700-304","Servicios de arrendamiento (etiquetado)",null,null,0,0,0]
["82700-305","Servicios profesionales, científicos, técnicos y otros servicios (no etiquetado)",null,null,306097.40000000002,0,306097.40000000002]
["82700-306","Servicios profesionales, científicos, técnicos y otros servicios (etiquetado)",null,null,0,0,{"$f":"E1988-F1988","v":0}]
["82700-307","Servicios financieros, bancarios y comerciales (no etiquetado)",null,null,125159.95,0,125159.95]
["82700-308","Servicios financieros, bancarios y comerciales (etiquetado)",null,null,3236.64,0,3236.64]
["82700-309","Servicios de instalación, reparación, mantenimiento y conservación (no etiquetado)",null,null,2154074.7400000002,0,2154074.7400000002]
["82700-310","Servicios de instalación, reparación, mantenimiento y conservación (etiquetado)",null,null,0,0,0]
["82700-311","Servicios de comunicación social y publicidad (no etiquetado)",null,null,44660,0,44660]
["82700-312","Servicios de comunicación social y publicidad (etiquetado)",null,null,0,0,0]
["82700-313","Servicios de traslado y viáticos (no etiquetado)",null,null,450459.8,0,450459.8]
["82700-314","Servicios de traslado y viáticos (etiquetado)",null,null,0,0,0]
["82700-315","Servicios oficiales (no etiquetado)",null,null,504090.52,0,504090.52]
["82700-316","Servicios oficiales (etiquetado)",null,null,0,0,0]
["82700-317","Otros servicios generales (no etiquetado)",null,null,2403617.54,0,2403617.54]
["82700-318","Otros servicios generales (etiquetado)",null,null,0,0,0]
["82700-400","Transferencias, asignaciones, subsidios y otras ayudas ",null,null,{"$f":"SUM(E2002:E2019)","v":3503874.62},{"$f":"SUM(F2002:F2019)","v":0},3503874.62]
["82700-401","Transferencias internas y asignaciones al sector público (no etiquetado)",null,null,1020000,0,1020000]
["82700-402","Transferencias internas y asignaciones al sector público (etiquetado)",null,null,0,0,0]
["82700-403","Transferencias al resto del sector público (no etiquetado)",null,null,480000,0,480000]
["82700-404","Transferencias al resto del sector público (etiquetado)",null,null,0,0,0]
["82700-405","Subsidios y subvenciones (no etiquetado)",null,null,0,0,0]
["82700-406","Subsidios y subvenciones (etiquetado)",null,null,0,0,0]
["82700-407","Ayudas sociales (no etiquetado)",null,null,2003874.62,0,2003874.62]
["82700-408","Ayudas sociales  (etiquetado)",null,null,0,0,0]
["82700-409","Pensiones y jubilaciones (no etiquetado)",null,null,0,0,0]
["82700-410","Pensiones y jubilaciones (etiquetado)",null,null,0,0,0]
["82700-411","Transferencias a fideicomisos, mandatos y otros análogos (no etiquetado)",null,null,0,0,0]
["82700-412","Transferencias a fideicomisos, mandatos y otros análogos (etiquetado)",null,null,0,0,0]
["82700-413","Transferencias a la seguridad social (no etiquetado)",null,null,0,0,0]
["82700-414","Transferencias a la seguridad social (etiquetado)",null,null,0,0,0]
["82700-415","Donativos (no etiquetado)",null,null,0,0,0]
["82700-416","Donativos (etiquetado)",null,null,0,0,0]
["82700-417","Transferencias al exterior (no etiquetado)",null,null,0,0,0]
["82700-418","Transferencias al exterior (etiquetado)",null,null,0,0,0]
["82700-500","Bienes muebles, inmuebles e intangibles",null,null,{"$f":"SUM(E2021:E2038)","v":360412.97},{"$f":"SUM(F2021:F2038)","v":0},360412.97]
["82700-501","Mobiliario y equipo de administración (no etiquetado)",null,null,98945.85,0,98945.85]
["82700-502","Mobiliario y equipo de administración (etiquetado)",null,null,33967.120000000003,0,33967.120000000003]
["82700-503","Mobiliario y equipo educacional y recreativo (no etiquetado)",null,null,0,0,0]
["82700-504","Mobiliario y equipo educacional y recreativo (etiquetado)",null,null,0,0,0]
["82700-505","Equipo instrumental médico y de laboratorio (no etiquetado)",null,null,0,0,0]
["82700-506","Equipo instrumental médico y de laboratorio (etiquetado)",null,null,0,0,0]
["82700-507","Vehículos y equipo de transporte (no etiquetado)",null,null,227500,0,227500]
["82700-508","Vehículos y equipo de transporte (etiquetado)",null,null,0,0,0]
["82700-509","Equipo de defensa y seguridad (no etiquetado)",null,null,0,0,0]
["82700-510","Equipo de defensa y seguridad (etiquetado)",null,null,0,0,0]
["82700-511","Maquinaria, otros equipos y herramientas (no etiquetado)",null,null,0,0,0]
["82700-512","Maquinaria, otros equipos y herramientas (etiquetado)",null,null,0,0,0]
["82700-513","Activos biológicos (no etiquetado)",null,null,0,0,0]
["82700-514","Activos biológicos (etiquetado)",null,null,0,0,0]
["82700-515","Bienes inmuebles (no etiquetado)",null,null,0,0,0]
["82700-516","Bienes inmuebles (etiquetado)",null,null,0,0,0]
["82700-517","Activos intangibles (no etiquetado)",null,null,0,0,0]
["82700-518","Activos intangibles (etiquetado)",null,null,0,0,0]
["82700-600","Inversión pública",null,null,{"$f":"SUM(E2040:E2045)","v":8962182.4199999999},{"$f":"SUM(F2040:F2045)","v":0},8962182.4199999999]
["82700-601","Obra pública en bienes de dominio público (no etiquetado)",null,null,1175395.26,0,1175395.26]
["82700-602","Obra pública en bienes de dominio público (etiquetado)",null,null,7786787.1600000001,0,7786787.1600000001]
["82700-603","Obra pública en bienes de dominio propios (no etiquetado)",null,null,0,0,0]
["82700-604","Obra pública en bienes de dominio propios (etiquetado)",null,null,0,0,0]
["82700-605","Proyectos productivos y acciones de fomento (no etiquetado)",null,null,0,0,0]
["82700-606","Proyectos productivos y acciones de fomento (etiquetado)",null,null,0,0,0]
["82700-700","Inversiones financieras y otras provisiones",null,null,{"$f":"SUM(E2047:E2060)","v":0},{"$f":"SUM(F2047:F2060)","v":0},0]
["82700-701","Inversiones para el fomento de actividades productivas (no etiquetado)",null,null,0,0,0]
["82700-702","Inversiones para el fomento de actividades productivas (etiquetado)",null,null,0,0,0]
["82700-703","Acciones y participaciones de capital (no etiquetado)",null,null,0,0,0]
["82700-704","Acciones y participaciones de capital (etiquetado)",null,null,0,0,0]
["82700-705","Compra de títulos y valores (no etiquetado)",null,null,0,0,0]
["82700-706","Compra de títulos y valores (etiquetado)",null,null,0,0,{"$f":"E2052-F2052","v":0}]
["82700-707","Concesión de préstamos (no etiquetado)",null,null,0,0,0]
["82700-708","Concesión de préstamos (etiquetado)",null,null,0,0,0]
["82700-709","Inversiones en fideicomisos, mandatos y otros análogos (no etiquetado)",null,null,0,0,0]
["82700-710","Inversiones en fideicomisos, mandatos y otros análogos (etiquetado)",null,null,0,0,0]
["82700-711","Otras inversiones financieras (no etiquetado)",null,null,0,0,0]
["82700-712","Otras inversiones financieras (etiquetado)",null,null,0,0,0]
["82700-713","Provisiones para contingencias y otras erogaciones especiales (no etiquetado)",null,null,0,0,0]
["82700-714","Provisiones para contingencias y otras erogaciones especiales (etiquetado)",null,null,0,0,0]
["82700-800","Participaciones y aportaciones",null,null,{"$f":"SUM(E2062:E2067)","v":0},{"$f":"SUM(F2062:F2067)","v":0},0]
["82700-801","Participaciones (no etiquetado)",null,null,0,0,0]
["82700-802","Participaciones (etiquetado)",null,null,0,0,0]
["82700-803","Aportaciones (no etiquetado)",null,null,0,0,0]
["82700-804","Aportaciones (etiquetado)",null,null,0,0,0]
["82700-805","Convenios (no etiquetado)",null,null,0,0,0]
["82700-806","Convenios (etiquetado)",null,null,0,0,0]
["82700-900","Deuda pública",null,null,{"$f":"SUM(E2069:E2082)","v":2488454.21},{"$f":"SUM(F2069:F2082)","v":0},2488454.21]
["82700-901","Amortización de la deuda pública (no etiquetado)",null,null,2450000,0,2450000]
["82700-902","Amortización de la deuda pública (etiquetado)",null,null,0,0,0]
["82700-903","Intereses de la deuda pública (no etiquetado)",null,null,38454.21,0,38454.21]
["82700-904","Intereses de la deuda pública (etiquetado)",null,null,0,0,0]
["82700-905","Comisiones de la deuda pública (no etiquetado)",null,null,0,0,0]
["82700-906","Comisiones de la deuda pública (etiquetado)",null,null,0,0,0]
["82700-907","Gastos de la deuda pública (no etiquetado)",null,null,0,0,0]
["82700-908","Gastos de la deuda pública (etiquetado)",null,null,0,0,0]
["82700-909","Costo por coberturas (no etiquetado)",null,null,0,0,0]
["82700-910","Costo por coberturas (etiquetado)",null,null,0,0,0]
["82700-911","Apoyos financieros (no etiquetado)",null,null,0,0,0]
["82700-912","Apoyos financieros (etiquetado)",null,null,0,0,0]
["82700-913","Adeudos de ejercicios anteriores (adefas) (no etiquetado)",null,null,0,0,0]
["82700-914","Adeudos de ejercicios anteriores (adefas) (etiquetado)",null,null,0,0,0]
[90000,"CUENTAS DE CIERRE PRESUPUESTARIO",null,null,{"$f":"E2084+E2085+E2086","v":0},{"$f":"F2084+F2085+F2086","v":0},{"$f":"G2084+G2085+G2086","v":0}]
[91000,"SUPERAVIT FINANCIERO",{"$nulls":4},{"$f":"E2084-F2084","v":0}]
[92000,"DEFICIT FINANCIERO",{"$nulls":4},{"$f":"E2085-F2085","v":0}]
[93000,"ADEUDOS DE EJERCICIOS FISCALES ANTERIORES",{"$nulls":4},{"$f":"E2086-F2086","v":0}]
[" ","SUMAS IGUALES DE CUENTAS DE ORDEN PRESUPUESTAL",{"$f":"C2083+C1130+C794","v":0},0,384899390.72000003,384899390.72000003,89997636,89997636]

{"sheet":"F3","index":2,"n_rows":69,"n_cols":7,"rows_kept":69,"cut":false,"hidden":false,"merged":[[10,2,10,4],[0,0,0,6],[1,0,1,6],[2,0,2,6],[3,0,3,6],[5,0,5,4],[6,1,6,4],[7,2,7,4],[8,2,8,4],[9,2,9,4],[4,0,4,4],[34,0,34,4],[21,2,21,4],[11,2,11,4],[12,2,12,4],[13,2,13,4],[14,2,14,4],[15,2,15,4],[16,2,16,4],[17,1,17,4],[18,2,18,4],[19,2,19,4],[20,2,20,4],[33,2,33,4],[22,2,22,4],[23,2,23,4],[24,2,24,4],[25,2,25,4],[26,2,26,4],[27,2,27,4],[28,2,28,4],[29,2,29,4],[30,2,30,4],[31,2,31,4],[32,2,32,4],[68,2,69,2],[68,4,69,5],[52,2,52,4],[53,2,53,4],[54,2,54,4],[55,2,55,4],[57,0,57,4],[66,2,67,2],[66,4,67,5],[58,0,58,4],[59,0,59,4],[56,0,56,4],[43,2,43,4],[45,0,45,4],[44,0,44,4],[61,0,63,6],[46,1,46,4],[47,2,47,4],[48,2,48,4],[49,2,49,4],[50,2,50,4],[51,1,51,4],[35,0,35,4],[36,1,36,4],[40,1,40,4],[41,2,41,4],[42,2,42,4],[37,2,37,4],[38,2,38,4],[39,2,39,4]]}
[{"$f":"Validacion!A2","v":"Atemajac de Brizuela"}]
["ESTADO DE FLUJOS DE EFECTIVO"]
[{"$f":"'F6'!A3","v":"Del 1° de Enero al 31 de Diciembre de 2021"}]
[]
["CONCEPTO",{"$nulls":4},2021,2020]
["Flujos de efectivo de las actividades de operación"]
[null,"Origen",null,null,null,{"$f":"SUM(F8:F17)","v":49351198},{"$f":"SUM(G8:G17)","v":43025166.68}]
[null,null,"Impuestos",null,null,4282314.9800000004,2849601.27]
[null,null,"Cuotas y aportaciones de seguridad social"]
[null,null,"Contribuciones de mejoras"]
[null,null,"Derechos",null,null,4717158.67,2154316.19]
[null,null,"Productos",null,null,53968.85,182923.84]
[null,null,"Aprovechamientos",null,null,592426.06999999995,610087]
[null,null,"Ingresos por venta de bienes y prestación servicios"]
[null,null,"Participaciones, aportaciones, convenios, incentivos derivados de la colaboración fiscal y fondos distitntos de aportaciones",null,null,39705329.43,37228238.380000003]
[null,null,"Transferencias, asignaciones, subsidios y subvenciones, y pensiones y jubilaciones"]
[null,null,"Otros origenes de operación"]
[null,"Aplicación",null,null,null,{"$f":"SUM(F19:F34)","v":37277244.289999992},{"$f":"SUM(G19:G34)","v":34757794.979999997}]
[null,null,"Servicios personales",null,null,18118436.469999999,17054348.789999999]
[null,null,"Materiales y suministros",null,null,3906677.51,4617870.82]
[null,null,"Servicios generales",null,null,11709801.48,8723825.7200000007]
[null,null,"Transferencias internas y asignaciones al sector público",null,null,1020000,1168021]
[null,null,"Transferencias al resto del sector público",null,null,480000,105000]
[null,null,"Subsidios y subvenciones "]
[null,null,"Ayudas sociales",null,null,2003874.62,2918963.17]
[null,null,"Pensiones y jubilaciones"]
[null,null,"Transferencias a fideicomisos, mandatos y contratos análogos"]
[null,null,"Transferencias a la seguridad ocial"]
[null,null,"Donativos",null,null,null,30000]
[null,null,"Transferencias al exterior"]
[null,null,"Participaciones "]
[null,null,"Aportaciones "]
[null,null,"Convenios"]
[null,null,"Otros aplicaciones de operación",null,null,38454.21,139765.48000000001]
["Flujos netos de efectivo por actividades de operación",{"$nulls":4},{"$f":"F7-F18","v":12073953.710000008},{"$f":"G7-G18","v":8267371.700000003}]
["Flujos de efectivo de las actividades de inversión "]
[null,"Origen",null,null,null,{"$f":"SUM(F38:F40)","v":0},{"$f":"SUM(G38:G40)","v":56221027.579999998}]
[null,null,"Bienes inmuebles, infraestructura y construcciones en proceso"]
[null,null,"Bienes muebles"]
[null,null,"Otros Orígenes de inversión",null,null,0,56221027.579999998]
[null,"Aplicación",null,null,null,{"$f":"SUM(F42:F44)","v":9322595.3900000006},{"$f":"SUM(G42:G44)","v":64613859.539999999}]
[null,null,"Bienes inmuebles, infraestructura y construcciones en proceso",null,null,8962182.4199999999,8475875.3599999994]
[null,null,"Bienes muebles",null,null,360412.97,126188.01]
[null,null,"Otras aplicaciones de inversión",null,null,0,56011796.170000002]
["Flujos netos de efectivo por actividades de inversión",{"$nulls":4},{"$f":"F37-F41","v":-9322595.3900000006},{"$f":"G37-G41","v":-8392831.9600000009}]
["Flujo de efectivo de las actividades de financiamiento"]
[null,"Origen",null,null,null,{"$f":"F48+F51","v":456120.23},{"$f":"G48+G51","v":38333433.119999997}]
[null,null,"Endeudamiento neto",null,null,{"$f":"F49+F50","v":195059.5},{"$f":"G49+G50","v":0}]
[null,null,"   Interno",null,null,195059.5]
[null,null,"   Externo"]
[null,null,"Otros origenes de financiamiento ",null,null,261060.73,38333433.119999997]
[null,"Aplicación",null,null,null,{"$f":"F53+F56","v":3881878.41},{"$f":"G53+G56","v":38588039.07}]
[null,null,"Servicios de la deuda",null,null,{"$f":"F54+F55","v":2450000},{"$f":"G54+G55","v":0}]
[null,null,"   Interno",null,null,2450000]
[null,null,"   Externo"]
[null,null,"Otras aplicaciones de finaciamiento ",null,null,1431878.41,38588039.07]
["Flujos netos de efectivo por actividades de financiamiento",{"$nulls":4},{"$f":"F47-F52","v":-3425758.18},{"$f":"G47-G52","v":-254605.95000000298}]
["Incremento/disminución neta en el efectivo y equivalentes al efectivo ",{"$nulls":4},{"$f":"F35+F45+F57","v":-674399.85999999242},{"$f":"G35+G45+G57","v":-380066.21000000089}]
["Efectivo y equivalentes al efectivo al inicio del ejercicio",{"$nulls":4},{"$f":"G60","v":1439544.3399999992},1819610.55]
["Efectivo y equivalentes al efectivo al final del ejercicio",{"$nulls":4},{"$f":"F58+F59","v":765144.48000000673},{"$f":"+G58+G59","v":1439544.3399999992}]
[]
["Bajo protesta de decir verdad declaramos que los estados financieros y sus notas, son razonablemente correctos y son responsabilidad del emisor."]
[]
[]
[]
[]
[null,null,{"$f":"Validacion!A7","v":"C. SANTIAGO LEON CASTRO"},null,{"$f":"Validacion!A9","v":"L.T. JOCELYN SANCHEZ HERRERA"}]
[]
[null,null,"Presidente Municipal o Titular del ente público",null,"Encargado de Hacienda Municipal o Responsable de las finanzas del ente público"]

{"sheet":"F9-IDP","index":3,"n_rows":25,"n_cols":344,"rows_kept":25,"cut":false,"hidden":false,"merged":[[24,296,24,301],[24,302,24,307],[24,308,24,313],[24,315,24,318],[24,319,24,324],[24,325,24,330],[24,331,24,336],[24,337,24,342],[24,343,24,348],[24,245,24,248],[24,249,24,254],[24,255,24,260],[24,261,24,266],[24,267,24,272],[24,273,24,278],[24,280,24,283],[24,284,24,289],[24,290,24,295],[23,296,23,301],[23,302,23,307],[23,308,23,313],[23,315,23,318],[23,319,23,324],[23,325,23,330],[23,331,23,336],[23,337,23,342],[23,343,23,348],[23,245,23,248],[23,249,23,254],[23,255,23,260],[23,261,23,266],[23,267,23,272],[23,273,23,278],[23,280,23,283],[23,284,23,289],[23,290,23,295],[22,296,22,301],[22,302,22,307],[22,308,22,313],[22,315,22,318],[22,319,22,324],[22,325,22,330],[22,331,22,336],[22,337,22,342],[22,343,22,348],[22,245,22,248],[22,249,22,254],[22,255,22,260],[22,261,22,266],[22,267,22,272],[22,273,22,278],[22,280,22,283],[22,284,22,289],[22,290,22,295],[21,296,21,301],[21,302,21,307],[21,308,21,313],[21,315,21,318],[21,319,21,324],[21,325,21,330],[21,331,21,336],[21,337,21,342],[21,343,21,348],[21,245,21,248],[21,249,21,254],[21,255,21,260],[21,261,21,266],[21,267,21,272],[21,273,21,278],[21,280,21,283],[21,284,21,289],[21,290,21,295],[20,296,20,301],[20,302,20,307],[20,308,20,313],[20,315,20,318],[20,319,20,324],[20,325,20,330],[20,331,20,336],[20,337,20,342],[20,343,20,348],[20,245,20,248],[20,249,20,254],[20,255,20,260],[20,261,20,266],[20,267,20,272],[20,273,20,278],[20,280,20,283],[20,284,20,289],[20,290,20,295],[19,296,19,301],[19,302,19,307],[19,308,19,313],[19,315,19,318],[19,319,19,324],[19,325,19,330],[19,331,19,336],[19,337,19,342],[19,343,19,348],[19,245,19,248],[19,249,19,254],[19,255,19,260],[19,261,19,266],[19,267,19,272],[19,273,19,278],[19,280,19,283],[19,284,19,289],[19,290,19,295],[18,296,18,301],[18,302,18,307],[18,308,18,313],[18,315,18,318],[18,319,18,324],[18,325,18,330],[18,331,18,336],[18,337,18,342],[18,343,18,348],[18,245,18,248],[18,249,18,254],[18,255,18,260],[18,261,18,266],[18,267,18,272],[18,273,18,278],[18,280,18,283],[18,284,18,289],[18,290,18,295],[17,296,17,301],[17,302,17,307],[17,308,17,313],[17,315,17,318],[17,319,17,324],[17,325,17,330],[17,331,17,336],[17,337,17,342],[17,343,17,348],[17,245,17,248],[17,249,17,254],[17,255,17,260],[17,261,17,266],[17,267,17,272],[17,273,17,278],[17,280,17,283],[17,284,17,289],[17,290,17,295],[16,296,16,301],[16,302,16,307],[16,308,16,313],[16,315,16,318],[16,319,16,324],[16,325,16,330],[16,331,16,336],[16,337,16,342],[16,343,16,348],[16,245,16,248],[16,249,16,254],[16,255,16,260],[16,261,16,266],[16,267,16,272],[16,273,16,278],[16,280,16,283],[16,284,16,289],[16,290,16,295],[15,296,15,301],[15,302,15,307],[15,308,15,313],[15,315,15,318],[15,319,15,324],[15,325,15,330],[15,331,15,336],[15,337,15,342],[15,343,15,348],[15,245,15,248],[15,249,15,254],[15,255,15,260],[15,261,15,266],[15,267,15,272],[15,273,15,278],[15,280,15,283],[15,284,15,289],[15,290,15,295],[14,296,14,301],[14,302,14,307],[14,308,14,313],[14,315,14,318],[14,319,14,324],[14,325,14,330],[14,331,14,336],[14,337,14,342],[14,343,14,348],[14,245,14,248],[14,249,14,254],[14,255,14,260],[14,261,14,266],[14,267,14,272],[14,273,14,278],[14,280,14,283],[14,284,14,289],[14,290,14,295],[13,296,13,301],[13,302,13,307],[13,308,13,313],[13,315,13,318],[13,319,13,324],[13,325,13,330],[13,331,13,336],[13,337,13,342],[13,343,13,348],[13,245,13,248],[13,249,13,254],[13,255,13,260],[13,261,13,266],[13,267,13,272],[13,273,13,278],[13,280,13,283],[13,284,13,289],[13,290,13,295],[12,296,12,301],[12,302,12,307],[12,308,12,313],[12,315,12,318],[12,319,12,324],[12,325,12,330],[12,331,12,336],[12,337,12,342],[12,343,12,348],[12,245,12,248],[12,249,12,254],[12,255,12,260],[12,261,12,266],[12,267,12,272],[12,273,12,278],[12,280,12,283],[12,284,12,289],[12,290,12,295],[10,245,10,278],[10,280,10,313],[10,315,10,348],[11,245,11,248],[11,249,11,254],[11,255,11,260],[11,261,11,266],[11,267,11,272],[11,273,11,278],[11,280,11,283],[11,284,11,289],[11,290,11,295],[11,296,11,301],[11,302,11,307],[11,308,11,313],[11,315,11,318],[11,319,11,324],[11,325,11,330],[11,331,11,336],[11,337,11,342],[11,343,11,348],[9,296,9,301],[9,302,9,307],[9,308,9,313],[9,315,9,318],[9,319,9,324],[9,325,9,330],[9,331,9,336],[9,337,9,342],[9,343,9,348],[9,245,9,248],[9,249,9,254],[9,255,9,260],[9,261,9,266],[9,267,9,272],[9,273,9,278],[9,280,9,283],[9,284,9,289],[9,290,9,295],[8,296,8,301],[8,302,8,307],[8,308,8,313],[8,315,8,318],[8,319,8,324],[8,325,8,330],[8,331,8,336],[8,337,8,342],[8,343,8,348],[8,245,8,248],[8,249,8,254],[8,255,8,260],[8,261,8,266],[8,267,8,272],[8,273,8,278],[8,280,8,283],[8,284,8,289],[8,290,8,295],[6,245,6,261],[6,262,6,278],[6,280,6,296],[6,297,6,313],[6,315,6,331],[6,332,6,348],[7,245,7,278],[7,280,7,313],[7,315,7,348],[4,262,4,269],[4,270,4,278],[4,297,4,304],[4,305,4,313],[4,332,4,339],[4,340,4,348],[5,245,5,261],[5,262,5,278],[5,280,5,296],[5,297,5,313],[5,315,5,331],[5,332,5,348],[3,270,3,278],[3,280,4,288],[3,289,4,296],[3,297,3,304],[3,305,3,313],[3,315,4,323],[3,324,4,331],[3,332,3,339],[3,340,3,348],[24,226,24,231],[24,232,24,237],[24,238,24,243],[0,245,0,253],[0,254,0,278],[0,280,0,288],[0,289,0,313],[0,315,0,323],[0,324,0,348],[1,245,1,253],[1,256,1,278],[1,280,1,288],[1,291,1,313],[1,315,1,323],[1,326,1,348],[2,245,2,253],[2,254,2,278],[2,280,2,288],[2,289,2,313],[2,315,2,323],[2,324,2,348],[3,245,4,253],[3,254,4,261],[3,262,3,269],[24,175,24,178],[24,179,24,184],[24,185,24,190],[24,191,24,196],[24,197,24,202],[24,203,24,208],[24,210,24,213],[24,214,24,219],[24,220,24,225],[22,226,22,231],[22,232,22,237],[22,238,22,243],[23,175,23,178],[23,179,23,184],[23,185,23,190],[23,191,23,196],[23,197,23,202],[23,203,23,208],[23,210,23,213],[23,214,23,219],[23,220,23,225],[23,226,23,231],[23,232,23,237],[23,238,23,243],[22,175,22,178],[22,179,22,184],[22,185,22,190],[22,191,22,196],[22,197,22,202],[22,203,22,208],[22,210,22,213],[22,214,22,219],[22,220,22,225],[20,226,20,231],[20,232,20,237],[20,238,20,243],[21,175,21,178],[21,179,21,184],[21,185,21,190],[21,191,21,196],[21,197,21,202],[21,203,21,208],[21,210,21,213],[21,214,21,219],[21,220,21,225],[21,226,21,231],[21,232,21,237],[21,238,21,243],[20,175,20,178],[20,179,20,184],[20,185,20,190],[20,191,20,196],[20,197,20,202],[20,203,20,208],[20,210,20,213],[20,214,20,219],[20,220,20,225],[18,226,18,231],[18,232,18,237],[18,238,18,243],[19,175,19,178],[19,179,19,184],[19,185,19,190],[19,191,19,196],[19,197,19,202],[19,203,19,208],[19,210,19,213],[19,214,19,219],[19,220,19,225],[19,226,19,231],[19,232,19,237],[19,238,19,243],[18,175,18,178],[18,179,18,184],[18,185,18,190],[18,191,18,196],[18,197,18,202],[18,203,18,208],[18,210,18,213],[18,214,18,219],[18,220,18,225],[16,226,16,231],[16,232,16,237],[16,238,16,243],[17,175,17,178],[17,179,17,184],[17,185,17,190],[17,191,17,196],[17,197,17,202],[17,203,17,208],[17,210,17,213],[17,214,17,219],[17,220,17,225],[17,226,17,231],[17,232,17,237],[17,238,17,243],[16,175,16,178],[16,179,16,184],[16,185,16,190],[16,191,16,196],[16,197,16,202],[16,203,16,208],[16,210,16,213],[16,214,16,219],[16,220,16,225],[14,226,14,231],[14,232,14,237],[14,238,14,243],[15,175,15,178],[15,179,15,184],[15,185,15,190],[15,191,15,196],[15,197,15,202],[15,203,15,208],[15,210,15,213],[15,214,15,219],[15,220,15,225],[15,226,15,231],[15,232,15,237],[15,238,15,243],[14,175,14,178],[14,179,14,184],[14,185,14,190],[14,191,14,196],[14,197,14,202],[14,203,14,208],[14,210,14,213],[14,214,14,219],[14,220,14,225],[12,226,12,231],[12,232,12,237],[12,238,12,243],[13,175,13,178],[13,179,13,184],[13,185,13,190],[13,191,13,196],[13,197,13,202],[13,203,13,208],[13,210,13,213],[13,214,13,219],[13,220,13,225],[13,226,13,231],[13,232,13,237],[13,238,13,243],[12,175,12,178],[12,179,12,184],[12,185,12,190],[12,191,12,196],[12,197,12,202],[12,203,12,208],[12,210,12,213],[12,214,12,219],[12,220,12,225],[9,226,9,231],[9,232,9,237],[9,238,9,243],[10,175,10,208],[10,210,10,243],[11,175,11,178],[11,179,11,184],[11,185,11,190],[11,191,11,196],[11,197,11,202],[11,203,11,208],[11,210,11,213],[11,214,11,219],[11,220,11,225],[11,226,11,231],[11,232,11,237],[11,238,11,243],[9,220,9,225],[6,227,6,243],[7,175,7,208],[7,210,7,243],[8,175,8,178],[8,179,8,184],[8,185,8,190],[8,191,8,196],[8,197,8,202],[8,203,8,208],[8,210,8,213],[8,214,8,219],[8,220,8,225],[8,226,8,231],[8,232,8,237],[8,238,8,243],[3,219,4,226],[3,227,3,234],[3,235,3,243],[4,192,4,199],[4,200,4,208],[4,227,4,234],[4,235,4,243],[5,175,5,191],[5,192,5,208],[5,210,5,226],[5,227,5,243],[0,219,0,243],[1,175,1,183],[1,186,1,208],[1,210,1,218],[1,221,1,243],[2,175,2,183],[2,184,2,208],[2,210,2,218],[2,219,2,243],[24,150,24,155],[24,156,24,161],[24,162,24,167],[24,168,24,173],[0,175,0,183],[0,184,0,208],[0,210,0,218],[3,175,4,183],[3,184,4,191],[3,192,3,199],[3,200,3,208],[3,210,4,218],[6,175,6,191],[6,192,6,208],[6,210,6,226],[9,175,9,178],[9,179,9,184],[9,185,9,190],[9,191,9,196],[9,197,9,202],[9,203,9,208],[9,210,9,213],[9,214,9,219],[24,98,24,103],[24,105,24,108],[24,109,24,114],[24,115,24,120],[24,121,24,126],[24,127,24,132],[24,133,24,138],[24,140,24,143],[24,144,24,149],[23,133,23,138],[23,140,23,143],[23,144,23,149],[23,150,23,155],[23,156,23,161],[23,162,23,167],[23,168,23,173],[24,0,24,3],[24,4,24,9],[24,10,24,15],[24,16,24,21],[24,22,24,27],[24,28,24,33],[24,35,24,38],[24,39,24,44],[24,45,24,50],[24,51,24,56],[24,57,24,62],[24,63,24,68],[24,70,24,73],[24,74,24,79],[24,80,24,85],[24,86,24,91],[24,92,24,97],[22,168,22,173],[23,0,23,3],[23,4,23,9],[23,10,23,15],[23,16,23,21],[23,22,23,27],[23,28,23,33],[23,35,23,38],[23,39,23,44],[23,45,23,50],[23,51,23,56],[23,57,23,62],[23,63,23,68],[23,70,23,73],[23,74,23,79],[23,80,23,85],[23,86,23,91],[23,92,23,97],[23,98,23,103],[23,105,23,108],[23,109,23,114],[23,115,23,120],[23,121,23,126],[23,127,23,132],[22,115,22,120],[22,121,22,126],[22,127,22,132],[22,133,22,138],[22,140,22,143],[22,144,22,149],[22,150,22,155],[22,156,22,161],[22,162,22,167],[21,150,21,155],[21,156,21,161],[21,162,21,167],[21,168,21,173],[22,0,22,3],[22,4,22,9],[22,10,22,15],[22,16,22,21],[22,22,22,27],[22,28,22,33],[22,35,22,38],[22,39,22,44],[22,45,22,50],[22,51,22,56],[22,57,22,62],[22,63,22,68],[22,70,22,73],[22,74,22,79],[22,80,22,85],[22,86,22,91],[22,92,22,97],[22,98,22,103],[22,105,22,108],[22,109,22,114],[21,98,21,103],[21,105,21,108],[21,109,21,114],[21,115,21,120],[21,121,21,126],[21,127,21,132],[21,133,21,138],[21,140,21,143],[21,144,21,149],[20,133,20,138],[20,140,20,143],[20,144,20,149],[20,150,20,155],[20,156,20,161],[20,162,20,167],[20,168,20,173],[21,0,21,3],[21,4,21,9],[21,10,21,15],[21,16,21,21],[21,22,21,27],[21,28,21,33],[21,35,21,38],[21,39,21,44],[21,45,21,50],[21,51,21,56],[21,57,21,62],[21,63,21,68],[21,70,21,73],[21,74,21,79],[21,80,21,85],[21,86,21,91],[21,92,21,97],[19,168,19,173],[20,0,20,3],[20,4,20,9],[20,10,20,15],[20,16,20,21],[20,22,20,27],[20,28,20,33],[20,35,20,38],[20,39,20,44],[20,45,20,50],[20,51,20,56],[20,57,20,62],[20,63,20,68],[20,70,20,73],[20,74,20,79],[20,80,20,85],[20,86,20,91],[20,92,20,97],[20,98,20,103],[20,105,20,108],[20,109,20,114],[20,115,20,120],[20,121,20,126],[20,127,20,132],[19,115,19,120],[19,121,19,126],[19,127,19,132],[19,133,19,138],[19,140,19,143],[19,144,19,149],[19,150,19,155],[19,156,19,161],[19,162,19,167],[18,150,18,155],[18,156,18,161],[18,162,18,167],[18,168,18,173],[19,0,19,3],[19,4,19,9],[19,10,19,15],[19,16,19,21],[19,22,19,27],[19,28,19,33],[19,35,19,38],[19,39,19,44],[19,45,19,50],[19,51,19,56],[19,57,19,62],[19,63,19,68],[19,70,19,73],[19,74,19,79],[19,80,19,85],[19,86,19,91],[19,92,19,97],[19,98,19,103],[19,105,19,108],[19,109,19,114],[18,98,18,103],[18,105,18,108],[18,109,18,114],[18,115,18,120],[18,121,18,126],[18,127,18,132],[18,133,18,138],[18,140,18,143],[18,144,18,149],[17,133,17,138],[17,140,17,143],[17,144,17,149],[17,150,17,155],[17,156,17,161],[17,162,17,167],[17,168,17,173],[18,0,18,3],[18,4,18,9],[18,10,18,15],[18,16,18,21],[18,22,18,27],[18,28,18,33],[18,35,18,38],[18,39,18,44],[18,45,18,50],[18,51,18,56],[18,57,18,62],[18,63,18,68],[18,70,18,73],[18,74,18,79],[18,80,18,85],[18,86,18,91],[18,92,18,97],[16,168,16,173],[17,0,17,3],[17,4,17,9],[17,10,17,15],[17,16,17,21],[17,22,17,27],[17,28,17,33],[17,35,17,38],[17,39,17,44],[17,45,17,50],[17,51,17,56],[17,57,17,62],[17,63,17,68],[17,70,17,73],[17,74,17,79],[17,80,17,85],[17,86,17,91],[17,92,17,97],[17,98,17,103],[17,105,17,108],[17,109,17,114],[17,115,17,120],[17,121,17,126],[17,127,17,132],[16,115,16,120],[16,121,16,126],[16,127,16,132],[16,133,16,138],[16,140,16,143],[16,144,16,149],[16,150,16,155],[16,156,16,161],[16,162,16,167],[15,150,15,155],[15,156,15,161],[15,162,15,167],[15,168,15,173],[16,0,16,3],[16,4,16,9],[16,10,16,15],[16,16,16,21],[16,22,16,27],[16,28,16,33],[16,35,16,38],[16,39,16,44],[16,45,16,50],[16,51,16,56],[16,57,16,62],[16,63,16,68],[16,70,16,73],[16,74,16,79],[16,80,16,85],[16,86,16,91],[16,92,16,97],[16,98,16,103],[16,105,16,108],[16,109,16,114],[15,98,15,103],[15,105,15,108],[15,109,15,114],[15,115,15,120],[15,121,15,126],[15,127,15,132],[15,133,15,138],[15,0,15,3],[15,4,15,9],[15,10,15,15],[15,16,15,21],[15,22,15,27],[15,28,15,33],[15,35,15,38],[15,39,15,44],[15,45,15,50],[15,51,15,56],[15,57,15,62],[15,63,15,68],[15,70,15,73],[15,74,15,79],[15,80,15,85],[15,86,15,91],[15,92,15,97],[2,9,2,33],[2,35,2,43],[2,44,2,68],[2,70,2,78],[2,79,2,103],[2,105,2,113],[2,114,2,138],[2,140,2,148],[15,140,15,143],[15,144,15,149],[14,133,14,138],[14,140,14,143],[14,144,14,149],[14,150,14,155],[14,156,14,161],[14,162,14,167],[14,168,14,173],[14,80,14,85],[14,86,14,91],[14,92,14,97],[14,98,14,103],[14,105,14,108],[14,109,14,114],[2,149,2,173],[9,98,9,103],[9,35,9,38],[9,39,9,44],[8,16,8,21],[8,22,8,27],[8,28,8,33],[7,0,7,33],[7,35,7,68],[0,105,0,113],[0,114,0,138],[0,140,0,148],[0,149,0,173],[1,0,1,8],[1,11,1,33],[1,35,1,43],[1,46,1,68],[1,70,1,78],[1,81,1,103],[0,0,0,8],[0,9,0,33],[0,35,0,43],[0,44,0,68],[0,70,0,78],[0,79,0,103],[1,105,1,113],[1,116,1,138],[1,140,1,148],[1,151,1,173],[4,165,4,173],[3,105,4,113],[3,114,4,121],[3,122,3,129],[3,130,3,138],[3,140,4,148],[3,149,4,156],[4,122,4,129],[4,130,4,138],[3,52,3,59],[3,60,3,68],[3,70,4,78],[3,79,4,86],[3,87,3,94],[3,95,3,103],[4,52,4,59],[4,60,4,68],[4,87,4,94],[4,95,4,103],[2,0,2,8],[5,105,5,121],[5,122,5,138],[5,140,5,156],[5,157,5,173],[6,0,6,16],[6,17,6,33],[6,35,6,51],[6,52,6,68],[6,70,6,86],[6,87,6,103],[5,0,5,16],[5,17,5,33],[5,35,5,51],[5,52,5,68],[5,70,5,86],[5,87,5,103],[6,105,6,121],[6,122,6,138],[6,140,6,156],[6,157,6,173],[3,0,4,8],[3,9,4,16],[3,17,3,24],[3,25,3,33],[3,35,4,43],[3,44,4,51],[3,157,3,164],[3,165,3,173],[4,17,4,24],[4,25,4,33],[4,157,4,164],[7,70,7,103],[7,105,7,138],[7,140,7,173],[8,156,8,161],[8,162,8,167],[8,168,8,173],[8,105,8,108],[8,109,8,114],[8,115,8,120],[8,121,8,126],[8,127,8,132],[8,133,8,138],[8,140,8,143],[8,144,8,149],[8,150,8,155],[8,70,8,73],[8,74,8,79],[8,80,8,85],[8,86,8,91],[8,92,8,97],[8,98,8,103],[8,35,8,38],[8,39,8,44],[8,45,8,50],[8,51,8,56],[8,57,8,62],[8,63,8,68],[8,0,8,3],[8,4,8,9]],"merged_total":1140,"flags":["merged_cut"]}
["CONCEPTO",{"$nulls":8},"No. 1",{"$nulls":25},"CONCEPTO",{"$nulls":8},"No. 2",{"$nulls":25},"CONCEPTO",{"$nulls":8},"No. 3",{"$nulls":25},"CONCEPTO",{"$nulls":8},"No. 4",{"$nulls":25},"CONCEPTO",{"$nulls":8},"No. 5",{"$nulls":25},"CONCEPTO",{"$nulls":8},"No. 6",{"$nulls":25},"CONCEPTO",{"$nulls":8},"No. 7",{"$nulls":25},"CONCEPTO",{"$nulls":8},"No. 8",{"$nulls":25},"CONCEPTO",{"$nulls":8},"No. 9",{"$nulls":25},"CONCEPTO",{"$nulls":8},"No. 10"]
["TIPO DE OBLIGACIÓN:",{"$nulls":8},{"$f":"IF(L2=\"Institución de crédito\",\"1\",IF(L2=\"Títulos y valores\",\"2\",IF(L2=\"Arrendamiento financiero\",\"3\",\"\")))","v":"1"},{"$f":"IF(L2>0,\".-\",\"\")","v":".-"},"Institución de crédito",{"$nulls":23},"TIPO DE OBLIGACIÓN:",{"$nulls":8},{"$f":"IF(AU2=\"Institución de crédito\",\"1\",IF(AU2=\"Títulos y valores\",\"2\",IF(AU2=\"Arrendamiento financiero\",\"3\",\"\")))","v":"1"},{"$f":"IF(AU2>0,\".-\",\"\")","v":".-"},"Institución de crédito",{"$nulls":23},"TIPO DE OBLIGACIÓN:",{"$nulls":8},{"$f":"IF(CD2=\"Institución de crédito\",\"1\",IF(CD2=\"Títulos y valores\",\"2\",IF(CD2=\"Arrendamiento financiero\",\"3\",\"\")))","v":"1"},{"$f":"IF(CD2>0,\".-\",\"\")","v":".-"},"Institución de crédito",{"$nulls":23},"TIPO DE OBLIGACIÓN:",{"$nulls":8},{"$f":"IF(DM2=\"Institución de crédito\",\"1\",IF(DM2=\"Títulos y valores\",\"2\",IF(DM2=\"Arrendamiento financiero\",\"3\",\"\")))","v":""},{"$f":"IF(DM2>0,\".-\",\"\")","v":""},{"$nulls":24},"TIPO DE OBLIGACIÓN:",{"$nulls":8},{"$f":"IF(EV2=\"Institución de crédito\",\"1\",IF(EV2=\"Títulos y valores\",\"2\",IF(EV2=\"Arrendamiento financiero\",\"3\",\"\")))","v":""},{"$f":"IF(EV2>0,\".-\",\"\")","v":""},{"$nulls":24},"TIPO DE OBLIGACIÓN:",{"$nulls":8},{"$f":"IF(GE2=\"Institución de crédito\",\"1\",IF(GE2=\"Títulos y valores\",\"2\",IF(GE2=\"Arrendamiento financiero\",\"3\",\"\")))","v":""},{"$f":"IF(GE2>0,\".-\",\"\")","v":""},{"$nulls":24},"TIPO DE OBLIGACIÓN:",{"$nulls":8},{"$f":"IF(HN2=\"Institución de crédito\",\"1\",IF(HN2=\"Títulos y valores\",\"2\",IF(HN2=\"Arrendamiento financiero\",\"3\",\"\")))","v":""},{"$f":"IF(HN2>0,\".-\",\"\")","v":""},{"$nulls":24},"TIPO DE OBLIGACIÓN:",{"$nulls":8},{"$f":"IF(IW2=\"Institución de crédito\",\"1\",IF(IW2=\"Títulos y valores\",\"2\",IF(IW2=\"Arrendamiento financiero\",\"3\",\"\")))","v":""},{"$f":"IF(IW2>0,\".-\",\"\")","v":""},{"$nulls":24},"TIPO DE OBLIGACIÓN:",{"$nulls":8},{"$f":"IF(KF2=\"Institución de crédito\",\"1\",IF(KF2=\"Títulos y valores\",\"2\",IF(KF2=\"Arrendamiento financiero\",\"3\",\"\")))","v":""},{"$f":"IF(KF2>0,\".-\",\"\")","v":""},{"$nulls":24},"TIPO DE OBLIGACIÓN:",{"$nulls":8},{"$f":"IF(LO2=\"Institución de crédito\",\"1\",IF(LO2=\"Títulos y valores\",\"2\",IF(LO2=\"Arrendamiento financiero\",\"3\",\"\")))","v":""},{"$f":"IF(LO2>0,\".-\",\"\")","v":""}]
["NOMBRE DEL ACREEDOR:",{"$nulls":8},"SHP",{"$nulls":25},"NOMBRE DEL ACREEDOR:",{"$nulls":8},"FRANCISCO AMADO GUZMAN SANCHEZ",{"$nulls":25},"NOMBRE DEL ACREEDOR:",{"$nulls":8},"FRANCISCO AMADO GUZMAN SANCHEZ",{"$nulls":25},"NOMBRE DEL ACREEDOR:",{"$nulls":34},"NOMBRE DEL ACREEDOR:",{"$nulls":34},"NOMBRE DEL ACREEDOR:",{"$nulls":34},"NOMBRE DEL ACREEDOR:",{"$nulls":34},"NOMBRE DEL ACREEDOR:",{"$nulls":34},"NOMBRE DEL ACREEDOR:",{"$nulls":34},"NOMBRE DEL ACREEDOR:"]
["MONTO DISPUESTO:",{"$nulls":8},2000000,{"$nulls":7},"FECHA DE INICIO:",{"$nulls":7},"2021-01-01",{"$nulls":9},"MONTO DISPUESTO:",{"$nulls":8},450000,{"$nulls":7},"FECHA DE INICIO:",{"$nulls":7},"2021-01-01",{"$nulls":9},"MONTO DISPUESTO:",{"$nulls":8},200000,{"$nulls":7},"FECHA DE INICIO:",{"$nulls":7},"2021-01-01",{"$nulls":9},"MONTO DISPUESTO:",{"$nulls":16},"FECHA DE INICIO:",{"$nulls":17},"MONTO DISPUESTO:",{"$nulls":16},"FECHA DE INICIO:",{"$nulls":17},"MONTO DISPUESTO:",{"$nulls":16},"FECHA DE INICIO:",{"$nulls":17},"MONTO DISPUESTO:",{"$nulls":16},"FECHA DE INICIO:",{"$nulls":17},"MONTO DISPUESTO:",{"$nulls":16},"FECHA DE INICIO:",{"$nulls":17},"MONTO DISPUESTO:",{"$nulls":16},"FECHA DE INICIO:",{"$nulls":17},"MONTO DISPUESTO:",{"$nulls":16},"FECHA DE INICIO:"]
[{"$nulls":17},"FECHA DE VENCIMIENTO:",{"$nulls":7},"2021-12-31",{"$nulls":26},"FECHA DE VENCIMIENTO:",{"$nulls":7},"2021-12-31",{"$nulls":26},"FECHA DE VENCIMIENTO:",{"$nulls":7},"2021-12-31",{"$nulls":26},"FECHA DE VENCIMIENTO:",{"$nulls":34},"FECHA DE VENCIMIENTO:",{"$nulls":34},"FECHA DE VENCIMIENTO:",{"$nulls":34},"FECHA DE VENCIMIENTO:",{"$nulls":34},"FECHA DE VENCIMIENTO:",{"$nulls":34},"FECHA DE VENCIMIENTO:",{"$nulls":34},"FECHA DE VENCIMIENTO:"]
["SALDO AL 1° DE ENERO DE 2021 A CORTO PLAZO:",{"$nulls":16},2000000,{"$nulls":17},"SALDO AL 1° DE ENERO DE 2021 A CORTO PLAZO:",{"$nulls":16},450000,{"$nulls":17},"SALDO AL 1° DE ENERO DE 2021 A CORTO PLAZO:",{"$nulls":16},0,{"$nulls":17},"SALDO AL 1° DE ENERO DE 2021 A CORTO PLAZO:",{"$nulls":34},"SALDO AL 1° DE ENERO DE 2021 A CORTO PLAZO:",{"$nulls":34},"SALDO AL 1° DE ENERO DE 2021 A CORTO PLAZO:",{"$nulls":34},"SALDO AL 1° DE ENERO DE 2021 A CORTO PLAZO:",{"$nulls":34},"SALDO AL 1° DE ENERO DE 2021 A CORTO PLAZO:",{"$nulls":34},"SALDO AL 1° DE ENERO DE 2021 A CORTO PLAZO:",{"$nulls":34},"SALDO AL 1° DE ENERO DE 2021 A CORTO PLAZO:"]
["SALDO AL 1° DE ENERO DE 2021 A LARGO PLAZO:",{"$nulls":16},0,{"$nulls":17},"SALDO AL 1° DE ENERO DE 2021 A LARGO PLAZO:",{"$nulls":16},0,{"$nulls":17},"SALDO AL 1° DE ENERO DE 2021 A LARGO PLAZO:",{"$nulls":16},0,{"$nulls":17},"SALDO AL 1° DE ENERO DE 2021 A LARGO PLAZO:",{"$nulls":34},"SALDO AL 1° DE ENERO DE 2021 A LARGO PLAZO:",{"$nulls":34},"SALDO AL 1° DE ENERO DE 2021 A LARGO PLAZO:",{"$nulls":34},"SALDO AL 1° DE ENERO DE 2021 A LARGO PLAZO:",{"$nulls":34},"SALDO AL 1° DE ENERO DE 2021 A LARGO PLAZO:",{"$nulls":34},"SALDO AL 1° DE ENERO DE 2021 A LARGO PLAZO:",{"$nulls":34},"SALDO AL 1° DE ENERO DE 2021 A LARGO PLAZO:"]
["OBLIGACIONES A LARGO PLAZO",{"$nulls":34},"OBLIGACIONES A LARGO PLAZO",{"$nulls":34},"OBLIGACIONES A LARGO PLAZO",{"$nulls":34},"OBLIGACIONES A LARGO PLAZO",{"$nulls":34},"OBLIGACIONES A LARGO PLAZO",{"$nulls":34},"OBLIGACIONES A LARGO PLAZO",{"$nulls":34},"OBLIGACIONES A LARGO PLAZO",{"$nulls":34},"OBLIGACIONES A LARGO PLAZO",{"$nulls":34},"OBLIGACIONES A LARGO PLAZO",{"$nulls":34},"OBLIGACIONES A LARGO PLAZO"]
["CONCEPTO",null,null,null,"DISPOSICIÓN",{"$nulls":5},"AMORTIZACIÓN",{"$nulls":5},"REVALUACIONES",{"$nulls":5},"INTERÉS",{"$nulls":5},"COMISIONES",{"$nulls":6},"CONCEPTO",null,null,null,"DISPOSICIÓN",{"$nulls":5},"AMORTIZACIÓN",{"$nulls":5},"REVALUACIONES",{"$nulls":5},"INTERÉS",{"$nulls":5},"COMISIONES",{"$nulls":6},"CONCEPTO",null,null,null,"DISPOSICIÓN",{"$nulls":5},"AMORTIZACIÓN",{"$nulls":5},"REVALUACIONES",{"$nulls":5},"INTERÉS",{"$nulls":5},"COMISIONES",{"$nulls":6},"CONCEPTO",null,null,null,"DISPOSICIÓN",{"$nulls":5},"AMORTIZACIÓN",{"$nulls":5},"REVALUACIONES",{"$nulls":5},"INTERÉS",{"$nulls":5},"COMISIONES",{"$nulls":6},"CONCEPTO",null,null,null,"DISPOSICIÓN",{"$nulls":5},"AMORTIZACIÓN",{"$nulls":5},"REVALUACIONES",{"$nulls":5},"INTERÉS",{"$nulls":5},"COMISIONES",{"$nulls":6},"CONCEPTO",null,null,null,"DISPOSICIÓN",{"$nulls":5},"AMORTIZACIÓN",{"$nulls":5},"REVALUACIONES",{"$nulls":5},"INTERÉS",{"$nulls":5},"COMISIONES",{"$nulls":6},"CONCEPTO",null,null,null,"DISPOSICIÓN",{"$nulls":5},"AMORTIZACIÓN",{"$nulls":5},"REVALUACIONES",{"$nulls":5},"INTERÉS",{"$nulls":5},"COMISIONES",{"$nulls":6},"CONCEPTO",null,null,null,"DISPOSICIÓN",{"$nulls":5},"AMORTIZACIÓN",{"$nulls":5},"REVALUACIONES",{"$nulls":5},"INTERÉS",{"$nulls":5},"COMISIONES",{"$nulls":6},"CONCEPTO",null,null,null,"DISPOSICIÓN",{"$nulls":5},"AMORTIZACIÓN",{"$nulls":5},"REVALUACIONES",{"$nulls":5},"INTERÉS",{"$nulls":5},"COMISIONES",{"$nulls":6},"CONCEPTO",null,null,null,"DISPOSICIÓN",{"$nulls":5},"AMORTIZACIÓN",{"$nulls":5},"REVALUACIONES",{"$nulls":5},"INTERÉS",{"$nulls":5},"COMISIONES"]
["Largo Plazo",null,null,null,0,{"$nulls":5},0,{"$nulls":5},0,{"$nulls":5},0,{"$nulls":5},0,{"$nulls":6},"Largo Plazo",null,null,null,0,{"$nulls":5},0,{"$nulls":5},0,{"$nulls":5},0,{"$nulls":5},0,{"$nulls":6},"Largo Plazo",null,null,null,0,{"$nulls":5},0,{"$nulls":5},0,{"$nulls":5},0,{"$nulls":5},0,{"$nulls":6},"Largo Plazo",{"$nulls":34},"Largo Plazo",{"$nulls":34},"Largo Plazo",{"$nulls":34},"Largo Plazo",{"$nulls":34},"Largo Plazo",{"$nulls":34},"Largo Plazo",{"$nulls":34},"Largo Plazo"]
["OBLIGACIONES A CORTO PLAZO",{"$nulls":34},"OBLIGACIONES A CORTO PLAZO",{"$nulls":34},"OBLIGACIONES A CORTO PLAZO",{"$nulls":34},"OBLIGACIONES A CORTO PLAZO",{"$nulls":34},"OBLIGACIONES A CORTO PLAZO",{"$nulls":34},"OBLIGACIONES A CORTO PLAZO",{"$nulls":34},"OBLIGACIONES A CORTO PLAZO",{"$nulls":34},"OBLIGACIONES A CORTO PLAZO",{"$nulls":34},"OBLIGACIONES A CORTO PLAZO",{"$nulls":34},"OBLIGACIONES A CORTO PLAZO"]
["MES",null,null,null,"DISPOSICIÓN",{"$nulls":5},"AMORTIZACIÓN",{"$nulls":5},"REVALUACIONES",{"$nulls":5},"INTERÉS",{"$nulls":5},"COMISIONES",{"$nulls":6},"MES",null,null,null,"DISPOSICIÓN",{"$nulls":5},"AMORTIZACIÓN",{"$nulls":5},"REVALUACIONES",{"$nulls":5},"INTERÉS",{"$nulls":5},"COMISIONES",{"$nulls":6},"MES",null,null,null,"DISPOSICIÓN",{"$nulls":5},"AMORTIZACIÓN",{"$nulls":5},"REVALUACIONES",{"$nulls":5},"INTERÉS",{"$nulls":5},"COMISIONES",{"$nulls":6},"MES",null,null,null,"DISPOSICIÓN",{"$nulls":5},"AMORTIZACIÓN",{"$nulls":5},"REVALUACIONES",{"$nulls":5},"INTERÉS",{"$nulls":5},"COMISIONES",{"$nulls":6},"MES",null,null,null,"DISPOSICIÓN",{"$nulls":5},"AMORTIZACIÓN",{"$nulls":5},"REVALUACIONES",{"$nulls":5},"INTERÉS",{"$nulls":5},"COMISIONES",{"$nulls":6},"MES",null,null,null,"DISPOSICIÓN",{"$nulls":5},"AMORTIZACIÓN",{"$nulls":5},"REVALUACIONES",{"$nulls":5},"INTERÉS",{"$nulls":5},"COMISIONES",{"$nulls":6},"MES",null,null,null,"DISPOSICIÓN",{"$nulls":5},"AMORTIZACIÓN",{"$nulls":5},"REVALUACIONES",{"$nulls":5},"INTERÉS",{"$nulls":5},"COMISIONES",{"$nulls":6},"MES",null,null,null,"DISPOSICIÓN",{"$nulls":5},"AMORTIZACIÓN",{"$nulls":5},"REVALUACIONES",{"$nulls":5},"INTERÉS",{"$nulls":5},"COMISIONES",{"$nulls":6},"MES",null,null,null,"DISPOSICIÓN",{"$nulls":5},"AMORTIZACIÓN",{"$nulls":5},"REVALUACIONES",{"$nulls":5},"INTERÉS",{"$nulls":5},"COMISIONES",{"$nulls":6},"MES",null,null,null,"DISPOSICIÓN",{"$nulls":5},"AMORTIZACIÓN",{"$nulls":5},"REVALUACIONES",{"$nulls":5},"INTERÉS",{"$nulls":5},"COMISIONES"]
["ENERO",{"$nulls":9},328565.15000000002,{"$nulls":11},11177.21,{"$nulls":12},"ENERO",{"$nulls":34},"ENERO",null,null,null,200000,{"$nulls":30},"ENERO",{"$nulls":34},"ENERO",{"$nulls":34},"ENERO",{"$nulls":34},"ENERO",{"$nulls":34},"ENERO",{"$nulls":34},"ENERO",{"$nulls":34},"ENERO"]
["FEBRERO",{"$nulls":9},330401.36,{"$nulls":11},9341,{"$nulls":12},"FEBRERO",{"$nulls":34},"FEBRERO",{"$nulls":34},"FEBRERO",{"$nulls":34},"FEBRERO",{"$nulls":34},"FEBRERO",{"$nulls":34},"FEBRERO",{"$nulls":34},"FEBRERO",{"$nulls":34},"FEBRERO",{"$nulls":34},"FEBRERO"]
["MARZO",{"$nulls":9},332973.12,{"$nulls":11},6769.24,{"$nulls":12},"MARZO",{"$nulls":9},300000,{"$nulls":24},"MARZO",{"$nulls":34},"MARZO",{"$nulls":34},"MARZO",{"$nulls":34},"MARZO",{"$nulls":34},"MARZO",{"$nulls":34},"MARZO",{"$nulls":34},"MARZO",{"$nulls":34},"MARZO"]
["ABRIL",{"$nulls":9},334108.7,{"$nulls":11},5633.66,{"$nulls":12},"ABRIL",{"$nulls":34},"ABRIL",{"$nulls":34},"ABRIL",{"$nulls":34},"ABRIL",{"$nulls":34},"ABRIL",{"$nulls":34},"ABRIL",{"$nulls":34},"ABRIL",{"$nulls":34},"ABRIL",{"$nulls":34},"ABRIL"]
["MAYO",{"$nulls":9},336097.4,{"$nulls":11},3644.96,{"$nulls":12},"MAYO",{"$nulls":9},150000,{"$nulls":24},"MAYO",{"$nulls":34},"MAYO",{"$nulls":34},"MAYO",{"$nulls":34},"MAYO",{"$nulls":34},"MAYO",{"$nulls":34},"MAYO",{"$nulls":34},"MAYO",{"$nulls":34},"MAYO"]
["JUNIO",{"$nulls":9},337854.27,{"$nulls":11},1888.14,{"$nulls":12},"JUNIO",{"$nulls":34},"JUNIO",{"$nulls":34},"JUNIO",{"$nulls":34},"JUNIO",{"$nulls":34},"JUNIO",{"$nulls":34},"JUNIO",{"$nulls":34},"JUNIO",{"$nulls":34},"JUNIO",{"$nulls":34},"JUNIO"]
["JULIO",{"$nulls":34},"JULIO",{"$nulls":34},"JULIO",{"$nulls":34},"JULIO",{"$nulls":34},"JULIO",{"$nulls":34},"JULIO",{"$nulls":34},"JULIO",{"$nulls":34},"JULIO",{"$nulls":34},"JULIO",{"$nulls":34},"JULIO"]
["AGOSTO",{"$nulls":34},"AGOSTO",{"$nulls":34},"AGOSTO",{"$nulls":34},"AGOSTO",{"$nulls":34},"AGOSTO",{"$nulls":34},"AGOSTO",{"$nulls":34},"AGOSTO",{"$nulls":34},"AGOSTO",{"$nulls":34},"AGOSTO",{"$nulls":34},"AGOSTO"]
["SEPTIEMBRE",{"$nulls":34},"SEPTIEMBRE",{"$nulls":34},"SEPTIEMBRE",{"$nulls":9},200000,{"$nulls":24},"SEPTIEMBRE",{"$nulls":34},"SEPTIEMBRE",{"$nulls":34},"SEPTIEMBRE",{"$nulls":34},"SEPTIEMBRE",{"$nulls":34},"SEPTIEMBRE",{"$nulls":34},"SEPTIEMBRE",{"$nulls":34},"SEPTIEMBRE"]
["OCTUBRE",{"$nulls":34},"OCTUBRE",{"$nulls":34},"OCTUBRE",{"$nulls":34},"OCTUBRE",{"$nulls":34},"OCTUBRE",{"$nulls":34},"OCTUBRE",{"$nulls":34},"OCTUBRE",{"$nulls":34},"OCTUBRE",{"$nulls":34},"OCTUBRE",{"$nulls":34},"OCTUBRE"]
["NOVIEMBRE",{"$nulls":34},"NOVIEMBRE",{"$nulls":34},"NOVIEMBRE",{"$nulls":34},"NOVIEMBRE",{"$nulls":34},"NOVIEMBRE",{"$nulls":34},"NOVIEMBRE",{"$nulls":34},"NOVIEMBRE",{"$nulls":34},"NOVIEMBRE",{"$nulls":34},"NOVIEMBRE",{"$nulls":34},"NOVIEMBRE"]
["DICIEMBRE",{"$nulls":34},"DICIEMBRE",{"$nulls":34},"DICIEMBRE",{"$nulls":34},"DICIEMBRE",{"$nulls":34},"DICIEMBRE",{"$nulls":34},"DICIEMBRE",{"$nulls":34},"DICIEMBRE",{"$nulls":34},"DICIEMBRE",{"$nulls":34},"DICIEMBRE",{"$nulls":34},"DICIEMBRE"]
["SUMA",null,null,null,{"$f":"SUM(E13:J24)","v":0},{"$nulls":5},{"$f":"SUM(K13:P24)","v":2000000},{"$nulls":5},{"$f":"SUM(Q13:V24)","v":0},{"$nulls":5},{"$f":"SUM(W13:AB24)","v":38454.21},{"$nulls":5},{"$f":"SUM(AC13:AH24)","v":0},{"$nulls":6},"SUMA",null,null,null,{"$f":"SUM(AN13:AS24)","v":0},{"$nulls":5},{"$f":"SUM(AT13:AY24)","v":450000},{"$nulls":5},{"$f":"SUM(AZ13:BE24)","v":0},{"$nulls":5},{"$f":"SUM(BF13:BK24)","v":0},{"$nulls":5},{"$f":"SUM(BL13:BQ24)","v":0},{"$nulls":6},"SUMA",null,null,null,{"$f":"SUM(BW13:CB24)","v":200000},{"$nulls":5},{"$f":"SUM(CC13:CH24)","v":200000},{"$nulls":5},{"$f":"SUM(CI13:CN24)","v":0},{"$nulls":5},{"$f":"SUM(CO13:CT24)","v":0},{"$nulls":5},{"$f":"SUM(CU13:CZ24)","v":0},{"$nulls":6},"SUMA",null,null,null,{"$f":"SUM(DF13:DK24)","v":0},{"$nulls":5},{"$f":"SUM(DL13:DQ24)","v":0},{"$nulls":5},{"$f":"SUM(DR13:DW24)","v":0},{"$nulls":5},{"$f":"SUM(DX13:EC24)","v":0},{"$nulls":5},{"$f":"SUM(ED13:EI24)","v":0},{"$nulls":6},"SUMA",null,null,null,{"$f":"SUM(EO13:ET24)","v":0},{"$nulls":5},{"$f":"SUM(EU13:EZ24)","v":0},{"$nulls":5},{"$f":"SUM(FA13:FF24)","v":0},{"$nulls":5},{"$f":"SUM(FG13:FL24)","v":0},{"$nulls":5},{"$f":"SUM(FM13:FR24)","v":0},{"$nulls":6},"SUMA",null,null,null,{"$f":"SUM(FX13:GC24)","v":0},{"$nulls":5},{"$f":"SUM(GD13:GI24)","v":0},{"$nulls":5},{"$f":"SUM(GJ13:GO24)","v":0},{"$nulls":5},{"$f":"SUM(GP13:GU24)","v":0},{"$nulls":5},{"$f":"SUM(GV13:HA24)","v":0},{"$nulls":6},"SUMA",null,null,null,{"$f":"SUM(HG13:HL24)","v":0},{"$nulls":5},{"$f":"SUM(HM13:HR24)","v":0},{"$nulls":5},{"$f":"SUM(HS13:HX24)","v":0},{"$nulls":5},{"$f":"SUM(HY13:ID24)","v":0},{"$nulls":5},{"$f":"SUM(IE13:IJ24)","v":0},{"$nulls":6},"SUMA",null,null,null,{"$f":"SUM(IP13:IU24)","v":0},{"$nulls":5},{"$f":"SUM(IV13:JA24)","v":0},{"$nulls":5},{"$f":"SUM(JB13:JG24)","v":0},{"$nulls":5},{"$f":"SUM(JH13:JM24)","v":0},{"$nulls":5},{"$f":"SUM(JN13:JS24)","v":0},{"$nulls":6},"SUMA",null,null,null,{"$f":"SUM(JY13:KD24)","v":0},{"$nulls":5},{"$f":"SUM(KE13:KJ24)","v":0},{"$nulls":5},{"$f":"SUM(KK13:KP24)","v":0},{"$nulls":5},{"$f":"SUM(KQ13:KV24)","v":0},{"$nulls":5},{"$f":"SUM(KW13:LB24)","v":0},{"$nulls":6},"SUMA",null,null,null,{"$f":"SUM(LH13:LM24)","v":0},{"$nulls":5},{"$f":"SUM(LN13:LS24)","v":0},{"$nulls":5},{"$f":"SUM(LT13:LY24)","v":0},{"$nulls":5},{"$f":"SUM(LZ13:ME24)","v":0},{"$nulls":5},{"$f":"SUM(MF13:MK24)","v":0}]

{"sheet":"F9-EDP","index":4,"n_rows":57,"n_cols":56,"rows_kept":57,"cut":false,"hidden":false,"merged":[[48,53,48,61],[47,1,47,12],[47,13,47,22],[47,23,47,32],[47,33,47,42],[47,43,47,52],[47,53,47,61],[56,5,56,24],[56,32,56,52],[48,1,48,12],[48,13,48,22],[48,23,48,32],[48,33,48,42],[48,43,48,52],[55,5,55,24],[55,32,55,52],[45,1,45,12],[45,13,45,22],[45,23,45,32],[45,33,45,42],[45,43,45,52],[45,53,45,61],[46,1,46,12],[46,13,46,22],[46,23,46,32],[46,33,46,42],[46,43,46,52],[46,53,46,61],[43,1,43,12],[43,13,43,22],[43,23,43,32],[43,33,43,42],[43,43,43,52],[43,53,43,61],[44,1,44,12],[44,13,44,22],[44,23,44,32],[44,33,44,42],[44,43,44,52],[44,53,44,61],[40,13,40,22],[40,23,40,32],[40,33,40,42],[40,43,40,52],[40,53,40,61],[41,0,42,12],[41,13,42,22],[41,23,42,32],[41,33,42,42],[41,43,42,52],[41,53,42,61],[38,1,38,12],[38,13,38,19],[38,20,38,26],[38,27,38,33],[38,34,38,40],[38,41,38,47],[38,48,38,54],[38,55,38,61],[39,1,39,12],[39,13,39,19],[39,20,39,26],[39,27,39,33],[39,34,39,40],[39,41,39,47],[39,48,39,54],[39,55,39,61],[36,1,36,12],[36,13,36,19],[36,20,36,26],[36,27,36,33],[36,34,36,40],[36,41,36,47],[36,48,36,54],[36,55,36,61],[37,1,37,12],[37,13,37,19],[37,20,37,26],[37,27,37,33],[37,34,37,40],[37,41,37,47],[37,48,37,54],[37,55,37,61],[34,1,34,12],[34,13,34,19],[34,20,34,26],[34,27,34,33],[34,34,34,40],[34,41,34,47],[34,48,34,54],[34,55,34,61],[35,1,35,12],[35,13,35,19],[35,20,35,26],[35,27,35,33],[35,34,35,40],[35,41,35,47],[35,48,35,54],[35,55,35,61],[31,1,31,12],[31,13,31,19],[31,20,31,26],[31,27,31,33],[31,34,31,40],[31,41,31,47],[31,48,31,54],[31,55,31,61],[32,1,32,12],[32,13,32,19],[32,20,32,26],[32,27,32,33],[32,34,32,40],[32,41,32,47],[32,48,32,54],[32,55,32,61],[29,1,29,12],[29,13,29,19],[29,20,29,26],[29,27,29,33],[29,34,29,40],[29,41,29,47],[29,48,29,54],[29,55,29,61],[30,1,30,12],[30,13,30,19],[30,20,30,26],[30,27,30,33],[30,34,30,40],[30,41,30,47],[30,48,30,54],[30,55,30,61],[27,1,27,12],[27,13,27,19],[27,20,27,26],[27,27,27,33],[27,34,27,40],[27,41,27,47],[27,48,27,54],[27,55,27,61],[28,1,28,12],[28,13,28,19],[28,20,28,26],[28,27,28,33],[28,34,28,40],[28,41,28,47],[28,48,28,54],[28,55,28,61],[19,0,19,12],[19,13,19,19],[19,20,19,26],[19,27,19,33],[19,34,19,40],[19,41,19,47],[19,48,19,54],[19,55,19,61],[22,0,25,12],[22,13,25,19],[22,20,25,26],[22,27,25,33],[22,34,25,40],[22,41,25,47],[22,48,25,54],[22,55,25,61],[17,2,17,12],[17,13,17,19],[17,20,17,26],[17,27,17,33],[17,34,17,40],[17,41,17,47],[17,48,17,54],[17,55,17,61],[18,0,18,12],[18,13,18,19],[18,20,18,26],[18,27,18,33],[18,34,18,40],[18,41,18,47],[18,48,18,54],[18,55,18,61],[15,2,15,12],[15,13,15,19],[15,20,15,26],[15,27,15,33],[15,34,15,40],[15,41,15,47],[15,48,15,54],[15,55,15,61],[16,2,16,12],[16,13,16,19],[16,20,16,26],[16,27,16,33],[16,34,16,40],[16,41,16,47],[16,48,16,54],[16,55,16,61],[13,2,13,12],[13,13,13,19],[13,20,13,26],[13,27,13,33],[13,34,13,40],[13,41,13,47],[13,48,13,54],[13,55,13,61],[14,1,14,12],[14,13,14,19],[14,20,14,26],[14,27,14,33],[14,34,14,40],[14,41,14,47],[14,48,14,54],[14,55,14,61],[11,2,11,12],[11,13,11,19],[11,20,11,26],[11,27,11,33],[11,34,11,40],[11,41,11,47],[11,48,11,54],[11,55,11,61],[12,2,12,12],[12,13,12,19],[12,20,12,26],[12,27,12,33],[12,34,12,40],[12,41,12,47],[12,48,12,54],[12,55,12,61],[9,0,9,12],[9,13,9,19],[9,20,9,26],[9,27,9,33],[9,34,9,40],[9,41,9,47],[9,48,9,54],[9,55,9,61],[10,1,10,12],[10,13,10,19],[10,20,10,26],[10,27,10,33],[10,34,10,40],[10,41,10,47],[10,48,10,54],[10,55,10,61],[0,0,0,61],[1,0,1,61],[2,0,2,61],[4,0,7,12],[4,13,7,19],[4,20,7,26],[4,27,7,33],[4,34,7,40],[4,41,7,47],[4,48,7,54],[4,55,7,61]]}
[{"$f":"Validacion!A2","v":"Atemajac de Brizuela"}]
["ESTADO E INFORME ANALÍTICO DE LA DEUDA PÚBLICA Y OTROS PASIVOS"]
[{"$f":"IF(Validacion!A11=\"ENERO\",Validacion!E131,\"Del 1° de Enero al \"&INDEX(Validacion!D131:D142,MATCH(Validacion!A11,Validacion!C131:C142,0)))","v":"Del 1° de Enero al 31 de Diciembre de 2021"}]
[]
["Denominación de la\ndeuda pública y otros pasivos",{"$nulls":12},"Saldo al 1° de\nenero de 2021",{"$nulls":6},"Disposiciones del periodo",{"$nulls":6},"Amortizaciones del periodo",{"$nulls":6},"Revaluaciones, reclasificaciones y otros ajustes",{"$nulls":6},"Saldo del periodo",{"$nulls":6},"Pago de intereses del periodo",{"$nulls":6},"Pago de comisiones y demás costos asociados duarante el periodo"]
[]
[]
[]
[]
["Deuda Pública"]
[null,"Corto Plazo",{"$nulls":11},{"$f":"SUM(N12:T14)","v":2450000},{"$nulls":6},{"$f":"SUM(U12:AA14)","v":200000},{"$nulls":6},{"$f":"SUM(AB12:AH14)","v":2650000},{"$nulls":6},{"$f":"SUM(AI12:AO14)","v":0},{"$nulls":6},{"$f":"SUM(AP12:AV14)","v":0},{"$nulls":6},{"$f":"SUM(AW12:BC14)","v":38454.21},{"$nulls":6},{"$f":"SUM(BD12:BJ14)","v":0}]
[null,null,"Instituciones de Crédito",{"$nulls":10},{"$f":"IF('F9-IDP'!$J$2=\"1\",'F9-IDP'!$R$6,0)+IF('F9-IDP'!$AS$2=\"1\",'F9-IDP'!$BA$6,0)+IF('F9-IDP'!$CB$2=\"1\",'F9-IDP'!$CJ$6,0)+IF('F9-IDP'!$DK$2=\"1\",'F9-IDP'!$DS$6,0)+IF('F9-IDP'!$ET$2=\"1\",'F9-IDP'!$FB$6,0)+IF('F9-IDP'!$GC$2=\"1\",'F9-IDP'!$GK$6,0)+IF('F9-IDP'!$HL$2=\"1\",'F9-IDP'!$HT$6,0)+IF('F9-IDP'!$IU$2=\"1\",'F9-IDP'!$JC$6,0)+IF('F9-IDP'!$KD$2=\"1\",'F9-IDP'!$KL$6,0)+IF('F9-IDP'!$LM$2=\"1\",'F9-IDP'!$LU$6,0)","v":2450000},{"$nulls":6},{"$f":"IF('F9-IDP'!$J$2=\"1\",'F9-IDP'!$E$25,0)+IF('F9-IDP'!$AS$2=\"1\",'F9-IDP'!$AN$25,0)+IF('F9-IDP'!$CB$2=\"1\",'F9-IDP'!$BW$25,0)+IF('F9-IDP'!$DK$2=\"1\",'F9-IDP'!$DF$25,0)+IF('F9-IDP'!$ET$2=\"1\",'F9-IDP'!$EO$25,0)+IF('F9-IDP'!$GC$2=\"1\",'F9-IDP'!$FX$25,0)+IF('F9-IDP'!$HL$2=\"1\",'F9-IDP'!$HG$25,0)+IF('F9-IDP'!$IU$2=\"1\",'F9-IDP'!$IP$25,0)+IF('F9-IDP'!$KD$2=\"1\",'F9-IDP'!$JY$25,0)+IF('F9-IDP'!$LM$2=\"1\",'F9-IDP'!$LH$25,0)","v":200000},{"$nulls":6},{"$f":"IF('F9-IDP'!$J$2=\"1\",'F9-IDP'!$K$25,0)+IF('F9-IDP'!$AS$2=\"1\",'F9-IDP'!$AT$25,0)+IF('F9-IDP'!$CB$2=\"1\",'F9-IDP'!$CC$25,0)+IF('F9-IDP'!$DK$2=\"1\",'F9-IDP'!$DL$25,0)+IF('F9-IDP'!$ET$2=\"1\",'F9-IDP'!$EU$25,0)+IF('F9-IDP'!$GC$2=\"1\",'F9-IDP'!$GD$25,0)+IF('F9-IDP'!$HL$2=\"1\",'F9-IDP'!$HM$25,0)+IF('F9-IDP'!$IU$2=\"1\",'F9-IDP'!$IV$25,0)+IF('F9-IDP'!$KD$2=\"1\",'F9-IDP'!$KE$25,0)+IF('F9-IDP'!$LM$2=\"1\",'F9-IDP'!$LN$25,0)","v":2650000},{"$nulls":6},{"$f":"IF('F9-IDP'!$J$2=\"1\",'F9-IDP'!$Q$25,0)+IF('F9-IDP'!$AS$2=\"1\",'F9-IDP'!$AZ$25,0)+IF('F9-IDP'!$CB$2=\"1\",'F9-IDP'!$CI$25,0)+IF('F9-IDP'!$DK$2=\"1\",'F9-IDP'!$DR$25,0)+IF('F9-IDP'!$ET$2=\"1\",'F9-IDP'!$FA$25,0)+IF('F9-IDP'!$GC$2=\"1\",'F9-IDP'!$GJ$25,0)+IF('F9-IDP'!$HL$2=\"1\",'F9-IDP'!$HS$25,0)+IF('F9-IDP'!$IU$2=\"1\",'F9-IDP'!$JB$25,0)+IF('F9-IDP'!$KD$2=\"1\",'F9-IDP'!$KK$25,0)+IF('F9-IDP'!$LM$2=\"1\",'F9-IDP'!$LT$25,0)","v":0},{"$nulls":6},{"$f":"N12+U12-AB12+AI12","v":0},{"$nulls":6},{"$f":"IF('F9-IDP'!$J$2=\"1\",'F9-IDP'!$W$25,0)+IF('F9-IDP'!$AS$2=\"1\",'F9-IDP'!$BF$25,0)+IF('F9-IDP'!$CB$2=\"1\",'F9-IDP'!$CO$25,0)+IF('F9-IDP'!$DK$2=\"1\",'F9-IDP'!$DX$25,0)+IF('F9-IDP'!$ET$2=\"1\",'F9-IDP'!$FG$25,0)+IF('F9-IDP'!$GC$2=\"1\",'F9-IDP'!$GP$25,0)+IF('F9-IDP'!$HL$2=\"1\",'F9-IDP'!$HY$25,0)+IF('F9-IDP'!$IU$2=\"1\",'F9-IDP'!$JH$25,0)+IF('F9-IDP'!$KD$2=\"1\",'F9-IDP'!$KQ$25,0)+IF('F9-IDP'!$LM$2=\"1\",'F9-IDP'!$LZ$25,0)","v":38454.21},{"$nulls":6},{"$f":"IF('F9-IDP'!$J$2=\"1\",'F9-IDP'!$AC$25,0)+IF('F9-IDP'!$AS$2=\"1\",'F9-IDP'!$BL$25,0)+IF('F9-IDP'!$CB$2=\"1\",'F9-IDP'!$CU$25,0)+IF('F9-IDP'!$DK$2=\"1\",'F9-IDP'!$ED$25,0)+IF('F9-IDP'!$ET$2=\"1\",'F9-IDP'!$FM$25,0)+IF('F9-IDP'!$GC$2=\"1\",'F9-IDP'!$GV$25,0)+IF('F9-IDP'!$HL$2=\"1\",'F9-IDP'!$IE$25,0)+IF('F9-IDP'!$IU$2=\"1\",'F9-IDP'!$JN$25,0)+IF('F9-IDP'!$KD$2=\"1\",'F9-IDP'!$KW$25,0)+IF('F9-IDP'!$LM$2=\"1\",'F9-IDP'!$MF$25,0)","v":0}]
[null,null,"Títulos y Valores",{"$nulls":10},{"$f":"IF('F9-IDP'!$J$2=\"2\",'F9-IDP'!$R$6,0)+IF('F9-IDP'!$AS$2=\"2\",'F9-IDP'!$BA$6,0)+IF('F9-IDP'!$CB$2=\"2\",'F9-IDP'!$CJ$6,0)+IF('F9-IDP'!$DK$2=\"2\",'F9-IDP'!$DS$6,0)+IF('F9-IDP'!$ET$2=\"2\",'F9-IDP'!$FB$6,0)+IF('F9-IDP'!$GC$2=\"2\",'F9-IDP'!$GK$6,0)+IF('F9-IDP'!$HL$2=\"2\",'F9-IDP'!$HT$6,0)+IF('F9-IDP'!$IU$2=\"2\",'F9-IDP'!$JC$6,0)+IF('F9-IDP'!$KD$2=\"2\",'F9-IDP'!$KL$6,0)+IF('F9-IDP'!$LM$2=\"2\",'F9-IDP'!$LU$6,0)","v":0},{"$nulls":6},{"$f":"IF('F9-IDP'!$J$2=\"2\",'F9-IDP'!$E$25,0)+IF('F9-IDP'!$AS$2=\"2\",'F9-IDP'!$AN$25,0)+IF('F9-IDP'!$CB$2=\"2\",'F9-IDP'!$BW$25,0)+IF('F9-IDP'!$DK$2=\"2\",'F9-IDP'!$DF$25,0)+IF('F9-IDP'!$ET$2=\"2\",'F9-IDP'!$EO$25,0)+IF('F9-IDP'!$GC$2=\"2\",'F9-IDP'!$FX$25,0)+IF('F9-IDP'!$HL$2=\"2\",'F9-IDP'!$HG$25,0)+IF('F9-IDP'!$IU$2=\"2\",'F9-IDP'!$IP$25,0)+IF('F9-IDP'!$KD$2=\"2\",'F9-IDP'!$JY$25,0)+IF('F9-IDP'!$LM$2=\"2\",'F9-IDP'!$LH$25,0)","v":0},{"$nulls":6},{"$f":"IF('F9-IDP'!$J$2=\"2\",'F9-IDP'!$K$25,0)+IF('F9-IDP'!$AS$2=\"2\",'F9-IDP'!$AT$25,0)+IF('F9-IDP'!$CB$2=\"2\",'F9-IDP'!$CC$25,0)+IF('F9-IDP'!$DK$2=\"2\",'F9-IDP'!$DL$25,0)+IF('F9-IDP'!$ET$2=\"2\",'F9-IDP'!$EU$25,0)+IF('F9-IDP'!$GC$2=\"2\",'F9-IDP'!$GD$25,0)+IF('F9-IDP'!$HL$2=\"2\",'F9-IDP'!$HM$25,0)+IF('F9-IDP'!$IU$2=\"2\",'F9-IDP'!$IV$25,0)+IF('F9-IDP'!$KD$2=\"2\",'F9-IDP'!$KE$25,0)+IF('F9-IDP'!$LM$2=\"2\",'F9-IDP'!$LN$25,0)","v":0},{"$nulls":6},{"$f":"IF('F9-IDP'!$J$2=\"2\",'F9-IDP'!$Q$25,0)+IF('F9-IDP'!$AS$2=\"2\",'F9-IDP'!$AZ$25,0)+IF('F9-IDP'!$CB$2=\"2\",'F9-IDP'!$CI$25,0)+IF('F9-IDP'!$DK$2=\"2\",'F9-IDP'!$DR$25,0)+IF('F9-IDP'!$ET$2=\"2\",'F9-IDP'!$FA$25,0)+IF('F9-IDP'!$GC$2=\"2\",'F9-IDP'!$GJ$25,0)+IF('F9-IDP'!$HL$2=\"2\",'F9-IDP'!$HS$25,0)+IF('F9-IDP'!$IU$2=\"2\",'F9-IDP'!$JB$25,0)+IF('F9-IDP'!$KD$2=\"2\",'F9-IDP'!$KK$25,0)+IF('F9-IDP'!$LM$2=\"2\",'F9-IDP'!$LT$25,0)","v":0},{"$nulls":6},{"$f":"N13+U13-AB13+AI13","v":0},{"$nulls":6},{"$f":"IF('F9-IDP'!$J$2=\"2\",'F9-IDP'!$W$25,0)+IF('F9-IDP'!$AS$2=\"2\",'F9-IDP'!$BF$25,0)+IF('F9-IDP'!$CB$2=\"2\",'F9-IDP'!$CO$25,0)+IF('F9-IDP'!$DK$2=\"2\",'F9-IDP'!$DX$25,0)+IF('F9-IDP'!$ET$2=\"2\",'F9-IDP'!$FG$25,0)+IF('F9-IDP'!$GC$2=\"2\",'F9-IDP'!$GP$25,0)+IF('F9-IDP'!$HL$2=\"2\",'F9-IDP'!$HY$25,0)+IF('F9-IDP'!$IU$2=\"2\",'F9-IDP'!$JH$25,0)+IF('F9-IDP'!$KD$2=\"2\",'F9-IDP'!$KQ$25,0)+IF('F9-IDP'!$LM$2=\"2\",'F9-IDP'!$LZ$25,0)","v":0},{"$nulls":6},{"$f":"IF('F9-IDP'!$J$2=\"2\",'F9-IDP'!$AC$25,0)+IF('F9-IDP'!$AS$2=\"2\",'F9-IDP'!$BL$25,0)+IF('F9-IDP'!$CB$2=\"2\",'F9-IDP'!$CU$25,0)+IF('F9-IDP'!$DK$2=\"2\",'F9-IDP'!$ED$25,0)+IF('F9-IDP'!$ET$2=\"2\",'F9-IDP'!$FM$25,0)+IF('F9-IDP'!$GC$2=\"2\",'F9-IDP'!$GV$25,0)+IF('F9-IDP'!$HL$2=\"2\",'F9-IDP'!$IE$25,0)+IF('F9-IDP'!$IU$2=\"2\",'F9-IDP'!$JN$25,0)+IF('F9-IDP'!$KD$2=\"2\",'F9-IDP'!$KW$25,0)+IF('F9-IDP'!$LM$2=\"2\",'F9-IDP'!$MF$25,0)","v":0}]
[null,null,"Arrendamiento Financiero",{"$nulls":10},{"$f":"IF('F9-IDP'!$J$2=\"3\",'F9-IDP'!$R$6,0)+IF('F9-IDP'!$AS$2=\"3\",'F9-IDP'!$BA$6,0)+IF('F9-IDP'!$CB$2=\"3\",'F9-IDP'!$CJ$6,0)+IF('F9-IDP'!$DK$2=\"3\",'F9-IDP'!$DS$6,0)+IF('F9-IDP'!$ET$2=\"3\",'F9-IDP'!$FB$6,0)+IF('F9-IDP'!$GC$2=\"3\",'F9-IDP'!$GK$6,0)+IF('F9-IDP'!$HL$2=\"3\",'F9-IDP'!$HT$6,0)+IF('F9-IDP'!$IU$2=\"3\",'F9-IDP'!$JC$6,0)+IF('F9-IDP'!$KD$2=\"3\",'F9-IDP'!$KL$6,0)+IF('F9-IDP'!$LM$2=\"3\",'F9-IDP'!$LU$6,0)","v":0},{"$nulls":6},{"$f":"IF('F9-IDP'!$J$2=\"3\",'F9-IDP'!$E$25,0)+IF('F9-IDP'!$AS$2=\"3\",'F9-IDP'!$AN$25,0)+IF('F9-IDP'!$CB$2=\"3\",'F9-IDP'!$BW$25,0)+IF('F9-IDP'!$DK$2=\"3\",'F9-IDP'!$DF$25,0)+IF('F9-IDP'!$ET$2=\"3\",'F9-IDP'!$EO$25,0)+IF('F9-IDP'!$GC$2=\"3\",'F9-IDP'!$FX$25,0)+IF('F9-IDP'!$HL$2=\"3\",'F9-IDP'!$HG$25,0)+IF('F9-IDP'!$IU$2=\"3\",'F9-IDP'!$IP$25,0)+IF('F9-IDP'!$KD$2=\"3\",'F9-IDP'!$JY$25,0)+IF('F9-IDP'!$LM$2=\"3\",'F9-IDP'!$LH$25,0)","v":0},{"$nulls":6},{"$f":"IF('F9-IDP'!$J$2=\"3\",'F9-IDP'!$K$25,0)+IF('F9-IDP'!$AS$2=\"3\",'F9-IDP'!$AT$25,0)+IF('F9-IDP'!$CB$2=\"3\",'F9-IDP'!$CC$25,0)+IF('F9-IDP'!$DK$2=\"3\",'F9-IDP'!$DL$25,0)+IF('F9-IDP'!$ET$2=\"3\",'F9-IDP'!$EU$25,0)+IF('F9-IDP'!$GC$2=\"3\",'F9-IDP'!$GD$25,0)+IF('F9-IDP'!$HL$2=\"3\",'F9-IDP'!$HM$25,0)+IF('F9-IDP'!$IU$2=\"3\",'F9-IDP'!$IV$25,0)+IF('F9-IDP'!$KD$2=\"3\",'F9-IDP'!$KE$25,0)+IF('F9-IDP'!$LM$2=\"3\",'F9-IDP'!$LN$25,0)","v":0},{"$nulls":6},{"$f":"IF('F9-IDP'!$J$2=\"3\",'F9-IDP'!$Q$25,0)+IF('F9-IDP'!$AS$2=\"3\",'F9-IDP'!$AZ$25,0)+IF('F9-IDP'!$CB$2=\"3\",'F9-IDP'!$CI$25,0)+IF('F9-IDP'!$DK$2=\"3\",'F9-IDP'!$DR$25,0)+IF('F9-IDP'!$ET$2=\"3\",'F9-IDP'!$FA$25,0)+IF('F9-IDP'!$GC$2=\"3\",'F9-IDP'!$GJ$25,0)+IF('F9-IDP'!$HL$2=\"3\",'F9-IDP'!$HS$25,0)+IF('F9-IDP'!$IU$2=\"3\",'F9-IDP'!$JB$25,0)+IF('F9-IDP'!$KD$2=\"3\",'F9-IDP'!$KK$25,0)+IF('F9-IDP'!$LM$2=\"3\",'F9-IDP'!$LT$25,0)","v":0},{"$nulls":6},{"$f":"N14+U14-AB14+AI14","v":0},{"$nulls":6},{"$f":"IF('F9-IDP'!$J$2=\"3\",'F9-IDP'!$W$25,0)+IF('F9-IDP'!$AS$2=\"3\",'F9-IDP'!$BF$25,0)+IF('F9-IDP'!$CB$2=\"3\",'F9-IDP'!$CO$25,0)+IF('F9-IDP'!$DK$2=\"3\",'F9-IDP'!$DX$25,0)+IF('F9-IDP'!$ET$2=\"3\",'F9-IDP'!$FG$25,0)+IF('F9-IDP'!$GC$2=\"3\",'F9-IDP'!$GP$25,0)+IF('F9-IDP'!$HL$2=\"3\",'F9-IDP'!$HY$25,0)+IF('F9-IDP'!$IU$2=\"3\",'F9-IDP'!$JH$25,0)+IF('F9-IDP'!$KD$2=\"3\",'F9-IDP'!$KQ$25,0)+IF('F9-IDP'!$LM$2=\"3\",'F9-IDP'!$LZ$25,0)","v":0},{"$nulls":6},{"$f":"IF('F9-IDP'!$J$2=\"3\",'F9-IDP'!$AC$25,0)+IF('F9-IDP'!$AS$2=\"3\",'F9-IDP'!$BL$25,0)+IF('F9-IDP'!$CB$2=\"3\",'F9-IDP'!$CU$25,0)+IF('F9-IDP'!$DK$2=\"3\",'F9-IDP'!$ED$25,0)+IF('F9-IDP'!$ET$2=\"3\",'F9-IDP'!$FM$25,0)+IF('F9-IDP'!$GC$2=\"3\",'F9-IDP'!$GV$25,0)+IF('F9-IDP'!$HL$2=\"3\",'F9-IDP'!$IE$25,0)+IF('F9-IDP'!$IU$2=\"3\",'F9-IDP'!$JN$25,0)+IF('F9-IDP'!$KD$2=\"3\",'F9-IDP'!$KW$25,0)+IF('F9-IDP'!$LM$2=\"3\",'F9-IDP'!$MF$25,0)","v":0}]
[null,"Largo Plazo",{"$nulls":11},{"$f":"SUM(N16:T18)","v":0},{"$nulls":6},{"$f":"SUM(U16:AA18)","v":0},{"$nulls":6},{"$f":"SUM(AB16:AH18)","v":0},{"$nulls":6},{"$f":"SUM(AI16:AO18)","v":0},{"$nulls":6},{"$f":"SUM(AP16:AV18)","v":0},{"$nulls":6},{"$f":"SUM(AW16:BC18)","v":0},{"$nulls":6},{"$f":"SUM(BD16:BJ18)","v":0}]
[null,null,"Instituciones de Crédito",{"$nulls":10},{"$f":"IF('F9-IDP'!$J$2=\"1\",'F9-IDP'!$R$7,0)+IF('F9-IDP'!$AS$2=\"1\",'F9-IDP'!$BA$7,0)+IF('F9-IDP'!$CB$2=\"1\",'F9-IDP'!$CJ$7,0)+IF('F9-IDP'!$DK$2=\"1\",'F9-IDP'!$DS$7,0)+IF('F9-IDP'!$ET$2=\"1\",'F9-IDP'!$FB$7,0)+IF('F9-IDP'!$GC$2=\"1\",'F9-IDP'!$GK$7,0)+IF('F9-IDP'!$HL$2=\"1\",'F9-IDP'!$HT$7,0)+IF('F9-IDP'!$IU$2=\"1\",'F9-IDP'!$JC$7,0)+IF('F9-IDP'!$KD$2=\"1\",'F9-IDP'!$KL$7,0)+IF('F9-IDP'!$LM$2=\"1\",'F9-IDP'!$LU$7,0)","v":0},{"$nulls":6},{"$f":"IF('F9-IDP'!$J$2=\"1\",'F9-IDP'!$E$10,0)+IF('F9-IDP'!$AS$2=\"1\",'F9-IDP'!$AN$10,0)+IF('F9-IDP'!$CB$2=\"1\",'F9-IDP'!$BW$10,0)+IF('F9-IDP'!$DK$2=\"1\",'F9-IDP'!$DF$10,0)+IF('F9-IDP'!$ET$2=\"1\",'F9-IDP'!$EO$10,0)+IF('F9-IDP'!$GC$2=\"1\",'F9-IDP'!$FX$10,0)+IF('F9-IDP'!$HL$2=\"1\",'F9-IDP'!$HG$10,0)+IF('F9-IDP'!$IU$2=\"1\",'F9-IDP'!$IP$10,0)+IF('F9-IDP'!$KD$2=\"1\",'F9-IDP'!$JY$10,0)+IF('F9-IDP'!$LM$2=\"1\",'F9-IDP'!$LH$10,0)","v":0},{"$nulls":6},{"$f":"IF('F9-IDP'!$J$2=\"1\",'F9-IDP'!$K$10,0)+IF('F9-IDP'!$AS$2=\"1\",'F9-IDP'!$AT$10,0)+IF('F9-IDP'!$CB$2=\"1\",'F9-IDP'!$CC$10,0)+IF('F9-IDP'!$DK$2=\"1\",'F9-IDP'!$DL$10,0)+IF('F9-IDP'!$ET$2=\"1\",'F9-IDP'!$EU$10,0)+IF('F9-IDP'!$GC$2=\"1\",'F9-IDP'!$GD$10,0)+IF('F9-IDP'!$HL$2=\"1\",'F9-IDP'!$HM$10,0)+IF('F9-IDP'!$IU$2=\"1\",'F9-IDP'!$IV$10,0)+IF('F9-IDP'!$KD$2=\"1\",'F9-IDP'!$KE$10,0)+IF('F9-IDP'!$LM$2=\"1\",'F9-IDP'!$LN$10,0)","v":0},{"$nulls":6},{"$f":"IF('F9-IDP'!$J$2=\"1\",'F9-IDP'!$Q$10,0)+IF('F9-IDP'!$AS$2=\"1\",'F9-IDP'!$AZ$10,0)+IF('F9-IDP'!$CB$2=\"1\",'F9-IDP'!$CI$10,0)+IF('F9-IDP'!$DK$2=\"1\",'F9-IDP'!$DR$10,0)+IF('F9-IDP'!$ET$2=\"1\",'F9-IDP'!$FA$10,0)+IF('F9-IDP'!$GC$2=\"1\",'F9-IDP'!$GJ$10,0)+IF('F9-IDP'!$HL$2=\"1\",'F9-IDP'!$HS$10,0)+IF('F9-IDP'!$IU$2=\"1\",'F9-IDP'!$JB$10,0)+IF('F9-IDP'!$KD$2=\"1\",'F9-IDP'!$KK$10,0)+IF('F9-IDP'!$LM$2=\"1\",'F9-IDP'!$LT$10,0)","v":0},{"$nulls":6},{"$f":"N16+U16-AB16+AI16","v":0},{"$nulls":6},{"$f":"IF('F9-IDP'!$J$2=\"1\",'F9-IDP'!$W$10,0)+IF('F9-IDP'!$AS$2=\"1\",'F9-IDP'!$BF$10,0)+IF('F9-IDP'!$CB$2=\"1\",'F9-IDP'!$CO$10,0)+IF('F9-IDP'!$DK$2=\"1\",'F9-IDP'!$DX$10,0)+IF('F9-IDP'!$ET$2=\"1\",'F9-IDP'!$FG$10,0)+IF('F9-IDP'!$GC$2=\"1\",'F9-IDP'!$GP$10,0)+IF('F9-IDP'!$HL$2=\"1\",'F9-IDP'!$HY$10,0)+IF('F9-IDP'!$IU$2=\"1\",'F9-IDP'!$JH$10,0)+IF('F9-IDP'!$KD$2=\"1\",'F9-IDP'!$KQ$10,0)+IF('F9-IDP'!$LM$2=\"1\",'F9-IDP'!$LZ$10,0)","v":0},{"$nulls":6},{"$f":"IF('F9-IDP'!$J$2=\"1\",'F9-IDP'!$AC$10,0)+IF('F9-IDP'!$AS$2=\"1\",'F9-IDP'!$BL$10,0)+IF('F9-IDP'!$CB$2=\"1\",'F9-IDP'!$CU$10,0)+IF('F9-IDP'!$DK$2=\"1\",'F9-IDP'!$ED$10,0)+IF('F9-IDP'!$ET$2=\"1\",'F9-IDP'!$FM$10,0)+IF('F9-IDP'!$GC$2=\"1\",'F9-IDP'!$GV$10,0)+IF('F9-IDP'!$HL$2=\"1\",'F9-IDP'!$IE$10,0)+IF('F9-IDP'!$IU$2=\"1\",'F9-IDP'!$JN$10,0)+IF('F9-IDP'!$KD$2=\"1\",'F9-IDP'!$KW$10,0)+IF('F9-IDP'!$LM$2=\"1\",'F9-IDP'!$MF$10,0)","v":0}]
[null,null,"Títulos y Valores",{"$nulls":10},{"$f":"IF('F9-IDP'!$J$2=\"2\",'F9-IDP'!$R$7,0)+IF('F9-IDP'!$AS$2=\"2\",'F9-IDP'!$BA$7,0)+IF('F9-IDP'!$CB$2=\"2\",'F9-IDP'!$CJ$7,0)+IF('F9-IDP'!$DK$2=\"2\",'F9-IDP'!$DS$7,0)+IF('F9-IDP'!$ET$2=\"2\",'F9-IDP'!$FB$7,0)+IF('F9-IDP'!$GC$2=\"2\",'F9-IDP'!$GK$7,0)+IF('F9-IDP'!$HL$2=\"2\",'F9-IDP'!$HT$7,0)+IF('F9-IDP'!$IU$2=\"2\",'F9-IDP'!$JC$7,0)+IF('F9-IDP'!$KD$2=\"2\",'F9-IDP'!$KL$7,0)+IF('F9-IDP'!$LM$2=\"2\",'F9-IDP'!$LU$7,0)","v":0},{"$nulls":6},{"$f":"IF('F9-IDP'!$J$2=\"2\",'F9-IDP'!$E$10,0)+IF('F9-IDP'!$AS$2=\"2\",'F9-IDP'!$AN$10,0)+IF('F9-IDP'!$CB$2=\"2\",'F9-IDP'!$BW$10,0)+IF('F9-IDP'!$DK$2=\"2\",'F9-IDP'!$DF$10,0)+IF('F9-IDP'!$ET$2=\"2\",'F9-IDP'!$EO$10,0)+IF('F9-IDP'!$GC$2=\"2\",'F9-IDP'!$FX$10,0)+IF('F9-IDP'!$HL$2=\"2\",'F9-IDP'!$HG$10,0)+IF('F9-IDP'!$IU$2=\"2\",'F9-IDP'!$IP$10,0)+IF('F9-IDP'!$KD$2=\"2\",'F9-IDP'!$JY$10,0)+IF('F9-IDP'!$LM$2=\"2\",'F9-IDP'!$LH$10,0)","v":0},{"$nulls":6},{"$f":"IF('F9-IDP'!$J$2=\"2\",'F9-IDP'!$K$10,0)+IF('F9-IDP'!$AS$2=\"2\",'F9-IDP'!$AT$10,0)+IF('F9-IDP'!$CB$2=\"2\",'F9-IDP'!$CC$10,0)+IF('F9-IDP'!$DK$2=\"2\",'F9-IDP'!$DL$10,0)+IF('F9-IDP'!$ET$2=\"2\",'F9-IDP'!$EU$10,0)+IF('F9-IDP'!$GC$2=\"2\",'F9-IDP'!$GD$10,0)+IF('F9-IDP'!$HL$2=\"2\",'F9-IDP'!$HM$10,0)+IF('F9-IDP'!$IU$2=\"2\",'F9-IDP'!$IV$10,0)+IF('F9-IDP'!$KD$2=\"2\",'F9-IDP'!$KE$10,0)+IF('F9-IDP'!$LM$2=\"2\",'F9-IDP'!$LN$10,0)","v":0},{"$nulls":6},{"$f":"IF('F9-IDP'!$J$2=\"2\",'F9-IDP'!$Q$10,0)+IF('F9-IDP'!$AS$2=\"2\",'F9-IDP'!$AZ$10,0)+IF('F9-IDP'!$CB$2=\"2\",'F9-IDP'!$CI$10,0)+IF('F9-IDP'!$DK$2=\"2\",'F9-IDP'!$DR$10,0)+IF('F9-IDP'!$ET$2=\"2\",'F9-IDP'!$FA$10,0)+IF('F9-IDP'!$GC$2=\"2\",'F9-IDP'!$GJ$10,0)+IF('F9-IDP'!$HL$2=\"2\",'F9-IDP'!$HS$10,0)+IF('F9-IDP'!$IU$2=\"2\",'F9-IDP'!$JB$10,0)+IF('F9-IDP'!$KD$2=\"2\",'F9-IDP'!$KK$10,0)+IF('F9-IDP'!$LM$2=\"2\",'F9-IDP'!$LT$10,0)","v":0},{"$nulls":6},{"$f":"N17+U17-AB17+AI17","v":0},{"$nulls":6},{"$f":"IF('F9-IDP'!$J$2=\"2\",'F9-IDP'!$W$10,0)+IF('F9-IDP'!$AS$2=\"2\",'F9-IDP'!$BF$10,0)+IF('F9-IDP'!$CB$2=\"2\",'F9-IDP'!$CO$10,0)+IF('F9-IDP'!$DK$2=\"2\",'F9-IDP'!$DX$10,0)+IF('F9-IDP'!$ET$2=\"2\",'F9-IDP'!$FG$10,0)+IF('F9-IDP'!$GC$2=\"2\",'F9-IDP'!$GP$10,0)+IF('F9-IDP'!$HL$2=\"2\",'F9-IDP'!$HY$10,0)+IF('F9-IDP'!$IU$2=\"2\",'F9-IDP'!$JH$10,0)+IF('F9-IDP'!$KD$2=\"2\",'F9-IDP'!$KQ$10,0)+IF('F9-IDP'!$LM$2=\"2\",'F9-IDP'!$LZ$10,0)","v":0},{"$nulls":6},{"$f":"IF('F9-IDP'!$J$2=\"2\",'F9-IDP'!$AC$10,0)+IF('F9-IDP'!$AS$2=\"2\",'F9-IDP'!$BL$10,0)+IF('F9-IDP'!$CB$2=\"2\",'F9-IDP'!$CU$10,0)+IF('F9-IDP'!$DK$2=\"2\",'F9-IDP'!$ED$10,0)+IF('F9-IDP'!$ET$2=\"2\",'F9-IDP'!$FM$10,0)+IF('F9-IDP'!$GC$2=\"2\",'F9-IDP'!$GV$10,0)+IF('F9-IDP'!$HL$2=\"2\",'F9-IDP'!$IE$10,0)+IF('F9-IDP'!$IU$2=\"2\",'F9-IDP'!$JN$10,0)+IF('F9-IDP'!$KD$2=\"2\",'F9-IDP'!$KW$10,0)+IF('F9-IDP'!$LM$2=\"2\",'F9-IDP'!$MF$10,0)","v":0}]
[null,null,"Arrendamiento Financiero",{"$nulls":10},{"$f":"IF('F9-IDP'!$J$2=\"3\",'F9-IDP'!$R$7,0)+IF('F9-IDP'!$AS$2=\"3\",'F9-IDP'!$BA$7,0)+IF('F9-IDP'!$CB$2=\"3\",'F9-IDP'!$CJ$7,0)+IF('F9-IDP'!$DK$2=\"3\",'F9-IDP'!$DS$7,0)+IF('F9-IDP'!$ET$2=\"3\",'F9-IDP'!$FB$7,0)+IF('F9-IDP'!$GC$2=\"3\",'F9-IDP'!$GK$7,0)+IF('F9-IDP'!$HL$2=\"3\",'F9-IDP'!$HT$7,0)+IF('F9-IDP'!$IU$2=\"3\",'F9-IDP'!$JC$7,0)+IF('F9-IDP'!$KD$2=\"3\",'F9-IDP'!$KL$7,0)+IF('F9-IDP'!$LM$2=\"3\",'F9-IDP'!$LU$7,0)","v":0},{"$nulls":6},{"$f":"IF('F9-IDP'!$J$2=\"3\",'F9-IDP'!$E$10,0)+IF('F9-IDP'!$AS$2=\"3\",'F9-IDP'!$AN$10,0)+IF('F9-IDP'!$CB$2=\"3\",'F9-IDP'!$BW$10,0)+IF('F9-IDP'!$DK$2=\"3\",'F9-IDP'!$DF$10,0)+IF('F9-IDP'!$ET$2=\"3\",'F9-IDP'!$EO$10,0)+IF('F9-IDP'!$GC$2=\"3\",'F9-IDP'!$FX$10,0)+IF('F9-IDP'!$HL$2=\"3\",'F9-IDP'!$HG$10,0)+IF('F9-IDP'!$IU$2=\"3\",'F9-IDP'!$IP$10,0)+IF('F9-IDP'!$KD$2=\"3\",'F9-IDP'!$JY$10,0)+IF('F9-IDP'!$LM$2=\"3\",'F9-IDP'!$LH$10,0)","v":0},{"$nulls":6},{"$f":"IF('F9-IDP'!$J$2=\"3\",'F9-IDP'!$K$10,0)+IF('F9-IDP'!$AS$2=\"3\",'F9-IDP'!$AT$10,0)+IF('F9-IDP'!$CB$2=\"3\",'F9-IDP'!$CC$10,0)+IF('F9-IDP'!$DK$2=\"3\",'F9-IDP'!$DL$10,0)+IF('F9-IDP'!$ET$2=\"3\",'F9-IDP'!$EU$10,0)+IF('F9-IDP'!$GC$2=\"3\",'F9-IDP'!$GD$10,0)+IF('F9-IDP'!$HL$2=\"3\",'F9-IDP'!$HM$10,0)+IF('F9-IDP'!$IU$2=\"3\",'F9-IDP'!$IV$10,0)+IF('F9-IDP'!$KD$2=\"3\",'F9-IDP'!$KE$10,0)+IF('F9-IDP'!$LM$2=\"3\",'F9-IDP'!$LN$10,0)","v":0},{"$nulls":6},{"$f":"IF('F9-IDP'!$J$2=\"3\",'F9-IDP'!$Q$10,0)+IF('F9-IDP'!$AS$2=\"3\",'F9-IDP'!$AZ$10,0)+IF('F9-IDP'!$CB$2=\"3\",'F9-IDP'!$CI$10,0)+IF('F9-IDP'!$DK$2=\"3\",'F9-IDP'!$DR$10,0)+IF('F9-IDP'!$ET$2=\"3\",'F9-IDP'!$FA$10,0)+IF('F9-IDP'!$GC$2=\"3\",'F9-IDP'!$GJ$10,0)+IF('F9-IDP'!$HL$2=\"3\",'F9-IDP'!$HS$10,0)+IF('F9-IDP'!$IU$2=\"3\",'F9-IDP'!$JB$10,0)+IF('F9-IDP'!$KD$2=\"3\",'F9-IDP'!$KK$10,0)+IF('F9-IDP'!$LM$2=\"3\",'F9-IDP'!$LT$10,0)","v":0},{"$nulls":6},{"$f":"N18+U18-AB18+AI18","v":0},{"$nulls":6},{"$f":"IF('F9-IDP'!$J$2=\"3\",'F9-IDP'!$W$10,0)+IF('F9-IDP'!$AS$2=\"3\",'F9-IDP'!$BF$10,0)+IF('F9-IDP'!$CB$2=\"3\",'F9-IDP'!$CO$10,0)+IF('F9-IDP'!$DK$2=\"3\",'F9-IDP'!$DX$10,0)+IF('F9-IDP'!$ET$2=\"3\",'F9-IDP'!$FG$10,0)+IF('F9-IDP'!$GC$2=\"3\",'F9-IDP'!$GP$10,0)+IF('F9-IDP'!$HL$2=\"3\",'F9-IDP'!$HY$10,0)+IF('F9-IDP'!$IU$2=\"3\",'F9-IDP'!$JH$10,0)+IF('F9-IDP'!$KD$2=\"3\",'F9-IDP'!$KQ$10,0)+IF('F9-IDP'!$LM$2=\"3\",'F9-IDP'!$LZ$10,0)","v":0},{"$nulls":6},{"$f":"IF('F9-IDP'!$J$2=\"3\",'F9-IDP'!$AC$10,0)+IF('F9-IDP'!$AS$2=\"3\",'F9-IDP'!$BL$10,0)+IF('F9-IDP'!$CB$2=\"3\",'F9-IDP'!$CU$10,0)+IF('F9-IDP'!$DK$2=\"3\",'F9-IDP'!$ED$10,0)+IF('F9-IDP'!$ET$2=\"3\",'F9-IDP'!$FM$10,0)+IF('F9-IDP'!$GC$2=\"3\",'F9-IDP'!$GV$10,0)+IF('F9-IDP'!$HL$2=\"3\",'F9-IDP'!$IE$10,0)+IF('F9-IDP'!$IU$2=\"3\",'F9-IDP'!$JN$10,0)+IF('F9-IDP'!$KD$2=\"3\",'F9-IDP'!$KW$10,0)+IF('F9-IDP'!$LM$2=\"3\",'F9-IDP'!$MF$10,0)","v":0}]
["Otros Pasivos",{"$nulls":12},{"$f":"Balanza!D101-'F9-EDP'!N11:T11-'F9-EDP'!N15:T15","v":1498060.4100000001},{"$nulls":27},{"$f":"Balanza!H101-'F9-EDP'!AP11:AV11-'F9-EDP'!AP15:AV15","v":327242.72999999952}]
["Total de la Deuda Pública y Otros Pasivos",{"$nulls":12},{"$f":"N11+N19+N15","v":3948060.41},{"$nulls":6},{"$f":"U11+U19+U15","v":200000},{"$nulls":6},{"$f":"AB11+AB19+AB15","v":2650000},{"$nulls":6},{"$f":"AI11+AI19+AI15","v":0},{"$nulls":6},{"$f":"AP11+AP19+AP15","v":327242.72999999952},{"$nulls":6},{"$f":"AW11+AW19+AW15","v":38454.21},{"$nulls":6},{"$f":"BD11+BD19+BD15","v":0}]
[]
[]
["Denominaciónde la deuda pública y otros pasivos",{"$nulls":12},"Saldo al 1° de\nenero de 2021",{"$nulls":6},"Disposiciones del periodo",{"$nulls":6},"Amortizaciones del periodo",{"$nulls":6},"Revaluaciones, reclasificaciones y otros ajustes",{"$nulls":6},"Saldo del periodo",{"$nulls":6},"Pago de intereses del periodo",{"$nulls":6},"Pago de comisiones y demás costos asociados duarante el periodo"]
[]
[]
[]
["Deuda Contingente"]
["1.-",{"$nulls":12},0,{"$nulls":6},0,{"$nulls":6},0,{"$nulls":6},0,{"$nulls":6},{"$f":"N28+U28-AB28+AI28","v":0}]
["2.-",{"$nulls":40},{"$f":"N29+U29-AB29+AI29","v":0}]
["3.-",{"$nulls":40},{"$f":"N30+U30-AB30+AI30","v":0}]
["4.-",{"$nulls":40},{"$f":"N31+U31-AB31+AI31","v":0}]
["5.-",{"$nulls":40},{"$f":"N32+U32-AB32+AI32","v":0}]
[null,"SUMA",{"$nulls":11},{"$f":"SUM(N28:T31)","v":0},{"$nulls":6},{"$f":"SUM(U28:AA31)","v":0},{"$nulls":6},{"$f":"SUM(AB28:AH31)","v":0},{"$nulls":6},{"$f":"SUM(AI28:AO31)","v":0},{"$nulls":6},{"$f":"SUM(AP28:AV31)","v":0},{"$nulls":6},{"$f":"SUM(AW28:BC31)","v":0},{"$nulls":6},{"$f":"SUM(BD28:BJ31)","v":0}]
["Valor de Instrumentos Bonos Cupón Cero"]
["1.-",{"$nulls":40},{"$f":"N35+U35-AB35+AI35","v":0}]
["2.-",{"$nulls":40},{"$f":"N36+U36-AB36+AI36","v":0}]
["3.-",{"$nulls":40},{"$f":"N37+U37-AB37+AI37","v":0}]
["4.-",{"$nulls":40},{"$f":"N38+U38-AB38+AI38","v":0}]
["5.-",{"$nulls":40},{"$f":"N39+U39-AB39+AI39","v":0}]
[null,"SUMA",{"$nulls":11},{"$f":"SUM(N35:T39)","v":0},{"$nulls":6},{"$f":"SUM(U35:AA39)","v":0},{"$nulls":6},{"$f":"SUM(AB35:AH39)","v":0},{"$nulls":6},{"$f":"SUM(AI35:AO39)","v":0},{"$nulls":6},{"$f":"SUM(AP35:AV39)","v":0},{"$nulls":6},{"$f":"SUM(AW35:BC39)","v":0},{"$nulls":6},{"$f":"SUM(BD35:BJ39)","v":0}]
["Obligaciones a Corto Plazo"]
["Obligaciones a corto plazo",{"$nulls":12},"Monto contratado",{"$nulls":9},"Plazo pactado",{"$nulls":9},"Tasa de interés",{"$nulls":9},"Comisiones y costos relacionados",{"$nulls":9},"Tasa afectiva"]
[]
["1.-"]
["2.-"]
["3.-"]
["4.-"]
["5.-"]
[null,"SUMA",{"$nulls":11},{"$f":"SUM(N44:W48)","v":0},{"$nulls":29},{"$f":"SUM(AR44:BA48)","v":0}]
[]
[null,null,"Bajo protesta de decir verdad declaramos que los Estados Financieros y sus Notas son razonablemente correctos y responsabilidad del emisor."]
[]
[]
[]
[]
[{"$nulls":5},{"$f":"Validacion!A7","v":"C. SANTIAGO LEON CASTRO"},{"$nulls":26},{"$f":"Validacion!A9","v":"L.T. JOCELYN SANCHEZ HERRERA"}]
[{"$nulls":5},"Presidente Municipal o Títular del ente público",{"$nulls":26},"Encargado de la Hacienda Pública Municipal o Responsable de las finanzas del ente público"]

{"sheet":"F9-IAO","index":5,"n_rows":28,"n_cols":64,"rows_kept":28,"cut":false,"hidden":false,"merged":[[18,57,18,62],[18,63,18,68],[27,5,27,24],[27,41,27,61],[18,0,18,27],[18,28,18,33],[18,34,18,38],[18,39,18,44],[18,45,18,50],[18,51,18,56],[26,5,26,24],[26,41,26,61],[16,57,16,62],[16,63,16,68],[17,2,17,12],[17,13,17,17],[17,18,17,22],[17,23,17,27],[17,28,17,33],[17,34,17,38],[17,39,17,44],[17,45,17,50],[17,51,17,56],[17,57,17,62],[17,63,17,68],[16,2,16,12],[16,13,16,17],[16,18,16,22],[16,23,16,27],[16,28,16,33],[16,34,16,38],[16,39,16,44],[16,45,16,50],[16,51,16,56],[14,57,14,62],[14,63,14,68],[15,2,15,12],[15,13,15,17],[15,18,15,22],[15,23,15,27],[15,28,15,33],[15,34,15,38],[15,39,15,44],[15,45,15,50],[15,51,15,56],[15,57,15,62],[15,63,15,68],[14,0,14,12],[14,13,14,17],[14,18,14,22],[14,23,14,27],[14,28,14,33],[14,34,14,38],[14,39,14,44],[14,45,14,50],[14,51,14,56],[12,57,12,62],[12,63,12,68],[13,2,13,12],[13,13,13,17],[13,18,13,22],[13,23,13,27],[13,28,13,33],[13,34,13,38],[13,39,13,44],[13,45,13,50],[13,51,13,56],[13,57,13,62],[13,63,13,68],[12,2,12,12],[12,13,12,17],[12,18,12,22],[12,23,12,27],[12,28,12,33],[12,34,12,38],[12,39,12,44],[12,45,12,50],[12,51,12,56],[10,57,10,62],[10,63,10,68],[11,2,11,12],[11,13,11,17],[11,18,11,22],[11,23,11,27],[11,28,11,33],[11,34,11,38],[11,39,11,44],[11,45,11,50],[11,51,11,56],[11,57,11,62],[11,63,11,68],[10,0,10,12],[10,13,10,17],[10,18,10,22],[10,23,10,27],[10,28,10,33],[10,34,10,38],[10,39,10,44],[10,45,10,50],[10,51,10,56],[0,0,0,68],[1,0,1,68],[2,0,2,68],[4,0,9,12],[4,13,9,17],[4,18,9,22],[4,23,9,27],[4,28,9,33],[4,34,9,38],[4,39,9,44],[4,45,9,50],[4,51,9,56],[4,57,9,62],[4,63,9,68]]}
[{"$f":"Validacion!A2","v":"Atemajac de Brizuela"}]
["INFORME ANALÍTICO DE OBLIGACIONES DIFERENTES DE FINANCIAMIENTO"]
[{"$f":"'F9-EDP'!A3","v":"Del 1° de Enero al 31 de Diciembre de 2021"}]
[]
["Denominación de las obligaciones diferentes de financiamiento",{"$nulls":12},"Fecha del contrato",{"$nulls":4},"Fecha de inicio de operaciones del proyecto",{"$nulls":4},"Fecha de vencimiento",{"$nulls":4},"Monto de la inversión pactado",{"$nulls":5},"Plazo pactado",{"$nulls":4},"Monto promedio mensual del pago de la contraprestación",{"$nulls":5},"Monto promedio mensual del pago de la contraprestación correspondiente al pago de inversión",{"$nulls":5},"Monto pagado de la inversión del periodo",{"$nulls":5},"Monto pagado de la inversión actualizado del periodo",{"$nulls":5},"Saldo pendiente por pagar de la inversión"]
[]
[]
[]
[]
[]
["Asociación Público Privadas",{"$nulls":27},{"$f":"SUM(AC12:AH14)","v":0},{"$nulls":10},{"$f":"SUM(AN12:AS14)","v":0},{"$nulls":5},{"$f":"SUM(AT12:AY14)","v":0},{"$nulls":5},{"$f":"SUM(AZ12:BE14)","v":0},{"$nulls":5},{"$f":"SUM(BF12:BK14)","v":0},{"$nulls":5},{"$f":"SUM(BL12:BQ14)","v":0}]
[null,"1.-","SIN MOVIMIENTOS",{"$nulls":10},"2021-01-01",{"$nulls":4},"2021-02-01",{"$nulls":4},"2021-12-31",{"$nulls":39},{"$f":"AC12-BF12","v":0}]
[null,"2.-",{"$nulls":61},{"$f":"AC13-BF13","v":0}]
[null,"3.-",{"$nulls":61},{"$f":"AC14-BF14","v":0}]
["Otros instrumentos",{"$nulls":27},{"$f":"SUM(AC16:AH18)","v":0},{"$nulls":10},{"$f":"SUM(AN16:AS18)","v":0},{"$nulls":5},{"$f":"SUM(AT16:AY18)","v":0},{"$nulls":5},{"$f":"SUM(AZ16:BE18)","v":0},{"$nulls":5},{"$f":"SUM(BF16:BK18)","v":0},{"$nulls":5},{"$f":"SUM(BL16:BQ18)","v":0}]
[null,"1.-",{"$nulls":61},{"$f":"AC16-BF16","v":0}]
[null,"2.-",{"$nulls":61},{"$f":"AC17-BF17","v":0}]
[null,"3.-",{"$nulls":61},{"$f":"AC18-BF18","v":0}]
["Total de Obligaciones Diferentes de Financiamiento",{"$nulls":27},{"$f":"AC11+AC15","v":0},{"$nulls":10},{"$f":"AN11+AN15","v":0},{"$nulls":5},{"$f":"AT11+AT15","v":0},{"$nulls":5},{"$f":"AZ11+AZ15","v":0},{"$nulls":5},{"$f":"BF11+BF15","v":0},{"$nulls":5},{"$f":"BL11+BL15","v":0}]
[]
[]
[null,null,"Bajo protesta de decir verdad declaramos que los Estados Financieros y sus Notas son razonablemente correctos y responsabilidad del emisor."]
[]
[]
[]
[]
[{"$nulls":5},{"$f":"Validacion!A7","v":"C. SANTIAGO LEON CASTRO"},{"$nulls":35},{"$f":"Validacion!A9","v":"L.T. JOCELYN SANCHEZ HERRERA"}]
[{"$nulls":5},"Presidente Municipal o Títular del ente público",{"$nulls":35},"Encargado de la Hacienda Pública Municipal o Responsable de las finanzas del ente público"]

{"sheet":"F10","index":6,"n_rows":1041,"n_cols":13,"rows_kept":1041,"cut":false,"hidden":false,"merged":[[0,0,0,12],[1,0,1,12],[2,0,2,12]]}
[{"$f":"Validacion!A2","v":"Atemajac de Brizuela"}]
["INFORMATIVA DE PROVEEDORES"]
[{"$f":"INDEX(Validacion!E131:E142,MATCH(Validacion!A11,Validacion!C131:C142,0))","v":"Del 1° al 31 de Diciembre de 2021"}]
[]
["N°","PROVEEDOR Y/O PRESTADOR","R.F.C.","DOMICILIO","CIUDAD","CODIGO POSTAL","FUENTE DE FINANCIAMIENTO","ORIGEN DEL RECURSO POR CUENTA BANCARIA","FORMA DE PAGO","DESCRIPCIÓN DEL GASTO","IMPORTE","FECHA DE LA FACTURA","FOLIO DE FACTURA"]
["Fila","Proveedor","RFC","Domicilio","Ciudad","CP","FF","Origen","Forma De Pago","Descripcion Del Gasto","Importe","Fecha Factura","Folio Factura"]
[1,"BBVA BANCOMER SA","XAXX010101000","PASEO DE LA REFORMA 510, COL. JUAREZ","CIUDAD DE MEXICO",6600,151,"BA PARTICIPACIONES 8760","Ref N° SPEI","PAGO DE COMICIONES BANCARIAS PARA CANCELACION DE CUENTAS. ",5359.2,"2021-09-28","C47FF"]
[2,"BDP MAYOREO SA DE CV","XAXX010101000",".",".",45790,111,"s/ref","Ref N° EF","PAGO DE 24 PAQUETES DE ROSA POR LOS FESTEJOS DEL DIA DE LA MADRES EN EL MPIO. DE ACUERDO A COMPROBANTE ADJUNTO.",20044.8,"2021-09-27","16D43"]
[3,"COMERCIALIZADORA INDUSTRIAL GYGAX SA DE CV","XAXX010101000",".",".",44690,111,"s/ref","Ref N° EF","PAGO DE MATERIAL ELECTRICO PARA EL MANTENIMIENTO DE RED DE ALUMBRADO PUBLICO EN EL MPIO. DE ACUERDO A COMPROBANTE ADJUNTO.",10380.49,"2021-09-20",3368]
[4,"COMERCIALIZADORA INDUSTRIAL GYGAX SA DE CV","XAXX010101000",".",".",44690,111,"s/ref","Ref N° EF","PAGO DE MATERIAL ELECTRICO PARA EL MANTENIMIENTO DE RED DE ALUMBRADO PUBLICO EN EL MPIO. DE ACUERDO A COMPROBANTE ADJUNTO.",12992,"2021-09-20",3370]
[5,"COMERCIALIZADORA INDUSTRIAL GYGAX SA DE CV","XAXX010101000",".",".",44690,151,"s/ref","Ref N° EF","PAGO DE MATERIAL ELECTRICO PARA EL MANTENIMIENTO DE RED DE ALUMBRADO PUBLICO EN EL MPIO. DE ACUERDO A COMPROBANTE ADJUNTO.",19460.04,"2021-09-20",3366]
[6,"COMERCIALIZADORA INDUSTRIAL GYGAX SA DE CV","XAXX010101000",".",".",44690,111,"s/ref","Ref N° EF","PAGO DE MATERIAL ELECTRICO PARA EL MANTENIMIENTO DE RED DE ALUMBRADO PUBLICO EN EL MPIO. DE ACUERDO A COMPROBANTE ADJUNTO.",9355.4599999999991,"2021-09-20",3369]
[7,"DISTRIBUIODORA ARPOFINA S.A. DE C.V.","XAXX010101000","-","-",45070,111,"BA TESORERIA 6536","Cheque N° 2613","PAGO DE MATERIAL ELECTRICO ALUMBRADO PUBLICO MUNICIPIOS. ",7087.46,"2021-09-30","FD785"]
[8,"EDIFICADORA ALTAS CUMBRES S.A. DE C.V.","XAXX010101000","C. SAN JUAN BOSCO NO. 4676","ATEMAJAC DE BRIZUELA,JAL.",44190,151,"BA PARTICIPACIONES 8760","Transf N° 000714887","PAGO DE RENTA DE PIPA DE AGUA 16 AL 15 DE JUNIO 2021 PARA ABASTECIMIENTO DE AGUA EN ESTA POBLACION DE ACUERDO A COMPROBANTE ADJUNTO. ",40600,"2021-09-09","2A09A"]
[9,"ELIZABETH DAVILA DE LA TORRE","LEDR7011147G9","RAMON CORONA S/N","ATEMAJAC DE BRIZUELA",45790,151,"BA PARTICIPACIONES 8760","Transf N° 0069054033","RENTA DE MUEBLE PARA 3ER INFORME DE GOBIERNO EN ATEMAJAC DE BRIZUELA, JALISCO DE ACUERDO A COMPROBANTE ADJUNTO. ",5104,"2021-09-17","1C375"]
[10,"ESTHER ARREGUIN CAMACHO","AECE561128SY5","MARIA URIBE NO. 154","GUADALAJARA,JAL.",44820,151,"BA PARTICIPACIONES 8760","Transf N° 0046115025","PAGO DE HIPOCLORITO DE SODIO PARA CLORAACION DE AGUA EN ESTA POBLACION. ",6960,"2021-09-09","B638F9"]
[11,"J. REFUGIO LARA CERVANTES","LACJ550228TIA","RAMON CORONA NO. 333","ZACOALCO DE TORRES,JAL.",45750,151,"BA PARTICIPACIONES 8760","Cheque N° 1270","PAGO DE TRABAJOS DE MECANICA A VEHICULOS DE LA ADMINISTRACION PUBLICA MUNICIPAL DE ACUERDO A COMPROBANTES ADJUNTOS. ",8600,"2021-09-17","ECC77"]
[12,"J. REFUGIO LARA CERVANTES","LACJ550228TIA","RAMON CORONA NO. 333","ZACOALCO DE TORRES,JAL.",45750,151,"s/ref","s/ref ","SERVICIO DE REPARACION DE CREMALLERA A CAMIONETA RAM DE OBRAS PUBLICAS. DE ACUERDO A COMPROBANTE ADJUTO.",8000,"2021-09-29",22940]
[13,"J. REFUGIO LARA CERVANTES","LACJ550228TIA","RAMON CORONA NO. 333","ZACOALCO DE TORRES,JAL.",45750,252,"s/ref","s/ref ","SERVICIO DE REPARACION DE DE TRASMISION CUERPO DE VALVULAS Y SOLENOIDES A PATRULLA DE SEGURIDAD PUBLICA. DE ACUERDO A COMPROBANTE ADJUTO.",7400,"2021-09-29","2CE31"]
[14,"J. REFUGIO LARA CERVANTES","LACJ550228TIA","RAMON CORONA NO. 333","ZACOALCO DE TORRES,JAL.",45750,111,"BA ESTRATEGIA ALE 0241","Transf N° 0093415132","PAGO POR LA REPARACION DE PATRULLA DE LA UNIDAD ESPECIALIZADA POLICIAL DEL PROGRAMA ESTRATEGIA ALE 2021. DE ACUERDO A COMPROBANTE ADJUNTO.\n",7182.35,"2021-09-13","17E7D"]
[15,"J. REFUGIO LARA CERVANTES","LACJ550228TIA","RAMON CORONA NO. 333","ZACOALCO DE TORRES,JAL.",45750,111,"BA ESTRATEGIA ALE 0241","Transf N° 0093415078","PAGO POR LA REPARACION DE PATRULLA DE LA UNIDAD ESPECIALIZADA POLICIAL DEL PROGRAMA ESTRATEGIA ALE 2021. DE ACUERDO A COMPROBANTE ADJUNTO.\n",13920,"2021-09-13","F6C26"]
[16,"JOSE DE JESUS GUZMAN LOPEZ","GULJ5502275M4","PRIMERO DE MAYO 12631","ZAPOTLAN EL GRANDE",49000,111,"BA TESORERIA 6536","Transf N° 0042121027","PAGO DE CANAL 4 QUE TRANSMITIO EL 3ER INFORME DE GOBIERNO MUNCIPAL EN EL MUNICIPIO DE ATEMAJAC DE BRIZUELA JALISCO DE ACUERDO A COMPROBANTE ADJUNTO. ",9280,"2021-09-23","27BB2"]
[17,"JUAN PABLO SANCHEZ LOMELI","SALJ7809037V3",".",".",45790,151,"s/ref","s/ref ","PAGO DE GACETAS MUNIPIPALES IMPRESAS A COLOR, ENCUADERNADOS CON PAST BLANCA. DE ACUERDO A COMPROBANTE ADJUNTO.",13298.24,"2021-09-13","64DCA"]
[18,"JUAN PABLO SANCHEZ LOMELI","SALJ7809037V3",".",".",45790,151,"BA PARTICIPACIONES 8760","Transf N° 0093415025","PAGO DE IMPRESION DE 3ER INFORME DE GOBIERNO MUNICIPAL EN ATEMAJAC DE BRIZUELA, JALISCO DE ACUERDO A COMPROBANTE ADJUNTO. ",14916.8,"2021-09-13","6DF26"]
[19,"KENWORTH DE JALISCO SA DE CV","XAXX010101000",".",".",45790,151,"BA PARTICIPACIONES 8760","Transf N° 0033149050","PAGO DE REPARACION DE VOLTEO DE MODULO DE MAQUINARIA DE ACUERDO A COMPROBANTES ADJUNTOS. ",13484.65,"2021-09-06","02DD5"]
[20,"MARCELA LARIOS TORREJON","LATM7308121M6","-","-",49064,151,"BA PARTICIPACIONES 8760","Cheque N° 1292","PAGO A PROVEEDORES DIVERSOS DE ACUERDO A COMPROBANTES ADJUNTOS. ",34452,"2021-09-28","89D25"]
[21,"MARIA ENE ALVAREZ CHAVEZ","AACE930407PA4",".",".",49000,111,"BA ESTRATEGIA ALE 0241","Transf N° 0044676033","PAGO POR LA ROTULACION DE PATRULLA DE LA UNIDAD ESPECIALIZADA POLICIAL DEL PROGRAMA ESTRATEGIA ALE 2021. DE ACUERDO A COMPROBANTE ADJUNTO.\n",7499.99,"2021-09-08","F8661"]
[22,"MARTHA NAVA RUBIO","NARM790926QB3","MELCHOR OCAMPO S/N","ATEMAJAC DE BRIZUELA,JAL.",45790,151,"BA PARTICIPACIONES 8760","Cheque N° 1250","PAGO DE CORONAS FUNEBLES EN APOYO A FAMILIARE DE FINADOS EN LA POBLACION DE ATEMAJAC DE BRIZUELA, DE ACUERDO A COMPROBANTES ADJUNTOS. ",10800,"2021-09-08","9B9ED"]
[23,"MARTHA NAVA RUBIO","NARM790926QB3","MELCHOR OCAMPO S/N","ATEMAJAC DE BRIZUELA,JAL.",45790,151,"BA PARTICIPACIONES 8760","Cheque N° 1278","PAGO DE CORONAS FUNEBRES A PERSONAS DE FAMILIARES DE FINADOS EN LA POBLACION DE ATEMAJAC DE BRIZUELA, JALISCO DE ACUERDO A COMPROBANTES ADJUNTOS. ",15000,"2021-09-17","EB089"]
[24,"OSCAR FILIBERTO HERRERA VAZQUEZ","HEVO890608HE5",".","ATEMAJAC DE BRIZUELA, JALISCO.",45790,111,"s/ref","s/ref ","PAGO DE MATERIAL ELECTRICO PARA EL MANTENIMIENTO DE RED DE ALUMBRADO PUBLICO EN EL MPIO. DE ACUERDO A COMPROBANTE ADJUNTO.",7070.2,"2021-09-23","6A9B1"]
[25,"OSCAR FILIBERTO HERRERA VAZQUEZ","HEVO890608HE5",".","ATEMAJAC DE BRIZUELA, JALISCO.",45790,111,"s/ref","s/ref ","PAGO DE MATERIAL ELECTRICO PARA EL MANTENIMIENTO DE RED DE ALUMBRADO PUBLICO EN EL MPIO. DE ACUERDO A COMPROBANTE ADJUNTO.",9581.6,"2021-09-27","569BF"]
[26,"OSCAR FILIBERTO HERRERA VAZQUEZ","HEVO890608HE5",".","ATEMAJAC DE BRIZUELA, JALISCO.",45790,151,"BA PARTICIPACIONES 8760","Transf N° -","PAGO DE MATERIALES DE FONTANERIA PARA MANTENIMIENTO A LINEA DE AGUA POTABLE DE ACUERDO A COMPROBANTES ADJUNTOS. ",25833.200000000001,"2021-09-30","F7C30"]
[27,"OSCAR FILIBERTO HERRERA VAZQUEZ","HEVO890608HE5",".","ATEMAJAC DE BRIZUELA, JALISCO.",45790,111,"s/ref","s/ref ","PAGO DE MATERIALES VARIOS PARA DIVERSAS OBRAS DE MANTENIMIENTO DE ESPACIOS PUBLICOS DEL MPIO. DE ACUERDO A COMPROBANTE ADJUNTO.",8183.8,"2021-09-22","FC3BF"]
[28,"OSCAR FILIBERTO HERRERA VAZQUEZ","HEVO890608HE5",".","ATEMAJAC DE BRIZUELA, JALISCO.",45790,111,"s/ref","s/ref ","PAGO DE MATERIALES VARIOS PARA DIVERSAS OBRAS DE MANTENIMIENTO DE ESPACIOS PUBLICOS DEL MPIO. DE ACUERDO A COMPROBANTE ADJUNTO.",9036.4,"2021-09-24","F587E"]
[29,"PALMIRA GOMEZ ARRIAGA","GOAP890517RM8",".",".",45790,111,"BA TESORERIA 6536","Cheque N° 2615","PAGO DE SERVICIO DE RETROESCAVADORA TRABAJOS PUENTE EN LA LOCALIDAD DE AGUA CALIENTE.",22620,"2021-09-28",18435]
[30,"RAMIRO ALEJANDRO CORDOVA ZAMORA","COZR780427H70","GONZALEZ GALLO S/N","ATEMAJAC DE BRIZUELA,JAL.",45790,111,"BA TESORERIA 6536","Transf N° 0046115059","PAGO DE MATERIALES DE FONTANERIA Y REPARACION EN OBRAS PUBLICAS MUNICIPALES DE ACUERDO A COMPROBANTES ADJUNTOS. ",11527.01,"2021-09-09",3.7999999999999998E+86]
[31,"SERVICIO TECHALUTA S.A. DE C.V.","XAXX010101000","CARR. ACATLAN DE JUAREZ- CD, GUZMAN KM 44.5 ","TECHALUTA DE MONTENEGRO, JAL.",49230,111,"BA TESORERIA 6536","Cheque N° 2550","COMBUSTIBLE SERVICIOS PUBLICOS 8 DE SEPTIEMBRE 2021 DE ACUERDO A COMPROBANTES ADJUNTOS. ",8569.7999999999993,"2021-09-08","C051F"]
[32,"SERVICIO TECHALUTA S.A. DE C.V.","XAXX010101000","CARR. ACATLAN DE JUAREZ- CD, GUZMAN KM 44.5 ","TECHALUTA DE MONTENEGRO, JAL.",49230,151,"BA PARTICIPACIONES 8760","Cheque N° 1291","PAGO DE ENERGIA ELECTRICA CICLO 15 ALUMBRADO PUBLICO MUNICIPA MES DE SEPTIEMBRE 2021, COMBUSTIBLES SERVICIOS PUBLICOS Y PROVEEDORES DIVERSOS. ",6276.86,"2021-09-28","FEBA5"]
[33,"SERVICIO ZZVV S.A. DE C.V.","XAXX010101000","CARRETERA TAPALPA- GUADALAJARA KM. 7","TAPALPA,JAL",49340,111,"BA TESORERIA 6536","Cheque N° 2537","COMBUSTIBLE SERIVIOS PUBLICOS 2 DE SEPTIEMBRE 2021, DE ACURDO A COMPROBANTES ADJUNTOS. ",5000,"2021-09-03",82775]
[34,"SERVICIO ZZVV S.A. DE C.V.","XAXX010101000","CARRETERA TAPALPA- GUADALAJARA KM. 7","TAPALPA,JAL",49340,111,"BA TESORERIA 6536","Cheque N° 2540","COMBUSTIBLE SERVICIOS PUBLICOS MUNCIPALES DIA 6  DE SEPTIEMBRE 2021 DE ACURDO A COMBROBANTE ADJUNTO. ",5000,"2021-09-07","14B2B"]
[35,"SERVICIO ZZVV S.A. DE C.V.","XAXX010101000","CARRETERA TAPALPA- GUADALAJARA KM. 7","TAPALPA,JAL",49340,111,"BA TESORERIA 6536","Cheque N° 2554","COMBUSTIBLE SERVICIOS PUBLICOS DIA 16 DE SEPTIEMBRE 2021, DE ACURDO A COMPROBANTES ADJUNTOS. ",5000,"2021-09-15",58555]
[36,"SERVICIO ZZVV S.A. DE C.V.","XAXX010101000","CARRETERA TAPALPA- GUADALAJARA KM. 7","TAPALPA,JAL",49340,111,"BA TESORERIA 6536","Cheque N° 2558","COMBUSTIBLE SERVICIOS PUBLICOS DIA 13 DE SEPTIEMBRE 2021 DE ACUERDO A COMPROBANTE ADJUNTO. ",5000,"2021-09-13",35552]
[37,"SERVICIO ZZVV S.A. DE C.V.","XAXX010101000","CARRETERA TAPALPA- GUADALAJARA KM. 7","TAPALPA,JAL",49340,111,"BA TESORERIA 6536","Cheque N° 2575","COMBUSTIBLES DE SERVICIO PUBLICO DIA 20 DE SEPTIEMBRE DE ACUERDO A COMPROBANTE ADJUNTO. ",5000,"2021-09-20","E3816"]
[38,"SERVICIO ZZVV S.A. DE C.V.","XAXX010101000","CARRETERA TAPALPA- GUADALAJARA KM. 7","TAPALPA,JAL",49340,111,"BA TESORERIA 6536","Cheque N° 2571","PAGO DE DIESEL MODULO DE MAQUINARIA PERIODO DEL 18 Y 20 DE SEPTIEMBRE 2021. ",7769.6,"2021-09-17","E5C45"]
[39,"SERVICIO ZZVV S.A. DE C.V.","XAXX010101000","CARRETERA TAPALPA- GUADALAJARA KM. 7","TAPALPA,JAL",49340,111,"BA TESORERIA 6536","Cheque N° 2589","PAGO DE COMBUSTIBLE SERVICIOS PUBLICOS DIA 23 DE SEPTIEMBRE 2021 DE ACUERDO A COMPROBANTES ADJUNTOS. ",5000,"2021-09-23","549D6"]
[40,"SERVICIO ZZVV S.A. DE C.V.","XAXX010101000","CARRETERA TAPALPA- GUADALAJARA KM. 7","TAPALPA,JAL",49340,111,"BA TESORERIA 6536","Cheque N° 2614","COMBUSTIBLE SERVICIOS PUBLICOS DIA 27 Y 28 DE SEPTIEMBRE 2021. ",5000,"2021-09-30","AE966"]
[41,"SERVICIO ZZVV S.A. DE C.V.","XAXX010101000","CARRETERA TAPALPA- GUADALAJARA KM. 7","TAPALPA,JAL",49340,151,"BA PARTICIPACIONES 8760","Cheque N° 1242","DIESEL MODULO DE MAQUINARIA DIA 6 SEPTIEMBRE 2021 DE ACUERDO A COMPROBANTE ADJUNTO. ",6500,"2021-09-07","A51D6"]
[42,"SISTEMA PARA EL DESARROLLO INTEGRAL DE LA FAMILIA","XAXX010101000","XICOTENCATL NO. 445 COL LOS PINOS","ATEMAJAC DE BRIZUELA,JAL.",45790,151,"BA PARTICIPACIONES 8760","Transf N° 0046115160","SUBSIDIO A DIF MUNICIPAL ATEMAJAC DE BRIZUELA ,JALISCO CORRESPONDIENTE A EL MES DE SEPTIEMBRE 2021, DE ACUERDO A COMPROBANTE ADJUNTO. ",110000,"2021-09-09","A0614"]
[43,"SISTEMAS INTERMUNICIPAL DE MANEJO DE RESIDUOS LAGUNAS","XAXX010101000","-","-",49000,151,"BA PARTICIPACIONES 8760","Transf N° 0083481019","PAGO DE DISPOSICION FINAL  DE RECIDUOS SOLIDOS URBANOS EN EL RELLENO SANITARIO INTERMUNICIPAL DEL SIMAR LAGUNAS CORRESPONDIENTE A EL MES DE AGOSTO 2021 DE ACUERDO A COMPROBANTE ADJUNTO. ",56595.46,"2021-09-15","3FD7A"]
[44,"SOFIA BONALES GOMEZ","BOGS950315V32","JOSE ANTONIO TORRES NO. 124 C","ZACOALCO DE TORRES, JAL",45750,111,"BA ESTRATEGIA ALE 0241","Transf N° 045152199","PAGO DE MATERIAL DE DIFUSION PARA LA UNIDAD ESPECIALIZADA POLICIAL DEL PROGRAMA ESTRATEGIA ALE 2021. DE ACUERDO A COMPROBANTE ADJUNTO.",8850.7999999999993,"2021-09-09","60DA9"]
[45,"ALONSO ALFARO CARO","AACA781112JM1","AV. HIDALGO NO. 2081","GUADALAJARA,JAL.",44600,151,"BA PARTICIPACIONES 8760","Transf N° 0084400051","PAGO POR LA RENTA DE COPIADORAS PARA OFICINAS DE ESTE AYUNTAMIENTO MPAL. LOS MESES DE OCTUBRE Y NOVIEMBRE 2020. DE ACUERDO A COMPROBANTES ADJUNTOS.",2231.2600000000002,"2020-12-30","BC985"]
[46,"ALONSO ALFARO CARO","AACA781112JM1","AV. HIDALGO NO. 2081","GUADALAJARA,JAL.",44600,151,"BA PARTICIPACIONES 8760","Transf N° 0084400051","PAGO POR LA RENTA DE COPIADORAS PARA OFICINAS DE ESTE AYUNTAMIENTO MPAL. LOS MESES DE OCTUBRE Y NOVIEMBRE 2020. DE ACUERDO A COMPROBANTES ADJUNTOS.",1160,"2020-12-30",79607]
[47,"ALONSO ALFARO CARO","AACA781112JM1","AV. HIDALGO NO. 2081","GUADALAJARA,JAL.",44600,151,"BA PARTICIPACIONES 8760","Transf N° 0084400051","PAGO POR LA RENTA DE COPIADORAS PARA OFICINAS DE ESTE AYUNTAMIENTO MPAL. LOS MESES DE OCTUBRE Y NOVIEMBRE 2020. DE ACUERDO A COMPROBANTES ADJUNTOS.",1450,"2020-12-30","D18B0"]
[48,"ALONSO ALFARO CARO","AACA781112JM1","AV. HIDALGO NO. 2081","GUADALAJARA,JAL.",44600,151,"BA PARTICIPACIONES 8760","Transf N° 0084400051","PAGO POR LA RENTA DE COPIADORAS PARA OFICINAS DE ESTE AYUNTAMIENTO MPAL. LOS MESES DE OCTUBRE Y NOVIEMBRE 2020. DE ACUERDO A COMPROBANTES ADJUNTOS.",1673.3,"2020-12-30","DA49A"]
[49,"ALONSO ALFARO CARO","AACA781112JM1","AV. HIDALGO NO. 2081","GUADALAJARA,JAL.",44600,151,"BA PARTICIPACIONES 8760","Transf N° 0084400051","PAGO POR LA RENTA DE COPIADORAS PARA OFICINAS DE ESTE AYUNTAMIENTO MPAL. LOS MESES DE OCTUBRE Y NOVIEMBRE 2020. DE ACUERDO A COMPROBANTES ADJUNTOS.",1160,"2020-12-30",12273]
[50,"ALONSO ALFARO CARO","AACA781112JM1","AV. HIDALGO NO. 2081","GUADALAJARA,JAL.",44600,151,"BA PARTICIPACIONES 8760","Transf N° 0084400051","PAGO POR LA RENTA DE COPIADORAS PARA OFICINAS DE ESTE AYUNTAMIENTO MPAL. LOS MESES DE OCTUBRE Y NOVIEMBRE 2020. DE ACUERDO A COMPROBANTES ADJUNTOS.",1432.02,"2020-12-30",65070]
[51,"ALONSO ALFARO CARO","AACA781112JM1","AV. HIDALGO NO. 2081","GUADALAJARA,JAL.",44600,111,"BA TESORERIA 6536","Transf N° 0063030015","PAGO POR LA RENTA DE IMPRESORAS PARA ESTE AYUNTAMIENTO. DE ACUERDO A COMPROBANTES ADJUNTOS.",1450,"2020-10-19","5C96C"]
[52,"ALONSO ALFARO CARO","AACA781112JM1","AV. HIDALGO NO. 2081","GUADALAJARA,JAL.",44600,111,"BA TESORERIA 6536","Transf N° 0063030015","PAGO POR LA RENTA DE IMPRESORAS PARA ESTE AYUNTAMIENTO. DE ACUERDO A COMPROBANTES ADJUNTOS.",1450,"2020-10-19","E408A"]
[53,"ALONSO ALFARO CARO","AACA781112JM1","AV. HIDALGO NO. 2081","GUADALAJARA,JAL.",44600,111,"BA TESORERIA 6536","Transf N° 0063030015","PAGO POR LA RENTA DE IMPRESORAS PARA ESTE AYUNTAMIENTO. DE ACUERDO A COMPROBANTES ADJUNTOS.",1160,"2020-10-19","B38FF"]
[54,"ALONSO ALFARO CARO","AACA781112JM1","AV. HIDALGO NO. 2081","GUADALAJARA,JAL.",44600,111,"BA TESORERIA 6536","Transf N° 0063030015","PAGO POR LA RENTA DE IMPRESORAS PARA ESTE AYUNTAMIENTO. DE ACUERDO A COMPROBANTES ADJUNTOS.",1029.5,"2020-10-19","A7A4D"]
[55,"ALONSO ALFARO CARO","AACA781112JM1","AV. HIDALGO NO. 2081","GUADALAJARA,JAL.",44600,111,"BA TESORERIA 6536","Transf N° 61045","RENTA DE COPIADORAS PARA OFICINAS DE PRESIDENCIA, REGISTRO CIVIL, OBRAS PUBLICA Y HACIENDA MUNICIPAL PERIODO DEL 11 DE SEPTIEMBRE AL 10 DE MAYO 2020.",1602.54,"2020-12-04","0FBFB"]
[56,"ALONSO ALFARO CARO","AACA781112JM1","AV. HIDALGO NO. 2081","GUADALAJARA,JAL.",44600,111,"BA TESORERIA 6536","Transf N° 61045","RENTA DE COPIADORAS PARA OFICINAS DE PRESIDENCIA, REGISTRO CIVIL, OBRAS PUBLICA Y HACIENDA MUNICIPAL PERIODO DEL 11 DE SEPTIEMBRE AL 10 DE MAYO 2020.",1160,"2020-12-04","2D079"]
[57,"ALONSO ALFARO CARO","AACA781112JM1","AV. HIDALGO NO. 2081","GUADALAJARA,JAL.",44600,111,"BA TESORERIA 6536","Transf N° 61045","RENTA DE COPIADORAS PARA OFICINAS DE PRESIDENCIA, REGISTRO CIVIL, OBRAS PUBLICA Y HACIENDA MUNICIPAL PERIODO DEL 11 DE SEPTIEMBRE AL 10 DE MAYO 2020.",1544.25,"2020-12-04",24867]
[58,"ALONSO ALFARO CARO","AACA781112JM1","AV. HIDALGO NO. 2081","GUADALAJARA,JAL.",44600,111,"BA TESORERIA 6536","Transf N° 0055228013","PAGO POR LA RENTA DE COPIADORAS PARA OFICINAS DE ESTE AYUNTAMIENTO. DE ACUERDO A COMPROBANTES ADJUNTOS.",1853.39,"2020-11-05",20591]
[59,"ALONSO ALFARO CARO","AACA781112JM1","AV. HIDALGO NO. 2081","GUADALAJARA,JAL.",44600,111,"BA TESORERIA 6536","Transf N° 0055228013","PAGO POR LA RENTA DE COPIADORAS PARA OFICINAS DE ESTE AYUNTAMIENTO. DE ACUERDO A COMPROBANTES ADJUNTOS.",1450,"2020-11-05","4FAD1"]
[60,"ALONSO ALFARO CARO","AACA781112JM1","AV. HIDALGO NO. 2081","GUADALAJARA,JAL.",44600,111,"BA TESORERIA 6536","Transf N° 0055228013","PAGO POR LA RENTA DE COPIADORAS PARA OFICINAS DE ESTE AYUNTAMIENTO. DE ACUERDO A COMPROBANTES ADJUNTOS.",1160,"2020-11-05","1FB15"]
[61,"ALTA TECNOLOGIA EN ACUMULADORES SA DE CV","XAXX010101000",".",".",45790,151,"BA PARTICIPACIONES 8760","Cheque N° 673","PAGO DE COMBUSTIBLE Y MANTENIMIENTO DE AMBULANCIA DE PROTECCION CIVIL DE ESTE MPIO. DE ACUERDO A COMPROBANTES ADJUNTOS.",2395,"2020-04-17","0FF7B"]
[62,"ANNEL GRAJEDA GOVEA","GAGA861128I11","-","-",45790,151,"BA PARTICIPACIONES 8760","Cheque N° 712","REPOSICION DE CAJA CHICA DE EGRESOS CORRESPONDIENTE AL DIA 15 DE MAYO 2020. DE ACUERDO A COMPROBANTE ADJUNTO.",1029,"2020-05-15","85C33"]
[63,"ANTONIO HERNANDEZ RODRIGUEZ","HERA710613S63","-","-",45790,151,"BA PARTICIPACIONES 8760","Cheque N° 0537","PAGO DE COMBUSTIBLE PARA AMBULANCIA Y VIATICOS A CHOFER DE PROTECCION CIVIL. DE ACUERDO A COMPROBANTES ADJUNTOS.",1042.6500000000001,"2020-02-25","3F4B2"]
[64,"ANTONIO HERRERA GONZALEZ","HEGA3908016F5","-","ATEMAJAC DE BRIZUELA,JAL.",45790,111,"BA TESORERIA 6536","Transf N° 0055228059","PAGO DE MATERIALES, SUMINISTROS Y HERRAMIENTAS VARIOS PARA EL MANTENIMIENTO DE ESPACIOS PUBLICOS EN EL MPIO. DE ACUERDO A COMPROBANTES ADJUNTOS. ",1448.99,"2020-11-12","59B46"]
[65,"ANTONIO HERRERA GONZALEZ","HEGA3908016F5","-","ATEMAJAC DE BRIZUELA,JAL.",45790,111,"BA TESORERIA 6536","Transf N° 0055228059","PAGO DE MATERIALES, SUMINISTROS Y HERRAMIENTAS VARIOS PARA EL MANTENIMIENTO DE ESPACIOS PUBLICOS EN EL MPIO. DE ACUERDO A COMPROBANTES ADJUNTOS. ",4167,"2020-11-12","AA5A5"]
[66,"ANTONIO HERRERA GONZALEZ","HEGA3908016F5","-","ATEMAJAC DE BRIZUELA,JAL.",45790,111,"BA TESORERIA 6536","Transf N° 00911152015","PAGO DE MATERIALES VARIOS PARA EL MANTENIMIENTO DE ESPACIOS PUBLICOS EN EL MPIO. DE ACUERDO A COMPROBANTE ADJUNTO.",10040.33,"2020-01-22","6A2DA"]
[67,"ANTONIO HERRERA GONZALEZ","HEGA3908016F5","-","ATEMAJAC DE BRIZUELA,JAL.",45790,151,"BA PARTICIPACIONES 8760","Cheque N° 0556","PAGO DE MATERIALES VARIOS PARA EL MANTENIMIENTO Y CONCERVACION DE ESPACIOS PUBLICOS EN EL MPIO. DE ACUERDO A COMPROBANTE ADJUNTO",9195.0300000000007,"2020-03-09","A92CA"]
[68,"ANTONIO HERRERA GONZALEZ","HEGA3908016F5","-","ATEMAJAC DE BRIZUELA,JAL.",45790,151,"BA PARTICIPACIONES 8760","Transf N° 0076696047","PAGO DE MATERIALES DIVERSOS PARA DIVERSAS OBRAS DE MANENIMIENTO DE ESPACIOS PUBLICOS EN EL MPIO. DE ACUERDO A COMPRABANTE ADJUNTO.",1063,"2020-05-19",0]
[69,"ANTONIO HERRERA GONZALEZ","HEGA3908016F5","-","ATEMAJAC DE BRIZUELA,JAL.",45790,151,"BA PARTICIPACIONES 8760","Transf N° 0076696047","PAGO DE MATERIALES DIVERSOS PARA DIVERSAS OBRAS DE MANENIMIENTO DE ESPACIOS PUBLICOS EN EL MPIO. DE ACUERDO A COMPRABANTE ADJUNTO.",1150,"2020-05-19","9F151"]
[70,"ANTONIO HERRERA GONZALEZ","HEGA3908016F5","-","ATEMAJAC DE BRIZUELA,JAL.",45790,151,"BA PARTICIPACIONES 8760","Transf N° 0076696047","PAGO DE MATERIALES DIVERSOS PARA DIVERSAS OBRAS DE MANENIMIENTO DE ESPACIOS PUBLICOS EN EL MPIO. DE ACUERDO A COMPRABANTE ADJUNTO.",1043,"2020-05-19","ED468"]
[71,"ANTONIO HERRERA GONZALEZ","HEGA3908016F5","-","ATEMAJAC DE BRIZUELA,JAL.",45790,151,"BA PARTICIPACIONES 8760","Transf N° 0076696047","PAGO DE MATERIALES DIVERSOS PARA DIVERSAS OBRAS DE MANENIMIENTO DE ESPACIOS PUBLICOS EN EL MPIO. DE ACUERDO A COMPRABANTE ADJUNTO.",1397.01,"2020-05-19","7EA68"]
[72,"ANTONIO HERRERA GONZALEZ","HEGA3908016F5","-","ATEMAJAC DE BRIZUELA,JAL.",45790,151,"BA PARTICIPACIONES 8760","Transf N° 0076696047","PAGO DE MATERIALES DIVERSOS PARA DIVERSAS OBRAS DE MANENIMIENTO DE ESPACIOS PUBLICOS EN EL MPIO. DE ACUERDO A COMPRABANTE ADJUNTO.",1974.01,"2020-05-19","D031D"]
[73,"ANTONIO HERRERA GONZALEZ","HEGA3908016F5","-","ATEMAJAC DE BRIZUELA,JAL.",45790,151,"BA PARTICIPACIONES 8760","Transf N° 0071051042","PAGO DE MATERIALES VARIOS PARA DIVERSAS OBRAS DE MANTENIMIENTO DE ESPACIOS PUBLICOS EN EL MPIO. DE ACUERDO A COMPROBANTES ADJUNTOS.",2323,"2020-07-20","BD8EE"]
[74,"ANTONIO HERRERA GONZALEZ","HEGA3908016F5","-","ATEMAJAC DE BRIZUELA,JAL.",45790,151,"BA PARTICIPACIONES 8760","Transf N° 0071051042","PAGO DE MATERIALES VARIOS PARA DIVERSAS OBRAS DE MANTENIMIENTO DE ESPACIOS PUBLICOS EN EL MPIO. DE ACUERDO A COMPROBANTES ADJUNTOS.",1284,"2020-07-20",5.4000000000000001E+78]
[75,"ANTONIO HERRERA GONZALEZ","HEGA3908016F5","-","ATEMAJAC DE BRIZUELA,JAL.",45790,151,"BA PARTICIPACIONES 8760","Transf N° 0071051042","PAGO DE MATERIALES VARIOS PARA DIVERSAS OBRAS DE MANTENIMIENTO DE ESPACIOS PUBLICOS EN EL MPIO. DE ACUERDO A COMPROBANTES ADJUNTOS.",2486.0100000000002,"2020-07-20","43BEC"]
[76,"ARGUS GASOLINERA S.A. DE C.V.","XAXX010101000","JUSTO SIERRA NO. 475","ACATLAN DE JUAREZ, JAL",45700,111,"BA TESORERIA 6536","Cheque N° 2355","PAGO DE COMBUSTIBLE PARA VEHICULOS DEL SERVICIO PUBLICO DE ESTE MPIO. DE ACUERDO A COMPROBANTES ADJUNTOS.",1000,"2020-09-25","CBCCE"]
[77,"ARTURO CAZARES QUEVEDO","CAQA600909C64","8 DE JULIO NO. 138 COL. CENTRO","GUADALAJARA",44100,111,"BA TESORERIA 6536","Transf N° 0080903014","PAGO DE SELLOS FECHADOR Y MATERIAL ELECTRICO, PARA DIVERSAS ACTIVIDADES DEL AYUNTAMIENTO. DE ACUERDO A COMPROBANTES ADJUNTOS.",1508,"2020-04-30","238EC"]
[78,"ASESORIA COMERCIALIZADORA Y DESARROLLO DIADA SA DE CV","XAXX010101000",".",".",45790,151,"BA PARTICIPACIONES 8760","Transf N° 0088202036","PAGO DE TERMOMETRO DIGITAL LASER PARA SEGUIMEINTO DE PROTOCOLOS DE CHEQUEO Y SANITIZACION  COVID 19 EN EL ACCESO DE PRESIDENCIA MPAL. DE ACUERDO A COMPROBANTE ADJUNTO.",2668,"2020-08-18","1EC20"]
[79,"ASESORIA COMERCIALIZADORA Y DESARROLLO DIADA SA DE CV","XAXX010101000",".",".",45790,151,"BA PARTICIPACIONES 8760","Cheque N° 0617","PAGO DE HOJAS BLANCAS TAMAÑO CARTA PARA OFICINAS ADMINISTRATIVAS DE ESTE AYUNTAMIENTO. DE ACUEDO A COMPROBANTE ADJUNTO.",6030,"2020-03-26",84411]
[80,"ASESORIA COMERCIALIZADORA Y DESARROLLO DIADA SA DE CV","XAXX010101000",".",".",45790,151,"BA PARTICIPACIONES 8760","Cheque N° 0616","PAGO DE CUBETA DE GRASA Y ACEITE PARA MODULO DE MAQUINARIA DE ESTE AYUNTAMIENTO. DE ACUERDO A COMPROBANTE ADJUNTO.",6570.24,"2020-03-26","728FB"]
[81,"ATEMAJAC GASOLINERA Y LUBRICANTES S.A. DE C.V.","XAXX010101000","CARR CATARINA ATEMAJAC, KM. 32.5","ATEMAJAC DE BRIZUELA,JAL.",45790,151,"BA PARTICIPACIONES 8760","Transf N° 0028777047","PAGO DE COMBUSTIBLE PARA VEHICULOS DEL SERVICIO PUBLICO MPAL DE LA SEMANA DEL 29 DE AGOSTO AL 5 DE SEPTIEMBRE 2020. DE ACUERDO A COMPROBANTES ADJUNTOS.",6631,"2020-10-02","F7852"]
[82,"ATEMAJAC GASOLINERA Y LUBRICANTES S.A. DE C.V.","XAXX010101000","CARR CATARINA ATEMAJAC, KM. 32.5","ATEMAJAC DE BRIZUELA,JAL.",45790,151,"BA PARTICIPACIONES 8760","Transf N° 0028777047","PAGO DE COMBUSTIBLE PARA VEHICULOS DEL SERVICIO PUBLICO MPAL DE LA SEMANA DEL 29 DE AGOSTO AL 5 DE SEPTIEMBRE 2020. DE ACUERDO A COMPROBANTES ADJUNTOS.",5080,"2020-10-02","8673A"]
[83,"ATEMAJAC GASOLINERA Y LUBRICANTES S.A. DE C.V.","XAXX010101000","CARR CATARINA ATEMAJAC, KM. 32.5","ATEMAJAC DE BRIZUELA,JAL.",45790,151,"BA PARTICIPACIONES 8760","Transf N° 0028777047","PAGO DE COMBUSTIBLE PARA VEHICULOS DEL SERVICIO PUBLICO MPAL DE LA SEMANA DEL 29 DE AGOSTO AL 5 DE SEPTIEMBRE 2020. DE ACUERDO A COMPROBANTES ADJUNTOS.",15320,"2020-10-02","5ABF4"]
[84,"ATEMAJAC GASOLINERA Y LUBRICANTES S.A. DE C.V.","XAXX010101000","CARR CATARINA ATEMAJAC, KM. 32.5","ATEMAJAC DE BRIZUELA,JAL.",45790,151,"BA PARTICIPACIONES 8760","Transf N° 0028777047","PAGO DE COMBUSTIBLE PARA VEHICULOS DEL SERVICIO PUBLICO MPAL DE LA SEMANA DEL 29 DE AGOSTO AL 5 DE SEPTIEMBRE 2020. DE ACUERDO A COMPROBANTES ADJUNTOS.",6883,"2020-10-02",28602]
[85,"ATEMAJAC GASOLINERA Y LUBRICANTES S.A. DE C.V.","XAXX010101000","CARR CATARINA ATEMAJAC, KM. 32.5","ATEMAJAC DE BRIZUELA,JAL.",45790,151,"BA PARTICIPACIONES 8760","Transf N° 0028777047","PAGO DE COMBUSTIBLE PARA VEHICULOS DEL SERVICIO PUBLICO MPAL DE LA SEMANA DEL 29 DE AGOSTO AL 5 DE SEPTIEMBRE 2020. DE ACUERDO A COMPROBANTES ADJUNTOS.",2451,"2020-10-02",46471]
[86,"ATEMAJAC GASOLINERA Y LUBRICANTES S.A. DE C.V.","XAXX010101000","CARR CATARINA ATEMAJAC, KM. 32.5","ATEMAJAC DE BRIZUELA,JAL.",45790,151,"BA PARTICIPACIONES 8760","Transf N° 0028777047","PAGO DE COMBUSTIBLE PARA VEHICULOS DEL SERVICIO PUBLICO MPAL DE LA SEMANA DEL 29 DE AGOSTO AL 5 DE SEPTIEMBRE 2020. DE ACUERDO A COMPROBANTES ADJUNTOS.",10252,"2020-10-02","2EB7A"]
[87,"ATEMAJAC GASOLINERA Y LUBRICANTES S.A. DE C.V.","XAXX010101000","CARR CATARINA ATEMAJAC, KM. 32.5","ATEMAJAC DE BRIZUELA,JAL.",45790,151,"BA PARTICIPACIONES 8760","Transf N° 0028777047","PAGO DE COMBUSTIBLE PARA VEHICULOS DEL SERVICIO PUBLICO MPAL DE LA SEMANA DEL 29 DE AGOSTO AL 5 DE SEPTIEMBRE 2020. DE ACUERDO A COMPROBANTES ADJUNTOS.",8561,"2020-10-02","75C94"]
[88,"ATEMAJAC GASOLINERA Y LUBRICANTES S.A. DE C.V.","XAXX010101000","CARR CATARINA ATEMAJAC, KM. 32.5","ATEMAJAC DE BRIZUELA,JAL.",45790,151,"BA PARTICIPACIONES 8760","Transf N° 0028777047","PAGO DE COMBUSTIBLE PARA VEHICULOS DEL SERVICIO PUBLICO MPAL DE LA SEMANA DEL 29 DE AGOSTO AL 5 DE SEPTIEMBRE 2020. DE ACUERDO A COMPROBANTES ADJUNTOS.",1482,"2020-10-02","C8768"]
[89,"ATEMAJAC GASOLINERA Y LUBRICANTES S.A. DE C.V.","XAXX010101000","CARR CATARINA ATEMAJAC, KM. 32.5","ATEMAJAC DE BRIZUELA,JAL.",45790,151,"BA PARTICIPACIONES 8760","Transf N° 0028777015","PAGO DE COMBUSTIBLE PARA VEHICULOS DEL SERVICIO PUBLICO MPAL DE LA SEMANA DEL 22 AL 28 DE AGOSTO 2020. DE ACUERDO A COMPROBANTES ADJUNTOS.",3000,"2020-10-02","4A536"]
[90,"ATEMAJAC GASOLINERA Y LUBRICANTES S.A. DE C.V.","XAXX010101000","CARR CATARINA ATEMAJAC, KM. 32.5","ATEMAJAC DE BRIZUELA,JAL.",45790,151,"BA PARTICIPACIONES 8760","Transf N° 0028777015","PAGO DE COMBUSTIBLE PARA VEHICULOS DEL SERVICIO PUBLICO MPAL DE LA SEMANA DEL 22 AL 28 DE AGOSTO 2020. DE ACUERDO A COMPROBANTES ADJUNTOS.",5512,"2020-10-02","C000DC"]
[91,"ATEMAJAC GASOLINERA Y LUBRICANTES S.A. DE C.V.","XAXX010101000","CARR CATARINA ATEMAJAC, KM. 32.5","ATEMAJAC DE BRIZUELA,JAL.",45790,151,"BA PARTICIPACIONES 8760","Transf N° 0028777015","PAGO DE COMBUSTIBLE PARA VEHICULOS DEL SERVICIO PUBLICO MPAL DE LA SEMANA DEL 22 AL 28 DE AGOSTO 2020. DE ACUERDO A COMPROBANTES ADJUNTOS.",12140,"2020-10-02","F969E"]
[92,"ATEMAJAC GASOLINERA Y LUBRICANTES S.A. DE C.V.","XAXX010101000","CARR CATARINA ATEMAJAC, KM. 32.5","ATEMAJAC DE BRIZUELA,JAL.",45790,151,"BA PARTICIPACIONES 8760","Transf N° 0028777015","PAGO DE COMBUSTIBLE PARA VEHICULOS DEL SERVICIO PUBLICO MPAL DE LA SEMANA DEL 22 AL 28 DE AGOSTO 2020. DE ACUERDO A COMPROBANTES ADJUNTOS.",1200,"2020-10-02","415A4"]
[93,"ATEMAJAC GASOLINERA Y LUBRICANTES S.A. DE C.V.","XAXX010101000","CARR CATARINA ATEMAJAC, KM. 32.5","ATEMAJAC DE BRIZUELA,JAL.",45790,151,"BA PARTICIPACIONES 8760","Transf N° 0028777015","PAGO DE COMBUSTIBLE PARA VEHICULOS DEL SERVICIO PUBLICO MPAL DE LA SEMANA DEL 22 AL 28 DE AGOSTO 2020. DE ACUERDO A COMPROBANTES ADJUNTOS.",16600,"2020-10-02","C7ED5"]
[94,"ATEMAJAC GASOLINERA Y LUBRICANTES S.A. DE C.V.","XAXX010101000","CARR CATARINA ATEMAJAC, KM. 32.5","ATEMAJAC DE BRIZUELA,JAL.",45790,151,"BA PARTICIPACIONES 8760","Transf N° 0028777015","PAGO DE COMBUSTIBLE PARA VEHICULOS DEL SERVICIO PUBLICO MPAL DE LA SEMANA DEL 22 AL 28 DE AGOSTO 2020. DE ACUERDO A COMPROBANTES ADJUNTOS.",1850,"2020-10-02","F7199"]
[95,"ATEMAJAC GASOLINERA Y LUBRICANTES S.A. DE C.V.","XAXX010101000","CARR CATARINA ATEMAJAC, KM. 32.5","ATEMAJAC DE BRIZUELA,JAL.",45790,151,"BA PARTICIPACIONES 8760","Transf N° 0028777015","PAGO DE COMBUSTIBLE PARA VEHICULOS DEL SERVICIO PUBLICO MPAL DE LA SEMANA DEL 22 AL 28 DE AGOSTO 2020. DE ACUERDO A COMPROBANTES ADJUNTOS.",13460,"2020-10-02","9F913"]
[96,"ATEMAJAC GASOLINERA Y LUBRICANTES S.A. DE C.V.","XAXX010101000","CARR CATARINA ATEMAJAC, KM. 32.5","ATEMAJAC DE BRIZUELA,JAL.",45790,111,"s/ref","s/ref ","PAGO DE VIATICOS A PRESIDENTE MUNICIPAL POR COMISION A DIVERSOS EVENTOS EN LA REGION Y TRASLADOS A GUADALAJARA. DE ACUERDO A COMPROABANTES ADJUNTOS.",2000,"2020-06-05",8617]
[97,"ATEMAJAC GASOLINERA Y LUBRICANTES S.A. DE C.V.","XAXX010101000","CARR CATARINA ATEMAJAC, KM. 32.5","ATEMAJAC DE BRIZUELA,JAL.",45790,111,"s/ref","s/ref ","PAGO DE VIATICOS A PRESIDENTE MUNICIPAL POR COMISION A DIVERSOS EVENTOS EN LA REGION Y TRASLADOS A GUADALAJARA. DE ACUERDO A COMPROABANTES ADJUNTOS.",2000,"2020-06-05","7B206"]
[98,"ATEMAJAC GASOLINERA Y LUBRICANTES S.A. DE C.V.","XAXX010101000","CARR CATARINA ATEMAJAC, KM. 32.5","ATEMAJAC DE BRIZUELA,JAL.",45790,111,"s/ref","s/ref ","PAGO DE VIATICOS A PRESIDENTE MUNICIPAL POR COMISION A DIVERSOS EVENTOS EN LA REGION Y TRASLADOS A GUADALAJARA. DE ACUERDO A COMPROABANTES ADJUNTOS.",2000,"2020-06-05","DDD37"]
[99,"ATEMAJAC GASOLINERA Y LUBRICANTES S.A. DE C.V.","XAXX010101000","CARR CATARINA ATEMAJAC, KM. 32.5","ATEMAJAC DE BRIZUELA,JAL.",45790,111,"s/ref","s/ref ","PAGO DE VIATICOS A PRESIDENTE MUNICIPAL POR COMISION A DIVERSOS EVENTOS EN LA REGION Y TRASLADOS A GUADALAJARA. DE ACUERDO A COMPROABANTES ADJUNTOS.",2000,"2020-06-23",11242]
[100,"ATEMAJAC GASOLINERA Y LUBRICANTES S.A. DE C.V.","XAXX010101000","CARR CATARINA ATEMAJAC, KM. 32.5","ATEMAJAC DE BRIZUELA,JAL.",45790,111,"s/ref","s/ref ","PAGO DE VIATICOS A PRESIDENTE MUNICIPAL POR COMISION A DIVERSOS EVENTOS EN LA REGION Y TRASLADOS A GUADALAJARA. DE ACUERDO A COMPROABANTES ADJUNTOS.",1000,"2020-06-23","4F5FB"]
[101,"ATEMAJAC GASOLINERA Y LUBRICANTES S.A. DE C.V.","XAXX010101000","CARR CATARINA ATEMAJAC, KM. 32.5","ATEMAJAC DE BRIZUELA,JAL.",45790,111,"s/ref","s/ref ","PAGO DE VIATICOS A PRESIDENTE MUNICIPAL POR COMISION A DIVERSOS EVENTOS EN LA REGION Y TRASLADOS A GUADALAJARA. DE ACUERDO A COMPROABANTES ADJUNTOS.",1000,"2020-06-23",46575]
[102,"ATEMAJAC GASOLINERA Y LUBRICANTES S.A. DE C.V.","XAXX010101000","CARR CATARINA ATEMAJAC, KM. 32.5","ATEMAJAC DE BRIZUELA,JAL.",45790,111,"s/ref","s/ref ","PAGO DE VIATICOS A PRESIDENTE MUNICIPAL POR COMISION A DIVERSOS EVENTOS EN LA REGION Y TRASLADOS A GUADALAJARA. DE ACUERDO A COMPROABANTES ADJUNTOS.",1000,"2020-06-23","78BE6"]
[103,"ATEMAJAC GASOLINERA Y LUBRICANTES S.A. DE C.V.","XAXX010101000","CARR CATARINA ATEMAJAC, KM. 32.5","ATEMAJAC DE BRIZUELA,JAL.",45790,151,"BA PARTICIPACIONES 8760","Cheque N° 0666","PAGO DE VIATICOS A TESORERO MUNICIPAL POR DIVERSAS COMISIONES Y TRALADOS A GUADALAJARA. DE ACUERDO A COMPROBANTES ADJUNTOS.",2500,"2020-04-14","D8FB3"]
[104,"ATEMAJAC GASOLINERA Y LUBRICANTES S.A. DE C.V.","XAXX010101000","CARR CATARINA ATEMAJAC, KM. 32.5","ATEMAJAC DE BRIZUELA,JAL.",45790,111,"BA TESORERIA 6536","Cheque N° 2267","REPOSICION DE CAJA CHICA DE EGRESOS CORRESPONDIENTE AL DIA 30 DE ABRIL 2020. DE ACUERDO A COMPROBANTES ADJUNTOS.",1250.01,"2020-04-30","1BD9B"]
[105,"ATEMAJAC GASOLINERA Y LUBRICANTES S.A. DE C.V.","XAXX010101000","CARR CATARINA ATEMAJAC, KM. 32.5","ATEMAJAC DE BRIZUELA,JAL.",45790,151,"s/ref","s/ref ","PAGO DE VIATICOS A PRESIDENTE MUNICIPAL POR COMISION A DIVERSOS EVENTOS. DE ACUERDO A COMPROBANTES ADJUNTOS",1200,"2020-08-31","8CB5E"]
[106,"ATEMAJAC GASOLINERA Y LUBRICANTES S.A. DE C.V.","XAXX010101000","CARR CATARINA ATEMAJAC, KM. 32.5","ATEMAJAC DE BRIZUELA,JAL.",45790,151,"s/ref","s/ref ","PAGO DE VIATICOS A PRESIDENTE MUNICIPAL POR COMISION A DIVERSOS EVENTOS. DE ACUERDO A COMPROBANTES ADJUNTOS",1000,"2020-08-31","10F80F"]
[107,"ATEMAJAC GASOLINERA Y LUBRICANTES S.A. DE C.V.","XAXX010101000","CARR CATARINA ATEMAJAC, KM. 32.5","ATEMAJAC DE BRIZUELA,JAL.",45790,151,"s/ref","s/ref ","PAGO DE VIATICOS A PRESIDENTE MUNICIPAL POR COMISION A DIVERSOS EVENTOS ",1050,"2020-06-30","3E934"]
[108,"ATEMAJAC GASOLINERA Y LUBRICANTES S.A. DE C.V.","XAXX010101000","CARR CATARINA ATEMAJAC, KM. 32.5","ATEMAJAC DE BRIZUELA,JAL.",45790,151,"s/ref","s/ref ","PAGO DE VIATICOS A PRESIDENTE MUNICIPAL POR COMISION A DIVERSOS EVENTOS. DE ACUERDO A COMPROBANTES ADJUNTOS",1100,"2020-06-08","90F01"]
[109,"ATEMAJAC GASOLINERA Y LUBRICANTES S.A. DE C.V.","XAXX010101000","CARR CATARINA ATEMAJAC, KM. 32.5","ATEMAJAC DE BRIZUELA,JAL.",45790,151,"s/ref","s/ref ","PAGO DE VIATICOS A PRESIDENTE MUNICIPAL POR COMISION A DIVERSOS EVENTOS. DE ACUERDO A COMPROBANTES ADJUNTOS",1200,"2020-06-08","EDC30"]
[110,"ATEMAJAC GASOLINERA Y LUBRICANTES S.A. DE C.V.","XAXX010101000","CARR CATARINA ATEMAJAC, KM. 32.5","ATEMAJAC DE BRIZUELA,JAL.",45790,151,"s/ref","s/ref ","PAGO DE VIATICOS A PRESIDENTE MUNICIPAL POR COMISION A DIVERSOS EVENTOS. DE ACUERDO A COMPROBANTES ADJUNTOS",1100,"2020-07-27","CFB4F"]
[111,"ATEMAJAC GASOLINERA Y LUBRICANTES S.A. DE C.V.","XAXX010101000","CARR CATARINA ATEMAJAC, KM. 32.5","ATEMAJAC DE BRIZUELA,JAL.",45790,151,"s/ref","s/ref ","PAGO DE VIATICOS A PRESIDENTE MUNICIPAL POR COMISION A DIVERSOS EVENTOS. DE ACUERDO A COMPROBANTES ADJUNTOS",1000,"2020-07-27","FA523"]
[112,"ATEMAJAC GASOLINERA Y LUBRICANTES S.A. DE C.V.","XAXX010101000","CARR CATARINA ATEMAJAC, KM. 32.5","ATEMAJAC DE BRIZUELA,JAL.",45790,151,"BA PARTICIPACIONES 8760","Cheque N° 455","REPOSICION DE CAJA CHICA DE EGRESOS DEL DIA 15 DE ENERO 2020. DE ACUERDO A COMPROBANTE ADJUNTO.",1000,"2020-01-01","12C28"]
[113,"ATEMAJAC GASOLINERA Y LUBRICANTES S.A. DE C.V.","XAXX010101000","CARR CATARINA ATEMAJAC, KM. 32.5","ATEMAJAC DE BRIZUELA,JAL.",45790,151,"BA PARTICIPACIONES 8760","Cheque N° 455","REPOSICION DE CAJA CHICA DE EGRESOS DEL DIA 15 DE ENERO 2020. DE ACUERDO A COMPROBANTE ADJUNTO.",1000,"2020-01-01","3A2ED"]
[114,"ATEMAJAC GASOLINERA Y LUBRICANTES S.A. DE C.V.","XAXX010101000","CARR CATARINA ATEMAJAC, KM. 32.5","ATEMAJAC DE BRIZUELA,JAL.",45790,151,"BA PARTICIPACIONES 8760","Cheque N° 455","REPOSICION DE CAJA CHICA DE EGRESOS DEL DIA 15 DE ENERO 2020. DE ACUERDO A COMPROBANTE ADJUNTO.",1000,"2020-01-01","551BB"]
[115,"ATEMAJAC GASOLINERA Y LUBRICANTES S.A. DE C.V.","XAXX010101000","CARR CATARINA ATEMAJAC, KM. 32.5","ATEMAJAC DE BRIZUELA,JAL.",45790,151,"BA PARTICIPACIONES 8760","Cheque N° 0493","REPOSICION DE CAJA CHICA DE EGRESOS DEL DIA 7 DE FEBRERO 2020. DE ACUERDO A COMPROBANTES ADJUNTO.",1700,"2020-02-07","C80EF"]
[116,"ATEMAJAC GASOLINERA Y LUBRICANTES S.A. DE C.V.","XAXX010101000","CARR CATARINA ATEMAJAC, KM. 32.5","ATEMAJAC DE BRIZUELA,JAL.",45790,151,"BA PARTICIPACIONES 8760","Cheque N° 0493","REPOSICION DE CAJA CHICA DE EGRESOS DEL DIA 7 DE FEBRERO 2020. DE ACUERDO A COMPROBANTES ADJUNTO.",1300,"2020-02-07","F1263"]
[117,"ATEMAJAC GASOLINERA Y LUBRICANTES S.A. DE C.V.","XAXX010101000","CARR CATARINA ATEMAJAC, KM. 32.5","ATEMAJAC DE BRIZUELA,JAL.",45790,151,"BA PARTICIPACIONES 8760","Cheque N° 0590","REPOSICION DE CAJA CHICA DE EGRESOS DEL DIA 19  DE MARZO 2020. DE ACUERDO A COMPROBANTES ADJUNTOS.",1100,"2020-03-19","BC608"]
[118,"ATEMAJAC GASOLINERA Y LUBRICANTES S.A. DE C.V.","XAXX010101000","CARR CATARINA ATEMAJAC, KM. 32.5","ATEMAJAC DE BRIZUELA,JAL.",45790,111,"BA TESORERIA 6536","Cheque N° 2247","APOYO PARA TRASLADO DE ESTUDIANTES DE LA LOCALIDAD DE TIERRA BLANCA CORRESPONDIENTE AL MES DE MARZO 2020. DE ACUERDO A COMPROBANTE ADJUNTO.",2500,"2020-04-02","475CB"]
[119,"ATEMAJAC GASOLINERA Y LUBRICANTES S.A. DE C.V.","XAXX010101000","CARR CATARINA ATEMAJAC, KM. 32.5","ATEMAJAC DE BRIZUELA,JAL.",45790,111,"BA TESORERIA 6536","Cheque N° 2246","APOYO PARA TRASLADO DE ESTUDIANTES DE LA LOCALIDAD DE TIERRA BLANCA CORRESPONDIENTE AL MES DE FEBRERO 2020. DE ACUERDO A COMPROBANTE ADJUNTO.",2500,"2020-04-02","D8FB3"]
[120,"ATEMAJAC GASOLINERA Y LUBRICANTES S.A. DE C.V.","XAXX010101000","CARR CATARINA ATEMAJAC, KM. 32.5","ATEMAJAC DE BRIZUELA,JAL.",45790,151,"s/ref","s/ref ","REPOSICION DE CAJA CHICA DE EGRESOS CORRESPONDIENTE AL DIA 12 DE JUNIO 2020. DE ACUERDO A COMPROBANTES ADJUNTOS.",1250.01,"2020-06-12","1BD9B"]
[121,"ATEMAJAC GASOLINERA Y LUBRICANTES S.A. DE C.V.","XAXX010101000","CARR CATARINA ATEMAJAC, KM. 32.5","ATEMAJAC DE BRIZUELA,JAL.",45790,151,"s/ref","s/ref ","REPOSICION DE CAJA CHICA DE EGRESOS CORRESPONDIENTE AL DIA 19 DE JUNIO 2020. DE ACUERDO A COMPROBANTES ADJUNTOS.",2500,"2020-06-19","4AA99"]
[122,"ATEMAJAC GASOLINERA Y LUBRICANTES S.A. DE C.V.","XAXX010101000","CARR CATARINA ATEMAJAC, KM. 32.5","ATEMAJAC DE BRIZUELA,JAL.",45790,151,"s/ref","s/ref ","REPOSICION DE FONDO FIJO DE CAJA CHICA DE EGRESOS. DE ACUERDO A COMPROBANTES ADJUNTOS.",18412,"2020-06-19",46327]
[123,"ATEMAJAC GASOLINERA Y LUBRICANTES S.A. DE C.V.","XAXX010101000","CARR CATARINA ATEMAJAC, KM. 32.5","ATEMAJAC DE BRIZUELA,JAL.",45790,151,"BA PARTICIPACIONES 8760","Transf N° 0016043097","PAGO DE COMBUSTIBLE PARA VEHICULOS DEL SERVICIO PUBLICO DE ESTE AYUNTAMIENTO DE LA SEMANA DEL 3 AL 12 DE JULIO 2020. DE ACUERDO A COMPROBANTES ADJUNTOS.",12262,"2020-07-17",803000000000]
[124,"ATEMAJAC GASOLINERA Y LUBRICANTES S.A. DE C.V.","XAXX010101000","CARR CATARINA ATEMAJAC, KM. 32.5","ATEMAJAC DE BRIZUELA,JAL.",45790,151,"BA PARTICIPACIONES 8760","Transf N° 0016043097","PAGO DE COMBUSTIBLE PARA VEHICULOS DEL SERVICIO PUBLICO DE ESTE AYUNTAMIENTO DE LA SEMANA DEL 3 AL 12 DE JULIO 2020. DE ACUERDO A COMPROBANTES ADJUNTOS.",16241,"2020-07-17",8.2000000000000007E+29]
[125,"ATEMAJAC GASOLINERA Y LUBRICANTES S.A. DE C.V.","XAXX010101000","CARR CATARINA ATEMAJAC, KM. 32.5","ATEMAJAC DE BRIZUELA,JAL.",45790,151,"BA PARTICIPACIONES 8760","Transf N° 0016043097","PAGO DE COMBUSTIBLE PARA VEHICULOS DEL SERVICIO PUBLICO DE ESTE AYUNTAMIENTO DE LA SEMANA DEL 3 AL 12 DE JULIO 2020. DE ACUERDO A COMPROBANTES ADJUNTOS.",16800,"2020-07-17","AA7A4"]
[126,"ATEMAJAC GASOLINERA Y LUBRICANTES S.A. DE C.V.","XAXX010101000","CARR CATARINA ATEMAJAC, KM. 32.5","ATEMAJAC DE BRIZUELA,JAL.",45790,151,"BA PARTICIPACIONES 8760","Transf N° 0016043097","PAGO DE COMBUSTIBLE PARA VEHICULOS DEL SERVICIO PUBLICO DE ESTE AYUNTAMIENTO DE LA SEMANA DEL 3 AL 12 DE JULIO 2020. DE ACUERDO A COMPROBANTES ADJUNTOS.",6566,"2020-07-17",5.5E+17]
[127,"ATEMAJAC GASOLINERA Y LUBRICANTES S.A. DE C.V.","XAXX010101000","CARR CATARINA ATEMAJAC, KM. 32.5","ATEMAJAC DE BRIZUELA,JAL.",45790,151,"BA PARTICIPACIONES 8760","Transf N° 0016043097","PAGO DE COMBUSTIBLE PARA VEHICULOS DEL SERVICIO PUBLICO DE ESTE AYUNTAMIENTO DE LA SEMANA DEL 3 AL 12 DE JULIO 2020. DE ACUERDO A COMPROBANTES ADJUNTOS.",5715,"2020-07-17","1F2F6"]
[128,"ATEMAJAC GASOLINERA Y LUBRICANTES S.A. DE C.V.","XAXX010101000","CARR CATARINA ATEMAJAC, KM. 32.5","ATEMAJAC DE BRIZUELA,JAL.",45790,151,"BA PARTICIPACIONES 8760","Transf N° 0016043097","PAGO DE COMBUSTIBLE PARA VEHICULOS DEL SERVICIO PUBLICO DE ESTE AYUNTAMIENTO DE LA SEMANA DEL 3 AL 12 DE JULIO 2020. DE ACUERDO A COMPROBANTES ADJUNTOS.",1670,"2020-07-17","B6410"]
[129,"ATEMAJAC GASOLINERA Y LUBRICANTES S.A. DE C.V.","XAXX010101000","CARR CATARINA ATEMAJAC, KM. 32.5","ATEMAJAC DE BRIZUELA,JAL.",45790,111,"BA TESORERIA 6536","Transf N° 0081609037","PAGO DE COMBUSTIBLE DIESEL PARA VEHICULOS DEL SERVICIO PUBLICO MUNICIPAL. DE ACUERDO A COMPROBANTE ADJUNTO.",5032,"2020-07-22","7F1F6"]
[130,"ATEMAJAC GASOLINERA Y LUBRICANTES S.A. DE C.V.","XAXX010101000","CARR CATARINA ATEMAJAC, KM. 32.5","ATEMAJAC DE BRIZUELA,JAL.",45790,111,"BA TESORERIA 6536","Transf N° 0081609020","PAGO DE COMBUSTIBLE PARA VEHICULOS DEL SERVICIO PUBLICO MUNICIPAL DE LA SEMANA DEL 13 AL 17 DE JULIO 2020. DE ACUERDO A COMPROBANTE ADJUNTO.",12690,"2020-07-22","6A50C"]
[131,"ATEMAJAC GASOLINERA Y LUBRICANTES S.A. DE C.V.","XAXX010101000","CARR CATARINA ATEMAJAC, KM. 32.5","ATEMAJAC DE BRIZUELA,JAL.",45790,111,"BA TESORERIA 6536","Transf N° 0081609020","PAGO DE COMBUSTIBLE PARA VEHICULOS DEL SERVICIO PUBLICO MUNICIPAL DE LA SEMANA DEL 13 AL 17 DE JULIO 2020. DE ACUERDO A COMPROBANTE ADJUNTO.",8200,"2020-07-22","9B999"]
[132,"ATEMAJAC GASOLINERA Y LUBRICANTES S.A. DE C.V.","XAXX010101000","CARR CATARINA ATEMAJAC, KM. 32.5","ATEMAJAC DE BRIZUELA,JAL.",45790,111,"BA TESORERIA 6536","Transf N° 0081609020","PAGO DE COMBUSTIBLE PARA VEHICULOS DEL SERVICIO PUBLICO MUNICIPAL DE LA SEMANA DEL 13 AL 17 DE JULIO 2020. DE ACUERDO A COMPROBANTE ADJUNTO.",9640,"2020-07-22","4C40E"]
[133,"ATEMAJAC GASOLINERA Y LUBRICANTES S.A. DE C.V.","XAXX010101000","CARR CATARINA ATEMAJAC, KM. 32.5","ATEMAJAC DE BRIZUELA,JAL.",45790,111,"BA TESORERIA 6536","Transf N° 0006402015","PAGO DE COMBUSTIBLE PARA VEHICULOS DEL SERVICIO PUBLICO MUNICIPAL DE LA SEMANA DEL 29 DE JUNIO AL 02 DE JULIO 2020. DE ACUERDO A COMPROBANTE ADJUNTO.",3645,"2020-07-14","A4236"]
[134,"ATEMAJAC GASOLINERA Y LUBRICANTES S.A. DE C.V.","XAXX010101000","CARR CATARINA ATEMAJAC, KM. 32.5","ATEMAJAC DE BRIZUELA,JAL.",45790,111,"BA TESORERIA 6536","Transf N° 0006402015","PAGO DE COMBUSTIBLE PARA VEHICULOS DEL SERVICIO PUBLICO MUNICIPAL DE LA SEMANA DEL 29 DE JUNIO AL 02 DE JULIO 2020. DE ACUERDO A COMPROBANTE ADJUNTO.",7390.01,"2020-07-14","3D9A4"]
[135,"ATEMAJAC GASOLINERA Y LUBRICANTES S.A. DE C.V.","XAXX010101000","CARR CATARINA ATEMAJAC, KM. 32.5","ATEMAJAC DE BRIZUELA,JAL.",45790,111,"BA TESORERIA 6536","Transf N° 0006402015","PAGO DE COMBUSTIBLE PARA VEHICULOS DEL SERVICIO PUBLICO MUNICIPAL DE LA SEMANA DEL 29 DE JUNIO AL 02 DE JULIO 2020. DE ACUERDO A COMPROBANTE ADJUNTO.",1072.5,"2020-07-14","C6E90"]
[136,"ATEMAJAC GASOLINERA Y LUBRICANTES S.A. DE C.V.","XAXX010101000","CARR CATARINA ATEMAJAC, KM. 32.5","ATEMAJAC DE BRIZUELA,JAL.",45790,111,"BA TESORERIA 6536","Transf N° 0006402015","PAGO DE COMBUSTIBLE PARA VEHICULOS DEL SERVICIO PUBLICO MUNICIPAL DE LA SEMANA DEL 29 DE JUNIO AL 02 DE JULIO 2020. DE ACUERDO A COMPROBANTE ADJUNTO.",2145,"2020-07-14","50FC01"]
[137,"ATEMAJAC GASOLINERA Y LUBRICANTES S.A. DE C.V.","XAXX010101000","CARR CATARINA ATEMAJAC, KM. 32.5","ATEMAJAC DE BRIZUELA,JAL.",45790,111,"BA TESORERIA 6536","Transf N° 0006402015","PAGO DE COMBUSTIBLE PARA VEHICULOS DEL SERVICIO PUBLICO MUNICIPAL DE LA SEMANA DEL 29 DE JUNIO AL 02 DE JULIO 2020. DE ACUERDO A COMPROBANTE ADJUNTO.",10880,"2020-07-14",99410]
[138,"ATEMAJAC GASOLINERA Y LUBRICANTES S.A. DE C.V.","XAXX010101000","CARR CATARINA ATEMAJAC, KM. 32.5","ATEMAJAC DE BRIZUELA,JAL.",45790,111,"BA TESORERIA 6536","Transf N° 0006402015","PAGO DE COMBUSTIBLE PARA VEHICULOS DEL SERVICIO PUBLICO MUNICIPAL DE LA SEMANA DEL 29 DE JUNIO AL 02 DE JULIO 2020. DE ACUERDO A COMPROBANTE ADJUNTO.",6160,"2020-07-14","A08B8"]
[139,"ATEMAJAC GASOLINERA Y LUBRICANTES S.A. DE C.V.","XAXX010101000","CARR CATARINA ATEMAJAC, KM. 32.5","ATEMAJAC DE BRIZUELA,JAL.",45790,111,"BA TESORERIA 6536","Transf N° 0006402015","PAGO DE COMBUSTIBLE PARA VEHICULOS DEL SERVICIO PUBLICO MUNICIPAL DE LA SEMANA DEL 29 DE JUNIO AL 02 DE JULIO 2020. DE ACUERDO A COMPROBANTE ADJUNTO.",2691,"2020-07-14",2.4000000000000001E+56]
[140,"ATEMAJAC GASOLINERA Y LUBRICANTES S.A. DE C.V.","XAXX010101000","CARR CATARINA ATEMAJAC, KM. 32.5","ATEMAJAC DE BRIZUELA,JAL.",45790,151,"s/ref","s/ref ","PAGO DE COMBUSTIBLE PARA VEHICULOS DEL SERVICIO PUBLICO DE ESTE MPIO. DE ACUERDO A COMPROBANTES ADJUNTOS.",4892,"2020-09-02",60538]
[141,"ATEMAJAC GASOLINERA Y LUBRICANTES S.A. DE C.V.","XAXX010101000","CARR CATARINA ATEMAJAC, KM. 32.5","ATEMAJAC DE BRIZUELA,JAL.",45790,151,"s/ref","s/ref ","PAGO DE COMBUSTIBLE PARA VEHICULOS DEL SERVICIO PUBLICO DE ESTE MPIO. DE ACUERDO A COMPROBANTES ADJUNTOS.",1700,"2020-09-02","C0CC7"]
[142,"ATEMAJAC GASOLINERA Y LUBRICANTES S.A. DE C.V.","XAXX010101000","CARR CATARINA ATEMAJAC, KM. 32.5","ATEMAJAC DE BRIZUELA,JAL.",45790,151,"s/ref","s/ref ","PAGO DE COMBUSTIBLE PARA VEHICULOS DEL SERVICIO PUBLICO MPAL. DE ACUERDO A COMPROBANTES ADJUNTOS.",1357,"2020-09-30","BBDA9"]
[143,"ATEMAJAC GASOLINERA Y LUBRICANTES S.A. DE C.V.","XAXX010101000","CARR CATARINA ATEMAJAC, KM. 32.5","ATEMAJAC DE BRIZUELA,JAL.",45790,151,"s/ref","s/ref ","PAGO DE COMBUSTIBLE PARA VEHICULOS DEL SERVICIO PUBLICO MPAL. DE ACUERDO A COMPROBANTES ADJUNTOS.",4513.3999999999996,"2020-09-30","B90A0"]
[144,"ATEMAJAC GASOLINERA Y LUBRICANTES S.A. DE C.V.","XAXX010101000","CARR CATARINA ATEMAJAC, KM. 32.5","ATEMAJAC DE BRIZUELA,JAL.",45790,151,"s/ref","s/ref ","PAGO DE COMBUSTIBLE PARA VEHICULOS DEL SERVICIO PUBLICO MPAL. DE ACUERDO A COMPROBANTES ADJUNTOS.",1708,"2020-09-30","FE809"]
[145,"ATEMAJAC GASOLINERA Y LUBRICANTES S.A. DE C.V.","XAXX010101000","CARR CATARINA ATEMAJAC, KM. 32.5","ATEMAJAC DE BRIZUELA,JAL.",45790,111,"s/ref","s/ref ","PAGO DE COMBUSTIBLE PARA VEHICULOS DEL SERVICIO PUBLICO DE ESTE MPIO. DE ACUERDO A COMPROBANTES ADJUNTOS.",1708,"2020-09-01","AB964"]
[146,"ATEMAJAC GASOLINERA Y LUBRICANTES S.A. DE C.V.","XAXX010101000","CARR CATARINA ATEMAJAC, KM. 32.5","ATEMAJAC DE BRIZUELA,JAL.",45790,111,"s/ref","s/ref ","PAGO DE COMBUSTIBLE PARA VEHICULOS DEL SERVICIO PUBLICO DE ESTE MPIO. DE ACUERDO A COMPROBANTES ADJUNTOS.",15619,"2020-09-01","81A65"]
[147,"ATEMAJAC GASOLINERA Y LUBRICANTES S.A. DE C.V.","XAXX010101000","CARR CATARINA ATEMAJAC, KM. 32.5","ATEMAJAC DE BRIZUELA,JAL.",45790,111,"s/ref","s/ref ","PAGO DE COMBUSTIBLE PARA VEHICULOS DEL SERVICIO PUBLICO DE ESTE MPIO. DE ACUERDO A COMPROBANTES ADJUNTOS.",13940.4,"2020-09-01","F463B"]
[148,"ATEMAJAC GASOLINERA Y LUBRICANTES S.A. DE C.V.","XAXX010101000","CARR CATARINA ATEMAJAC, KM. 32.5","ATEMAJAC DE BRIZUELA,JAL.",45790,111,"s/ref","s/ref ","PAGO DE COMBUSTIBLE PARA VEHICULOS DEL SERVICIO PUBLICO DE ESTE MPIO. DE ACUERDO A COMPROBANTES ADJUNTOS.",13505.3,"2020-09-01","A2B17"]
[149,"ATEMAJAC GASOLINERA Y LUBRICANTES S.A. DE C.V.","XAXX010101000","CARR CATARINA ATEMAJAC, KM. 32.5","ATEMAJAC DE BRIZUELA,JAL.",45790,151,"s/ref","Ref N° EF","PAGO DE GASTOS VARIOS CORRESPONDIENTES AL MES DE JULIO Y JUNIO 2020. DE ACUERDO A COMPROBANTES ADJUNTOS.",1000,"2020-07-30","21B68"]
[150,"ATEMAJAC GASOLINERA Y LUBRICANTES S.A. DE C.V.","XAXX010101000","CARR CATARINA ATEMAJAC, KM. 32.5","ATEMAJAC DE BRIZUELA,JAL.",45790,111,"BA TESORERIA 6536","Transf N° 0036896074","PAGO DE COMBUSTIBLE PARA VEHICULOS AL SERVICIO PUBLICO DE ESTE MUNICIPIO DE LA SEMANA DEL 06 AL 12 DE ENERO 2020. DE ACUERDO A COMPROBANTES ADJUNTOS.",9009,"2020-01-01","9E729"]
[151,"ATEMAJAC GASOLINERA Y LUBRICANTES S.A. DE C.V.","XAXX010101000","CARR CATARINA ATEMAJAC, KM. 32.5","ATEMAJAC DE BRIZUELA,JAL.",45790,111,"BA TESORERIA 6536","Transf N° 0036896074","PAGO DE COMBUSTIBLE PARA VEHICULOS AL SERVICIO PUBLICO DE ESTE MUNICIPIO DE LA SEMANA DEL 06 AL 12 DE ENERO 2020. DE ACUERDO A COMPROBANTES ADJUNTOS.",46888.02,"2020-01-01",53575]
[152,"ATEMAJAC GASOLINERA Y LUBRICANTES S.A. DE C.V.","XAXX010101000","CARR CATARINA ATEMAJAC, KM. 32.5","ATEMAJAC DE BRIZUELA,JAL.",45790,111,"BA TESORERIA 6536","Transf N° 0034730017","PAGO DE COMBUSTIBLE PARA VEHICULOS DEL SERVICIO PUBLICO MUNICIPAL DE LA SEMANA DEL 20 AL 26 DE ENERO 2020. DE ACUERDO A COMPROBANTES ADJUNTOS.",41548,"2020-01-31","939A8"]
[153,"ATEMAJAC GASOLINERA Y LUBRICANTES S.A. DE C.V.","XAXX010101000","CARR CATARINA ATEMAJAC, KM. 32.5","ATEMAJAC DE BRIZUELA,JAL.",45790,111,"BA TESORERIA 6536","Transf N° 0034730017","PAGO DE COMBUSTIBLE PARA VEHICULOS DEL SERVICIO PUBLICO MUNICIPAL DE LA SEMANA DEL 20 AL 26 DE ENERO 2020. DE ACUERDO A COMPROBANTES ADJUNTOS.",10117,"2020-01-31","3903E"]
[154,"ATEMAJAC GASOLINERA Y LUBRICANTES S.A. DE C.V.","XAXX010101000","CARR CATARINA ATEMAJAC, KM. 32.5","ATEMAJAC DE BRIZUELA,JAL.",45790,111,"BA TESORERIA 6536","Transf N° 0001722089","PAGO DE COMBUSTIBLE PARA VEHICULOS DE ESTE AYUNTAMIENTO DEL PERIODO DEL 13 AL 19 DE ENERO 2020. DE ACUERDO A COMPROBANTES ADJUNTOS.",9020,"2020-01-24","DFAC9"]
[155,"ATEMAJAC GASOLINERA Y LUBRICANTES S.A. DE C.V.","XAXX010101000","CARR CATARINA ATEMAJAC, KM. 32.5","ATEMAJAC DE BRIZUELA,JAL.",45790,111,"BA TESORERIA 6536","Transf N° 0001722089","PAGO DE COMBUSTIBLE PARA VEHICULOS DE ESTE AYUNTAMIENTO DEL PERIODO DEL 13 AL 19 DE ENERO 2020. DE ACUERDO A COMPROBANTES ADJUNTOS.",4324,"2020-01-24","6CE86"]
[156,"ATEMAJAC GASOLINERA Y LUBRICANTES S.A. DE C.V.","XAXX010101000","CARR CATARINA ATEMAJAC, KM. 32.5","ATEMAJAC DE BRIZUELA,JAL.",45790,111,"BA TESORERIA 6536","Transf N° 0001722089","PAGO DE COMBUSTIBLE PARA VEHICULOS DE ESTE AYUNTAMIENTO DEL PERIODO DEL 13 AL 19 DE ENERO 2020. DE ACUERDO A COMPROBANTES ADJUNTOS.",4356,"2020-01-24","3B35C"]
[157,"ATEMAJAC GASOLINERA Y LUBRICANTES S.A. DE C.V.","XAXX010101000","CARR CATARINA ATEMAJAC, KM. 32.5","ATEMAJAC DE BRIZUELA,JAL.",45790,111,"BA TESORERIA 6536","Transf N° 0001722089","PAGO DE COMBUSTIBLE PARA VEHICULOS DE ESTE AYUNTAMIENTO DEL PERIODO DEL 13 AL 19 DE ENERO 2020. DE ACUERDO A COMPROBANTES ADJUNTOS.",1456,"2020-01-24","E95BB"]
[158,"ATEMAJAC GASOLINERA Y LUBRICANTES S.A. DE C.V.","XAXX010101000","CARR CATARINA ATEMAJAC, KM. 32.5","ATEMAJAC DE BRIZUELA,JAL.",45790,111,"BA TESORERIA 6536","Transf N° 0001722089","PAGO DE COMBUSTIBLE PARA VEHICULOS DE ESTE AYUNTAMIENTO DEL PERIODO DEL 13 AL 19 DE ENERO 2020. DE ACUERDO A COMPROBANTES ADJUNTOS.",2343,"2020-01-24","5793D"]
[159,"ATEMAJAC GASOLINERA Y LUBRICANTES S.A. DE C.V.","XAXX010101000","CARR CATARINA ATEMAJAC, KM. 32.5","ATEMAJAC DE BRIZUELA,JAL.",45790,111,"BA TESORERIA 6536","Transf N° 0001722089","PAGO DE COMBUSTIBLE PARA VEHICULOS DE ESTE AYUNTAMIENTO DEL PERIODO DEL 13 AL 19 DE ENERO 2020. DE ACUERDO A COMPROBANTES ADJUNTOS.",14616,"2020-01-24","A24F2"]
[160,"ATEMAJAC GASOLINERA Y LUBRICANTES S.A. DE C.V.","XAXX010101000","CARR CATARINA ATEMAJAC, KM. 32.5","ATEMAJAC DE BRIZUELA,JAL.",45790,111,"BA TESORERIA 6536","Transf N° 0001722089","PAGO DE COMBUSTIBLE PARA VEHICULOS DE ESTE AYUNTAMIENTO DEL PERIODO DEL 13 AL 19 DE ENERO 2020. DE ACUERDO A COMPROBANTES ADJUNTOS.",12280,"2020-01-24",48078]
[161,"ATEMAJAC GASOLINERA Y LUBRICANTES S.A. DE C.V.","XAXX010101000","CARR CATARINA ATEMAJAC, KM. 32.5","ATEMAJAC DE BRIZUELA,JAL.",45790,111,"BA TESORERIA 6536","Transf N° 0001722089","PAGO DE COMBUSTIBLE PARA VEHICULOS DE ESTE AYUNTAMIENTO DEL PERIODO DEL 13 AL 19 DE ENERO 2020. DE ACUERDO A COMPROBANTES ADJUNTOS.",13580,"2020-01-24","69DD8"]
[162,"ATEMAJAC GASOLINERA Y LUBRICANTES S.A. DE C.V.","XAXX010101000","CARR CATARINA ATEMAJAC, KM. 32.5","ATEMAJAC DE BRIZUELA,JAL.",45790,111,"BA TESORERIA 6536","Transf N° 0001722089","PAGO DE COMBUSTIBLE PARA VEHICULOS DE ESTE AYUNTAMIENTO DEL PERIODO DEL 13 AL 19 DE ENERO 2020. DE ACUERDO A COMPROBANTES ADJUNTOS.",2950,"2020-01-24","1A1F3"]
[163,"ATEMAJAC GASOLINERA Y LUBRICANTES S.A. DE C.V.","XAXX010101000","CARR CATARINA ATEMAJAC, KM. 32.5","ATEMAJAC DE BRIZUELA,JAL.",45790,111,"BA TESORERIA 6536","Transf N° 0092277015","PAGO DE COMBUSTIBLE DE PARA VEHICULOS DEL SERVICIO PUBLICO DE ESTE MPIO CORRESPONDIENTE A LA SEMANA DEL 10 AL 16 DE FEBRERO 2020. DE ACUERDO A COMPROBANTES ADJUNTOS.",1917,"2020-02-24","3F95A"]
[164,"ATEMAJAC GASOLINERA Y LUBRICANTES S.A. DE C.V.","XAXX010101000","CARR CATARINA ATEMAJAC, KM. 32.5","ATEMAJAC DE BRIZUELA,JAL.",45790,111,"BA TESORERIA 6536","Transf N° 0092277015","PAGO DE COMBUSTIBLE DE PARA VEHICULOS DEL SERVICIO PUBLICO DE ESTE MPIO CORRESPONDIENTE A LA SEMANA DEL 10 AL 16 DE FEBRERO 2020. DE ACUERDO A COMPROBANTES ADJUNTOS.",9900,"2020-02-24","B1ED6"]
[165,"ATEMAJAC GASOLINERA Y LUBRICANTES S.A. DE C.V.","XAXX010101000","CARR CATARINA ATEMAJAC, KM. 32.5","ATEMAJAC DE BRIZUELA,JAL.",45790,111,"BA TESORERIA 6536","Transf N° 0092277015","PAGO DE COMBUSTIBLE DE PARA VEHICULOS DEL SERVICIO PUBLICO DE ESTE MPIO CORRESPONDIENTE A LA SEMANA DEL 10 AL 16 DE FEBRERO 2020. DE ACUERDO A COMPROBANTES ADJUNTOS.",3370,"2020-02-24","FB54C"]
[166,"ATEMAJAC GASOLINERA Y LUBRICANTES S.A. DE C.V.","XAXX010101000","CARR CATARINA ATEMAJAC, KM. 32.5","ATEMAJAC DE BRIZUELA,JAL.",45790,111,"BA TESORERIA 6536","Transf N° 0092277015","PAGO DE COMBUSTIBLE DE PARA VEHICULOS DEL SERVICIO PUBLICO DE ESTE MPIO CORRESPONDIENTE A LA SEMANA DEL 10 AL 16 DE FEBRERO 2020. DE ACUERDO A COMPROBANTES ADJUNTOS.",17858,"2020-02-24",64184]
[167,"ATEMAJAC GASOLINERA Y LUBRICANTES S.A. DE C.V.","XAXX010101000","CARR CATARINA ATEMAJAC, KM. 32.5","ATEMAJAC DE BRIZUELA,JAL.",45790,111,"BA TESORERIA 6536","Transf N° 0092277015","PAGO DE COMBUSTIBLE DE PARA VEHICULOS DEL SERVICIO PUBLICO DE ESTE MPIO CORRESPONDIENTE A LA SEMANA DEL 10 AL 16 DE FEBRERO 2020. DE ACUERDO A COMPROBANTES ADJUNTOS.",5517,"2020-02-24","8B70C"]
[168,"ATEMAJAC GASOLINERA Y LUBRICANTES S.A. DE C.V.","XAXX010101000","CARR CATARINA ATEMAJAC, KM. 32.5","ATEMAJAC DE BRIZUELA,JAL.",45790,111,"BA TESORERIA 6536","Transf N° 0092277015","PAGO DE COMBUSTIBLE DE PARA VEHICULOS DEL SERVICIO PUBLICO DE ESTE MPIO CORRESPONDIENTE A LA SEMANA DEL 10 AL 16 DE FEBRERO 2020. DE ACUERDO A COMPROBANTES ADJUNTOS.",4370,"2020-02-24","D892C"]
[169,"ATEMAJAC GASOLINERA Y LUBRICANTES S.A. DE C.V.","XAXX010101000","CARR CATARINA ATEMAJAC, KM. 32.5","ATEMAJAC DE BRIZUELA,JAL.",45790,111,"BA TESORERIA 6536","Transf N° 0092277015","PAGO DE COMBUSTIBLE DE PARA VEHICULOS DEL SERVICIO PUBLICO DE ESTE MPIO CORRESPONDIENTE A LA SEMANA DEL 10 AL 16 DE FEBRERO 2020. DE ACUERDO A COMPROBANTES ADJUNTOS.",8220.01,"2020-02-24",397000000000]
[170,"ATEMAJAC GASOLINERA Y LUBRICANTES S.A. DE C.V.","XAXX010101000","CARR CATARINA ATEMAJAC, KM. 32.5","ATEMAJAC DE BRIZUELA,JAL.",45790,111,"BA TESORERIA 6536","Transf N° 0092277015","PAGO DE COMBUSTIBLE DE PARA VEHICULOS DEL SERVICIO PUBLICO DE ESTE MPIO CORRESPONDIENTE A LA SEMANA DEL 10 AL 16 DE FEBRERO 2020. DE ACUERDO A COMPROBANTES ADJUNTOS.",6700,"2020-02-24","3343D"]
[171,"ATEMAJAC GASOLINERA Y LUBRICANTES S.A. DE C.V.","XAXX010101000","CARR CATARINA ATEMAJAC, KM. 32.5","ATEMAJAC DE BRIZUELA,JAL.",45790,111,"BA TESORERIA 6536","Transf N° 0092277015","PAGO DE COMBUSTIBLE DE PARA VEHICULOS DEL SERVICIO PUBLICO DE ESTE MPIO CORRESPONDIENTE A LA SEMANA DEL 10 AL 16 DE FEBRERO 2020. DE ACUERDO A COMPROBANTES ADJUNTOS.",5700,"2020-02-24","62D67"]
[172,"ATEMAJAC GASOLINERA Y LUBRICANTES S.A. DE C.V.","XAXX010101000","CARR CATARINA ATEMAJAC, KM. 32.5","ATEMAJAC DE BRIZUELA,JAL.",45790,111,"BA TESORERIA 6536","Transf N° 0092277015","PAGO DE COMBUSTIBLE DE PARA VEHICULOS DEL SERVICIO PUBLICO DE ESTE MPIO CORRESPONDIENTE A LA SEMANA DEL 10 AL 16 DE FEBRERO 2020. DE ACUERDO A COMPROBANTES ADJUNTOS.",7231.1,"2020-02-24","EF493"]
[173,"ATEMAJAC GASOLINERA Y LUBRICANTES S.A. DE C.V.","XAXX010101000","CARR CATARINA ATEMAJAC, KM. 32.5","ATEMAJAC DE BRIZUELA,JAL.",45790,111,"BA TESORERIA 6536","Transf N° 0088927039","PAGO DE COMBUSTIBLE PARA VEHICULOS DE SERVICIO PUBLICO DE ESTE MPIO DEL LA SEMANA DE 11 AL 23 DE MARZO 2020. DE ACUERDO A COMPROBANTE ADJUNTO.",57751,"2020-03-09",12950]
[174,"ATEMAJAC GASOLINERA Y LUBRICANTES S.A. DE C.V.","XAXX010101000","CARR CATARINA ATEMAJAC, KM. 32.5","ATEMAJAC DE BRIZUELA,JAL.",45790,111,"BA TESORERIA 6536","Transf N° 0088927055","PAGO DE DIESEL PARA VEHICULOS DE SERVICIO PUBLICO DE ESTE MPIO DEL LA SEMANA DEL 17 AL 23 DE FEBRERO 2020. DE ACUERDO A COMPROBANTE ADJUNTO.",8653,"2020-03-09","359D2"]
[175,"ATEMAJAC GASOLINERA Y LUBRICANTES S.A. DE C.V.","XAXX010101000","CARR CATARINA ATEMAJAC, KM. 32.5","ATEMAJAC DE BRIZUELA,JAL.",45790,111,"BA TESORERIA 6536","Transf N° 0072201179","PAGO DE COMBUSTIBLE PARA VEHICULOS DE SERVICIO PUBLICO DE ESTE MPIO DEL LA SEMANA DEL 09 AL 15 DE MARZO 2020. DE ACUERDO A COMPROBANTE ADJUNTO.",2748,"2020-03-25","BD750"]
[176,"ATEMAJAC GASOLINERA Y LUBRICANTES S.A. DE C.V.","XAXX010101000","CARR CATARINA ATEMAJAC, KM. 32.5","ATEMAJAC DE BRIZUELA,JAL.",45790,111,"BA TESORERIA 6536","Transf N° 0072201179","PAGO DE COMBUSTIBLE PARA VEHICULOS DE SERVICIO PUBLICO DE ESTE MPIO DEL LA SEMANA DEL 09 AL 15 DE MARZO 2020. DE ACUERDO A COMPROBANTE ADJUNTO.",5553,"2020-03-25","D91E1"]
[177,"ATEMAJAC GASOLINERA Y LUBRICANTES S.A. DE C.V.","XAXX010101000","CARR CATARINA ATEMAJAC, KM. 32.5","ATEMAJAC DE BRIZUELA,JAL.",45790,111,"BA TESORERIA 6536","Transf N° 0072201179","PAGO DE COMBUSTIBLE PARA VEHICULOS DE SERVICIO PUBLICO DE ESTE MPIO DEL LA SEMANA DEL 09 AL 15 DE MARZO 2020. DE ACUERDO A COMPROBANTE ADJUNTO.",3132,"2020-03-25","3E0F7"]
[178,"ATEMAJAC GASOLINERA Y LUBRICANTES S.A. DE C.V.","XAXX010101000","CARR CATARINA ATEMAJAC, KM. 32.5","ATEMAJAC DE BRIZUELA,JAL.",45790,111,"BA TESORERIA 6536","Transf N° 0072201179","PAGO DE COMBUSTIBLE PARA VEHICULOS DE SERVICIO PUBLICO DE ESTE MPIO DEL LA SEMANA DEL 09 AL 15 DE MARZO 2020. DE ACUERDO A COMPROBANTE ADJUNTO.",2800,"2020-03-25","E9798"]
[179,"ATEMAJAC GASOLINERA Y LUBRICANTES S.A. DE C.V.","XAXX010101000","CARR CATARINA ATEMAJAC, KM. 32.5","ATEMAJAC DE BRIZUELA,JAL.",45790,111,"BA TESORERIA 6536","Transf N° 0072201179","PAGO DE COMBUSTIBLE PARA VEHICULOS DE SERVICIO PUBLICO DE ESTE MPIO DEL LA SEMANA DEL 09 AL 15 DE MARZO 2020. DE ACUERDO A COMPROBANTE ADJUNTO.",4182,"2020-03-25","9BA9F"]
[180,"ATEMAJAC GASOLINERA Y LUBRICANTES S.A. DE C.V.","XAXX010101000","CARR CATARINA ATEMAJAC, KM. 32.5","ATEMAJAC DE BRIZUELA,JAL.",45790,111,"BA TESORERIA 6536","Transf N° 0072201179","PAGO DE COMBUSTIBLE PARA VEHICULOS DE SERVICIO PUBLICO DE ESTE MPIO DEL LA SEMANA DEL 09 AL 15 DE MARZO 2020. DE ACUERDO A COMPROBANTE ADJUNTO.",7568,"2020-03-25",17577]
[181,"ATEMAJAC GASOLINERA Y LUBRICANTES S.A. DE C.V.","XAXX010101000","CARR CATARINA ATEMAJAC, KM. 32.5","ATEMAJAC DE BRIZUELA,JAL.",45790,111,"BA TESORERIA 6536","Transf N° 0072201179","PAGO DE COMBUSTIBLE PARA VEHICULOS DE SERVICIO PUBLICO DE ESTE MPIO DEL LA SEMANA DEL 09 AL 15 DE MARZO 2020. DE ACUERDO A COMPROBANTE ADJUNTO.",1582,"2020-03-25","42BC4"]
[182,"ATEMAJAC GASOLINERA Y LUBRICANTES S.A. DE C.V.","XAXX010101000","CARR CATARINA ATEMAJAC, KM. 32.5","ATEMAJAC DE BRIZUELA,JAL.",45790,111,"BA TESORERIA 6536","Transf N° 0072201179","PAGO DE COMBUSTIBLE PARA VEHICULOS DE SERVICIO PUBLICO DE ESTE MPIO DEL LA SEMANA DEL 09 AL 15 DE MARZO 2020. DE ACUERDO A COMPROBANTE ADJUNTO.",17911,"2020-03-25","8293B"]
[183,"ATEMAJAC GASOLINERA Y LUBRICANTES S.A. DE C.V.","XAXX010101000","CARR CATARINA ATEMAJAC, KM. 32.5","ATEMAJAC DE BRIZUELA,JAL.",45790,111,"BA TESORERIA 6536","Transf N° 0072201179","PAGO DE COMBUSTIBLE PARA VEHICULOS DE SERVICIO PUBLICO DE ESTE MPIO DEL LA SEMANA DEL 09 AL 15 DE MARZO 2020. DE ACUERDO A COMPROBANTE ADJUNTO.",16021,"2020-03-25",92499]
[184,"ATEMAJAC GASOLINERA Y LUBRICANTES S.A. DE C.V.","XAXX010101000","CARR CATARINA ATEMAJAC, KM. 32.5","ATEMAJAC DE BRIZUELA,JAL.",45790,111,"BA TESORERIA 6536","Transf N° 0072201179","PAGO DE COMBUSTIBLE PARA VEHICULOS DE SERVICIO PUBLICO DE ESTE MPIO DEL LA SEMANA DEL 09 AL 15 DE MARZO 2020. DE ACUERDO A COMPROBANTE ADJUNTO.",14590.01,"2020-03-25",35882]
[185,"ATEMAJAC GASOLINERA Y LUBRICANTES S.A. DE C.V.","XAXX010101000","CARR CATARINA ATEMAJAC, KM. 32.5","ATEMAJAC DE BRIZUELA,JAL.",45790,111,"BA TESORERIA 6536","Transf N° 0019291094","PAGO DE DIESEL PARA VEHICULOS DE SERVICIO PUBLICO DE ESTE MPIO DEL LA SEMANA DEL 02 AL 08 DE MARZO 2020. DE ACUERDO A COMPROBANTE ADJUNTO.",6475,"2020-03-20","6E812"]
[186,"ATEMAJAC GASOLINERA Y LUBRICANTES S.A. DE C.V.","XAXX010101000","CARR CATARINA ATEMAJAC, KM. 32.5","ATEMAJAC DE BRIZUELA,JAL.",45790,111,"BA TESORERIA 6536","Transf N° 0019291094","PAGO DE DIESEL PARA VEHICULOS DE SERVICIO PUBLICO DE ESTE MPIO DEL LA SEMANA DEL 02 AL 08 DE MARZO 2020. DE ACUERDO A COMPROBANTE ADJUNTO.",5888,"2020-03-20","D1A0A"]
[187,"ATEMAJAC GASOLINERA Y LUBRICANTES S.A. DE C.V.","XAXX010101000","CARR CATARINA ATEMAJAC, KM. 32.5","ATEMAJAC DE BRIZUELA,JAL.",45790,111,"BA TESORERIA 6536","Transf N° 0019291078","PAGO DE COMBUSTIBLE PARA VEHICULOS DE SERVICIO PUBLICO DE ESTE MPIO DEL LA SEMANA DE 09 AL 15 DE MARZO 2020. DE ACUERDO A COMPROBANTE ADJUNTO.",16490,"2020-03-20","CBB105"]
[188,"ATEMAJAC GASOLINERA Y LUBRICANTES S.A. DE C.V.","XAXX010101000","CARR CATARINA ATEMAJAC, KM. 32.5","ATEMAJAC DE BRIZUELA,JAL.",45790,111,"BA TESORERIA 6536","Transf N° 0019291078","PAGO DE COMBUSTIBLE PARA VEHICULOS DE SERVICIO PUBLICO DE ESTE MPIO DEL LA SEMANA DE 09 AL 15 DE MARZO 2020. DE ACUERDO A COMPROBANTE ADJUNTO.",2130,"2020-03-20","295DB"]
[189,"ATEMAJAC GASOLINERA Y LUBRICANTES S.A. DE C.V.","XAXX010101000","CARR CATARINA ATEMAJAC, KM. 32.5","ATEMAJAC DE BRIZUELA,JAL.",45790,111,"BA TESORERIA 6536","Transf N° 0019291078","PAGO DE COMBUSTIBLE PARA VEHICULOS DE SERVICIO PUBLICO DE ESTE MPIO DEL LA SEMANA DE 09 AL 15 DE MARZO 2020. DE ACUERDO A COMPROBANTE ADJUNTO.",14570,"2020-03-20","C255E"]
[190,"ATEMAJAC GASOLINERA Y LUBRICANTES S.A. DE C.V.","XAXX010101000","CARR CATARINA ATEMAJAC, KM. 32.5","ATEMAJAC DE BRIZUELA,JAL.",45790,111,"BA TESORERIA 6536","Transf N° 0019291078","PAGO DE COMBUSTIBLE PARA VEHICULOS DE SERVICIO PUBLICO DE ESTE MPIO DEL LA SEMANA DE 09 AL 15 DE MARZO 2020. DE ACUERDO A COMPROBANTE ADJUNTO.",16040,"2020-03-20",81871]
[191,"ATEMAJAC GASOLINERA Y LUBRICANTES S.A. DE C.V.","XAXX010101000","CARR CATARINA ATEMAJAC, KM. 32.5","ATEMAJAC DE BRIZUELA,JAL.",45790,111,"BA TESORERIA 6536","Transf N° 0019291078","PAGO DE COMBUSTIBLE PARA VEHICULOS DE SERVICIO PUBLICO DE ESTE MPIO DEL LA SEMANA DE 09 AL 15 DE MARZO 2020. DE ACUERDO A COMPROBANTE ADJUNTO.",5040,"2020-03-20","143C4"]
[192,"ATEMAJAC GASOLINERA Y LUBRICANTES S.A. DE C.V.","XAXX010101000","CARR CATARINA ATEMAJAC, KM. 32.5","ATEMAJAC DE BRIZUELA,JAL.",45790,111,"BA TESORERIA 6536","Transf N° 0019291078","PAGO DE COMBUSTIBLE PARA VEHICULOS DE SERVICIO PUBLICO DE ESTE MPIO DEL LA SEMANA DE 09 AL 15 DE MARZO 2020. DE ACUERDO A COMPROBANTE ADJUNTO.",1830,"2020-03-20","C3C59"]
[193,"ATEMAJAC GASOLINERA Y LUBRICANTES S.A. DE C.V.","XAXX010101000","CARR CATARINA ATEMAJAC, KM. 32.5","ATEMAJAC DE BRIZUELA,JAL.",45790,111,"BA TESORERIA 6536","Transf N° 0019291078","PAGO DE COMBUSTIBLE PARA VEHICULOS DE SERVICIO PUBLICO DE ESTE MPIO DEL LA SEMANA DE 09 AL 15 DE MARZO 2020. DE ACUERDO A COMPROBANTE ADJUNTO.",4833.1000000000004,"2020-03-20","0CFF2"]
[194,"ATEMAJAC GASOLINERA Y LUBRICANTES S.A. DE C.V.","XAXX010101000","CARR CATARINA ATEMAJAC, KM. 32.5","ATEMAJAC DE BRIZUELA,JAL.",45790,151,"BA PARTICIPACIONES 8760","Transf N° 0081609055","PAGO DE COMBUSTIBLE PARA VEHICULOS DEL SERVICIO PUBLICO DE ESTE AYUNTAMIENTO DE LA SEMANA DEL 13 AL 17 DE JULIO 2020. DE ACUERDO A COMPROBANTES ADJUNTOS.",3400,"2020-07-16","BAC9A"]
[195,"ATEMAJAC GASOLINERA Y LUBRICANTES S.A. DE C.V.","XAXX010101000","CARR CATARINA ATEMAJAC, KM. 32.5","ATEMAJAC DE BRIZUELA,JAL.",45790,151,"BA PARTICIPACIONES 8760","Transf N° 0081609055","PAGO DE COMBUSTIBLE PARA VEHICULOS DEL SERVICIO PUBLICO DE ESTE AYUNTAMIENTO DE LA SEMANA DEL 13 AL 17 DE JULIO 2020. DE ACUERDO A COMPROBANTES ADJUNTOS.",1600,"2020-07-16","C111B"]
[196,"ATEMAJAC GASOLINERA Y LUBRICANTES S.A. DE C.V.","XAXX010101000","CARR CATARINA ATEMAJAC, KM. 32.5","ATEMAJAC DE BRIZUELA,JAL.",45790,151,"BA PARTICIPACIONES 8760","Transf N° 0081609055","PAGO DE COMBUSTIBLE PARA VEHICULOS DEL SERVICIO PUBLICO DE ESTE AYUNTAMIENTO DE LA SEMANA DEL 13 AL 17 DE JULIO 2020. DE ACUERDO A COMPROBANTES ADJUNTOS.",1600,"2020-07-16","C8368"]
[197,"ATEMAJAC GASOLINERA Y LUBRICANTES S.A. DE C.V.","XAXX010101000","CARR CATARINA ATEMAJAC, KM. 32.5","ATEMAJAC DE BRIZUELA,JAL.",45790,151,"BA PARTICIPACIONES 8760","Transf N° 0081609055","PAGO DE COMBUSTIBLE PARA VEHICULOS DEL SERVICIO PUBLICO DE ESTE AYUNTAMIENTO DE LA SEMANA DEL 13 AL 17 DE JULIO 2020. DE ACUERDO A COMPROBANTES ADJUNTOS.",4050,"2020-07-16","83D82"]
[198,"ATEMAJAC GASOLINERA Y LUBRICANTES S.A. DE C.V.","XAXX010101000","CARR CATARINA ATEMAJAC, KM. 32.5","ATEMAJAC DE BRIZUELA,JAL.",45790,111,"BA TESORERIA 6536","Transf N° 0092727083","PAGO DE COMBUSTIBLE PARA VEHICULOS DEL SERVICIO PUBLICO DE ESTE AYUNTAMIENTO. DE ACUERDO A COMPROBANTE ADJUNTO.",1600,"2020-06-26","2D754"]
[199,"ATEMAJAC GASOLINERA Y LUBRICANTES S.A. DE C.V.","XAXX010101000","CARR CATARINA ATEMAJAC, KM. 32.5","ATEMAJAC DE BRIZUELA,JAL.",45790,111,"BA TESORERIA 6536","Transf N° 0092727066","PAGO DE COMBUSTIBLE PARA VEHICULOS DEL SERVICIO PUBLICO DE ESTE AYUNTAMIENTO DE LA SEMANA DEL 01 AL 07 DE JUNIO 2020. DE ACUERDO A COMPROBANTE ADJUNTO.",3500,"2020-06-19","D2946"]
[200,"ATEMAJAC GASOLINERA Y LUBRICANTES S.A. DE C.V.","XAXX010101000","CARR CATARINA ATEMAJAC, KM. 32.5","ATEMAJAC DE BRIZUELA,JAL.",45790,111,"BA TESORERIA 6536","Transf N° 0092727048","PAGO DE COMBUSTIBLE PARA VEHICULOS DEL SERVICIO PUBLICO DE ESTE AYUNTAMIENTO DE LA SEMANA DEL 08 AL 14 DE JUNIO 2020. DE ACUERDO A COMPROBANTE ADJUNTO.",5420,"2020-06-26","26F2B"]
[201,"ATEMAJAC GASOLINERA Y LUBRICANTES S.A. DE C.V.","XAXX010101000","CARR CATARINA ATEMAJAC, KM. 32.5","ATEMAJAC DE BRIZUELA,JAL.",45790,111,"BA TESORERIA 6536","Transf N° 0092727030","PAGO DE COMBUSTIBLE PARA VEHICULOS DEL SERVICIO PUBLICO DE ESTE AYUNTAMIENTO DE LA SEMANA DEL 08 AL 14 DE JUNIO 2020. DE ACUERDO A COMPROBANTES ADJUNTOS.",4460.01,"2020-06-26","B4C8B"]
[202,"ATEMAJAC GASOLINERA Y LUBRICANTES S.A. DE C.V.","XAXX010101000","CARR CATARINA ATEMAJAC, KM. 32.5","ATEMAJAC DE BRIZUELA,JAL.",45790,111,"BA TESORERIA 6536","Transf N° 0092727030","PAGO DE COMBUSTIBLE PARA VEHICULOS DEL SERVICIO PUBLICO DE ESTE AYUNTAMIENTO DE LA SEMANA DEL 08 AL 14 DE JUNIO 2020. DE ACUERDO A COMPROBANTES ADJUNTOS.",2640.01,"2020-06-26",33808]
[203,"ATEMAJAC GASOLINERA Y LUBRICANTES S.A. DE C.V.","XAXX010101000","CARR CATARINA ATEMAJAC, KM. 32.5","ATEMAJAC DE BRIZUELA,JAL.",45790,111,"BA TESORERIA 6536","Transf N° 0092727030","PAGO DE COMBUSTIBLE PARA VEHICULOS DEL SERVICIO PUBLICO DE ESTE AYUNTAMIENTO DE LA SEMANA DEL 08 AL 14 DE JUNIO 2020. DE ACUERDO A COMPROBANTES ADJUNTOS.",10700,"2020-06-26","34EFD"]
[204,"ATEMAJAC GASOLINERA Y LUBRICANTES S.A. DE C.V.","XAXX010101000","CARR CATARINA ATEMAJAC, KM. 32.5","ATEMAJAC DE BRIZUELA,JAL.",45790,111,"BA TESORERIA 6536","Transf N° 0092727030","PAGO DE COMBUSTIBLE PARA VEHICULOS DEL SERVICIO PUBLICO DE ESTE AYUNTAMIENTO DE LA SEMANA DEL 08 AL 14 DE JUNIO 2020. DE ACUERDO A COMPROBANTES ADJUNTOS.",12066,"2020-06-26","47A83"]
[205,"ATEMAJAC GASOLINERA Y LUBRICANTES S.A. DE C.V.","XAXX010101000","CARR CATARINA ATEMAJAC, KM. 32.5","ATEMAJAC DE BRIZUELA,JAL.",45790,111,"BA TESORERIA 6536","Transf N° 0092727030","PAGO DE COMBUSTIBLE PARA VEHICULOS DEL SERVICIO PUBLICO DE ESTE AYUNTAMIENTO DE LA SEMANA DEL 08 AL 14 DE JUNIO 2020. DE ACUERDO A COMPROBANTES ADJUNTOS.",3619,"2020-06-26","DBD63"]
[206,"ATEMAJAC GASOLINERA Y LUBRICANTES S.A. DE C.V.","XAXX010101000","CARR CATARINA ATEMAJAC, KM. 32.5","ATEMAJAC DE BRIZUELA,JAL.",45790,111,"BA TESORERIA 6536","Transf N° 0092727030","PAGO DE COMBUSTIBLE PARA VEHICULOS DEL SERVICIO PUBLICO DE ESTE AYUNTAMIENTO DE LA SEMANA DEL 08 AL 14 DE JUNIO 2020. DE ACUERDO A COMPROBANTES ADJUNTOS.",1330,"2020-06-26","3305D"]
[207,"ATEMAJAC GASOLINERA Y LUBRICANTES S.A. DE C.V.","XAXX010101000","CARR CATARINA ATEMAJAC, KM. 32.5","ATEMAJAC DE BRIZUELA,JAL.",45790,111,"BA TESORERIA 6536","Transf N° 0092727030","PAGO DE COMBUSTIBLE PARA VEHICULOS DEL SERVICIO PUBLICO DE ESTE AYUNTAMIENTO DE LA SEMANA DEL 08 AL 14 DE JUNIO 2020. DE ACUERDO A COMPROBANTES ADJUNTOS.",22010,"2020-06-26","FE598"]
[208,"ATEMAJAC GASOLINERA Y LUBRICANTES S.A. DE C.V.","XAXX010101000","CARR CATARINA ATEMAJAC, KM. 32.5","ATEMAJAC DE BRIZUELA,JAL.",45790,111,"BA TESORERIA 6536","Transf N° 0009613122","PAGO DE COMBUSTIBLE DIESEL PARA VEHICULOS DEL SERVICIO PUBLICO DE ESTE AYUNTAMIENTO DE LA SEMANA DEL 01 AL 07 DE JUNIO 2020. DE ACUERDO A COMPROBANTE ADJUNTO.",4974,"2020-06-19",24967]
[209,"ATEMAJAC GASOLINERA Y LUBRICANTES S.A. DE C.V.","XAXX010101000","CARR CATARINA ATEMAJAC, KM. 32.5","ATEMAJAC DE BRIZUELA,JAL.",45790,111,"BA TESORERIA 6536","Transf N° 0009613088","PAGO DE COMBUSTIBLE PARA VEHICULOS DEL SERVICIO PUBLICO DE ESTE AYUNTAMIENTO DE LA SEMANA DEL 01 AL 07 DE JUNIO 2020. DE ACUERDO A COMPROBANTE ADJUNTO.",15160,"2020-06-19",82530]
[210,"ATEMAJAC GASOLINERA Y LUBRICANTES S.A. DE C.V.","XAXX010101000","CARR CATARINA ATEMAJAC, KM. 32.5","ATEMAJAC DE BRIZUELA,JAL.",45790,111,"BA TESORERIA 6536","Transf N° 0009613088","PAGO DE COMBUSTIBLE PARA VEHICULOS DEL SERVICIO PUBLICO DE ESTE AYUNTAMIENTO DE LA SEMANA DEL 01 AL 07 DE JUNIO 2020. DE ACUERDO A COMPROBANTE ADJUNTO.",1526,"2020-06-19","216DB"]
[211,"ATEMAJAC GASOLINERA Y LUBRICANTES S.A. DE C.V.","XAXX010101000","CARR CATARINA ATEMAJAC, KM. 32.5","ATEMAJAC DE BRIZUELA,JAL.",45790,111,"BA TESORERIA 6536","Transf N° 0009613088","PAGO DE COMBUSTIBLE PARA VEHICULOS DEL SERVICIO PUBLICO DE ESTE AYUNTAMIENTO DE LA SEMANA DEL 01 AL 07 DE JUNIO 2020. DE ACUERDO A COMPROBANTE ADJUNTO.",3004,"2020-06-19","ABEC2"]
[212,"ATEMAJAC GASOLINERA Y LUBRICANTES S.A. DE C.V.","XAXX010101000","CARR CATARINA ATEMAJAC, KM. 32.5","ATEMAJAC DE BRIZUELA,JAL.",45790,111,"BA TESORERIA 6536","Transf N° 0009613088","PAGO DE COMBUSTIBLE PARA VEHICULOS DEL SERVICIO PUBLICO DE ESTE AYUNTAMIENTO DE LA SEMANA DEL 01 AL 07 DE JUNIO 2020. DE ACUERDO A COMPROBANTE ADJUNTO.",1150,"2020-06-19","5EADF"]
[213,"ATEMAJAC GASOLINERA Y LUBRICANTES S.A. DE C.V.","XAXX010101000","CARR CATARINA ATEMAJAC, KM. 32.5","ATEMAJAC DE BRIZUELA,JAL.",45790,111,"BA TESORERIA 6536","Transf N° 0009613088","PAGO DE COMBUSTIBLE PARA VEHICULOS DEL SERVICIO PUBLICO DE ESTE AYUNTAMIENTO DE LA SEMANA DEL 01 AL 07 DE JUNIO 2020. DE ACUERDO A COMPROBANTE ADJUNTO.",3318,"2020-06-19","F3B0B"]
[214,"ATEMAJAC GASOLINERA Y LUBRICANTES S.A. DE C.V.","XAXX010101000","CARR CATARINA ATEMAJAC, KM. 32.5","ATEMAJAC DE BRIZUELA,JAL.",45790,111,"BA TESORERIA 6536","Transf N° 0009613088","PAGO DE COMBUSTIBLE PARA VEHICULOS DEL SERVICIO PUBLICO DE ESTE AYUNTAMIENTO DE LA SEMANA DEL 01 AL 07 DE JUNIO 2020. DE ACUERDO A COMPROBANTE ADJUNTO.",12091,"2020-06-19",68020]
[215,"ATEMAJAC GASOLINERA Y LUBRICANTES S.A. DE C.V.","XAXX010101000","CARR CATARINA ATEMAJAC, KM. 32.5","ATEMAJAC DE BRIZUELA,JAL.",45790,111,"BA TESORERIA 6536","Transf N° 0009613015","PAGO DE COMBUSTIBLE PARA VEHICULOS DEL SERVICIO PUBLICO DE ESTE AYUNTAMIENTO DE LA SEMANA DEL 01 AL 07 DE JUNIO 2020. DE ACUERDO A COMPROBANTE ADJUNTO.",17860,"2020-06-19","E555C"]
[216,"ATEMAJAC GASOLINERA Y LUBRICANTES S.A. DE C.V.","XAXX010101000","CARR CATARINA ATEMAJAC, KM. 32.5","ATEMAJAC DE BRIZUELA,JAL.",45790,111,"BA TESORERIA 6536","Transf N° 0036977032","PAGO DE COMBUSTIBLE DIESEL PARA VEHICULOS DEL SERVICIO PUBLICO DE ESTE AYUNTAMIENTO DE LA SEMANA DEL 25 AL 31 DE MAYO 2020. DE ACUERDO A COMPROBANTE ADJUNTO.",7500,"2020-06-18","7AAAE"]
[217,"ATEMAJAC GASOLINERA Y LUBRICANTES S.A. DE C.V.","XAXX010101000","CARR CATARINA ATEMAJAC, KM. 32.5","ATEMAJAC DE BRIZUELA,JAL.",45790,111,"BA TESORERIA 6536","Transf N° 0036977015","PAGO DE COMBUSTIBLE DIESEL PARA VEHICULOS DEL SERVICIO PUBLICO DE ESTE AYUNTAMIENTO DE LA SEMANA DEL 25 AL 31 DE MAYO 2020. DE ACUERDO A COMPROBANTE ADJUNTO.",9050,"2020-06-18","D8D1B"]
[218,"ATEMAJAC GASOLINERA Y LUBRICANTES S.A. DE C.V.","XAXX010101000","CARR CATARINA ATEMAJAC, KM. 32.5","ATEMAJAC DE BRIZUELA,JAL.",45790,111,"BA TESORERIA 6536","Transf N° 0063788021","PAGO DE COMBUSTIBLE PARA VEHICULOS DEL SERVICIO PUBLICO DE ESTE AYUNTAMIENTO DE LA SEMANA DEL 15 AL 31 DE MAYO 2020. DE ACUERDO A COMPROBANTE ADJUNTO.",4661,"2020-06-10","69BD7"]
[219,"ATEMAJAC GASOLINERA Y LUBRICANTES S.A. DE C.V.","XAXX010101000","CARR CATARINA ATEMAJAC, KM. 32.5","ATEMAJAC DE BRIZUELA,JAL.",45790,111,"BA TESORERIA 6536","Transf N° 0063788021","PAGO DE COMBUSTIBLE PARA VEHICULOS DEL SERVICIO PUBLICO DE ESTE AYUNTAMIENTO DE LA SEMANA DEL 15 AL 31 DE MAYO 2020. DE ACUERDO A COMPROBANTE ADJUNTO.",5150,"2020-06-10","A01DE"]
[220,"ATEMAJAC GASOLINERA Y LUBRICANTES S.A. DE C.V.","XAXX010101000","CARR CATARINA ATEMAJAC, KM. 32.5","ATEMAJAC DE BRIZUELA,JAL.",45790,111,"BA TESORERIA 6536","Transf N° 0063788021","PAGO DE COMBUSTIBLE PARA VEHICULOS DEL SERVICIO PUBLICO DE ESTE AYUNTAMIENTO DE LA SEMANA DEL 15 AL 31 DE MAYO 2020. DE ACUERDO A COMPROBANTE ADJUNTO.",12560,"2020-06-10","6F7B3"]
[221,"ATEMAJAC GASOLINERA Y LUBRICANTES S.A. DE C.V.","XAXX010101000","CARR CATARINA ATEMAJAC, KM. 32.5","ATEMAJAC DE BRIZUELA,JAL.",45790,111,"BA TESORERIA 6536","Transf N° 0063788021","PAGO DE COMBUSTIBLE PARA VEHICULOS DEL SERVICIO PUBLICO DE ESTE AYUNTAMIENTO DE LA SEMANA DEL 15 AL 31 DE MAYO 2020. DE ACUERDO A COMPROBANTE ADJUNTO.",1510,"2020-06-10","C4DE0"]
[222,"ATEMAJAC GASOLINERA Y LUBRICANTES S.A. DE C.V.","XAXX010101000","CARR CATARINA ATEMAJAC, KM. 32.5","ATEMAJAC DE BRIZUELA,JAL.",45790,111,"BA TESORERIA 6536","Transf N° 0063788021","PAGO DE COMBUSTIBLE PARA VEHICULOS DEL SERVICIO PUBLICO DE ESTE AYUNTAMIENTO DE LA SEMANA DEL 15 AL 31 DE MAYO 2020. DE ACUERDO A COMPROBANTE ADJUNTO.",1640,"2020-06-10","D4D19"]
[223,"ATEMAJAC GASOLINERA Y LUBRICANTES S.A. DE C.V.","XAXX010101000","CARR CATARINA ATEMAJAC, KM. 32.5","ATEMAJAC DE BRIZUELA,JAL.",45790,111,"BA TESORERIA 6536","Transf N° 0063788021","PAGO DE COMBUSTIBLE PARA VEHICULOS DEL SERVICIO PUBLICO DE ESTE AYUNTAMIENTO DE LA SEMANA DEL 15 AL 31 DE MAYO 2020. DE ACUERDO A COMPROBANTE ADJUNTO.",20853,"2020-06-10","FF94E"]
[224,"ATEMAJAC GASOLINERA Y LUBRICANTES S.A. DE C.V.","XAXX010101000","CARR CATARINA ATEMAJAC, KM. 32.5","ATEMAJAC DE BRIZUELA,JAL.",45790,111,"BA TESORERIA 6536","Transf N° 0063788021","PAGO DE COMBUSTIBLE PARA VEHICULOS DEL SERVICIO PUBLICO DE ESTE AYUNTAMIENTO DE LA SEMANA DEL 15 AL 31 DE MAYO 2020. DE ACUERDO A COMPROBANTE ADJUNTO.",10775,"2020-06-10","D8972"]
[225,"ATEMAJAC GASOLINERA Y LUBRICANTES S.A. DE C.V.","XAXX010101000","CARR CATARINA ATEMAJAC, KM. 32.5","ATEMAJAC DE BRIZUELA,JAL.",45790,111,"BA TESORERIA 6536","Transf N° 0074169033","PAGO DE COMBUSTIBLE PARA VEHICULOS DEL SERVICIO PUBLICO DE ESTE AYUNTAMIENTO DE LA SEMANA DEL 18 AL 24 DE MAYO 2020. DE ACUERDO A COMPROBANTE ADJUNTO.",6150,"2020-06-02","6DC74"]
[226,"ATEMAJAC GASOLINERA Y LUBRICANTES S.A. DE C.V.","XAXX010101000","CARR CATARINA ATEMAJAC, KM. 32.5","ATEMAJAC DE BRIZUELA,JAL.",45790,111,"BA TESORERIA 6536","Transf N° 0074169033","PAGO DE COMBUSTIBLE PARA VEHICULOS DEL SERVICIO PUBLICO DE ESTE AYUNTAMIENTO DE LA SEMANA DEL 18 AL 24 DE MAYO 2020. DE ACUERDO A COMPROBANTE ADJUNTO.",9930,"2020-06-02","DDC47"]
[227,"ATEMAJAC GASOLINERA Y LUBRICANTES S.A. DE C.V.","XAXX010101000","CARR CATARINA ATEMAJAC, KM. 32.5","ATEMAJAC DE BRIZUELA,JAL.",45790,111,"BA TESORERIA 6536","Transf N° 0074169033","PAGO DE COMBUSTIBLE PARA VEHICULOS DEL SERVICIO PUBLICO DE ESTE AYUNTAMIENTO DE LA SEMANA DEL 18 AL 24 DE MAYO 2020. DE ACUERDO A COMPROBANTE ADJUNTO.",3390,"2020-06-02","D482F"]
[228,"ATEMAJAC GASOLINERA Y LUBRICANTES S.A. DE C.V.","XAXX010101000","CARR CATARINA ATEMAJAC, KM. 32.5","ATEMAJAC DE BRIZUELA,JAL.",45790,111,"BA TESORERIA 6536","Transf N° 0074169033","PAGO DE COMBUSTIBLE PARA VEHICULOS DEL SERVICIO PUBLICO DE ESTE AYUNTAMIENTO DE LA SEMANA DEL 18 AL 24 DE MAYO 2020. DE ACUERDO A COMPROBANTE ADJUNTO.",1420,"2020-06-02","60A2D"]
[229,"ATEMAJAC GASOLINERA Y LUBRICANTES S.A. DE C.V.","XAXX010101000","CARR CATARINA ATEMAJAC, KM. 32.5","ATEMAJAC DE BRIZUELA,JAL.",45790,111,"BA TESORERIA 6536","Transf N° 0074169033","PAGO DE COMBUSTIBLE PARA VEHICULOS DEL SERVICIO PUBLICO DE ESTE AYUNTAMIENTO DE LA SEMANA DEL 18 AL 24 DE MAYO 2020. DE ACUERDO A COMPROBANTE ADJUNTO.",1500,"2020-06-02","2D0FA"]
[230,"ATEMAJAC GASOLINERA Y LUBRICANTES S.A. DE C.V.","XAXX010101000","CARR CATARINA ATEMAJAC, KM. 32.5","ATEMAJAC DE BRIZUELA,JAL.",45790,111,"BA TESORERIA 6536","Transf N° 0074169033","PAGO DE COMBUSTIBLE PARA VEHICULOS DEL SERVICIO PUBLICO DE ESTE AYUNTAMIENTO DE LA SEMANA DEL 18 AL 24 DE MAYO 2020. DE ACUERDO A COMPROBANTE ADJUNTO.",4590,"2020-06-02","04EA2"]
[231,"ATEMAJAC GASOLINERA Y LUBRICANTES S.A. DE C.V.","XAXX010101000","CARR CATARINA ATEMAJAC, KM. 32.5","ATEMAJAC DE BRIZUELA,JAL.",45790,111,"BA TESORERIA 6536","Transf N° 0074169033","PAGO DE COMBUSTIBLE PARA VEHICULOS DEL SERVICIO PUBLICO DE ESTE AYUNTAMIENTO DE LA SEMANA DEL 18 AL 24 DE MAYO 2020. DE ACUERDO A COMPROBANTE ADJUNTO.",1500,"2020-06-02","F514D"]
[232,"ATEMAJAC GASOLINERA Y LUBRICANTES S.A. DE C.V.","XAXX010101000","CARR CATARINA ATEMAJAC, KM. 32.5","ATEMAJAC DE BRIZUELA,JAL.",45790,111,"BA TESORERIA 6536","Transf N° 0074169033","PAGO DE COMBUSTIBLE PARA VEHICULOS DEL SERVICIO PUBLICO DE ESTE AYUNTAMIENTO DE LA SEMANA DEL 18 AL 24 DE MAYO 2020. DE ACUERDO A COMPROBANTE ADJUNTO.",10189,"2020-06-02","C9550"]
[233,"ATEMAJAC GASOLINERA Y LUBRICANTES S.A. DE C.V.","XAXX010101000","CARR CATARINA ATEMAJAC, KM. 32.5","ATEMAJAC DE BRIZUELA,JAL.",45790,111,"BA TESORERIA 6536","Transf N° 0074169033","PAGO DE COMBUSTIBLE PARA VEHICULOS DEL SERVICIO PUBLICO DE ESTE AYUNTAMIENTO DE LA SEMANA DEL 18 AL 24 DE MAYO 2020. DE ACUERDO A COMPROBANTE ADJUNTO.",14770,"2020-06-02","FF1FB"]
[234,"ATEMAJAC GASOLINERA Y LUBRICANTES S.A. DE C.V.","XAXX010101000","CARR CATARINA ATEMAJAC, KM. 32.5","ATEMAJAC DE BRIZUELA,JAL.",45790,111,"BA TESORERIA 6536","Transf N° 0082682033","PAGO DE COMBUSTIBLE PARA VEHICULOS DEL SERVICIO PUBLICO DE ESTE AYUNTAMIENTO DE LA SEMANA DEL 15 AL 21 DE JUNIO 2020. DE ACUERDO A COMPROBANTES ADJUNTOS.",12932,"2020-07-03","5E418"]
[235,"ATEMAJAC GASOLINERA Y LUBRICANTES S.A. DE C.V.","XAXX010101000","CARR CATARINA ATEMAJAC, KM. 32.5","ATEMAJAC DE BRIZUELA,JAL.",45790,111,"BA TESORERIA 6536","Transf N° 0082682033","PAGO DE COMBUSTIBLE PARA VEHICULOS DEL SERVICIO PUBLICO DE ESTE AYUNTAMIENTO DE LA SEMANA DEL 15 AL 21 DE JUNIO 2020. DE ACUERDO A COMPROBANTES ADJUNTOS.",3425,"2020-07-03","6C132"]
[236,"ATEMAJAC GASOLINERA Y LUBRICANTES S.A. DE C.V.","XAXX010101000","CARR CATARINA ATEMAJAC, KM. 32.5","ATEMAJAC DE BRIZUELA,JAL.",45790,111,"BA TESORERIA 6536","Transf N° 0082682033","PAGO DE COMBUSTIBLE PARA VEHICULOS DEL SERVICIO PUBLICO DE ESTE AYUNTAMIENTO DE LA SEMANA DEL 15 AL 21 DE JUNIO 2020. DE ACUERDO A COMPROBANTES ADJUNTOS.",6530,"2020-07-03","6AC8B"]
[237,"ATEMAJAC GASOLINERA Y LUBRICANTES S.A. DE C.V.","XAXX010101000","CARR CATARINA ATEMAJAC, KM. 32.5","ATEMAJAC DE BRIZUELA,JAL.",45790,111,"BA TESORERIA 6536","Transf N° 0082682033","PAGO DE COMBUSTIBLE PARA VEHICULOS DEL SERVICIO PUBLICO DE ESTE AYUNTAMIENTO DE LA SEMANA DEL 15 AL 21 DE JUNIO 2020. DE ACUERDO A COMPROBANTES ADJUNTOS.",1526,"2020-07-03","B24C4"]
[238,"ATEMAJAC GASOLINERA Y LUBRICANTES S.A. DE C.V.","XAXX010101000","CARR CATARINA ATEMAJAC, KM. 32.5","ATEMAJAC DE BRIZUELA,JAL.",45790,111,"BA TESORERIA 6536","Transf N° 0082682033","PAGO DE COMBUSTIBLE PARA VEHICULOS DEL SERVICIO PUBLICO DE ESTE AYUNTAMIENTO DE LA SEMANA DEL 15 AL 21 DE JUNIO 2020. DE ACUERDO A COMPROBANTES ADJUNTOS.",14731,"2020-07-03",14688]
[239,"ATEMAJAC GASOLINERA Y LUBRICANTES S.A. DE C.V.","XAXX010101000","CARR CATARINA ATEMAJAC, KM. 32.5","ATEMAJAC DE BRIZUELA,JAL.",45790,111,"BA TESORERIA 6536","Transf N° 0082682033","PAGO DE COMBUSTIBLE PARA VEHICULOS DEL SERVICIO PUBLICO DE ESTE AYUNTAMIENTO DE LA SEMANA DEL 15 AL 21 DE JUNIO 2020. DE ACUERDO A COMPROBANTES ADJUNTOS.",3907,"2020-07-03",53447]
[240,"ATEMAJAC GASOLINERA Y LUBRICANTES S.A. DE C.V.","XAXX010101000","CARR CATARINA ATEMAJAC, KM. 32.5","ATEMAJAC DE BRIZUELA,JAL.",45790,151,"BA PARTICIPACIONES 8760","Transf N° 0082342031","PAGO DE COMBUSTIBLE PARA VEHICULOS DEL SERVICIO PUBLICO DE ESTE AYUNTAMIENTO DE LA SEMANA DEL 03 AL 09 DE AGOSTO 2020. DE ACUERDO A COMPROBANTES ADJUNTOS.",3600,"2020-08-14","691FB"]
[241,"ATEMAJAC GASOLINERA Y LUBRICANTES S.A. DE C.V.","XAXX010101000","CARR CATARINA ATEMAJAC, KM. 32.5","ATEMAJAC DE BRIZUELA,JAL.",45790,151,"BA PARTICIPACIONES 8760","Transf N° 0082342031","PAGO DE COMBUSTIBLE PARA VEHICULOS DEL SERVICIO PUBLICO DE ESTE AYUNTAMIENTO DE LA SEMANA DEL 03 AL 09 DE AGOSTO 2020. DE ACUERDO A COMPROBANTES ADJUNTOS.",5340,"2020-08-14","4A270"]
[242,"ATEMAJAC GASOLINERA Y LUBRICANTES S.A. DE C.V.","XAXX010101000","CARR CATARINA ATEMAJAC, KM. 32.5","ATEMAJAC DE BRIZUELA,JAL.",45790,151,"BA PARTICIPACIONES 8760","Transf N° 0082342031","PAGO DE COMBUSTIBLE PARA VEHICULOS DEL SERVICIO PUBLICO DE ESTE AYUNTAMIENTO DE LA SEMANA DEL 03 AL 09 DE AGOSTO 2020. DE ACUERDO A COMPROBANTES ADJUNTOS.",2070,"2020-08-14","FE78F"]
[243,"ATEMAJAC GASOLINERA Y LUBRICANTES S.A. DE C.V.","XAXX010101000","CARR CATARINA ATEMAJAC, KM. 32.5","ATEMAJAC DE BRIZUELA,JAL.",45790,151,"BA PARTICIPACIONES 8760","Transf N° 0082342031","PAGO DE COMBUSTIBLE PARA VEHICULOS DEL SERVICIO PUBLICO DE ESTE AYUNTAMIENTO DE LA SEMANA DEL 03 AL 09 DE AGOSTO 2020. DE ACUERDO A COMPROBANTES ADJUNTOS.",16910,"2020-08-14",25951]
[244,"ATEMAJAC GASOLINERA Y LUBRICANTES S.A. DE C.V.","XAXX010101000","CARR CATARINA ATEMAJAC, KM. 32.5","ATEMAJAC DE BRIZUELA,JAL.",45790,151,"BA PARTICIPACIONES 8760","Transf N° 0082342031","PAGO DE COMBUSTIBLE PARA VEHICULOS DEL SERVICIO PUBLICO DE ESTE AYUNTAMIENTO DE LA SEMANA DEL 03 AL 09 DE AGOSTO 2020. DE ACUERDO A COMPROBANTES ADJUNTOS.",1400,"2020-08-14","3A939"]
[245,"ATEMAJAC GASOLINERA Y LUBRICANTES S.A. DE C.V.","XAXX010101000","CARR CATARINA ATEMAJAC, KM. 32.5","ATEMAJAC DE BRIZUELA,JAL.",45790,151,"BA PARTICIPACIONES 8760","Transf N° 0082342031","PAGO DE COMBUSTIBLE PARA VEHICULOS DEL SERVICIO PUBLICO DE ESTE AYUNTAMIENTO DE LA SEMANA DEL 03 AL 09 DE AGOSTO 2020. DE ACUERDO A COMPROBANTES ADJUNTOS.",10020,"2020-08-14",69667]
[246,"ATEMAJAC GASOLINERA Y LUBRICANTES S.A. DE C.V.","XAXX010101000","CARR CATARINA ATEMAJAC, KM. 32.5","ATEMAJAC DE BRIZUELA,JAL.",45790,151,"BA PARTICIPACIONES 8760","Transf N° 0082342031","PAGO DE COMBUSTIBLE PARA VEHICULOS DEL SERVICIO PUBLICO DE ESTE AYUNTAMIENTO DE LA SEMANA DEL 03 AL 09 DE AGOSTO 2020. DE ACUERDO A COMPROBANTES ADJUNTOS.",12128,"2020-08-14","26E7A"]
[247,"ATEMAJAC GASOLINERA Y LUBRICANTES S.A. DE C.V.","XAXX010101000","CARR CATARINA ATEMAJAC, KM. 32.5","ATEMAJAC DE BRIZUELA,JAL.",45790,111,"BA TESORERIA 6536","Transf N° 0098505033","PAGO DE COMBUSTIBLE PARA VEHICULOS DEL SERVICIO PUBLICO DE ESTE AYUNTAMIENTO DE LA SEMANA DEL 17 AL 21 DE AGOSTO 2020. DE ACUERDO A COMPROBANTES ADJUNTOS.",4354,"2020-08-31","BD90C"]
[248,"ATEMAJAC GASOLINERA Y LUBRICANTES S.A. DE C.V.","XAXX010101000","CARR CATARINA ATEMAJAC, KM. 32.5","ATEMAJAC DE BRIZUELA,JAL.",45790,111,"BA TESORERIA 6536","Transf N° 0098505033","PAGO DE COMBUSTIBLE PARA VEHICULOS DEL SERVICIO PUBLICO DE ESTE AYUNTAMIENTO DE LA SEMANA DEL 17 AL 21 DE AGOSTO 2020. DE ACUERDO A COMPROBANTES ADJUNTOS.",9995,"2020-08-31","B82B3"]
[249,"ATEMAJAC GASOLINERA Y LUBRICANTES S.A. DE C.V.","XAXX010101000","CARR CATARINA ATEMAJAC, KM. 32.5","ATEMAJAC DE BRIZUELA,JAL.",45790,111,"BA TESORERIA 6536","Transf N° 0098505033","PAGO DE COMBUSTIBLE PARA VEHICULOS DEL SERVICIO PUBLICO DE ESTE AYUNTAMIENTO DE LA SEMANA DEL 17 AL 21 DE AGOSTO 2020. DE ACUERDO A COMPROBANTES ADJUNTOS.",14220,"2020-08-31","EC4E0"]
[250,"ATEMAJAC GASOLINERA Y LUBRICANTES S.A. DE C.V.","XAXX010101000","CARR CATARINA ATEMAJAC, KM. 32.5","ATEMAJAC DE BRIZUELA,JAL.",45790,111,"BA TESORERIA 6536","Transf N° 0098505033","PAGO DE COMBUSTIBLE PARA VEHICULOS DEL SERVICIO PUBLICO DE ESTE AYUNTAMIENTO DE LA SEMANA DEL 17 AL 21 DE AGOSTO 2020. DE ACUERDO A COMPROBANTES ADJUNTOS.",11690,"2020-08-31","00A3F"]
[251,"ATEMAJAC GASOLINERA Y LUBRICANTES S.A. DE C.V.","XAXX010101000","CARR CATARINA ATEMAJAC, KM. 32.5","ATEMAJAC DE BRIZUELA,JAL.",45790,111,"BA TESORERIA 6536","Transf N° 0098505033","PAGO DE COMBUSTIBLE PARA VEHICULOS DEL SERVICIO PUBLICO DE ESTE AYUNTAMIENTO DE LA SEMANA DEL 17 AL 21 DE AGOSTO 2020. DE ACUERDO A COMPROBANTES ADJUNTOS.",1600,"2020-08-31","7FEAE"]
[252,"ATEMAJAC GASOLINERA Y LUBRICANTES S.A. DE C.V.","XAXX010101000","CARR CATARINA ATEMAJAC, KM. 32.5","ATEMAJAC DE BRIZUELA,JAL.",45790,111,"BA TESORERIA 6536","Transf N° 0098505033","PAGO DE COMBUSTIBLE PARA VEHICULOS DEL SERVICIO PUBLICO DE ESTE AYUNTAMIENTO DE LA SEMANA DEL 17 AL 21 DE AGOSTO 2020. DE ACUERDO A COMPROBANTES ADJUNTOS.",5510,"2020-08-31","9B151"]
[253,"ATEMAJAC GASOLINERA Y LUBRICANTES S.A. DE C.V.","XAXX010101000","CARR CATARINA ATEMAJAC, KM. 32.5","ATEMAJAC DE BRIZUELA,JAL.",45790,111,"BA TESORERIA 6536","Transf N° 0098505033","PAGO DE COMBUSTIBLE PARA VEHICULOS DEL SERVICIO PUBLICO DE ESTE AYUNTAMIENTO DE LA SEMANA DEL 17 AL 21 DE AGOSTO 2020. DE ACUERDO A COMPROBANTES ADJUNTOS.",1850,"2020-08-31","75F76"]
[254,"ATEMAJAC GASOLINERA Y LUBRICANTES S.A. DE C.V.","XAXX010101000","CARR CATARINA ATEMAJAC, KM. 32.5","ATEMAJAC DE BRIZUELA,JAL.",45790,111,"BA TESORERIA 6536","Transf N° 0098505033","PAGO DE COMBUSTIBLE PARA VEHICULOS DEL SERVICIO PUBLICO DE ESTE AYUNTAMIENTO DE LA SEMANA DEL 17 AL 21 DE AGOSTO 2020. DE ACUERDO A COMPROBANTES ADJUNTOS.",2280,"2020-08-31","01AE9"]
[255,"ATEMAJAC GASOLINERA Y LUBRICANTES S.A. DE C.V.","XAXX010101000","CARR CATARINA ATEMAJAC, KM. 32.5","ATEMAJAC DE BRIZUELA,JAL.",45790,111,"BA TESORERIA 6536","Transf N° 0054269054","PAGO DE COMBUSTIBLE PARA VEHICULOS DEL SERVICIO PUBLICO DE ESTE AYUNTAMIENTO DE LA SEMANA DEL 10 AL 16 DE AGOSTO 2020. DE ACUERDO A COMPROBANTES ADJUNTOS.",5605,"2020-08-24","A2015"]
[256,"ATEMAJAC GASOLINERA Y LUBRICANTES S.A. DE C.V.","XAXX010101000","CARR CATARINA ATEMAJAC, KM. 32.5","ATEMAJAC DE BRIZUELA,JAL.",45790,111,"BA TESORERIA 6536","Transf N° 0054269054","PAGO DE COMBUSTIBLE PARA VEHICULOS DEL SERVICIO PUBLICO DE ESTE AYUNTAMIENTO DE LA SEMANA DEL 10 AL 16 DE AGOSTO 2020. DE ACUERDO A COMPROBANTES ADJUNTOS.",13122,"2020-08-24","AAD91"]
[257,"ATEMAJAC GASOLINERA Y LUBRICANTES S.A. DE C.V.","XAXX010101000","CARR CATARINA ATEMAJAC, KM. 32.5","ATEMAJAC DE BRIZUELA,JAL.",45790,111,"BA TESORERIA 6536","Transf N° 0054269054","PAGO DE COMBUSTIBLE PARA VEHICULOS DEL SERVICIO PUBLICO DE ESTE AYUNTAMIENTO DE LA SEMANA DEL 10 AL 16 DE AGOSTO 2020. DE ACUERDO A COMPROBANTES ADJUNTOS.",1602,"2020-08-24","73A02"]
[258,"ATEMAJAC GASOLINERA Y LUBRICANTES S.A. DE C.V.","XAXX010101000","CARR CATARINA ATEMAJAC, KM. 32.5","ATEMAJAC DE BRIZUELA,JAL.",45790,111,"BA TESORERIA 6536","Transf N° 0054269054","PAGO DE COMBUSTIBLE PARA VEHICULOS DEL SERVICIO PUBLICO DE ESTE AYUNTAMIENTO DE LA SEMANA DEL 10 AL 16 DE AGOSTO 2020. DE ACUERDO A COMPROBANTES ADJUNTOS.",16463,"2020-08-24","82CC6"]
[259,"ATEMAJAC GASOLINERA Y LUBRICANTES S.A. DE C.V.","XAXX010101000","CARR CATARINA ATEMAJAC, KM. 32.5","ATEMAJAC DE BRIZUELA,JAL.",45790,111,"BA TESORERIA 6536","Transf N° 0054269054","PAGO DE COMBUSTIBLE PARA VEHICULOS DEL SERVICIO PUBLICO DE ESTE AYUNTAMIENTO DE LA SEMANA DEL 10 AL 16 DE AGOSTO 2020. DE ACUERDO A COMPROBANTES ADJUNTOS.",17444,"2020-08-24","36D44"]
[260,"ATEMAJAC GASOLINERA Y LUBRICANTES S.A. DE C.V.","XAXX010101000","CARR CATARINA ATEMAJAC, KM. 32.5","ATEMAJAC DE BRIZUELA,JAL.",45790,111,"BA TESORERIA 6536","Transf N° 0054269054","PAGO DE COMBUSTIBLE PARA VEHICULOS DEL SERVICIO PUBLICO DE ESTE AYUNTAMIENTO DE LA SEMANA DEL 10 AL 16 DE AGOSTO 2020. DE ACUERDO A COMPROBANTES ADJUNTOS.",2808,"2020-08-24","F6050"]
[261,"ATEMAJAC GASOLINERA Y LUBRICANTES S.A. DE C.V.","XAXX010101000","CARR CATARINA ATEMAJAC, KM. 32.5","ATEMAJAC DE BRIZUELA,JAL.",45790,111,"BA TESORERIA 6536","Transf N° 0054269054","PAGO DE COMBUSTIBLE PARA VEHICULOS DEL SERVICIO PUBLICO DE ESTE AYUNTAMIENTO DE LA SEMANA DEL 10 AL 16 DE AGOSTO 2020. DE ACUERDO A COMPROBANTES ADJUNTOS.",1840,"2020-08-24","9675B"]
[262,"ATEMAJAC GASOLINERA Y LUBRICANTES S.A. DE C.V.","XAXX010101000","CARR CATARINA ATEMAJAC, KM. 32.5","ATEMAJAC DE BRIZUELA,JAL.",45790,111,"BA TESORERIA 6536","Transf N° 0026861050","PAGO DE COMBUSTIBLE PARA VEHICULOS DEL SERVICIO PUBLICO DE ESTE AYUNTAMIENTO DE LA SEMANA DEL 27 DE JULIO AL 02 DE AGOSTO 2020. DE ACUERDO A COMPROBANTES ADJUNTOS.",7720,"2020-08-08","92E7C"]
[263,"ATEMAJAC GASOLINERA Y LUBRICANTES S.A. DE C.V.","XAXX010101000","CARR CATARINA ATEMAJAC, KM. 32.5","ATEMAJAC DE BRIZUELA,JAL.",45790,111,"BA TESORERIA 6536","Transf N° 0026861050","PAGO DE COMBUSTIBLE PARA VEHICULOS DEL SERVICIO PUBLICO DE ESTE AYUNTAMIENTO DE LA SEMANA DEL 27 DE JULIO AL 02 DE AGOSTO 2020. DE ACUERDO A COMPROBANTES ADJUNTOS.",11833,"2020-08-08","63F65"]
[264,"ATEMAJAC GASOLINERA Y LUBRICANTES S.A. DE C.V.","XAXX010101000","CARR CATARINA ATEMAJAC, KM. 32.5","ATEMAJAC DE BRIZUELA,JAL.",45790,111,"BA TESORERIA 6536","Transf N° 0026861050","PAGO DE COMBUSTIBLE PARA VEHICULOS DEL SERVICIO PUBLICO DE ESTE AYUNTAMIENTO DE LA SEMANA DEL 27 DE JULIO AL 02 DE AGOSTO 2020. DE ACUERDO A COMPROBANTES ADJUNTOS.",3800,"2020-08-08","01BE0"]
[265,"ATEMAJAC GASOLINERA Y LUBRICANTES S.A. DE C.V.","XAXX010101000","CARR CATARINA ATEMAJAC, KM. 32.5","ATEMAJAC DE BRIZUELA,JAL.",45790,111,"BA TESORERIA 6536","Transf N° 0026861050","PAGO DE COMBUSTIBLE PARA VEHICULOS DEL SERVICIO PUBLICO DE ESTE AYUNTAMIENTO DE LA SEMANA DEL 27 DE JULIO AL 02 DE AGOSTO 2020. DE ACUERDO A COMPROBANTES ADJUNTOS.",12700,"2020-08-08","4D587"]
[266,"ATEMAJAC GASOLINERA Y LUBRICANTES S.A. DE C.V.","XAXX010101000","CARR CATARINA ATEMAJAC, KM. 32.5","ATEMAJAC DE BRIZUELA,JAL.",45790,111,"BA TESORERIA 6536","Transf N° 0026861050","PAGO DE COMBUSTIBLE PARA VEHICULOS DEL SERVICIO PUBLICO DE ESTE AYUNTAMIENTO DE LA SEMANA DEL 27 DE JULIO AL 02 DE AGOSTO 2020. DE ACUERDO A COMPROBANTES ADJUNTOS.",1310,"2020-08-08","DC950"]
[267,"ATEMAJAC GASOLINERA Y LUBRICANTES S.A. DE C.V.","XAXX010101000","CARR CATARINA ATEMAJAC, KM. 32.5","ATEMAJAC DE BRIZUELA,JAL.",45790,111,"BA TESORERIA 6536","Transf N° 0026861050","PAGO DE COMBUSTIBLE PARA VEHICULOS DEL SERVICIO PUBLICO DE ESTE AYUNTAMIENTO DE LA SEMANA DEL 27 DE JULIO AL 02 DE AGOSTO 2020. DE ACUERDO A COMPROBANTES ADJUNTOS.",18270,"2020-08-08","4290E"]
[268,"ATEMAJAC GASOLINERA Y LUBRICANTES S.A. DE C.V.","XAXX010101000","CARR CATARINA ATEMAJAC, KM. 32.5","ATEMAJAC DE BRIZUELA,JAL.",45790,111,"BA TESORERIA 6536","Transf N° 0026861050","PAGO DE COMBUSTIBLE PARA VEHICULOS DEL SERVICIO PUBLICO DE ESTE AYUNTAMIENTO DE LA SEMANA DEL 27 DE JULIO AL 02 DE AGOSTO 2020. DE ACUERDO A COMPROBANTES ADJUNTOS.",1580,"2020-08-08",76663]
[269,"ATEMAJAC GASOLINERA Y LUBRICANTES S.A. DE C.V.","XAXX010101000","CARR CATARINA ATEMAJAC, KM. 32.5","ATEMAJAC DE BRIZUELA,JAL.",45790,111,"BA TESORERIA 6536","Transf N° 0022645068","PAGO DE COMBUSTIBLE PARA VEHICULOS DEL SERVICIO PUBLICO DE ESTE AYUNTAMIENTO DE LA SEMANA DEL 18 AL 26 DE AGOSTO 2020. DE ACUERDO A COMPROBANTES ADJUNTOS.",16875,"2020-08-03","5546A"]
[270,"ATEMAJAC GASOLINERA Y LUBRICANTES S.A. DE C.V.","XAXX010101000","CARR CATARINA ATEMAJAC, KM. 32.5","ATEMAJAC DE BRIZUELA,JAL.",45790,111,"BA TESORERIA 6536","Transf N° 0022645068","PAGO DE COMBUSTIBLE PARA VEHICULOS DEL SERVICIO PUBLICO DE ESTE AYUNTAMIENTO DE LA SEMANA DEL 18 AL 26 DE AGOSTO 2020. DE ACUERDO A COMPROBANTES ADJUNTOS.",17880,"2020-08-03","9B6E9"]
[271,"ATEMAJAC GASOLINERA Y LUBRICANTES S.A. DE C.V.","XAXX010101000","CARR CATARINA ATEMAJAC, KM. 32.5","ATEMAJAC DE BRIZUELA,JAL.",45790,111,"BA TESORERIA 6536","Transf N° 0022645068","PAGO DE COMBUSTIBLE PARA VEHICULOS DEL SERVICIO PUBLICO DE ESTE AYUNTAMIENTO DE LA SEMANA DEL 18 AL 26 DE AGOSTO 2020. DE ACUERDO A COMPROBANTES ADJUNTOS.",1780,"2020-08-03","0437C"]
[272,"ATEMAJAC GASOLINERA Y LUBRICANTES S.A. DE C.V.","XAXX010101000","CARR CATARINA ATEMAJAC, KM. 32.5","ATEMAJAC DE BRIZUELA,JAL.",45790,111,"BA TESORERIA 6536","Transf N° 0022645068","PAGO DE COMBUSTIBLE PARA VEHICULOS DEL SERVICIO PUBLICO DE ESTE AYUNTAMIENTO DE LA SEMANA DEL 18 AL 26 DE AGOSTO 2020. DE ACUERDO A COMPROBANTES ADJUNTOS.",1190,"2020-08-03","E87A6"]
[273,"ATEMAJAC GASOLINERA Y LUBRICANTES S.A. DE C.V.","XAXX010101000","CARR CATARINA ATEMAJAC, KM. 32.5","ATEMAJAC DE BRIZUELA,JAL.",45790,111,"BA TESORERIA 6536","Transf N° 0022645068","PAGO DE COMBUSTIBLE PARA VEHICULOS DEL SERVICIO PUBLICO DE ESTE AYUNTAMIENTO DE LA SEMANA DEL 18 AL 26 DE AGOSTO 2020. DE ACUERDO A COMPROBANTES ADJUNTOS.",15261,"2020-08-03","1FDE8"]
[274,"ATEMAJAC GASOLINERA Y LUBRICANTES S.A. DE C.V.","XAXX010101000","CARR CATARINA ATEMAJAC, KM. 32.5","ATEMAJAC DE BRIZUELA,JAL.",45790,252,"BA FORTALECIMIENTO 2020 3770","Transf N° 0022645097","PAGO DE COMBUSTIBLE PARA PATRULLAS DE SEGURIDAD PUBLICA DE ESTE AYUNTAMIENTO DE LA SEMANA DEL 18 AL 26 DE JULIO 2020. DE ACUERDO A COMPROBANTES ADJUNTOS.",5420,"2020-08-01","EC301"]
[275,"ATEMAJAC GASOLINERA Y LUBRICANTES S.A. DE C.V.","XAXX010101000","CARR CATARINA ATEMAJAC, KM. 32.5","ATEMAJAC DE BRIZUELA,JAL.",45790,252,"BA FORTALECIMIENTO 2020 3770","Transf N° 0022645097","PAGO DE COMBUSTIBLE PARA PATRULLAS DE SEGURIDAD PUBLICA DE ESTE AYUNTAMIENTO DE LA SEMANA DEL 18 AL 26 DE JULIO 2020. DE ACUERDO A COMPROBANTES ADJUNTOS.",5300,"2020-08-01","6A35F"]
[276,"ATEMAJAC GASOLINERA Y LUBRICANTES S.A. DE C.V.","XAXX010101000","CARR CATARINA ATEMAJAC, KM. 32.5","ATEMAJAC DE BRIZUELA,JAL.",45790,111,"BA TESORERIA 6536","Transf N° 0052882015","PAGO DE COMBUSTIBLE PARA VEHICULOS DEL SERVICIO PUBLICO MPAL CORRESPONDIENTE A LA SEMANA DEL 23 AL 29 DE ABRIL 2020. DE ACUERDO A COMPROBANTE ADJUNTO",1600,"2020-04-08","9429F"]
[277,"ATEMAJAC GASOLINERA Y LUBRICANTES S.A. DE C.V.","XAXX010101000","CARR CATARINA ATEMAJAC, KM. 32.5","ATEMAJAC DE BRIZUELA,JAL.",45790,111,"BA TESORERIA 6536","Transf N° 0052882015","PAGO DE COMBUSTIBLE PARA VEHICULOS DEL SERVICIO PUBLICO MPAL CORRESPONDIENTE A LA SEMANA DEL 23 AL 29 DE ABRIL 2020. DE ACUERDO A COMPROBANTE ADJUNTO",4062,"2020-04-08","6ED0B"]
[278,"ATEMAJAC GASOLINERA Y LUBRICANTES S.A. DE C.V.","XAXX010101000","CARR CATARINA ATEMAJAC, KM. 32.5","ATEMAJAC DE BRIZUELA,JAL.",45790,111,"BA TESORERIA 6536","Transf N° 0052882015","PAGO DE COMBUSTIBLE PARA VEHICULOS DEL SERVICIO PUBLICO MPAL CORRESPONDIENTE A LA SEMANA DEL 23 AL 29 DE ABRIL 2020. DE ACUERDO A COMPROBANTE ADJUNTO",1330,"2020-04-08","E3A7F"]
[279,"ATEMAJAC GASOLINERA Y LUBRICANTES S.A. DE C.V.","XAXX010101000","CARR CATARINA ATEMAJAC, KM. 32.5","ATEMAJAC DE BRIZUELA,JAL.",45790,111,"BA TESORERIA 6536","Transf N° 0052882015","PAGO DE COMBUSTIBLE PARA VEHICULOS DEL SERVICIO PUBLICO MPAL CORRESPONDIENTE A LA SEMANA DEL 23 AL 29 DE ABRIL 2020. DE ACUERDO A COMPROBANTE ADJUNTO",8915,"2020-04-08","8EC62"]
[280,"ATEMAJAC GASOLINERA Y LUBRICANTES S.A. DE C.V.","XAXX010101000","CARR CATARINA ATEMAJAC, KM. 32.5","ATEMAJAC DE BRIZUELA,JAL.",45790,111,"BA TESORERIA 6536","Transf N° 0052882015","PAGO DE COMBUSTIBLE PARA VEHICULOS DEL SERVICIO PUBLICO MPAL CORRESPONDIENTE A LA SEMANA DEL 23 AL 29 DE ABRIL 2020. DE ACUERDO A COMPROBANTE ADJUNTO",8290,"2020-04-08",77531]
[281,"ATEMAJAC GASOLINERA Y LUBRICANTES S.A. DE C.V.","XAXX010101000","CARR CATARINA ATEMAJAC, KM. 32.5","ATEMAJAC DE BRIZUELA,JAL.",45790,111,"BA TESORERIA 6536","Transf N° 0052882015","PAGO DE COMBUSTIBLE PARA VEHICULOS DEL SERVICIO PUBLICO MPAL CORRESPONDIENTE A LA SEMANA DEL 23 AL 29 DE ABRIL 2020. DE ACUERDO A COMPROBANTE ADJUNTO",13098,"2020-04-08","4524E"]
[282,"ATEMAJAC GASOLINERA Y LUBRICANTES S.A. DE C.V.","XAXX010101000","CARR CATARINA ATEMAJAC, KM. 32.5","ATEMAJAC DE BRIZUELA,JAL.",45790,111,"BA TESORERIA 6536","Transf N° 0052882015","PAGO DE COMBUSTIBLE PARA VEHICULOS DEL SERVICIO PUBLICO MPAL CORRESPONDIENTE A LA SEMANA DEL 23 AL 29 DE ABRIL 2020. DE ACUERDO A COMPROBANTE ADJUNTO",1150,"2020-04-08","BF2DF"]
[283,"ATEMAJAC GASOLINERA Y LUBRICANTES S.A. DE C.V.","XAXX010101000","CARR CATARINA ATEMAJAC, KM. 32.5","ATEMAJAC DE BRIZUELA,JAL.",45790,111,"BA TESORERIA 6536","Transf N° 0052882033","PAGO DE COMBUSTIBLE DIESEL PARA VEHICULOS DEL SERVICIO PUBLICO MPAL CORRESPONDIENTE A LA SEMANA DEL 23 AL 29 DE ABRIL 2020. DE ACUERDO A COMPROBANTE ADJUNTO",3198,"2020-04-08",19122]
[284,"ATEMAJAC GASOLINERA Y LUBRICANTES S.A. DE C.V.","XAXX010101000","CARR CATARINA ATEMAJAC, KM. 32.5","ATEMAJAC DE BRIZUELA,JAL.",45790,111,"BA TESORERIA 6536","Transf N° 0052882050","PAGO DE COMBUSTIBLE PARA TRABAJOS DE MAQUINARIA EN VERTEDERO MPAL . DE ACUERDO A COMPROBANTE ADJUNTO",22490,"2020-04-07","5CEF3"]
[285,"ATEMAJAC GASOLINERA Y LUBRICANTES S.A. DE C.V.","XAXX010101000","CARR CATARINA ATEMAJAC, KM. 32.5","ATEMAJAC DE BRIZUELA,JAL.",45790,151,"BA PARTICIPACIONES 8760","Transf N° 0010418029","PAGO DE COMBUSTIBLE DE LA SEMANA DEL 20 AL 26 DE MAYO PARA VEHICULOS DEL SERVICIO PUBLICO MPAL. DE ACUERDO A COMPROBANTES ADJUNTOS.",12874,"2020-05-14","95A15"]
[286,"ATEMAJAC GASOLINERA Y LUBRICANTES S.A. DE C.V.","XAXX010101000","CARR CATARINA ATEMAJAC, KM. 32.5","ATEMAJAC DE BRIZUELA,JAL.",45790,151,"BA PARTICIPACIONES 8760","Transf N° 0010418029","PAGO DE COMBUSTIBLE DE LA SEMANA DEL 20 AL 26 DE MAYO PARA VEHICULOS DEL SERVICIO PUBLICO MPAL. DE ACUERDO A COMPROBANTES ADJUNTOS.",12810,"2020-05-14","4784F"]
[287,"ATEMAJAC GASOLINERA Y LUBRICANTES S.A. DE C.V.","XAXX010101000","CARR CATARINA ATEMAJAC, KM. 32.5","ATEMAJAC DE BRIZUELA,JAL.",45790,151,"BA PARTICIPACIONES 8760","Transf N° 0010418029","PAGO DE COMBUSTIBLE DE LA SEMANA DEL 20 AL 26 DE MAYO PARA VEHICULOS DEL SERVICIO PUBLICO MPAL. DE ACUERDO A COMPROBANTES ADJUNTOS.",7130,"2020-05-14","908F1"]
[288,"ATEMAJAC GASOLINERA Y LUBRICANTES S.A. DE C.V.","XAXX010101000","CARR CATARINA ATEMAJAC, KM. 32.5","ATEMAJAC DE BRIZUELA,JAL.",45790,151,"BA PARTICIPACIONES 8760","Transf N° 0010418029","PAGO DE COMBUSTIBLE DE LA SEMANA DEL 20 AL 26 DE MAYO PARA VEHICULOS DEL SERVICIO PUBLICO MPAL. DE ACUERDO A COMPROBANTES ADJUNTOS.",1037,"2020-05-14","59CD0"]
[289,"ATEMAJAC GASOLINERA Y LUBRICANTES S.A. DE C.V.","XAXX010101000","CARR CATARINA ATEMAJAC, KM. 32.5","ATEMAJAC DE BRIZUELA,JAL.",45790,151,"BA PARTICIPACIONES 8760","Transf N° 0010418029","PAGO DE COMBUSTIBLE DE LA SEMANA DEL 20 AL 26 DE MAYO PARA VEHICULOS DEL SERVICIO PUBLICO MPAL. DE ACUERDO A COMPROBANTES ADJUNTOS.",4352,"2020-05-14",12161]
[290,"ATEMAJAC GASOLINERA Y LUBRICANTES S.A. DE C.V.","XAXX010101000","CARR CATARINA ATEMAJAC, KM. 32.5","ATEMAJAC DE BRIZUELA,JAL.",45790,151,"BA PARTICIPACIONES 8760","Transf N° 0010418029","PAGO DE COMBUSTIBLE DE LA SEMANA DEL 20 AL 26 DE MAYO PARA VEHICULOS DEL SERVICIO PUBLICO MPAL. DE ACUERDO A COMPROBANTES ADJUNTOS.",3960,"2020-05-14","FDE05"]
[291,"ATEMAJAC GASOLINERA Y LUBRICANTES S.A. DE C.V.","XAXX010101000","CARR CATARINA ATEMAJAC, KM. 32.5","ATEMAJAC DE BRIZUELA,JAL.",45790,151,"BA PARTICIPACIONES 8760","Transf N° 0010418029","PAGO DE COMBUSTIBLE DE LA SEMANA DEL 20 AL 26 DE MAYO PARA VEHICULOS DEL SERVICIO PUBLICO MPAL. DE ACUERDO A COMPROBANTES ADJUNTOS.",7060,"2020-05-14","B07E2"]
[292,"ATEMAJAC GASOLINERA Y LUBRICANTES S.A. DE C.V.","XAXX010101000","CARR CATARINA ATEMAJAC, KM. 32.5","ATEMAJAC DE BRIZUELA,JAL.",45790,111,"BA TESORERIA 6536","Transf N° 0067261015","PAGO DE COMBUSTIBLE PARA VEHICULOS DE SERVICIO PUBLICO MPAL DE LA SEMANA DEL 11 AL 17 DE MAYO 2020. DE ACUERDO A COMPROBANTE ADJUNTO.",5875,"2020-05-27","9221D"]
[293,"ATEMAJAC GASOLINERA Y LUBRICANTES S.A. DE C.V.","XAXX010101000","CARR CATARINA ATEMAJAC, KM. 32.5","ATEMAJAC DE BRIZUELA,JAL.",45790,111,"BA TESORERIA 6536","Transf N° 0067261015","PAGO DE COMBUSTIBLE PARA VEHICULOS DE SERVICIO PUBLICO MPAL DE LA SEMANA DEL 11 AL 17 DE MAYO 2020. DE ACUERDO A COMPROBANTE ADJUNTO.",1220,"2020-05-27","5CA32"]
[294,"ATEMAJAC GASOLINERA Y LUBRICANTES S.A. DE C.V.","XAXX010101000","CARR CATARINA ATEMAJAC, KM. 32.5","ATEMAJAC DE BRIZUELA,JAL.",45790,111,"BA TESORERIA 6536","Transf N° 0067261015","PAGO DE COMBUSTIBLE PARA VEHICULOS DE SERVICIO PUBLICO MPAL DE LA SEMANA DEL 11 AL 17 DE MAYO 2020. DE ACUERDO A COMPROBANTE ADJUNTO.",12100,"2020-05-27","8CE1C"]
[295,"ATEMAJAC GASOLINERA Y LUBRICANTES S.A. DE C.V.","XAXX010101000","CARR CATARINA ATEMAJAC, KM. 32.5","ATEMAJAC DE BRIZUELA,JAL.",45790,111,"BA TESORERIA 6536","Transf N° 0067261015","PAGO DE COMBUSTIBLE PARA VEHICULOS DE SERVICIO PUBLICO MPAL DE LA SEMANA DEL 11 AL 17 DE MAYO 2020. DE ACUERDO A COMPROBANTE ADJUNTO.",4090,"2020-05-27","2483B"]
[296,"ATEMAJAC GASOLINERA Y LUBRICANTES S.A. DE C.V.","XAXX010101000","CARR CATARINA ATEMAJAC, KM. 32.5","ATEMAJAC DE BRIZUELA,JAL.",45790,111,"BA TESORERIA 6536","Transf N° 0067261015","PAGO DE COMBUSTIBLE PARA VEHICULOS DE SERVICIO PUBLICO MPAL DE LA SEMANA DEL 11 AL 17 DE MAYO 2020. DE ACUERDO A COMPROBANTE ADJUNTO.",1200,"2020-05-27","560C3"]
[297,"ATEMAJAC GASOLINERA Y LUBRICANTES S.A. DE C.V.","XAXX010101000","CARR CATARINA ATEMAJAC, KM. 32.5","ATEMAJAC DE BRIZUELA,JAL.",45790,111,"BA TESORERIA 6536","Transf N° 0067261015","PAGO DE COMBUSTIBLE PARA VEHICULOS DE SERVICIO PUBLICO MPAL DE LA SEMANA DEL 11 AL 17 DE MAYO 2020. DE ACUERDO A COMPROBANTE ADJUNTO.",9065,"2020-05-27",55210]
[298,"ATEMAJAC GASOLINERA Y LUBRICANTES S.A. DE C.V.","XAXX010101000","CARR CATARINA ATEMAJAC, KM. 32.5","ATEMAJAC DE BRIZUELA,JAL.",45790,111,"BA TESORERIA 6536","Transf N° 0067261015","PAGO DE COMBUSTIBLE PARA VEHICULOS DE SERVICIO PUBLICO MPAL DE LA SEMANA DEL 11 AL 17 DE MAYO 2020. DE ACUERDO A COMPROBANTE ADJUNTO.",8358,"2020-05-27",2.8999999999999998E+87]
[299,"ATEMAJAC GASOLINERA Y LUBRICANTES S.A. DE C.V.","XAXX010101000","CARR CATARINA ATEMAJAC, KM. 32.5","ATEMAJAC DE BRIZUELA,JAL.",45790,111,"BA TESORERIA 6536","Transf N° 0067261015","PAGO DE COMBUSTIBLE PARA VEHICULOS DE SERVICIO PUBLICO MPAL DE LA SEMANA DEL 11 AL 17 DE MAYO 2020. DE ACUERDO A COMPROBANTE ADJUNTO.",3715,"2020-05-27",6485]
[300,"ATEMAJAC GASOLINERA Y LUBRICANTES S.A. DE C.V.","XAXX010101000","CARR CATARINA ATEMAJAC, KM. 32.5","ATEMAJAC DE BRIZUELA,JAL.",45790,111,"BA TESORERIA 6536","Transf N° 0042905059","PAGO DE COMBUSTIBLE PARA VEHICULOS DE SERVICIO PUBLICO MPAL DE LA SEMANA DEL 4 AL 10 DE MAYO 2020. DE ACUERDO A COMPROBANTE ADJUNTO.",2000,"2020-05-26","3825C"]
[301,"ATEMAJAC GASOLINERA Y LUBRICANTES S.A. DE C.V.","XAXX010101000","CARR CATARINA ATEMAJAC, KM. 32.5","ATEMAJAC DE BRIZUELA,JAL.",45790,111,"BA TESORERIA 6536","Transf N° 0042905059","PAGO DE COMBUSTIBLE PARA VEHICULOS DE SERVICIO PUBLICO MPAL DE LA SEMANA DEL 4 AL 10 DE MAYO 2020. DE ACUERDO A COMPROBANTE ADJUNTO.",5410,"2020-05-26","0A03A"]
[302,"ATEMAJAC GASOLINERA Y LUBRICANTES S.A. DE C.V.","XAXX010101000","CARR CATARINA ATEMAJAC, KM. 32.5","ATEMAJAC DE BRIZUELA,JAL.",45790,111,"BA TESORERIA 6536","Transf N° 0042905059","PAGO DE COMBUSTIBLE PARA VEHICULOS DE SERVICIO PUBLICO MPAL DE LA SEMANA DEL 4 AL 10 DE MAYO 2020. DE ACUERDO A COMPROBANTE ADJUNTO.",5606,"2020-05-26",12447]
[303,"ATEMAJAC GASOLINERA Y LUBRICANTES S.A. DE C.V.","XAXX010101000","CARR CATARINA ATEMAJAC, KM. 32.5","ATEMAJAC DE BRIZUELA,JAL.",45790,111,"BA TESORERIA 6536","Transf N° 0042905059","PAGO DE COMBUSTIBLE PARA VEHICULOS DE SERVICIO PUBLICO MPAL DE LA SEMANA DEL 4 AL 10 DE MAYO 2020. DE ACUERDO A COMPROBANTE ADJUNTO.",1230,"2020-05-26",40487]
[304,"ATEMAJAC GASOLINERA Y LUBRICANTES S.A. DE C.V.","XAXX010101000","CARR CATARINA ATEMAJAC, KM. 32.5","ATEMAJAC DE BRIZUELA,JAL.",45790,111,"BA TESORERIA 6536","Transf N° 0042905059","PAGO DE COMBUSTIBLE PARA VEHICULOS DE SERVICIO PUBLICO MPAL DE LA SEMANA DEL 4 AL 10 DE MAYO 2020. DE ACUERDO A COMPROBANTE ADJUNTO.",13650,"2020-05-26","91CBD"]
[305,"ATEMAJAC GASOLINERA Y LUBRICANTES S.A. DE C.V.","XAXX010101000","CARR CATARINA ATEMAJAC, KM. 32.5","ATEMAJAC DE BRIZUELA,JAL.",45790,111,"BA TESORERIA 6536","Transf N° 0042905059","PAGO DE COMBUSTIBLE PARA VEHICULOS DE SERVICIO PUBLICO MPAL DE LA SEMANA DEL 4 AL 10 DE MAYO 2020. DE ACUERDO A COMPROBANTE ADJUNTO.",3440,"2020-05-26","FD768"]
[306,"ATEMAJAC GASOLINERA Y LUBRICANTES S.A. DE C.V.","XAXX010101000","CARR CATARINA ATEMAJAC, KM. 32.5","ATEMAJAC DE BRIZUELA,JAL.",45790,111,"BA TESORERIA 6536","Transf N° 0042905059","PAGO DE COMBUSTIBLE PARA VEHICULOS DE SERVICIO PUBLICO MPAL DE LA SEMANA DEL 4 AL 10 DE MAYO 2020. DE ACUERDO A COMPROBANTE ADJUNTO.",1400,"2020-05-26",8.9000000000000006E+95]
[307,"ATEMAJAC GASOLINERA Y LUBRICANTES S.A. DE C.V.","XAXX010101000","CARR CATARINA ATEMAJAC, KM. 32.5","ATEMAJAC DE BRIZUELA,JAL.",45790,111,"BA TESORERIA 6536","Transf N° 0042905059","PAGO DE COMBUSTIBLE PARA VEHICULOS DE SERVICIO PUBLICO MPAL DE LA SEMANA DEL 4 AL 10 DE MAYO 2020. DE ACUERDO A COMPROBANTE ADJUNTO.",13450,"2020-05-26","184C3"]
[308,"ATEMAJAC GASOLINERA Y LUBRICANTES S.A. DE C.V.","XAXX010101000","CARR CATARINA ATEMAJAC, KM. 32.5","ATEMAJAC DE BRIZUELA,JAL.",45790,111,"BA TESORERIA 6536","Transf N° 0042905059","PAGO DE COMBUSTIBLE PARA VEHICULOS DE SERVICIO PUBLICO MPAL DE LA SEMANA DEL 4 AL 10 DE MAYO 2020. DE ACUERDO A COMPROBANTE ADJUNTO.",1190,"2020-05-26","66A911"]
[309,"ATEMAJAC GASOLINERA Y LUBRICANTES S.A. DE C.V.","XAXX010101000","CARR CATARINA ATEMAJAC, KM. 32.5","ATEMAJAC DE BRIZUELA,JAL.",45790,111,"BA TESORERIA 6536","Transf N° 0042905059","PAGO DE COMBUSTIBLE PARA VEHICULOS DE SERVICIO PUBLICO MPAL DE LA SEMANA DEL 4 AL 10 DE MAYO 2020. DE ACUERDO A COMPROBANTE ADJUNTO.",7315,"2020-05-26","CA09C"]
[310,"ATEMAJAC GASOLINERA Y LUBRICANTES S.A. DE C.V.","XAXX010101000","CARR CATARINA ATEMAJAC, KM. 32.5","ATEMAJAC DE BRIZUELA,JAL.",45790,111,"BA TESORERIA 6536","Transf N° 0062838077","PAGO DE COMBUSTIBLE PARA VEHICULOS DE SERVICIO PUBLICO MPAL DE LA SEMANA DEL 27 DE ABRIL AL 3 DE MAYO 2020. DE ACUERDO A COMPROBANTE ADJUNTO.",3510,"2020-05-20","52A68"]
[311,"ATEMAJAC GASOLINERA Y LUBRICANTES S.A. DE C.V.","XAXX010101000","CARR CATARINA ATEMAJAC, KM. 32.5","ATEMAJAC DE BRIZUELA,JAL.",45790,111,"BA TESORERIA 6536","Transf N° 0062838077","PAGO DE COMBUSTIBLE PARA VEHICULOS DE SERVICIO PUBLICO MPAL DE LA SEMANA DEL 27 DE ABRIL AL 3 DE MAYO 2020. DE ACUERDO A COMPROBANTE ADJUNTO.",11400,"2020-05-20","5E3C4"]
[312,"ATEMAJAC GASOLINERA Y LUBRICANTES S.A. DE C.V.","XAXX010101000","CARR CATARINA ATEMAJAC, KM. 32.5","ATEMAJAC DE BRIZUELA,JAL.",45790,111,"BA TESORERIA 6536","Transf N° 0062838077","PAGO DE COMBUSTIBLE PARA VEHICULOS DE SERVICIO PUBLICO MPAL DE LA SEMANA DEL 27 DE ABRIL AL 3 DE MAYO 2020. DE ACUERDO A COMPROBANTE ADJUNTO.",14262,"2020-05-20","30DC3"]
[313,"ATEMAJAC GASOLINERA Y LUBRICANTES S.A. DE C.V.","XAXX010101000","CARR CATARINA ATEMAJAC, KM. 32.5","ATEMAJAC DE BRIZUELA,JAL.",45790,111,"BA TESORERIA 6536","Transf N° 0062838077","PAGO DE COMBUSTIBLE PARA VEHICULOS DE SERVICIO PUBLICO MPAL DE LA SEMANA DEL 27 DE ABRIL AL 3 DE MAYO 2020. DE ACUERDO A COMPROBANTE ADJUNTO.",4275,"2020-05-20","9A817"]
[314,"ATEMAJAC GASOLINERA Y LUBRICANTES S.A. DE C.V.","XAXX010101000","CARR CATARINA ATEMAJAC, KM. 32.5","ATEMAJAC DE BRIZUELA,JAL.",45790,111,"BA TESORERIA 6536","Transf N° 0062838077","PAGO DE COMBUSTIBLE PARA VEHICULOS DE SERVICIO PUBLICO MPAL DE LA SEMANA DEL 27 DE ABRIL AL 3 DE MAYO 2020. DE ACUERDO A COMPROBANTE ADJUNTO.",1170,"2020-05-20","8F8BB"]
[315,"ATEMAJAC GASOLINERA Y LUBRICANTES S.A. DE C.V.","XAXX010101000","CARR CATARINA ATEMAJAC, KM. 32.5","ATEMAJAC DE BRIZUELA,JAL.",45790,111,"BA TESORERIA 6536","Transf N° 0062838077","PAGO DE COMBUSTIBLE PARA VEHICULOS DE SERVICIO PUBLICO MPAL DE LA SEMANA DEL 27 DE ABRIL AL 3 DE MAYO 2020. DE ACUERDO A COMPROBANTE ADJUNTO.",1480,"2020-05-20",5617]
[316,"ATEMAJAC GASOLINERA Y LUBRICANTES S.A. DE C.V.","XAXX010101000","CARR CATARINA ATEMAJAC, KM. 32.5","ATEMAJAC DE BRIZUELA,JAL.",45790,111,"BA TESORERIA 6536","Transf N° 0062838077","PAGO DE COMBUSTIBLE PARA VEHICULOS DE SERVICIO PUBLICO MPAL DE LA SEMANA DEL 27 DE ABRIL AL 3 DE MAYO 2020. DE ACUERDO A COMPROBANTE ADJUNTO.",4660,"2020-05-20","3E1DF"]
[317,"ATEMAJAC GASOLINERA Y LUBRICANTES S.A. DE C.V.","XAXX010101000","CARR CATARINA ATEMAJAC, KM. 32.5","ATEMAJAC DE BRIZUELA,JAL.",45790,111,"BA TESORERIA 6536","Transf N° 0062838077","PAGO DE COMBUSTIBLE PARA VEHICULOS DE SERVICIO PUBLICO MPAL DE LA SEMANA DEL 27 DE ABRIL AL 3 DE MAYO 2020. DE ACUERDO A COMPROBANTE ADJUNTO.",2440,"2020-05-20","5A08C"]
[318,"ATEMAJAC GASOLINERA Y LUBRICANTES S.A. DE C.V.","XAXX010101000","CARR CATARINA ATEMAJAC, KM. 32.5","ATEMAJAC DE BRIZUELA,JAL.",45790,111,"BA TESORERIA 6536","Transf N° 0062838077","PAGO DE COMBUSTIBLE PARA VEHICULOS DE SERVICIO PUBLICO MPAL DE LA SEMANA DEL 27 DE ABRIL AL 3 DE MAYO 2020. DE ACUERDO A COMPROBANTE ADJUNTO.",4365,"2020-05-20","314CF"]
[319,"ATEMAJAC GASOLINERA Y LUBRICANTES S.A. DE C.V.","XAXX010101000","CARR CATARINA ATEMAJAC, KM. 32.5","ATEMAJAC DE BRIZUELA,JAL.",45790,111,"BA TESORERIA 6536","Transf N° 0026207031","PAGO DE COMBUSTIBLE PARA VEHICULOS DE SERVICIO PUBLICO MPAL DE LA SEMANA DEL 13 AL 19 DE ABRIL 2020. DE ACUERDO A COMPROBANTE ADJUNTO.",4000,"2020-05-08","B7506"]
[320,"ATEMAJAC GASOLINERA Y LUBRICANTES S.A. DE C.V.","XAXX010101000","CARR CATARINA ATEMAJAC, KM. 32.5","ATEMAJAC DE BRIZUELA,JAL.",45790,111,"BA TESORERIA 6536","Transf N° 0026207031","PAGO DE COMBUSTIBLE PARA VEHICULOS DE SERVICIO PUBLICO MPAL DE LA SEMANA DEL 13 AL 19 DE ABRIL 2020. DE ACUERDO A COMPROBANTE ADJUNTO.",10001,"2020-05-08","8C776"]
[321,"ATEMAJAC GASOLINERA Y LUBRICANTES S.A. DE C.V.","XAXX010101000","CARR CATARINA ATEMAJAC, KM. 32.5","ATEMAJAC DE BRIZUELA,JAL.",45790,111,"BA TESORERIA 6536","Transf N° 0026207031","PAGO DE COMBUSTIBLE PARA VEHICULOS DE SERVICIO PUBLICO MPAL DE LA SEMANA DEL 13 AL 19 DE ABRIL 2020. DE ACUERDO A COMPROBANTE ADJUNTO.",11350,"2020-05-08",988000000000]
[322,"ATEMAJAC GASOLINERA Y LUBRICANTES S.A. DE C.V.","XAXX010101000","CARR CATARINA ATEMAJAC, KM. 32.5","ATEMAJAC DE BRIZUELA,JAL.",45790,111,"BA TESORERIA 6536","Transf N° 0026207031","PAGO DE COMBUSTIBLE PARA VEHICULOS DE SERVICIO PUBLICO MPAL DE LA SEMANA DEL 13 AL 19 DE ABRIL 2020. DE ACUERDO A COMPROBANTE ADJUNTO.",5402,"2020-05-08",25853]
[323,"ATEMAJAC GASOLINERA Y LUBRICANTES S.A. DE C.V.","XAXX010101000","CARR CATARINA ATEMAJAC, KM. 32.5","ATEMAJAC DE BRIZUELA,JAL.",45790,111,"BA TESORERIA 6536","Transf N° 0026207031","PAGO DE COMBUSTIBLE PARA VEHICULOS DE SERVICIO PUBLICO MPAL DE LA SEMANA DEL 13 AL 19 DE ABRIL 2020. DE ACUERDO A COMPROBANTE ADJUNTO.",1765,"2020-05-08","6396F"]
[324,"ATEMAJAC GASOLINERA Y LUBRICANTES S.A. DE C.V.","XAXX010101000","CARR CATARINA ATEMAJAC, KM. 32.5","ATEMAJAC DE BRIZUELA,JAL.",45790,111,"BA TESORERIA 6536","Transf N° 0026207031","PAGO DE COMBUSTIBLE PARA VEHICULOS DE SERVICIO PUBLICO MPAL DE LA SEMANA DEL 13 AL 19 DE ABRIL 2020. DE ACUERDO A COMPROBANTE ADJUNTO.",4010,"2020-05-08","F36EA"]
[325,"ATEMAJAC GASOLINERA Y LUBRICANTES S.A. DE C.V.","XAXX010101000","CARR CATARINA ATEMAJAC, KM. 32.5","ATEMAJAC DE BRIZUELA,JAL.",45790,111,"BA TESORERIA 6536","Transf N° 0026207031","PAGO DE COMBUSTIBLE PARA VEHICULOS DE SERVICIO PUBLICO MPAL DE LA SEMANA DEL 13 AL 19 DE ABRIL 2020. DE ACUERDO A COMPROBANTE ADJUNTO.",1500,"2020-05-08","BF84D"]
[326,"ATEMAJAC GASOLINERA Y LUBRICANTES S.A. DE C.V.","XAXX010101000","CARR CATARINA ATEMAJAC, KM. 32.5","ATEMAJAC DE BRIZUELA,JAL.",45790,111,"BA TESORERIA 6536","Transf N° 0026207031","PAGO DE COMBUSTIBLE PARA VEHICULOS DE SERVICIO PUBLICO MPAL DE LA SEMANA DEL 13 AL 19 DE ABRIL 2020. DE ACUERDO A COMPROBANTE ADJUNTO.",1020,"2020-05-08","FE639"]
[327,"ATEMAJAC GASOLINERA Y LUBRICANTES S.A. DE C.V.","XAXX010101000","CARR CATARINA ATEMAJAC, KM. 32.5","ATEMAJAC DE BRIZUELA,JAL.",45790,111,"BA TESORERIA 6536","Transf N° 0026207031","PAGO DE COMBUSTIBLE PARA VEHICULOS DE SERVICIO PUBLICO MPAL DE LA SEMANA DEL 13 AL 19 DE ABRIL 2020. DE ACUERDO A COMPROBANTE ADJUNTO.",1180,"2020-05-08","3A7B6"]
[328,"ATEMAJAC GASOLINERA Y LUBRICANTES S.A. DE C.V.","XAXX010101000","CARR CATARINA ATEMAJAC, KM. 32.5","ATEMAJAC DE BRIZUELA,JAL.",45790,111,"BA TESORERIA 6536","Transf N° 0019003039","PAGO DE COMBUSTIBLE PARA VEHICULOS DEL SERVICIO PUBLICO MUNICIPAL DE LA SEMANA DEL 30 DE DICIEMBRE 2019 AL 05 DE ENERO 2020. DE ACUERDO A COMPROBANTES ADJUNTOS.",36805,"2020-01-08","0S7FC"]
[329,"ATEMAJAC GASOLINERA Y LUBRICANTES S.A. DE C.V.","XAXX010101000","CARR CATARINA ATEMAJAC, KM. 32.5","ATEMAJAC DE BRIZUELA,JAL.",45790,111,"BA TESORERIA 6536","Transf N° 0019003039","PAGO DE COMBUSTIBLE PARA VEHICULOS DEL SERVICIO PUBLICO MUNICIPAL DE LA SEMANA DEL 30 DE DICIEMBRE 2019 AL 05 DE ENERO 2020. DE ACUERDO A COMPROBANTES ADJUNTOS.",2718,"2020-01-08","DA686"]
[330,"ATEMAJAC GASOLINERA Y LUBRICANTES S.A. DE C.V.","XAXX010101000","CARR CATARINA ATEMAJAC, KM. 32.5","ATEMAJAC DE BRIZUELA,JAL.",45790,151,"BA PARTICIPACIONES 8760","Transf N° 008519032","PAGO DE COMBUSTIBLE PARA VEHICULOS PARA EL SERVICIO PUBLICO MUNICIPAL DE LA SEMANA DEL 03 AL 09 DE FEBRERO 2020. DE ACUERDO A COMPRONTES ADJUNTOS.",3000.02,"2020-02-14","32DD6"]
[331,"ATEMAJAC GASOLINERA Y LUBRICANTES S.A. DE C.V.","XAXX010101000","CARR CATARINA ATEMAJAC, KM. 32.5","ATEMAJAC DE BRIZUELA,JAL.",45790,151,"BA PARTICIPACIONES 8760","Transf N° 008519032","PAGO DE COMBUSTIBLE PARA VEHICULOS PARA EL SERVICIO PUBLICO MUNICIPAL DE LA SEMANA DEL 03 AL 09 DE FEBRERO 2020. DE ACUERDO A COMPRONTES ADJUNTOS.",1359,"2020-02-14","BCA72"]
[332,"ATEMAJAC GASOLINERA Y LUBRICANTES S.A. DE C.V.","XAXX010101000","CARR CATARINA ATEMAJAC, KM. 32.5","ATEMAJAC DE BRIZUELA,JAL.",45790,151,"BA PARTICIPACIONES 8760","Transf N° 008519032","PAGO DE COMBUSTIBLE PARA VEHICULOS PARA EL SERVICIO PUBLICO MUNICIPAL DE LA SEMANA DEL 03 AL 09 DE FEBRERO 2020. DE ACUERDO A COMPRONTES ADJUNTOS.",8632,"2020-02-14","5A24A"]
[333,"ATEMAJAC GASOLINERA Y LUBRICANTES S.A. DE C.V.","XAXX010101000","CARR CATARINA ATEMAJAC, KM. 32.5","ATEMAJAC DE BRIZUELA,JAL.",45790,151,"BA PARTICIPACIONES 8760","Transf N° 008519032","PAGO DE COMBUSTIBLE PARA VEHICULOS PARA EL SERVICIO PUBLICO MUNICIPAL DE LA SEMANA DEL 03 AL 09 DE FEBRERO 2020. DE ACUERDO A COMPRONTES ADJUNTOS.",8914,"2020-02-14","BF1D6"]
[334,"ATEMAJAC GASOLINERA Y LUBRICANTES S.A. DE C.V.","XAXX010101000","CARR CATARINA ATEMAJAC, KM. 32.5","ATEMAJAC DE BRIZUELA,JAL.",45790,151,"BA PARTICIPACIONES 8760","Transf N° 008519032","PAGO DE COMBUSTIBLE PARA VEHICULOS PARA EL SERVICIO PUBLICO MUNICIPAL DE LA SEMANA DEL 03 AL 09 DE FEBRERO 2020. DE ACUERDO A COMPRONTES ADJUNTOS.",3600,"2020-02-14","A0D42"]
[335,"ATEMAJAC GASOLINERA Y LUBRICANTES S.A. DE C.V.","XAXX010101000","CARR CATARINA ATEMAJAC, KM. 32.5","ATEMAJAC DE BRIZUELA,JAL.",45790,151,"BA PARTICIPACIONES 8760","Transf N° 008519032","PAGO DE COMBUSTIBLE PARA VEHICULOS PARA EL SERVICIO PUBLICO MUNICIPAL DE LA SEMANA DEL 03 AL 09 DE FEBRERO 2020. DE ACUERDO A COMPRONTES ADJUNTOS.",4027.4,"2020-02-14","B0F45"]
[336,"ATEMAJAC GASOLINERA Y LUBRICANTES S.A. DE C.V.","XAXX010101000","CARR CATARINA ATEMAJAC, KM. 32.5","ATEMAJAC DE BRIZUELA,JAL.",45790,151,"BA PARTICIPACIONES 8760","Transf N° 008519032","PAGO DE COMBUSTIBLE PARA VEHICULOS PARA EL SERVICIO PUBLICO MUNICIPAL DE LA SEMANA DEL 03 AL 09 DE FEBRERO 2020. DE ACUERDO A COMPRONTES ADJUNTOS.",7990,"2020-02-14","878D3"]
[337,"ATEMAJAC GASOLINERA Y LUBRICANTES S.A. DE C.V.","XAXX010101000","CARR CATARINA ATEMAJAC, KM. 32.5","ATEMAJAC DE BRIZUELA,JAL.",45790,151,"BA PARTICIPACIONES 8760","Transf N° 008519032","PAGO DE COMBUSTIBLE PARA VEHICULOS PARA EL SERVICIO PUBLICO MUNICIPAL DE LA SEMANA DEL 03 AL 09 DE FEBRERO 2020. DE ACUERDO A COMPRONTES ADJUNTOS.",3592.2,"2020-02-14","6FB5B"]
[338,"ATEMAJAC GASOLINERA Y LUBRICANTES S.A. DE C.V.","XAXX010101000","CARR CATARINA ATEMAJAC, KM. 32.5","ATEMAJAC DE BRIZUELA,JAL.",45790,151,"BA PARTICIPACIONES 8760","Transf N° 008519032","PAGO DE COMBUSTIBLE PARA VEHICULOS PARA EL SERVICIO PUBLICO MUNICIPAL DE LA SEMANA DEL 03 AL 09 DE FEBRERO 2020. DE ACUERDO A COMPRONTES ADJUNTOS.",3750.2,"2020-02-14","CD38C"]
[339,"ATEMAJAC GASOLINERA Y LUBRICANTES S.A. DE C.V.","XAXX010101000","CARR CATARINA ATEMAJAC, KM. 32.5","ATEMAJAC DE BRIZUELA,JAL.",45790,151,"BA PARTICIPACIONES 8760","Transf N° 008519032","PAGO DE COMBUSTIBLE PARA VEHICULOS PARA EL SERVICIO PUBLICO MUNICIPAL DE LA SEMANA DEL 03 AL 09 DE FEBRERO 2020. DE ACUERDO A COMPRONTES ADJUNTOS.",15140,"2020-02-14",63865]
[340,"ATEMAJAC GASOLINERA Y LUBRICANTES S.A. DE C.V.","XAXX010101000","CARR CATARINA ATEMAJAC, KM. 32.5","ATEMAJAC DE BRIZUELA,JAL.",45790,151,"BA PARTICIPACIONES 8760","Transf N° 008519032","PAGO DE COMBUSTIBLE PARA VEHICULOS PARA EL SERVICIO PUBLICO MUNICIPAL DE LA SEMANA DEL 03 AL 09 DE FEBRERO 2020. DE ACUERDO A COMPRONTES ADJUNTOS.",1917,"2020-02-14",2374]
[341,"ATEMAJAC GASOLINERA Y LUBRICANTES S.A. DE C.V.","XAXX010101000","CARR CATARINA ATEMAJAC, KM. 32.5","ATEMAJAC DE BRIZUELA,JAL.",45790,151,"BA PARTICIPACIONES 8760","Transf N° 0060265054","PAGO DE COMBUSTIBLE PARA VEHICULOS PARA EL SERVICIO PUBLICO MPAL. DE LA SEMANA DEL 27 DE ENERO AL 02 DE FEBRERO 2020. DE ACUERDO A COMPROBANTES ADJUNTOS.",5826,"2020-02-07","DE2F2"]
[342,"ATEMAJAC GASOLINERA Y LUBRICANTES S.A. DE C.V.","XAXX010101000","CARR CATARINA ATEMAJAC, KM. 32.5","ATEMAJAC DE BRIZUELA,JAL.",45790,151,"BA PARTICIPACIONES 8760","Transf N° 0060265054","PAGO DE COMBUSTIBLE PARA VEHICULOS PARA EL SERVICIO PUBLICO MPAL. DE LA SEMANA DEL 27 DE ENERO AL 02 DE FEBRERO 2020. DE ACUERDO A COMPROBANTES ADJUNTOS.",3001.1,"2020-02-07","8F68B"]
[343,"ATEMAJAC GASOLINERA Y LUBRICANTES S.A. DE C.V.","XAXX010101000","CARR CATARINA ATEMAJAC, KM. 32.5","ATEMAJAC DE BRIZUELA,JAL.",45790,151,"BA PARTICIPACIONES 8760","Transf N° 0060265054","PAGO DE COMBUSTIBLE PARA VEHICULOS PARA EL SERVICIO PUBLICO MPAL. DE LA SEMANA DEL 27 DE ENERO AL 02 DE FEBRERO 2020. DE ACUERDO A COMPROBANTES ADJUNTOS.",5635,"2020-02-07","6206E"]
[344,"ATEMAJAC GASOLINERA Y LUBRICANTES S.A. DE C.V.","XAXX010101000","CARR CATARINA ATEMAJAC, KM. 32.5","ATEMAJAC DE BRIZUELA,JAL.",45790,151,"BA PARTICIPACIONES 8760","Transf N° 0060265054","PAGO DE COMBUSTIBLE PARA VEHICULOS PARA EL SERVICIO PUBLICO MPAL. DE LA SEMANA DEL 27 DE ENERO AL 02 DE FEBRERO 2020. DE ACUERDO A COMPROBANTES ADJUNTOS.",3578,"2020-02-07","96FBA"]
[345,"ATEMAJAC GASOLINERA Y LUBRICANTES S.A. DE C.V.","XAXX010101000","CARR CATARINA ATEMAJAC, KM. 32.5","ATEMAJAC DE BRIZUELA,JAL.",45790,151,"BA PARTICIPACIONES 8760","Transf N° 0060265054","PAGO DE COMBUSTIBLE PARA VEHICULOS PARA EL SERVICIO PUBLICO MPAL. DE LA SEMANA DEL 27 DE ENERO AL 02 DE FEBRERO 2020. DE ACUERDO A COMPROBANTES ADJUNTOS.",1730,"2020-02-07","A9FEC"]
[346,"ATEMAJAC GASOLINERA Y LUBRICANTES S.A. DE C.V.","XAXX010101000","CARR CATARINA ATEMAJAC, KM. 32.5","ATEMAJAC DE BRIZUELA,JAL.",45790,151,"BA PARTICIPACIONES 8760","Transf N° 0060265054","PAGO DE COMBUSTIBLE PARA VEHICULOS PARA EL SERVICIO PUBLICO MPAL. DE LA SEMANA DEL 27 DE ENERO AL 02 DE FEBRERO 2020. DE ACUERDO A COMPROBANTES ADJUNTOS.",1065,"2020-02-07","870B9"]
[347,"ATEMAJAC GASOLINERA Y LUBRICANTES S.A. DE C.V.","XAXX010101000","CARR CATARINA ATEMAJAC, KM. 32.5","ATEMAJAC DE BRIZUELA,JAL.",45790,151,"BA PARTICIPACIONES 8760","Transf N° 0060265054","PAGO DE COMBUSTIBLE PARA VEHICULOS PARA EL SERVICIO PUBLICO MPAL. DE LA SEMANA DEL 27 DE ENERO AL 02 DE FEBRERO 2020. DE ACUERDO A COMPROBANTES ADJUNTOS.",8143.1,"2020-02-07",411]
[348,"ATEMAJAC GASOLINERA Y LUBRICANTES S.A. DE C.V.","XAXX010101000","CARR CATARINA ATEMAJAC, KM. 32.5","ATEMAJAC DE BRIZUELA,JAL.",45790,151,"BA PARTICIPACIONES 8760","Transf N° 0060265054","PAGO DE COMBUSTIBLE PARA VEHICULOS PARA EL SERVICIO PUBLICO MPAL. DE LA SEMANA DEL 27 DE ENERO AL 02 DE FEBRERO 2020. DE ACUERDO A COMPROBANTES ADJUNTOS.",13679,"2020-02-07","0D394"]
[349,"ATEMAJAC GASOLINERA Y LUBRICANTES S.A. DE C.V.","XAXX010101000","CARR CATARINA ATEMAJAC, KM. 32.5","ATEMAJAC DE BRIZUELA,JAL.",45790,151,"BA PARTICIPACIONES 8760","Transf N° 0060265054","PAGO DE COMBUSTIBLE PARA VEHICULOS PARA EL SERVICIO PUBLICO MPAL. DE LA SEMANA DEL 27 DE ENERO AL 02 DE FEBRERO 2020. DE ACUERDO A COMPROBANTES ADJUNTOS.",17723,"2020-02-07","2C555"]
[350,"ATEMAJAC GASOLINERA Y LUBRICANTES S.A. DE C.V.","XAXX010101000","CARR CATARINA ATEMAJAC, KM. 32.5","ATEMAJAC DE BRIZUELA,JAL.",45790,111,"BA TESORERIA 6536","Cheque N° 2224","PAGO DE COMBUSTIBLE PARA AMBULANCIAS DE PROTECCION CIVIL DE ESTE AYUNTAMIENTO. DE ACUERDO A COMPROBANTE ADJUNTO.",1000,"2020-02-25","1E28E"]
[351,"ATEMAJAC GASOLINERA Y LUBRICANTES S.A. DE C.V.","XAXX010101000","CARR CATARINA ATEMAJAC, KM. 32.5","ATEMAJAC DE BRIZUELA,JAL.",45790,111,"BA TESORERIA 6536","Ref N° REGISTRO DE GA","PAGO DECOMBUSTIBLE CONSUMIDO EN SERVICIOS PUBLICOS SEMANA DEL 24 DE FEBRERO AL 2 DE MARZO 2020. ",10285,"2020-03-12",23408]
[352,"ATEMAJAC GASOLINERA Y LUBRICANTES S.A. DE C.V.","XAXX010101000","CARR CATARINA ATEMAJAC, KM. 32.5","ATEMAJAC DE BRIZUELA,JAL.",45790,111,"BA TESORERIA 6536","Ref N° REGISTRO DE GA","PAGO DECOMBUSTIBLE CONSUMIDO EN SERVICIOS PUBLICOS SEMANA DEL 24 DE FEBRERO AL 2 DE MARZO 2020. ",6966.01,"2020-03-12",77929]
[353,"ATEMAJAC GASOLINERA Y LUBRICANTES S.A. DE C.V.","XAXX010101000","CARR CATARINA ATEMAJAC, KM. 32.5","ATEMAJAC DE BRIZUELA,JAL.",45790,111,"BA TESORERIA 6536","Ref N° REGISTRO DE GA","PAGO DECOMBUSTIBLE CONSUMIDO EN SERVICIOS PUBLICOS SEMANA DEL 24 DE FEBRERO AL 2 DE MARZO 2020. ",4428,"2020-03-12","ce868"]
[354,"ATEMAJAC GASOLINERA Y LUBRICANTES S.A. DE C.V.","XAXX010101000","CARR CATARINA ATEMAJAC, KM. 32.5","ATEMAJAC DE BRIZUELA,JAL.",45790,111,"BA TESORERIA 6536","Ref N° REGISTRO DE GA","PAGO DECOMBUSTIBLE CONSUMIDO EN SERVICIOS PUBLICOS SEMANA DEL 24 DE FEBRERO AL 2 DE MARZO 2020. ",10005.02,"2020-03-12","7aa78"]
[355,"ATEMAJAC GASOLINERA Y LUBRICANTES S.A. DE C.V.","XAXX010101000","CARR CATARINA ATEMAJAC, KM. 32.5","ATEMAJAC DE BRIZUELA,JAL.",45790,111,"BA TESORERIA 6536","Ref N° REGISTRO DE GA","PAGO DECOMBUSTIBLE CONSUMIDO EN SERVICIOS PUBLICOS SEMANA DEL 24 DE FEBRERO AL 2 DE MARZO 2020. ",14108.2,"2020-03-12","3a044"]
[356,"ATEMAJAC GASOLINERA Y LUBRICANTES S.A. DE C.V.","XAXX010101000","CARR CATARINA ATEMAJAC, KM. 32.5","ATEMAJAC DE BRIZUELA,JAL.",45790,111,"BA TESORERIA 6536","Ref N° REGISTRO DE GA","PAGO DECOMBUSTIBLE CONSUMIDO EN SERVICIOS PUBLICOS SEMANA DEL 24 DE FEBRERO AL 2 DE MARZO 2020. ",12138,"2020-03-12","1903f"]
[357,"ATEMAJAC GASOLINERA Y LUBRICANTES S.A. DE C.V.","XAXX010101000","CARR CATARINA ATEMAJAC, KM. 32.5","ATEMAJAC DE BRIZUELA,JAL.",45790,111,"BA TESORERIA 6536","Ref N° REGISTRO DE GA","PAGO DECOMBUSTIBLE CONSUMIDO EN SERVICIOS PUBLICOS SEMANA DEL 24 DE FEBRERO AL 2 DE MARZO 2020. ",1065,"2020-03-12",10970]
[358,"ATEMAJAC GASOLINERA Y LUBRICANTES S.A. DE C.V.","XAXX010101000","CARR CATARINA ATEMAJAC, KM. 32.5","ATEMAJAC DE BRIZUELA,JAL.",45790,111,"BA TESORERIA 6536","Ref N° REGISTRO DE GA","PAGO DECOMBUSTIBLE CONSUMIDO EN SERVICIOS PUBLICOS SEMANA DEL 24 DE FEBRERO AL 2 DE MARZO 2020. ",6988,"2020-03-12","0DFB0"]
[359,"ATEMAJAC GASOLINERA Y LUBRICANTES S.A. DE C.V.","XAXX010101000","CARR CATARINA ATEMAJAC, KM. 32.5","ATEMAJAC DE BRIZUELA,JAL.",45790,111,"BA TESORERIA 6536","Ref N° REGISTRO DE GA","PAGO DECOMBUSTIBLE CONSUMIDO EN SERVICIOS PUBLICOS SEMANA DEL 24 DE FEBRERO AL 2 DE MARZO 2020. ",3772,"2020-03-12","2F413"]
[360,"ATEMAJAC GASOLINERA Y LUBRICANTES S.A. DE C.V.","XAXX010101000","CARR CATARINA ATEMAJAC, KM. 32.5","ATEMAJAC DE BRIZUELA,JAL.",45790,111,"BA TESORERIA 6536","Ref N° REGISTRO DE GA","PAGO DECOMBUSTIBLE CONSUMIDO EN SERVICIOS PUBLICOS SEMANA DEL 24 DE FEBRERO AL 2 DE MARZO 2020. ",1700,"2020-03-12","AAD39"]
[361,"ATEMAJAC GASOLINERA Y LUBRICANTES S.A. DE C.V.","XAXX010101000","CARR CATARINA ATEMAJAC, KM. 32.5","ATEMAJAC DE BRIZUELA,JAL.",45790,111,"BA TESORERIA 6536","Transf N° 0056063032","PAGO DE COMBUSTIBLE DIESEL PARA VEHICULOS DEL SERVICIO PUBLICO MPAL CORRESPONDIENTE A LA SEMANA DEL 6 AL 12 DE ABRIL 2020. DE ACUERDO A COMPROBANTE ADJUNTO",4617,"2020-04-29","8EB82"]
[362,"ATEMAJAC GASOLINERA Y LUBRICANTES S.A. DE C.V.","XAXX010101000","CARR CATARINA ATEMAJAC, KM. 32.5","ATEMAJAC DE BRIZUELA,JAL.",45790,111,"BA TESORERIA 6536","Transf N° 0056063032","PAGO DE COMBUSTIBLE DIESEL PARA VEHICULOS DEL SERVICIO PUBLICO MPAL CORRESPONDIENTE A LA SEMANA DEL 6 AL 12 DE ABRIL 2020. DE ACUERDO A COMPROBANTE ADJUNTO",6000,"2020-04-29","6149F"]
[363,"ATEMAJAC GASOLINERA Y LUBRICANTES S.A. DE C.V.","XAXX010101000","CARR CATARINA ATEMAJAC, KM. 32.5","ATEMAJAC DE BRIZUELA,JAL.",45790,111,"BA TESORERIA 6536","Transf N° 005606015","PAGO DE COMBUSTIBLE PARA VEHICULOS DEL SERVICIO PUBLICO MPAL CORRESPONDIENTE A LA SEMANA DEL 6 AL 12 DE ABRIL 2020. DE ACUERDO A COMPROBANTE ADJUNTO",3070,"2020-04-29","D4574"]
[364,"ATEMAJAC GASOLINERA Y LUBRICANTES S.A. DE C.V.","XAXX010101000","CARR CATARINA ATEMAJAC, KM. 32.5","ATEMAJAC DE BRIZUELA,JAL.",45790,111,"BA TESORERIA 6536","Transf N° 005606015","PAGO DE COMBUSTIBLE PARA VEHICULOS DEL SERVICIO PUBLICO MPAL CORRESPONDIENTE A LA SEMANA DEL 6 AL 12 DE ABRIL 2020. DE ACUERDO A COMPROBANTE ADJUNTO",2980,"2020-04-29","D068D"]
[365,"ATEMAJAC GASOLINERA Y LUBRICANTES S.A. DE C.V.","XAXX010101000","CARR CATARINA ATEMAJAC, KM. 32.5","ATEMAJAC DE BRIZUELA,JAL.",45790,111,"BA TESORERIA 6536","Transf N° 005606015","PAGO DE COMBUSTIBLE PARA VEHICULOS DEL SERVICIO PUBLICO MPAL CORRESPONDIENTE A LA SEMANA DEL 6 AL 12 DE ABRIL 2020. DE ACUERDO A COMPROBANTE ADJUNTO",5274,"2020-04-29","BC826"]
[366,"ATEMAJAC GASOLINERA Y LUBRICANTES S.A. DE C.V.","XAXX010101000","CARR CATARINA ATEMAJAC, KM. 32.5","ATEMAJAC DE BRIZUELA,JAL.",45790,111,"BA TESORERIA 6536","Transf N° 005606015","PAGO DE COMBUSTIBLE PARA VEHICULOS DEL SERVICIO PUBLICO MPAL CORRESPONDIENTE A LA SEMANA DEL 6 AL 12 DE ABRIL 2020. DE ACUERDO A COMPROBANTE ADJUNTO",1360,"2020-04-29","25B8B"]
[367,"ATEMAJAC GASOLINERA Y LUBRICANTES S.A. DE C.V.","XAXX010101000","CARR CATARINA ATEMAJAC, KM. 32.5","ATEMAJAC DE BRIZUELA,JAL.",45790,111,"BA TESORERIA 6536","Transf N° 005606015","PAGO DE COMBUSTIBLE PARA VEHICULOS DEL SERVICIO PUBLICO MPAL CORRESPONDIENTE A LA SEMANA DEL 6 AL 12 DE ABRIL 2020. DE ACUERDO A COMPROBANTE ADJUNTO",1150,"2020-04-29","17DFA"]
[368,"ATEMAJAC GASOLINERA Y LUBRICANTES S.A. DE C.V.","XAXX010101000","CARR CATARINA ATEMAJAC, KM. 32.5","ATEMAJAC DE BRIZUELA,JAL.",45790,111,"BA TESORERIA 6536","Transf N° 005606015","PAGO DE COMBUSTIBLE PARA VEHICULOS DEL SERVICIO PUBLICO MPAL CORRESPONDIENTE A LA SEMANA DEL 6 AL 12 DE ABRIL 2020. DE ACUERDO A COMPROBANTE ADJUNTO",6391,"2020-04-29","C58F4"]
[369,"ATEMAJAC GASOLINERA Y LUBRICANTES S.A. DE C.V.","XAXX010101000","CARR CATARINA ATEMAJAC, KM. 32.5","ATEMAJAC DE BRIZUELA,JAL.",45790,111,"BA TESORERIA 6536","Transf N° 005606015","PAGO DE COMBUSTIBLE PARA VEHICULOS DEL SERVICIO PUBLICO MPAL CORRESPONDIENTE A LA SEMANA DEL 6 AL 12 DE ABRIL 2020. DE ACUERDO A COMPROBANTE ADJUNTO",10535,"2020-04-29",62142]
[370,"ATEMAJAC GASOLINERA Y LUBRICANTES S.A. DE C.V.","XAXX010101000","CARR CATARINA ATEMAJAC, KM. 32.5","ATEMAJAC DE BRIZUELA,JAL.",45790,111,"BA TESORERIA 6536","Transf N° 005606015","PAGO DE COMBUSTIBLE PARA VEHICULOS DEL SERVICIO PUBLICO MPAL CORRESPONDIENTE A LA SEMANA DEL 6 AL 12 DE ABRIL 2020. DE ACUERDO A COMPROBANTE ADJUNTO",8380,"2020-04-29","21AD4"]
[371,"ATEMAJAC GASOLINERA Y LUBRICANTES S.A. DE C.V.","XAXX010101000","CARR CATARINA ATEMAJAC, KM. 32.5","ATEMAJAC DE BRIZUELA,JAL.",45790,111,"BA TESORERIA 6536","Transf N° 0086543036","PAGO DE COMBUSTIBLE PARA VEHICULOS DEL SERVICIO PUBLICO MPAL CORRESPONDIENTE A LA SEMANA DEL 30  DE MARZO AL 05 DE ABRIL 2020. DE ACUERDO A COMPROBANTE ADJUNTO",12500,"2020-04-21",72239]
[372,"ATEMAJAC GASOLINERA Y LUBRICANTES S.A. DE C.V.","XAXX010101000","CARR CATARINA ATEMAJAC, KM. 32.5","ATEMAJAC DE BRIZUELA,JAL.",45790,111,"BA TESORERIA 6536","Transf N° 0086543036","PAGO DE COMBUSTIBLE PARA VEHICULOS DEL SERVICIO PUBLICO MPAL CORRESPONDIENTE A LA SEMANA DEL 30  DE MARZO AL 05 DE ABRIL 2020. DE ACUERDO A COMPROBANTE ADJUNTO",9931.2000000000007,"2020-04-21","9C79B"]
[373,"ATEMAJAC GASOLINERA Y LUBRICANTES S.A. DE C.V.","XAXX010101000","CARR CATARINA ATEMAJAC, KM. 32.5","ATEMAJAC DE BRIZUELA,JAL.",45790,111,"BA TESORERIA 6536","Transf N° 0086543036","PAGO DE COMBUSTIBLE PARA VEHICULOS DEL SERVICIO PUBLICO MPAL CORRESPONDIENTE A LA SEMANA DEL 30  DE MARZO AL 05 DE ABRIL 2020. DE ACUERDO A COMPROBANTE ADJUNTO",6320,"2020-04-21","5C786"]
[374,"ATEMAJAC GASOLINERA Y LUBRICANTES S.A. DE C.V.","XAXX010101000","CARR CATARINA ATEMAJAC, KM. 32.5","ATEMAJAC DE BRIZUELA,JAL.",45790,111,"BA TESORERIA 6536","Transf N° 0086543036","PAGO DE COMBUSTIBLE PARA VEHICULOS DEL SERVICIO PUBLICO MPAL CORRESPONDIENTE A LA SEMANA DEL 30  DE MARZO AL 05 DE ABRIL 2020. DE ACUERDO A COMPROBANTE ADJUNTO",1020,"2020-04-21","723A7"]
[375,"ATEMAJAC GASOLINERA Y LUBRICANTES S.A. DE C.V.","XAXX010101000","CARR CATARINA ATEMAJAC, KM. 32.5","ATEMAJAC DE BRIZUELA,JAL.",45790,111,"BA TESORERIA 6536","Transf N° 0086543036","PAGO DE COMBUSTIBLE PARA VEHICULOS DEL SERVICIO PUBLICO MPAL CORRESPONDIENTE A LA SEMANA DEL 30  DE MARZO AL 05 DE ABRIL 2020. DE ACUERDO A COMPROBANTE ADJUNTO",3400,"2020-04-21","06DB7"]
[376,"ATEMAJAC GASOLINERA Y LUBRICANTES S.A. DE C.V.","XAXX010101000","CARR CATARINA ATEMAJAC, KM. 32.5","ATEMAJAC DE BRIZUELA,JAL.",45790,111,"BA TESORERIA 6536","Transf N° 0086543036","PAGO DE COMBUSTIBLE PARA VEHICULOS DEL SERVICIO PUBLICO MPAL CORRESPONDIENTE A LA SEMANA DEL 30  DE MARZO AL 05 DE ABRIL 2020. DE ACUERDO A COMPROBANTE ADJUNTO",2470,"2020-04-21","A07B8"]
[377,"ATEMAJAC GASOLINERA Y LUBRICANTES S.A. DE C.V.","XAXX010101000","CARR CATARINA ATEMAJAC, KM. 32.5","ATEMAJAC DE BRIZUELA,JAL.",45790,111,"BA TESORERIA 6536","Transf N° 0086543036","PAGO DE COMBUSTIBLE PARA VEHICULOS DEL SERVICIO PUBLICO MPAL CORRESPONDIENTE A LA SEMANA DEL 30  DE MARZO AL 05 DE ABRIL 2020. DE ACUERDO A COMPROBANTE ADJUNTO",2578,"2020-04-21","833A0"]
[378,"ATEMAJAC GASOLINERA Y LUBRICANTES S.A. DE C.V.","XAXX010101000","CARR CATARINA ATEMAJAC, KM. 32.5","ATEMAJAC DE BRIZUELA,JAL.",45790,111,"BA TESORERIA 6536","Transf N° 0086543020","PAGO DE COMBUSTIBLE DIESEL PARA VEHICULOS DEL SERVICIO PUBLICO MPAL CORRESPONDIENTE A LA SEMANA DEL 30  DE MARZO AL 05 DE ABRIL 2020. DE ACUERDO A COMPROBANTE ADJUNTO",6360,"2020-04-21","C1803"]
[379,"ATEMAJAC GASOLINERA Y LUBRICANTES S.A. DE C.V.","XAXX010101000","CARR CATARINA ATEMAJAC, KM. 32.5","ATEMAJAC DE BRIZUELA,JAL.",45790,111,"BA TESORERIA 6536","Transf N° 0086543020","PAGO DE COMBUSTIBLE DIESEL PARA VEHICULOS DEL SERVICIO PUBLICO MPAL CORRESPONDIENTE A LA SEMANA DEL 30  DE MARZO AL 05 DE ABRIL 2020. DE ACUERDO A COMPROBANTE ADJUNTO",3045,"2020-04-21","B4711"]
[380,"ATEMAJAC GASOLINERA Y LUBRICANTES S.A. DE C.V.","XAXX010101000","CARR CATARINA ATEMAJAC, KM. 32.5","ATEMAJAC DE BRIZUELA,JAL.",45790,151,"BA PARTICIPACIONES 8760","Transf N° 0035159051","PAGO DE COMBUSTIBLE PARA VEHICULOS DEL SERVICIO PUBLICO DE DE ESTE AYUNTAMIENTO CORRESPONDIENTE A LA SEMANA DEL 16 AL 23 DE MARZO 2020. DE ACUERDO A COMPROBANTE ADJUNTO.",1906,"2020-04-03","34F5C"]
[381,"ATEMAJAC GASOLINERA Y LUBRICANTES S.A. DE C.V.","XAXX010101000","CARR CATARINA ATEMAJAC, KM. 32.5","ATEMAJAC DE BRIZUELA,JAL.",45790,151,"BA PARTICIPACIONES 8760","Transf N° 0035159051","PAGO DE COMBUSTIBLE PARA VEHICULOS DEL SERVICIO PUBLICO DE DE ESTE AYUNTAMIENTO CORRESPONDIENTE A LA SEMANA DEL 16 AL 23 DE MARZO 2020. DE ACUERDO A COMPROBANTE ADJUNTO.",1000.01,"2020-04-03","E82BE"]
[382,"ATEMAJAC GASOLINERA Y LUBRICANTES S.A. DE C.V.","XAXX010101000","CARR CATARINA ATEMAJAC, KM. 32.5","ATEMAJAC DE BRIZUELA,JAL.",45790,151,"BA PARTICIPACIONES 8760","Transf N° 0035159051","PAGO DE COMBUSTIBLE PARA VEHICULOS DEL SERVICIO PUBLICO DE DE ESTE AYUNTAMIENTO CORRESPONDIENTE A LA SEMANA DEL 16 AL 23 DE MARZO 2020. DE ACUERDO A COMPROBANTE ADJUNTO.",6060.02,"2020-04-03","D4FD1"]
[383,"ATEMAJAC GASOLINERA Y LUBRICANTES S.A. DE C.V.","XAXX010101000","CARR CATARINA ATEMAJAC, KM. 32.5","ATEMAJAC DE BRIZUELA,JAL.",45790,151,"BA PARTICIPACIONES 8760","Transf N° 0035159051","PAGO DE COMBUSTIBLE PARA VEHICULOS DEL SERVICIO PUBLICO DE DE ESTE AYUNTAMIENTO CORRESPONDIENTE A LA SEMANA DEL 16 AL 23 DE MARZO 2020. DE ACUERDO A COMPROBANTE ADJUNTO.",1276.0999999999999,"2020-04-03","C8019"]
[384,"ATEMAJAC GASOLINERA Y LUBRICANTES S.A. DE C.V.","XAXX010101000","CARR CATARINA ATEMAJAC, KM. 32.5","ATEMAJAC DE BRIZUELA,JAL.",45790,151,"BA PARTICIPACIONES 8760","Transf N° 0035159051","PAGO DE COMBUSTIBLE PARA VEHICULOS DEL SERVICIO PUBLICO DE DE ESTE AYUNTAMIENTO CORRESPONDIENTE A LA SEMANA DEL 16 AL 23 DE MARZO 2020. DE ACUERDO A COMPROBANTE ADJUNTO.",14590.02,"2020-04-03","3C2B9"]
[385,"ATEMAJAC GASOLINERA Y LUBRICANTES S.A. DE C.V.","XAXX010101000","CARR CATARINA ATEMAJAC, KM. 32.5","ATEMAJAC DE BRIZUELA,JAL.",45790,151,"BA PARTICIPACIONES 8760","Transf N° 0035159051","PAGO DE COMBUSTIBLE PARA VEHICULOS DEL SERVICIO PUBLICO DE DE ESTE AYUNTAMIENTO CORRESPONDIENTE A LA SEMANA DEL 16 AL 23 DE MARZO 2020. DE ACUERDO A COMPROBANTE ADJUNTO.",8170,"2020-04-03","89FBA"]
[386,"ATEMAJAC GASOLINERA Y LUBRICANTES S.A. DE C.V.","XAXX010101000","CARR CATARINA ATEMAJAC, KM. 32.5","ATEMAJAC DE BRIZUELA,JAL.",45790,151,"BA PARTICIPACIONES 8760","Transf N° 0035159051","PAGO DE COMBUSTIBLE PARA VEHICULOS DEL SERVICIO PUBLICO DE DE ESTE AYUNTAMIENTO CORRESPONDIENTE A LA SEMANA DEL 16 AL 23 DE MARZO 2020. DE ACUERDO A COMPROBANTE ADJUNTO.",8535.2000000000007,"2020-04-03",7588]
[387,"ATEMAJAC GASOLINERA Y LUBRICANTES S.A. DE C.V.","XAXX010101000","CARR CATARINA ATEMAJAC, KM. 32.5","ATEMAJAC DE BRIZUELA,JAL.",45790,151,"BA PARTICIPACIONES 8760","Transf N° 0035159069","PAGO DE COMBUSTIBLE DIESEL PARA VEHICULOS DEL SERVICIO PUBLICO DE DE ESTE AYUNTAMIENTO CORRESPONDIENTE A LA SEMANA DEL 16 AL 23 DE MARZO 2020. DE ACUERDO A COMPROBANTE ADJUNTO.",3240.2,"2020-04-03","2427A"]
[388,"ATEMAJAC GASOLINERA Y LUBRICANTES S.A. DE C.V.","XAXX010101000","CARR CATARINA ATEMAJAC, KM. 32.5","ATEMAJAC DE BRIZUELA,JAL.",45790,151,"BA PARTICIPACIONES 8760","Transf N° 0035159069","PAGO DE COMBUSTIBLE DIESEL PARA VEHICULOS DEL SERVICIO PUBLICO DE DE ESTE AYUNTAMIENTO CORRESPONDIENTE A LA SEMANA DEL 16 AL 23 DE MARZO 2020. DE ACUERDO A COMPROBANTE ADJUNTO.",3701.1,"2020-04-03","D7C16"]
[389,"AURORA DEL CARMEN GALVAN LOPEZ","GALA750124MR8","CUAUHTEMOC 145 COL CENTRO","ZAPOTLAN EL GRANDE",49000,151,"BA PARTICIPACIONES 8760","Cheque N° 0525","PAGO DE SERVICIO DE LLANTERAS Y LLANTAS PARA CAMIONETA SILVERADO DE OBRAS PUBLICAS DE ESTE AYUNTAMIENTO. DE ACUERDO A COMPROBANTE ADJUNTO.",1500.01,"2020-02-19","A6943"]
[390,"AURORA DEL CARMEN GALVAN LOPEZ","GALA750124MR8","CUAUHTEMOC 145 COL CENTRO","ZAPOTLAN EL GRANDE",49000,151,"BA PARTICIPACIONES 8760","Cheque N° 0525","PAGO DE SERVICIO DE LLANTERAS Y LLANTAS PARA CAMIONETA SILVERADO DE OBRAS PUBLICAS DE ESTE AYUNTAMIENTO. DE ACUERDO A COMPROBANTE ADJUNTO.",1500.01,"2020-02-19","8F8AC"]
[391,"AUTOPARTES GARIBALDI SA DE CV","XAXX010101000",".",".",45790,151,"BA PARTICIPACIONES 8760","Transf N° 0080725015","PAGO DE REFACCIONES PARA SERVICIO A VEHICULO ESCOLAR DE ESTE AYUNTAMIENTO. DE ACUERDO A COMPROBANTE ADJUNTO.",5540,"2020-02-12","1A421"]
[392,"AUTOZONE DE MEXICO S DE RL DE CV","XAXX010101000",".",".",45790,111,"s/ref","s/ref ","PAGO DE REFACCIONES PARA VEHICULO DE ASEO PUBLICO Y PATRULLA CONTRA INCENDIOS DEL ESTE AYUNTAMIENTO. DE ACUERDO A COMPROBANTES ADJUNTOS.",1699.9,"2020-08-04","490BE"]
[393,"BARAJAS IMPRESORES S.A. DE C.V.","XAXX010101000","MANUEL DOBLADO NO. 262 COL. SAN JUAN DE DIOS","GUADALAJARA,JALISCO",44360,111,"BA TESORERIA 6536","Transf N° 0096003059","PAGO DE FORMAS DE REGISTRO DE NACIMIENTO PARA REGISTRO CIVIL DE ESTE MPIO. DE ACUERDO A COMPROBANTE ADJUNTO.",7656,"2020-01-23",544]
[394,"BARAJAS IMPRESORES S.A. DE C.V.","XAXX010101000","MANUEL DOBLADO NO. 262 COL. SAN JUAN DE DIOS","GUADALAJARA,JALISCO",44360,111,"BA TESORERIA 6536","Transf N° 0096003044","PAGO DE FORMAS DE RECIBO OFICIALES PARA HACIENDA MUNICIPAL. DE ACUERDO A COMPROBANTES ADJUNTOS.",2714.4,"2020-01-23",511]
[395,"BARAJAS IMPRESORES S.A. DE C.V.","XAXX010101000","MANUEL DOBLADO NO. 262 COL. SAN JUAN DE DIOS","GUADALAJARA,JALISCO",44360,111,"BA TESORERIA 6536","Transf N° 0096003044","PAGO DE FORMAS DE RECIBO OFICIALES PARA HACIENDA MUNICIPAL. DE ACUERDO A COMPROBANTES ADJUNTOS.",1357.2,"2020-01-23",514]
[396,"BARAJAS IMPRESORES S.A. DE C.V.","XAXX010101000","MANUEL DOBLADO NO. 262 COL. SAN JUAN DE DIOS","GUADALAJARA,JALISCO",44360,151,"BA PARTICIPACIONES 8760","Transf N° 0003234048","PAGO DE ACTAS DE NACIMIENTO PARA REGISTRO CIVIL. DE ACUERDO A COMPROBANTE ADJUNTO.",15312,"2020-05-27",570]
[397,"BARAJAS IMPRESORES S.A. DE C.V.","XAXX010101000","MANUEL DOBLADO NO. 262 COL. SAN JUAN DE DIOS","GUADALAJARA,JALISCO",44360,111,"BA TESORERIA 6536","Transf N° 0026574048","PAGO DE UN MILLAS DE RECIBOS OFICIALES EN TRES TANTOS IMPRESOS A UNA TINTA EN FORMA CONTINUA CON MEDIDAS 5 1/2 X 9 1/2. DE ACUERDO A COMPROBANTE ADJUNTO.",2714.4,"2020-07-10",565]
[398,"BARAJAS IMPRESORES S.A. DE C.V.","XAXX010101000","MANUEL DOBLADO NO. 262 COL. SAN JUAN DE DIOS","GUADALAJARA,JALISCO",44360,111,"BA TESORERIA 6536","Transf N° 0055228037","PAGO DE FORMAS DE RECIBOS OFICIONES DE INGRESOS PARA HACIENDA MPAL Y SERVICIOS CATASTRALES. DE ACUERDO A COMPROBANTES ADJUNTOS.",2714.4,"2020-11-12",603]
[399,"BARAJAS IMPRESORES S.A. DE C.V.","XAXX010101000","MANUEL DOBLADO NO. 262 COL. SAN JUAN DE DIOS","GUADALAJARA,JALISCO",44360,111,"BA TESORERIA 6536","Transf N° 0055228037","PAGO DE FORMAS DE RECIBOS OFICIONES DE INGRESOS PARA HACIENDA MPAL Y SERVICIOS CATASTRALES. DE ACUERDO A COMPROBANTES ADJUNTOS.",3271.2,"2020-11-12",595]
[400,"BARAJAS IMPRESORES S.A. DE C.V.","XAXX010101000","MANUEL DOBLADO NO. 262 COL. SAN JUAN DE DIOS","GUADALAJARA,JALISCO",44360,111,"BA TESORERIA 6536","Transf N° 0062657095","PAGO DE IMPRESION DE UN MILLAR DE FORMATOS DE RECIBO OFICIAL DE INGRESOS. DE ACUERDO A COMPROBANTE ADJUNTO.",2714.4,"2020-10-29",589]
[401,"BARAJAS IMPRESORES S.A. DE C.V.","XAXX010101000","MANUEL DOBLADO NO. 262 COL. SAN JUAN DE DIOS","GUADALAJARA,JALISCO",44360,151,"BA PARTICIPACIONES 8760","Transf N° 0084400034","PAGO DE FORMATOS DE ACTA DE NACIMIENTO INTERESTATALES PARA REGISTRO CIVIL DE ESTE AYUNTAMIENTO. DE ACUERDO A COMPROBANTE ADJUNTO.",13920,"2020-12-23",605]
[402,"BASICOS AMIGO SA DE CV","XAXX010101000",".",".",45790,151,"BA PARTICIPACIONES 8760","Transf N° ","PAGO DE BOLSAS PARA LA ENTREGA DE MOCHILAS Y UTILES DEL PROGRAMA RECREA. DE ACUERDO A COMPROBANTE ADJUNTO.",1104,"2020-06-29","CE51F"]
[403,"BENITO NAVARRETE RAMOS","NARB850223RT6","-","-",45790,151,"BA PARTICIPACIONES 8760","Cheque N° 0543","ELABORACION DE PROTECCIONES PARA LAMPARAS DEL ALUMBRADO PUBLICO DEL MPIO . DE ACUERDO A COMPROBANTE ADJUNTO",7540,"2020-03-03","A1B48"]
[404,"BENJAMIN TORRES VALENZUELA","TOVB970125J47",".",".",45790,151,"s/ref","s/ref ","COMPROBACION DE CAJA CHICA FINAL EX TESORERO. DE ACUERDO A COMPROBANTES ADJUNTOS.",1089.24,"2020-05-11","9BCCE"]
[405,"BRUNO MANUEL CAMPA OLMEDO","CAOB880625JL6",".",".",45790,151,"BA PARTICIPACIONES 8760","Cheque N° 0627","PAGO DE POR LA ELABORACION ALIMENTOS PERSONAL EN PUNTOS DE REVISION PARA RETENER LA CONTIENGENCIA SANITARIA DE COVID 19. DE ACUERDO A COMPRONTE ADJUNTO.",4000,"2020-03-30","BB66F"]
[406,"BRUNO MANUEL CAMPA OLMEDO","CAOB880625JL6",".",".",45790,151,"BA PARTICIPACIONES 8760","Cheque N° 640","PAGO DE ALIMENTOS PARA PERSONAL QUE ATIENDE PUNTO DE REVISION POR CONTINGENCIA SANITARIA COVID 19. DE ACUERDO A COMPROBANTE ADJUNTO.",4524,"2020-04-07","27C45"]
[407,"BRUNO MANUEL CAMPA OLMEDO","CAOB880625JL6",".",".",45790,151,"BA PARTICIPACIONES 8760","Cheque N° 0646","PAGO INSUMOS PARA LA ELABORACION DE ALIMENTOS PARA PERSONAL QUE ATIENDE PUNTO DE REVISION COVID 19 POR CONTINGENCIA SANITARIA. DE ACUERDO A COMPROBANTE ADJUNTO.",7179,"2020-04-14","85E2D"]
[408,"BRUNO MANUEL CAMPA OLMEDO","CAOB880625JL6",".",".",45790,151,"BA PARTICIPACIONES 8760","Cheque N° 0660","PAGO DE ALIMENTOS PARA PERSONAL QUE ATIENDE PUNTO DE REVISION POR CONTINGENCIA SANITARIA COVID 19. DE ACUERDO A COMPROBANTE ADJUNTO.",5165,"2020-04-14","C912F"]
[409,"BRUNO MANUEL CAMPA OLMEDO","CAOB880625JL6",".",".",45790,111,"s/ref","Ref N° EF","PAGO DE PRODUCTOS DE ABARROTES PARA REUNIONES Y OFICINAS DE ESTE AYUNTAMIENTO. DE ACUERDO A COMPROBANTE ADJUNTO. ",2015,"2020-05-04","EFD42"]
[410,"BRUNO MANUEL CAMPA OLMEDO","CAOB880625JL6",".",".",45790,111,"s/ref","Ref N° EF","PAGO DE PRODUCTOS DE ABARROTES PARA REUNIONES Y OFICINAS DE ESTE AYUNTAMIENTO. DE ACUERDO A COMPROBANTE ADJUNTO. ",2000,"2020-05-04","E6D7A"]
[411,"BRUNO MANUEL CAMPA OLMEDO","CAOB880625JL6",".",".",45790,111,"s/ref","s/ref ","PAGO DE INSUMOS PARA LA ELABORACION DE ALIMENTOS PARA PERSONAL QUE ATIENDE PUNTO DE REVISION COVID 19 EN EL MPIO. DE ACUERDO A COMPROBANTE ADJUNTO.",6000,"2020-05-14",56276]
[412,"BRUNO MANUEL CAMPA OLMEDO","CAOB880625JL6",".",".",45790,111,"s/ref","s/ref ","PAGO DE INSUMOS PARA LA ELABORACION DE ALIMENTOS PARA PERSONAL QUE ATIENDE PUNTO DE REVISION COVID 19 EN EL MPIO. DE ACUERDO A COMPROBANTE ADJUNTO.",6000,"2020-06-19","CFBF9"]
[413,"BRUNO MANUEL CAMPA OLMEDO","CAOB880625JL6",".",".",45790,111,"s/ref","s/ref ","PAGO DE INSUMOS PARA LA ELABORACION DE ALIMENTOS PARA PERSONAL QUE ATIENDE PUNTO DE REVISION COVID 19 EN EL MPIO. DE ACUERDO A COMPROBANTE ADJUNTO.",6000,"2020-07-20",52831]
[414,"BRUNO MANUEL CAMPA OLMEDO","CAOB880625JL6",".",".",45790,151,"BA PARTICIPACIONES 8760","Cheque N° 748","PAGO DE PRODUCTOS ALIMENTICIOS PARA PERSONAL QUE ATIENDE PUNTO DE REVISION COVID 19 EN EL MPIO. DE ACUERDO A COMPOBANTE ADJUNTO.",2162,"2020-06-02","CC9EB"]
[415,"BRUNO MANUEL CAMPA OLMEDO","CAOB880625JL6",".",".",45790,111,"BA TESORERIA 6536","Cheque N° 2294","PAGO DE PRODUCTOS ALIMENTICIOS PARA LA PREPARACION DE ALIMENTOS PARA PERSONAL QUE ATIENDE PUNTO DE REVISION COVID 19 EN EL MPIO. DE ACUERDO A COMPROBANTE ADJUNTO.",2139.62,"2020-06-19",25411]
[416,"BRUNO MANUEL CAMPA OLMEDO","CAOB880625JL6",".",".",45790,151,"BA PARTICIPACIONES 8760","Cheque N° 713","PAGO POR LA PREPARACION DE ALIMENTOS A PERSONAL QUE ATIENDE PUNTO DE REVISION COVID 19, EN EL MPIO. DE ACUERDO A COMPROBANTE ADJUNTO.",4690,"2020-05-15","61AC6"]
[417,"BRUNO MANUEL CAMPA OLMEDO","CAOB880625JL6",".",".",45790,151,"BA PARTICIPACIONES 8760","Cheque N° 692","PAGO DE PRODUCTOS ALIMENTICIOS PARA PERSONAL QUE ATIENDE PUNTO DE REVISION COVID 19 DEL MPIO. DE ACUERDO A COMPROBANTE ADJUNTO.",4413,"2020-05-07","96ED3"]
[418,"BRUNO MANUEL CAMPA OLMEDO","CAOB880625JL6",".",".",45790,111,"s/ref","s/ref ","REPOSICION DE CAJA CHICA DEL DIA 27 DE JULIO 2020. DE ACOMPROBANTES ADJUNTOS.",6000,"2020-07-27","CFBF9"]
[419,"BRUNO MANUEL CAMPA OLMEDO","CAOB880625JL6",".",".",45790,151,"BA PARTICIPACIONES 8760","Cheque N° 0562","APOYO A COMEDOR ASISTENCIA DEL DIF, PARA ALIMENTACION DE ADULTOS MAYORES DEL MUNICIPIO. DE ACUERDO A COMPROBANTES ADJUNTOS.",2000,"2020-03-10","E6D7A"]
[420,"BRUNO MANUEL CAMPA OLMEDO","CAOB880625JL6",".",".",45790,151,"s/ref","s/ref ","APOYO MENSUAL A COMEDOR ASISTENCIAL PARA LA COMPRA DE INSUMOS DEL MES DE SEPTIEMBRE 2020. DE ACUERDO A COMPROBANTE ADJUNTO.",6000,"2020-09-30","6C3A2"]
[421,"BRUNO MANUEL CAMPA OLMEDO","CAOB880625JL6",".",".",45790,111,"s/ref","Ref N° EF","APOYO MENSUAL A COMEDOR ASISTENCIAL PARA LA COMPRA DE INSUMOS DEL MES DE AGOSTO 2020. DE ACUERDO A COMPROBANTE ADJUNTO.",6000,"2020-08-17","BBDF9"]
[422,"BRUNO MANUEL CAMPA OLMEDO","CAOB880625JL6",".",".",45790,111,"s/ref","s/ref ","APOYO MENSUAL A COMEDOR ASISTENCIAL PARA LA COMPRA DE INSUMOS DEL MES DE OCTUBRE 2020. DE ACUERDO A COMPROBANTE ADJUNTO.",6000,"2020-11-03","2EA43"]
[423,"BRUNO MANUEL CAMPA OLMEDO","CAOB880625JL6",".",".",45790,111,"s/ref","s/ref ","APOYO MENSUAL A COMEDOR ASISTENCIAL PARA LA COMPRA DE INSUMOS DEL MES DE NOVIEMBRE 2020. DE ACUERDO A COMPROBANTE ADJUNTO.",6000,"2020-11-30","7AD63"]
[424,"BRUNO MANUEL CAMPA OLMEDO","CAOB880625JL6",".",".",45790,151,"s/ref","s/ref ","APOYO MENSUAL A COMEDOR ASISTENCIAL PARA LA COMPRA DE INSUMOS DEL MES DE DICIEMBRE 2020. DE ACUERDO A COMPROBANTE ADJUNTO.",6020,"2020-12-18","7C33A"]
[425,"BRUNO MANUEL CAMPA OLMEDO","CAOB880625JL6",".",".",45790,111,"s/ref","Ref N° EF","PAGO DE INSUMOS PARA LA ELABORACION DE ALIMENTOS PARA PERSONAL QUE ATIENDE PUNTO DE REVISION COVID 19. DE ACUERDO A COMPROBANTE ADJUNTO.",6000,"2020-07-20",52831]
[426,"CADECO SA DE CV","XAXX010101000",".",".",45790,151,"BA PARTICIPACIONES 8760","Transf N° 0083994015","PAGO DE LLANTAS PARA EL MODULO DE MAQUINARIA DE ESTE AYUNTAMIENTO. DE ACUERDO A COMPROBANTES ADJUNTOS.",67259.350000000006,"2020-12-23","AB496"]
[427,"CADECO SA DE CV","XAXX010101000",".",".",45790,151,"s/ref","s/ref ","REPOSICION DE CAJA CHICA DE EGRESOS CORRESPONDIENTE AL DIA 05 DE JUNIO 2020. DE ACUERDO A COMPROBANTES ADJUNTOS.",2982.73,"2020-06-05","47FB9"]
[428,"CADECO SA DE CV","XAXX010101000",".",".",45790,151,"BA PARTICIPACIONES 8760","Transf N° 0037836015","PAGO DE REFACCIONES PARA VEHICULO DE ESTE AUYUNTAMIENTO. DE ACUERDO A COMPROBANTE ADJUNTO.",1727.94,"2020-04-20","A8102"]
[429,"CESAR ALVARADO CAMACHO","AACC900325J99",".",".",45790,151,"s/ref","Ref N° EF","PAGO DE UNIFORME DE PARA EQUIPOS DE LA LIGA MUNICIPAL. DE ACUERDO A COMPROBANTES ADJUNTOS.",4228.2,"2020-06-03",13]
[430,"CESAR ALVARADO CAMACHO","AACC900325J99",".",".",45790,111,"BA TESORERIA 6536","Transf N° 0095471015","PAGO DE MALLAS PARA PORTERIAS DE LA CANCHA DEPORTIVA ULISES DAVILA, DE ESTE MPIO. DE ACUERDO A COMPROBANTE ADJNTO.",2598.4,"2020-01-22","F8916"]
[431,"CHRISTIAN MOISES ANGUIANO MACIAS","AUMC0006054H2",".",".",45790,151,"BA PARTICIPACIONES 8760","Transf N° 0041243014","PAGO DE CUBREBOCAS DESECHABLES Y CARETAS PARA PERSONAL QUE ATIENDE PUENTO DE REVISION COVID 19 EN EL MPIO. DE ACUERDO A COMPROBANTE ADJUNTO.",4330,"2020-06-01","57C50"]
[432,"CHRISTIAN MOISES ANGUIANO MACIAS","AUMC0006054H2",".",".",45790,111,"BA TESORERIA 6536","Cheque N° 2271","PAGO DE BATAS DE TELA DESECHABLES Y GUANTES DE NITRILO PARA PERSONAL QUE ATIENDE PUNTO DE REVISION COVID 19 EN EL MPIO. DE ACUERDO A COMPROBANTE ADJUNTO.",4450,"2020-05-08","D594A"]
[433,"COMARKA FIRMA CREATIVA S.A. DE C.V.","XAXX010101000","-","-",72700,151,"BA TESORERIA 6536","Transf N° 0043018073","PAGO POR EL MANTENIMIENTO DE PAGINA WEB DEL MUNICIPIO CORRESPONDIENTE AL MES DE ENERO 2020. DE ACUERDO A COMPROBANTE ADJUNTO.",11600,"2020-02-21",69415]
[434,"COMARKA FIRMA CREATIVA S.A. DE C.V.","XAXX010101000","-","-",72700,111,"BA TESORERIA 6536","Transf N° 0030850021","PAGO POR EL MANTENIMIENTO DE PAGINA WEB DEL MUNICIPIO CORRESPONDIENTE AL MES DE DICIEMBRE 2019. DE ACUERDO A COMPROBANTE ADJUNTO.",11600,"2020-01-27","4947E"]
[435,"COMBU- EXPRESS, S.A. DE C.V.","XAXX010101000","CALZ MADERO Y CARRANZA 504","CIUDAD GUZMAN, JAL.",49000,151,"s/ref","s/ref ","PAGO DE VIATICOS A PRESIDENTE MUNICIPAL POR COMISION A DIVERSOS EVENTOS EN EL MES DE SEPTIEMBRE 2020. DE ACUERDO A COMPROBANTES ADJUNTOS",1000.04,"2020-09-30",79962]
[436,"COMBU- EXPRESS, S.A. DE C.V.","XAXX010101000","CALZ MADERO Y CARRANZA 504","CIUDAD GUZMAN, JAL.",49000,111,"BA TESORERIA 6536","Cheque N° 2209","PAGO DE GASTOS VARIOS CORRESPONDIENTES AL MES DE ENERO 2020. DE ACUERDO A COMPROBANTES ADJUNTOS",1000,"2020-01-28",18279]
[437,"COMBU- EXPRESS, S.A. DE C.V.","XAXX010101000","CALZ MADERO Y CARRANZA 504","CIUDAD GUZMAN, JAL.",49000,151,"BA PARTICIPACIONES 8760","Cheque N° 0558","PAGO DE COMBSTIBLE PARA AMBULANCIA DE ESTE AUNTAMIENTO. DE ACUERDO A COMPROBANTE ADJUNTO.",1000,"2020-03-10","0B026"]
[438,"COMBU- EXPRESS, S.A. DE C.V.","XAXX010101000","CALZ MADERO Y CARRANZA 504","CIUDAD GUZMAN, JAL.",49000,111,"BA TESORERIA 6536","Cheque N° 2349","PAGO DE COMBUSTIBLE PARA VEHICULOS DEL SERVICIO PUBLICO DEL MPIO. DE ACUERDO A COMPROBANTE ADJUNTO.",1000,"2020-09-21","13BC1"]
[439,"COMBUSTIBLE EBANO S.A. DE C.V.","XAXX010101000","JUSTO SIERRA NO. 477","ACATLAN DE JUAREZ, JAL",45700,111,"BA TESORERIA 6536","Cheque N° 2345","REPOSICION DE CAJA CHICA CORRESPONDIENTE A MES DE SEPTIEMBRE 2020. DE ACUERDO A COMPROBANTES ADJUNTOS.",1000,"2020-09-14",1264]
[440,"COMBUSTIBLE EBANO S.A. DE C.V.","XAXX010101000","JUSTO SIERRA NO. 477","ACATLAN DE JUAREZ, JAL",45700,151,"BA PARTICIPACIONES 8760","Ref N° EF","PAGO DE COMBUSTIBLE PARA VEHICULOS DEL SERVICIO PUBLICO DE ESTE AYUNTAMIENTO. DE ACUERDO A COMPROBANTE ADJUNTO.",1000,"2020-09-21","BFABA"]
[441,"COMBUSTIBLE EBANO S.A. DE C.V.","XAXX010101000","JUSTO SIERRA NO. 477","ACATLAN DE JUAREZ, JAL",45700,111,"BA TESORERIA 6536","Cheque N° 2758","PAGO DE MANTENIMIENTO  Y COMBUSTIBLE A AMBULANCIA DE PROTECCION CIVIL DE ESTE MPIO. DE ACUERDO A COMPROBANTES ADJUNTOS.",1000,"2020-12-08","93AE0"]
[442,"COMBUSTIBLE EBANO S.A. DE C.V.","XAXX010101000","JUSTO SIERRA NO. 477","ACATLAN DE JUAREZ, JAL",45700,111,"BA TESORERIA 6536","Cheque N° 2720","PAGO DE COMBUSTIBLE PARA VEHICULOS DEL SERVICIO PUBLICO MPAL. DE ACUERDO A COMPROBANTES ADJUNTOS.",1282,"2020-11-20","D7637"]
[443,"COMBUSTIBLE EBANO S.A. DE C.V.","XAXX010101000","JUSTO SIERRA NO. 477","ACATLAN DE JUAREZ, JAL",45700,111,"BA TESORERIA 6536","Cheque N° 2224","PAGO DE COMBUSTIBLE PARA AMBULANCIAS DE PROTECCION CIVIL DE ESTE AYUNTAMIENTO. DE ACUERDO A COMPROBANTE ADJUNTO.",1700,"2020-02-25","096C6"]
[444,"COMBUSTIBLE EBANO S.A. DE C.V.","XAXX010101000","JUSTO SIERRA NO. 477","ACATLAN DE JUAREZ, JAL",45700,111,"BA TESORERIA 6536","Cheque N° 2224","PAGO DE COMBUSTIBLE PARA AMBULANCIAS DE PROTECCION CIVIL DE ESTE AYUNTAMIENTO. DE ACUERDO A COMPROBANTE ADJUNTO.",1000,"2020-02-25","9605E"]
[445,"COMBUSTIBLE EBANO S.A. DE C.V.","XAXX010101000","JUSTO SIERRA NO. 477","ACATLAN DE JUAREZ, JAL",45700,151,"BA PARTICIPACIONES 8760","Cheque N° 0550","REPOSICION DE CAJA CHICA DE EGRESOS DEL DIA 05 DE MARZO 2020. DE ACUERSO A COMPROBANTE ADJUNTO.",1108,"2020-03-05","F8C51"]
[446,"COMBUSTIBLE EBANO S.A. DE C.V.","XAXX010101000","JUSTO SIERRA NO. 477","ACATLAN DE JUAREZ, JAL",45700,151,"BA PARTICIPACIONES 8760","Cheque N° 0493","REPOSICION DE CAJA CHICA DE EGRESOS DEL DIA 7 DE FEBRERO 2020. DE ACUERDO A COMPROBANTES ADJUNTO.",1103,"2020-02-07","F4570"]
[447,"COMBUSTIBLE EBANO S.A. DE C.V.","XAXX010101000","JUSTO SIERRA NO. 477","ACATLAN DE JUAREZ, JAL",45700,151,"BA PARTICIPACIONES 8760","Cheque N° 0493","REPOSICION DE CAJA CHICA DE EGRESOS DEL DIA 7 DE FEBRERO 2020. DE ACUERDO A COMPROBANTES ADJUNTO.",1045,"2020-02-07","B6B0F"]
[448,"COMBUSTIBLE EBANO S.A. DE C.V.","XAXX010101000","JUSTO SIERRA NO. 477","ACATLAN DE JUAREZ, JAL",45700,151,"BA PARTICIPACIONES 8760","Cheque N° 922","PAGO DE VIATICOS A PRESIDENTE MUNICIPAL POR COMISION A DIVERSOS EVENTOS EN EL MES DE NOVIEMBRE Y DICIEMBRE 2020. DE ACUERDO A COMPROBANTES ADJUNTOS",1050.32,"2020-12-18","D783A"]
[449,"COMBUSTIBLES TAFIRUL SA DE CV","XAXX010101000","ANILLO PERIFERICO NO 2497 EL COLLI URBANO","ZAPOPAN, JALISCO.",45070,151,"s/ref","s/ref ","REPOSICION DE CAJA CHICA DE EGRESOS CORRESPONDIENTE AL DIA 22 DE JUNIO 2020. DE ACUERDO A COMPROBANTES ADJUNTOS.",1000,"2020-06-22","5BF4B"]
[450,"COMBUSTIBLES TAFIRUL SA DE CV","XAXX010101000","ANILLO PERIFERICO NO 2497 EL COLLI URBANO","ZAPOPAN, JALISCO.",45070,151,"s/ref","s/ref ","REPOSICION DE CAJA CHICA DE EGRESOS CORRESPONDIENTE AL DIA 22 DE JUNIO 2020. DE ACUERDO A COMPROBANTES ADJUNTOS.",1987.48,"2020-06-22","C4729"]
[451,"COMBUSTIBLES TAFIRUL SA DE CV","XAXX010101000","ANILLO PERIFERICO NO 2497 EL COLLI URBANO","ZAPOPAN, JALISCO.",45070,151,"BA PARTICIPACIONES 8760","Cheque N° 0590","REPOSICION DE CAJA CHICA DE EGRESOS DEL DIA 19  DE MARZO 2020. DE ACUERDO A COMPROBANTES ADJUNTOS.",1987.48,"2020-03-19","C4729"]
[452,"COMBUSTIBLES TAFIRUL SA DE CV","XAXX010101000","ANILLO PERIFERICO NO 2497 EL COLLI URBANO","ZAPOPAN, JALISCO.",45070,151,"BA PARTICIPACIONES 8760","Cheque N° 0590","REPOSICION DE CAJA CHICA DE EGRESOS DEL DIA 19  DE MARZO 2020. DE ACUERDO A COMPROBANTES ADJUNTOS.",1000,"2020-03-19","5BF4B"]
[453,"COMERCIALIZADORA Y DISTRIBUIDORA NAVUPL EXY SA DE CV","XAXX010101000",".",".",45790,151,"BA PARTICIPACIONES 8760","Transf N° 0086202030","PAGO DE TAPETES SANITIZANTES PARA OFICINAS DE PRESIDENCIA MPAL Y NEGOCIOS DE ESTE MPIO. DE ACUERDO A COMPROBANTE ADJUNTO.",11500,"2020-06-04",21]
[454,"COMPULINE CONSULTORES SA DE CV","XAXX010101000","GENERAL SALAZAR NO 540 COL LA PERLA","GUADALAJARA, JALISCO",44360,151,"BA PARTICIPACIONES 8760","Transf N° 0070627044","PAGO DE DISCO DURO PARA COMPUTADORA DE COMUNICACION SOCIAL DE ESTE AYUNTAMIENTO. DE ACUERDO A COMPROBANTE ADJUNTO.",4793,"2020-04-30","8E6BF"]
[455,"CONVERTIDORA SORELLE SA DE CV","XAXX010101000","VOLCAN PARICUTIN 6595 EL COLLI URBANO","ZAPOPAN ",45070,151,"BA PARTICIPACIONES 8760","Transf N° 0002899024","PAGO DE FORMAS VALORADAS DE LICENCIAS MUNICIPALES 2020. DE ACUERDO A COMPROBANTE ADJUNTO.",3185.36,"2020-03-06","B21F6"]
[456,"CONVERTIDORA SORELLE SA DE CV","XAXX010101000","VOLCAN PARICUTIN 6595 EL COLLI URBANO","ZAPOPAN ",45070,151,"BA PARTICIPACIONES 8760","Transf N° 0053037024","PAGO POR LA ELABORACION DE 300 FORMATOS DE LICENCIA MUNICIPAL 2020. DE ACUERDO A COMPROBANTE ADJUNTO",5568,"2020-07-24","38F82"]
[457,"CORAGAS SA DE CV","XAXX010101000","CARR EL GRULLO- CD GUZMAN KM 104 + 726 S/N","CD GUZMAN, ZAPOTAN EL GRANDE JALISCO",49000,151,"BA PARTICIPACIONES 8760","Cheque N° 0562","APOYO A COMEDOR ASISTENCIA DEL DIF, PARA ALIMENTACION DE ADULTOS MAYORES DEL MUNICIPIO. DE ACUERDO A COMPROBANTES ADJUNTOS.",1026,"2020-03-10","2835D"]
[458,"COREJU CONSTRUCCIONES S.A. DE C.V.","XAXX010101000","VOLCAN DE FUEGO NO. 358","GUADALAJARA,JALISCO",44259,151,"BA PARTICIPACIONES 8760","Transf N° 0014471088","PAGO DE MATERIALES DIVERSOS PARA EL MANTENIMIENTO DE ESPACIOS PUBLICOS EN EL MUNICIPIO. DE ACUERDO A COMPROBANTE ADJUNTO.",16263.35,"2020-02-19","67CCE"]
[459,"COREJU CONSTRUCCIONES S.A. DE C.V.","XAXX010101000","VOLCAN DE FUEGO NO. 358","GUADALAJARA,JALISCO",44259,151,"BA PARTICIPACIONES 8760","Transf N° 0014471053","PAGO DE MATERIAL ELECTRICO PARA EL MANTENIMIENTO DE ALUMBRADO PUBLICO DEL MUNICIPIO. DE ACUERDO  A COMPROBANTE ADJUNTO.",17209.759999999998,"2020-02-19","BAA36"]
[460,"COREJU CONSTRUCCIONES S.A. DE C.V.","XAXX010101000","VOLCAN DE FUEGO NO. 358","GUADALAJARA,JALISCO",44259,151,"BA PARTICIPACIONES 8760","Transf N° 0072201015","PAGO DE MATERIALES DE CONSTRUCCION PARA EL MANTENIMIENTO DE ESPACIOS PUBLICOS EN EL MUNICIPIO. DE ACUERDO A CPOMPROBANTE ADJUNTO.",3614.56,"2020-03-30","C501A"]
[461,"COREJU CONSTRUCCIONES S.A. DE C.V.","XAXX010101000","VOLCAN DE FUEGO NO. 358","GUADALAJARA,JALISCO",44259,151,"BA PARTICIPACIONES 8760","Transf N° 0077681141","PAGO DE MATERIALES DE CONSTRUCCION PARA EL MANTENIMIENTO DE ESPACIOS PUBLICOS EN EL MPIO. DE ACUERDO A COMPROBANTE ADJUNTO.",1963.88,"2020-03-24","941D5"]
[462,"COREJU CONSTRUCCIONES S.A. DE C.V.","XAXX010101000","VOLCAN DE FUEGO NO. 358","GUADALAJARA,JALISCO",44259,151,"BA PARTICIPACIONES 8760","Transf N° 0077681222","PAGO DE MATERIALES DE CONSTRUCCION PARA EL MANTENIMIENTO DE ESPACIOS PUBLICOS EN EL MPIO. DE ACUERDO A COMPROBANTE ADJUNTO.",4496.16,"2020-03-24","B29A6"]
[463,"COREJU CONSTRUCCIONES S.A. DE C.V.","XAXX010101000","VOLCAN DE FUEGO NO. 358","GUADALAJARA,JALISCO",44259,151,"BA PARTICIPACIONES 8760","Transf N° 0077681206","PAGO DE MATERIALES DE CONSTRUCCION PARA EL MANTENIMIENTO DE ESPACIOS PUBLICOS EN EL MPIO. DE ACUERDO A COMPROBANTE ADJUNTO.",4414.96,"2020-03-24","F7586"]
[464,"COREJU CONSTRUCCIONES S.A. DE C.V.","XAXX010101000","VOLCAN DE FUEGO NO. 358","GUADALAJARA,JALISCO",44259,151,"BA PARTICIPACIONES 8760","Transf N° 0077681190","PAGO DE MATERIALES DE CONSTRUCCION PARA EL MANTENIMIENTO DE ESPACIOS PUBLICOS EN EL MPIO. DE ACUERDO A COMPROBANTE ADJUNTO.",4867.38,"2020-03-24","BB7FE"]
[465,"COREJU CONSTRUCCIONES S.A. DE C.V.","XAXX010101000","VOLCAN DE FUEGO NO. 358","GUADALAJARA,JALISCO",44259,151,"BA PARTICIPACIONES 8760","Transf N° 0077681173","PAGO DE MATERIALES DE CONSTRUCCION PARA EL MANTENIMIENTO DE ESPACIOS PUBLICOS EN EL MPIO. DE ACUERDO A COMPROBANTE ADJUNTO.",9729.5,"2020-03-24","D4AB8"]
[466,"COREJU CONSTRUCCIONES S.A. DE C.V.","XAXX010101000","VOLCAN DE FUEGO NO. 358","GUADALAJARA,JALISCO",44259,151,"BA PARTICIPACIONES 8760","Transf N° 0077681157","PAGO DE MATERIALES DE CONSTRUCCION PARA EL MANTENIMIENTO DE ESPACIOS PUBLICOS EN EL MPIO. DE ACUERDO A COMPROBANTE ADJUNTO.",5701.4,"2020-03-24","BA930"]
[467,"COREJU CONSTRUCCIONES S.A. DE C.V.","XAXX010101000","VOLCAN DE FUEGO NO. 358","GUADALAJARA,JALISCO",44259,151,"BA PARTICIPACIONES 8760","Transf N° 0095278015","PAGO DE MATERIALES VARIOS PARA DIVERSAS OBRAS DE MANTENIMIENTO DE ESPACIOS PUBLICOS DE ESTE MUNICIPIO. DE ACUERDO A COMPROBANTE ADJUNTOS.",53064.2,"2020-01-16","013CA"]
[468,"COREJU CONSTRUCCIONES S.A. DE C.V.","XAXX010101000","VOLCAN DE FUEGO NO. 358","GUADALAJARA,JALISCO",44259,151,"BA PARTICIPACIONES 8760","Transf N° 0014471071","PAGO DE MATERIAL PARA EL MANTENIMIENTO DE TUBERIA DE AGUA Y DRENAJE DEL MUNICIPIO. DE ACUERDO A COMPROBANTE ADJUNTO.",19325.599999999999,"2020-02-19","B7AEE"]
[469,"CORIBA & CORNEJO S DE RL DE CV","XAXX010101000",".","ZAPOPAN, JALISCO.",45060,111,"BA TESORERIA 6536","Transf N° 0091224024","PAGO DE MATERIAL DE PAPELERIA PARA OFICINAS DE ESTE AYUNTAMIENTO. DE ACUERDO A COMPROBANTES ADJUNTOS.",7393.86,"2020-11-24","FE5120"]
[470,"CORIBA & CORNEJO S DE RL DE CV","XAXX010101000",".","ZAPOPAN, JALISCO.",45060,111,"BA ESTRATEGIA ALE 0157","Transf N° 0072651063","PAGO DE MATERIAL DE PAPELERIA PARA OFICINA DEL PROGRAMA ESTRATEGIA ALE 2020. DE ACUERDO A COMPROBANTE ADJUNTO.",4058.62,"2020-11-27","PE5147"]
[471,"DAOSA SA DE CV","XAXX010101000","AV PLAN DE SAN LUIS 2060 COL LOMAS DE COUNTRY","GUADALAJARA",44610,111,"BA TESORERIA 6536","Transf N° 0081590029","PAGO DE SERVICIO A PATRULLA DE SEGURIDAD PUBLICA DE ESTE AYUNTAMIENTO. DE ACUERDO A COMPROBANTE ADJUNTO.",3593,"2020-02-20","D6T03"]
[472,"DAOSA SA DE CV","XAXX010101000","AV PLAN DE SAN LUIS 2060 COL LOMAS DE COUNTRY","GUADALAJARA",44610,151,"BA PARTICIPACIONES 8760","Transf N° 0048269060","PAGO POR LA REPARACION DE PATRULLA FRONTIER DE SEGURIDAD PUBLICA DE ESTE MPIO. DE ACUERDO A COMPROBANTE ADJUNTO.",4685,"2020-12-08",57057]
[473,"DAOSA SA DE CV","XAXX010101000","AV PLAN DE SAN LUIS 2060 COL LOMAS DE COUNTRY","GUADALAJARA",44610,151,"BA PARTICIPACIONES 8760","Transf N° 0048269060","PAGO POR LA REPARACION DE PATRULLA FRONTIER DE SEGURIDAD PUBLICA DE ESTE MPIO. DE ACUERDO A COMPROBANTE ADJUNTO.",10237,"2020-12-08",58056]
[474,"DAOSA SA DE CV","XAXX010101000","AV PLAN DE SAN LUIS 2060 COL LOMAS DE COUNTRY","GUADALAJARA",44610,151,"BA PARTICIPACIONES 8760","Transf N° 0063237021","PAGO DE SERVICIO Y MANTENIMIENTO DE PATRULLA FRONTIER DE SEGURIDAD PUBLICA. DE ACUERDO A COMPROBANTE ADJUNTO.",3655,"2020-05-28","E3518"]
[475,"DAOSA SA DE CV","XAXX010101000","AV PLAN DE SAN LUIS 2060 COL LOMAS DE COUNTRY","GUADALAJARA",44610,151,"BA PARTICIPACIONES 8760","Transf N° 0059949018","PAGO DE SERVICIO A PATRULLA FRONTIER DE SEGURIDAD PUBLICA DE ESTE MPIO. DE ACUERDO A COMPROBANTE ADJUNTO",4389,"2020-05-29","2CC72"]
[476,"DAOSA SA DE CV","XAXX010101000","AV PLAN DE SAN LUIS 2060 COL LOMAS DE COUNTRY","GUADALAJARA",44610,252,"BA FORTALECIMIENTO 2020 3770","Transf N° 0093765031","PAGO POR LA REPARACION DE PATRULLA FRONTIER DE SEGURIDAD PUBLICA DE ESTE AYUNTAMIENTO. DE ACUERDO A COMPROBANTE ADJUNTO.",3700,"2020-06-11","FSC0053612"]
[477,"DAOSA SA DE CV","XAXX010101000","AV PLAN DE SAN LUIS 2060 COL LOMAS DE COUNTRY","GUADALAJARA",44610,151,"BA PARTICIPACIONES 8760","Transf N° 0074953014","PAGO DE DIAGNOSTICO A PATRULLA DE SEGURIDAD PUBLICA DE ESTE AYUNTAMIENTO. DE ACUERDO A COMPROBANTE ADJUNTO.",1200,"2020-08-07","DE1EA"]
[478,"DAOSA SA DE CV","XAXX010101000","AV PLAN DE SAN LUIS 2060 COL LOMAS DE COUNTRY","GUADALAJARA",44610,151,"BA PARTICIPACIONES 8760","Transf N° 0090288031","PAGO DE SERVICIO A PATRULLA DE SEGURIDAD PUBLICA DE ESTE AYUNTAMIENTO. DE ACUERDO A COMPROBANTE ADJUNTO.",3889,"2020-09-24","38DEA"]
[479,"DAOSA SA DE CV","XAXX010101000","AV PLAN DE SAN LUIS 2060 COL LOMAS DE COUNTRY","GUADALAJARA",44610,151,"BA PARTICIPACIONES 8760","Transf N° 0006915029","PAGO DE SERVICIO A PATRULLA DE SEGURIDAD PUBLICA DE ESTE AYUNTAMIENTO. DE ACUERDO A COMPROBANTE ADJUNTO.",5905,"2020-09-23","690A4"]
[480,"DAVID SANTIAGO MANZANO","SAMD8609168N2","-","-",45790,151,"BA PARTICIPACIONES 8760","Cheque N° 857","APOYOS PARA GASTOS FUNERARIOS A PERSONAS DE ESCASOS RECURSOS DEL MPIO. DE ACUERDO A COMPROBANTES ADJUNTOS.",4060,"2020-10-23","9BF9F"]
[481,"DAVID SANTIAGO MANZANO","SAMD8609168N2","-","-",45790,151,"BA PARTICIPACIONES 8760","Cheque N° 857","APOYOS PARA GASTOS FUNERARIOS A PERSONAS DE ESCASOS RECURSOS DEL MPIO. DE ACUERDO A COMPROBANTES ADJUNTOS.",4060,"2020-10-23","A7658"]
[482,"DAVID SANTIAGO MANZANO","SAMD8609168N2","-","-",45790,151,"BA PARTICIPACIONES 8760","Cheque N° 857","APOYOS PARA GASTOS FUNERARIOS A PERSONAS DE ESCASOS RECURSOS DEL MPIO. DE ACUERDO A COMPROBANTES ADJUNTOS.",4060,"2020-10-23",41926]
[483,"DAVID SANTIAGO MANZANO","SAMD8609168N2","-","-",45790,151,"BA PARTICIPACIONES 8760","Cheque N° 857","APOYOS PARA GASTOS FUNERARIOS A PERSONAS DE ESCASOS RECURSOS DEL MPIO. DE ACUERDO A COMPROBANTES ADJUNTOS.",4060,"2020-10-23","7948C"]
[484,"DAVID SANTIAGO MANZANO","SAMD8609168N2","-","-",45790,151,"BA PARTICIPACIONES 8760","Cheque N° 857","APOYOS PARA GASTOS FUNERARIOS A PERSONAS DE ESCASOS RECURSOS DEL MPIO. DE ACUERDO A COMPROBANTES ADJUNTOS.",4060,"2020-10-23","0EAF6"]
[485,"DAVID SANTIAGO MANZANO","SAMD8609168N2","-","-",45790,111,"BA TESORERIA 6536","Cheque N° 2808","APOYO PARA GASTOS FUNERARIOS A PERSONAS DE ESCASOS RECURSOS. DE ACUERDO A COMPROBANTES ADJUNTOS.",4060,"2020-12-30","9C512"]
[486,"DAVID SANTIAGO MANZANO","SAMD8609168N2","-","-",45790,111,"BA TESORERIA 6536","Cheque N° 2808","APOYO PARA GASTOS FUNERARIOS A PERSONAS DE ESCASOS RECURSOS. DE ACUERDO A COMPROBANTES ADJUNTOS.",4060,"2020-12-30","5512B"]
[487,"DAVID SANTIAGO MANZANO","SAMD8609168N2","-","-",45790,111,"BA TESORERIA 6536","Cheque N° 2808","APOYO PARA GASTOS FUNERARIOS A PERSONAS DE ESCASOS RECURSOS. DE ACUERDO A COMPROBANTES ADJUNTOS.",4060,"2020-12-30","A9731"]
[488,"DAVID SANTIAGO MANZANO","SAMD8609168N2","-","-",45790,111,"BA TESORERIA 6536","Cheque N° 2808","APOYO PARA GASTOS FUNERARIOS A PERSONAS DE ESCASOS RECURSOS. DE ACUERDO A COMPROBANTES ADJUNTOS.",4060,"2020-12-30","5801F"]
[489,"DAVID SANTIAGO MANZANO","SAMD8609168N2","-","-",45790,111,"BA TESORERIA 6536","Cheque N° 2808","APOYO PARA GASTOS FUNERARIOS A PERSONAS DE ESCASOS RECURSOS. DE ACUERDO A COMPROBANTES ADJUNTOS.",4060,"2020-12-30","0D821"]
[490,"DAVID SANTIAGO MANZANO","SAMD8609168N2","-","-",45790,111,"BA TESORERIA 6536","Cheque N° 2772","APOYO PARA GASTOS FUNERARIOS A PERSONAS DE ESCASOS RECURSOS. DE ACUERDO A COMPROBANTES ADJUNTOS.",4060,"2020-12-11","BC33A"]
[491,"DAVID SANTIAGO MANZANO","SAMD8609168N2","-","-",45790,111,"BA TESORERIA 6536","Cheque N° 2772","APOYO PARA GASTOS FUNERARIOS A PERSONAS DE ESCASOS RECURSOS. DE ACUERDO A COMPROBANTES ADJUNTOS.",4060,"2020-12-11","DCF47"]
[492,"DAVID SANTIAGO MANZANO","SAMD8609168N2","-","-",45790,111,"BA TESORERIA 6536","Cheque N° 2772","APOYO PARA GASTOS FUNERARIOS A PERSONAS DE ESCASOS RECURSOS. DE ACUERDO A COMPROBANTES ADJUNTOS.",4060,"2020-12-11","F6D3C"]
[493,"DAVID SANTIAGO MANZANO","SAMD8609168N2","-","-",45790,111,"BA TESORERIA 6536","Cheque N° 2772","APOYO PARA GASTOS FUNERARIOS A PERSONAS DE ESCASOS RECURSOS. DE ACUERDO A COMPROBANTES ADJUNTOS.",4060,"2020-12-11","66AEA"]
[494,"DAVID SANTIAGO MANZANO","SAMD8609168N2","-","-",45790,111,"BA TESORERIA 6536","Cheque N° 2772","APOYO PARA GASTOS FUNERARIOS A PERSONAS DE ESCASOS RECURSOS. DE ACUERDO A COMPROBANTES ADJUNTOS.",4060,"2020-12-11","868EB"]
[495,"DAVID SANTIAGO MANZANO","SAMD8609168N2","-","-",45790,111,"BA TESORERIA 6536","Cheque N° 2772","APOYO PARA GASTOS FUNERARIOS A PERSONAS DE ESCASOS RECURSOS. DE ACUERDO A COMPROBANTES ADJUNTOS.",4060,"2020-12-11","684ED"]
[496,"DAVID SANTIAGO MANZANO","SAMD8609168N2","-","-",45790,111,"BA TESORERIA 6536","Cheque N° 2226","PAGO DE ATAUD ECONOMICOS COMO APOYO PARA GASTOS FUNERARIOS A PESONAS DE ESCASOS RECURSOS DEL MPIO. DE ACUERDO A COMPROBANTES ADJUNTOS.",2320,"2020-02-25","FCAAC"]
[497,"DAVID SANTIAGO MANZANO","SAMD8609168N2","-","-",45790,111,"BA TESORERIA 6536","Cheque N° 2226","PAGO DE ATAUD ECONOMICOS COMO APOYO PARA GASTOS FUNERARIOS A PESONAS DE ESCASOS RECURSOS DEL MPIO. DE ACUERDO A COMPROBANTES ADJUNTOS.",3480,"2020-02-25","15A7F"]
[498,"DAVID SANTIAGO MANZANO","SAMD8609168N2","-","-",45790,111,"BA TESORERIA 6536","Cheque N° 2226","PAGO DE ATAUD ECONOMICOS COMO APOYO PARA GASTOS FUNERARIOS A PESONAS DE ESCASOS RECURSOS DEL MPIO. DE ACUERDO A COMPROBANTES ADJUNTOS.",4060,"2020-02-25","995EC"]
[499,"DAVID SANTIAGO MANZANO","SAMD8609168N2","-","-",45790,151,"BA PARTICIPACIONES 8760","Cheque N° 728","APOYO PARA GASTOS FUNERARIOS A PERSONAS DE ESCASOS RECURSOS. DE ACUERDO A COMPROBANTES ADJUNTOS.",4060,"2020-05-19","F84E0"]
[500,"DAVID SANTIAGO MANZANO","SAMD8609168N2","-","-",45790,151,"BA PARTICIPACIONES 8760","Cheque N° 728","APOYO PARA GASTOS FUNERARIOS A PERSONAS DE ESCASOS RECURSOS. DE ACUERDO A COMPROBANTES ADJUNTOS.",4060,"2020-05-19","DD2B1"]
[501,"DAVID SANTIAGO MANZANO","SAMD8609168N2","-","-",45790,151,"BA PARTICIPACIONES 8760","Cheque N° 728","APOYO PARA GASTOS FUNERARIOS A PERSONAS DE ESCASOS RECURSOS. DE ACUERDO A COMPROBANTES ADJUNTOS.",4060,"2020-05-19",92227]
[502,"DAVID SANTIAGO MANZANO","SAMD8609168N2","-","-",45790,151,"BA PARTICIPACIONES 8760","Cheque N° 728","APOYO PARA GASTOS FUNERARIOS A PERSONAS DE ESCASOS RECURSOS. DE ACUERDO A COMPROBANTES ADJUNTOS.",4060,"2020-05-19","A9400"]
[503,"DAVID SANTIAGO MANZANO","SAMD8609168N2","-","-",45790,151,"BA PARTICIPACIONES 8760","Cheque N° 728","APOYO PARA GASTOS FUNERARIOS A PERSONAS DE ESCASOS RECURSOS. DE ACUERDO A COMPROBANTES ADJUNTOS.",4060,"2020-05-19","A4D29"]
[504,"DAVID SANTIAGO MANZANO","SAMD8609168N2","-","-",45790,111,"BA TESORERIA 6536","Cheque N° 2210","APOYO PARA GASTOS FUNERARIOS A PERSONAS DE ESCASOS RECURSOS DEL MUNICIPIO. DE ACUERDO A COMPROBANTES ADJUNTOS.",3000,"2020-02-03","B0842"]
[505,"DAVID SANTIAGO MANZANO","SAMD8609168N2","-","-",45790,111,"BA TESORERIA 6536","Cheque N° 2210","APOYO PARA GASTOS FUNERARIOS A PERSONAS DE ESCASOS RECURSOS DEL MUNICIPIO. DE ACUERDO A COMPROBANTES ADJUNTOS.",7000,"2020-02-03",86880]
[506,"DAVID SANTIAGO MANZANO","SAMD8609168N2","-","-",45790,111,"BA TESORERIA 6536","Cheque N° 2210","APOYO PARA GASTOS FUNERARIOS A PERSONAS DE ESCASOS RECURSOS DEL MUNICIPIO. DE ACUERDO A COMPROBANTES ADJUNTOS.",3480,"2020-02-03","7FA6B"]
[507,"DELICIAS BEEF SA DE CV","XAXX010101000","CAMINO REAL A COLIMA 423 7C Y 7D","TLAJOMULCO DE ZUÑIGA",45645,151,"s/ref","s/ref ","REPOSICION DE CAJA CHICA DE EGRESOS CORRESPONDIENTE AL DIA 12 DE JUNIO 2020. DE ACUERDO A COMPROBANTES ADJUNTOS.",1194.95,"2020-06-12",35530]
[508,"DISTRIBUIDORA DEPORTIVA DE OCCIDENTE SA DE CV","XAXX010101000","AV ALVARO OBREGON 341","GUADALAJARA",44360,151,"s/ref","Ref N° EF","PAGO DE ROPA DEPORTIVA PARA LA LIGA MUNICIPAL. DE ACUERDO A COMPROBANTE ADJUNTO.",1867.6,"2020-06-01",4621]
[509,"DISTRIBUIDORA DEPORTIVA DE OCCIDENTE SA DE CV","XAXX010101000","AV ALVARO OBREGON 341","GUADALAJARA",44360,151,"s/ref","s/ref ","REPOSICION DE CAJA CHICA DE EGRESOS CORRESPONDIENTE AL DIA 16 DE JUNIO 2020. DE ACUERDO A COMPROBANTES ADJUNTOS.",1867.6,"2020-06-16","B81AC"]
[510,"DULCE MARIA FERNANDA TOVAR CHAVEZ","TOCD951020T83",".",".",45790,151,"BA PARTICIPACIONES 8760","Transf N° 0093319021","PAGO DE PLANCHAS INDUSTRICALES, BASCULAS Y PUERTAS SANITIZANTES ANTICOVID 19 DEL PROGRAMA REACTIVACION ECONOMICA PARA LOS COMERCIOS DE ESTE MPIO. DE ACUERDO A COMPROBANTE ADJUNTO.",566404.80000000005,"2020-10-14","EA44B"]
[511,"EDIFICADORA ALTAS CUMBRES S.A. DE C.V.","XAXX010101000","SAN JUAN BOSCO 4676","ZAPOPAN",44190,151,"BA PARTICIPACIONES 8760","Transf N° 0048454112","RENTA DE PIPA DE AGUA PARA ABASTECIMIENTO AGUA EN PERIFERIAS DEL MUNICIPIO A PERSONAS DE ESCASOS RECURSOS.",40600,"2020-03-20","1469F"]
[512,"EDIFICADORA ALTAS CUMBRES S.A. DE C.V.","XAXX010101000","SAN JUAN BOSCO 4676","ZAPOPAN",44190,111,"BA TESORERIA 6536","Transf N° 00351559027","RENTA DE PIPA DE AGUA PARA ABASTECIMIENTO AGUA  A PERSONAS DE ESCASOS RECURSOS EN ZANAS DE ALTA MARGINACION DEL MUNICIPIO. DE ACUERDO A COMPROBANTE ADJUNTO.",40600,"2020-04-03","1D47E"]
[513,"EDIFICADORA ALTAS CUMBRES S.A. DE C.V.","XAXX010101000","SAN JUAN BOSCO 4676","ZAPOPAN",44190,151,"s/ref","s/ref ","RENTA DE PIPA DE AGUA PARA ABASTECIMIENTO AGUA  A PERSONAS DE ESCASOS RECURSOS EN ZONAS DE ALTA MARGINACION DEL MUNICIPIO. DEL 06 DE FEBRERO AL 05 DE MARZO 2020. DE ACUERDO A COMPROBANTE ADJUNTO.",40600,"2020-05-01",0]
[514,"EDIFICADORA ALTAS CUMBRES S.A. DE C.V.","XAXX010101000","SAN JUAN BOSCO 4676","ZAPOPAN",44190,151,"s/ref","s/ref ","RENTA DE PIPA DE AGUA PARA ABASTECIMIENTO AGUA  A PERSONAS DE ESCASOS RECURSOS EN ZONAS DE ALTA MARGINACION DEL MUNICIPIO. DEL 06 DE MARZO AL 05 DE ABRIL 2020. DE ACUERDO A COMPROBANTE ADJUNTO.",40600,"2020-06-05","3041D"]
[515,"EDIFICADORA CUMBRES S.A. DE C.V.","XAXX010101000","C. SAN JUAN BOSCO NO. 4676","ATEMAJAC DE BRIZUELA,JAL.",44190,151,"s/ref","s/ref ","PAGO DE PIPA DE AGUA PARA EL ABASTECIMIENTO DE AGUA EN ZONA DE ALTA MARGINACION EN CABECERA MPAL CORRESPONDIENTE A LOS MESES DE MAYO Y OCTUBRE 2019. DE ACUERDO A COMPROBANTE ADJUNTO",40600,"2020-02-03","13E5D"]
[516,"EDIFICADORA CUMBRES S.A. DE C.V.","XAXX010101000","C. SAN JUAN BOSCO NO. 4676","ATEMAJAC DE BRIZUELA,JAL.",44190,151,"s/ref","s/ref ","PAGO DE PIPA DE AGUA PARA EL ABASTECIMIENTO DE AGUA EN ZONA DE ALTA MARGINACION EN CABECERA MPAL CORRESPONDIENTE A LOS MESES DE MAYO Y OCTUBRE 2019. DE ACUERDO A COMPROBANTE ADJUNTO",40600,"2020-02-03","30B60"]
[517,"EDIFICADORA CUMBRES S.A. DE C.V.","XAXX010101000","C. SAN JUAN BOSCO NO. 4676","ATEMAJAC DE BRIZUELA,JAL.",44190,111,"BA TESORERIA 6536","Transf N° 0082606021","PAGO DE PIPA DE AGUA PARA EL ABASTECIMIENTO DE AGUA EN ZONA DE ALTA MARGINACION EN CABECERA MPAL CORRESPONDIENTE AL MES DE NOVIEMBRE 2019. DE ACUERDO A COMPROBANTE ADJUNTO",40600,"2020-02-21","AAC55"]
[518,"EDUARDO CRUZ SANCHEZ","CUSE740311J6A",".",".",45790,151,"BA PARTICIPACIONES 8760","Cheque N° 0590","REPOSICION DE CAJA CHICA DE EGRESOS DEL DIA 19  DE MARZO 2020. DE ACUERDO A COMPROBANTES ADJUNTOS.",1160,"2020-03-19","CD387"]
[519,"EDUARDO RAMON DE DIOS BRAMBILA","DIBE6904054D4",".","GUADALAJARA",44100,111,"BA ESTRATEGIA ALE 0157","Transf N° 0093319039","PAGO DE UNIFORMES PARA PERSONAL OPERATIVO POLICIAL DEL PROGRAMA ESTRATEGIA ALE 2020. DE ACUERDO A COMPROBANTES ADJUNTOS.",5214.68,"2020-10-07",93991]
[520,"ELIZABETH DAVILA DE LA TORRE","LEDR7011147G9","RAMON CORONA S/N","ATEMAJAC DE BRIZUELA",45790,151,"BA PARTICIPACIONES 8760","Cheque N° 0520","REPOSICION DE CAJA CHICA DE EGRESOS DEL DIA 14 DE FEBRERO 2020. DE ACUERDO A COMPROBANTES ADJUNTOS.",1076,"2020-02-14","ED463"]
[521,"ELIZABETH DAVILA DE LA TORRE","LEDR7011147G9","RAMON CORONA S/N","ATEMAJAC DE BRIZUELA",45790,151,"BA PARTICIPACIONES 8760","Cheque N° 467","PAGO DE MATERIAL DE PAPELERIA PARA OFICINAS DE ESTE AYUNTAMIENTO. DE ACUERDO A COMPROBANTE ADJUNTO",3065.01,"2020-01-17","C520E"]
[522,"ELIZABETH DAVILA DE LA TORRE","LEDR7011147G9","RAMON CORONA S/N","ATEMAJAC DE BRIZUELA",45790,111,"BA TESORERIA 6536","Cheque N° 2395","PAGO DE MAERIAL DE PAPELERIA PARA OFICINAS DE ESTE AYUNTMAIENTO. DE ACUERDO A COMPROBANTES ADJUNTOS.",1801,"2020-10-23","251CF"]
[523,"ELVA MONROY IBARRA","MOIE610806GEA","CONSTITUCION S/N","ATEMAJAC DE BRIZUELA,JAL.",45790,111,"BA TESORERIA 6536","Transf N° 0009723085","PAGO DE ALIMENTO EN ATENCION A VISITANTES AL MPIO EN EL MES DE ENERO 2020. DE ACUERDO A COMPROBANTE ADJUNTO.",10277.6,"2020-02-24","F5A5D"]
[524,"ELVA MONROY IBARRA","MOIE610806GEA","CONSTITUCION S/N","ATEMAJAC DE BRIZUELA,JAL.",45790,151,"BA PARTICIPACIONES 8760","Transf N° 0095278052","PAGO DE ALIMENTOS PARA ATENCION A VISTANTES AL MUNICIPIO. DE ACUERDO A COMPROBANTE ADJUNTO.",4071.6,"2020-01-16","E1BFF"]
[525,"ELVA MONROY IBARRA","MOIE610806GEA","CONSTITUCION S/N","ATEMAJAC DE BRIZUELA,JAL.",45790,151,"BA PARTICIPACIONES 8760","Transf N° 0066432015","PAGO DE ALIMENTOS EN ATENCION A VISITANTES Y PERSONAL DE ESTE AYUNTAMIENTO. DE ACUERDO A COMPROBANTE ADJUNTO.",4715,"2020-05-21","6B13C"]
[526,"ELVA MONROY IBARRA","MOIE610806GEA","CONSTITUCION S/N","ATEMAJAC DE BRIZUELA,JAL.",45790,111,"BA TESORERIA 6536","Transf N° 0067683015","PAGO DE ALIMENTOS PARA PERSONAL QUE ATENDIO PUNTO DE REVISION COVID 19 EN LOS MESE DE JUNIO Y JULIO 2020. DE ACUERDO A COMPROBANTES ADJUNTOS.",7870.6,"2020-09-03","0A924"]
[527,"ELVA MONROY IBARRA","MOIE610806GEA","CONSTITUCION S/N","ATEMAJAC DE BRIZUELA,JAL.",45790,111,"BA TESORERIA 6536","Transf N° 0067683015","PAGO DE ALIMENTOS PARA PERSONAL QUE ATENDIO PUNTO DE REVISION COVID 19 EN LOS MESE DE JUNIO Y JULIO 2020. DE ACUERDO A COMPROBANTES ADJUNTOS.",3294.4,"2020-09-03","A06CF"]
[528,"ELVA MONROY IBARRA","MOIE610806GEA","CONSTITUCION S/N","ATEMAJAC DE BRIZUELA,JAL.",45790,151,"BA PARTICIPACIONES 8760","Transf N° 0083641038","PAGO DE CONSUMO DE ALIMENTOS PARA PERSONAL DE DIVERSAS DEPENDENCIA QUE VISITAN AL MPIO. DE ACUERDO A COMPROBANTE AJUNTO.",6472.8,"2020-11-09","7D945"]
[529,"ELVA MONROY IBARRA","MOIE610806GEA","CONSTITUCION S/N","ATEMAJAC DE BRIZUELA,JAL.",45790,151,"BA PARTICIPACIONES 8760","Cheque N° 934","PAGO DE ALIMENTOS EN ATENSION A VISITANTES QUE NOS VISITAN DE DIVERSAS DEPENDENCIAS. DE ACUERDO A COMPROBANTE ADJUNTO.",9372.7999999999993,"2020-12-30",72526]
[530,"ELVA MONROY IBARRA","MOIE610806GEA","CONSTITUCION S/N","ATEMAJAC DE BRIZUELA,JAL.",45790,151,"BA PARTICIPACIONES 8760","Transf N° 0026660032","PAGO DE ALIMENTOS PARA PERSONAL QUE ATIENDE A PUNTOS DE REVISION COVID 19  POR CONTINGENCIA SANITARIA EN EL MPIO. DE ACUERDO A COMPROBANTE ADJUNTO.",9361.2000000000007,"2020-04-28","09FB2"]
[531,"ELVA MONROY IBARRA","MOIE610806GEA","CONSTITUCION S/N","ATEMAJAC DE BRIZUELA,JAL.",45790,151,"BA PARTICIPACIONES 8760","Transf N° 0054003037","PAGO DE CONSUMO DE ALIMENTOS PARA PERSONAL DE ESTE AYUNTAMIENTO Y EN ATENCION A VISITANTES AL MPIO. DE ACUERDO A COMPROBANTE ADJUNTO.",6124.8,"2020-04-02","3F445"]
[532,"ESQUEMA ADMINISTRATIVOS SIGLO XXI SA DE CV","XAXX010101000",".",".",45790,151,"BA PARTICIPACIONES 8760","Cheque N° 641","PAGO DE HOSPEDAJE A PERSONAL DE CFE POR TRABAJOS EN EL ALUMBRADO PULICO DEL MPIO. DE ACUERDO A COMPROBANTE ADJUNTOS.",2088,"2020-04-08",72474]
[533,"ESQUEMA ADMINISTRATIVOS SIGLO XXI SA DE CV","XAXX010101000",".",".",45790,151,"BA PARTICIPACIONES 8760","Cheque N° 641","PAGO DE HOSPEDAJE A PERSONAL DE CFE POR TRABAJOS EN EL ALUMBRADO PULICO DEL MPIO. DE ACUERDO A COMPROBANTE ADJUNTOS.",2088,"2020-04-08","BE194"]
[534,"ESTACION DE GASOLINERIA FERROCARRIL S.A. DE C.V.","XAXX010101000","CIRCUNVALACIÓN AGUSTÍN YÁÑEZ 1908","GUADALAJARA,JALISCO",44190,111,"BA TESORERIA 6536","Cheque N° 2805","PAGO DE COMBUSTIBLE PARA AMBULANCIA DE PROTECCION CIVIL  Y MEDICAMENTOS PARA PERSONAL QUE LABORA EN ESTE AYUNTAMIENTO. DE ACUERDO A COMPROBANTE ADJUNTO",1000,"2020-12-30","0597C"]
[535,"ESTACION DE GASOLINERIA FERROCARRIL S.A. DE C.V.","XAXX010101000","CIRCUNVALACIÓN AGUSTÍN YÁÑEZ 1908","GUADALAJARA,JALISCO",44190,111,"BA TESORERIA 6536","Cheque N° 2805","PAGO DE COMBUSTIBLE PARA AMBULANCIA DE PROTECCION CIVIL  Y MEDICAMENTOS PARA PERSONAL QUE LABORA EN ESTE AYUNTAMIENTO. DE ACUERDO A COMPROBANTE ADJUNTO",1196.5,"2020-12-30","DD91E"]
[536,"ESTACION DE SERVICIO PEGASO S.A. DE C.V.","XAXX010101000","AV. LOPEZ MATEOS SUR NO. 3201","ZAPOPAN., JALISCO",45070,111,"BA TESORERIA 6536","Cheque N° 2397","PAGO DE COMBUSTIBLE PARA VEHICULOS DEL SERVICIO PUBLICO DE ESTE MPIO.  DE ACUERDO A COMPROBANTES ADJUNTOS.",1000,"2020-10-29","4D8EB"]
[537,"ESTACION DE SERVICIO PEGASO S.A. DE C.V.","XAXX010101000","AV. LOPEZ MATEOS SUR NO. 3201","ZAPOPAN., JALISCO",45070,111,"BA TESORERIA 6536","Cheque N° 2387","PAGO DE COMBUSTIBLES PARA AMBULANCIA DE PROTECCION CIVIL DE ESTE AYUNTAMIENTO. DE ACUERDO A COMPROBANTES ADJUNTOS.",1500,"2020-10-13","CE1F0"]
[538,"ESTACION DE SERVICIO PEGASO S.A. DE C.V.","XAXX010101000","AV. LOPEZ MATEOS SUR NO. 3201","ZAPOPAN., JALISCO",45070,111,"BA TESORERIA 6536","Cheque N° 2758","PAGO DE MANTENIMIENTO  Y COMBUSTIBLE A AMBULANCIA DE PROTECCION CIVIL DE ESTE MPIO. DE ACUERDO A COMPROBANTES ADJUNTOS.",1500,"2020-12-08",63627]
[539,"ESTACION DE SERVICIO PEGASO S.A. DE C.V.","XAXX010101000","AV. LOPEZ MATEOS SUR NO. 3201","ZAPOPAN., JALISCO",45070,111,"BA TESORERIA 6536","Cheque N° 2758","PAGO DE MANTENIMIENTO  Y COMBUSTIBLE A AMBULANCIA DE PROTECCION CIVIL DE ESTE MPIO. DE ACUERDO A COMPROBANTES ADJUNTOS.",1500,"2020-12-08","6318D"]
[540,"ESTACION DE SERVICIO PEGASO S.A. DE C.V.","XAXX010101000","AV. LOPEZ MATEOS SUR NO. 3201","ZAPOPAN., JALISCO",45070,111,"BA TESORERIA 6536","Cheque N° 2758","PAGO DE MANTENIMIENTO  Y COMBUSTIBLE A AMBULANCIA DE PROTECCION CIVIL DE ESTE MPIO. DE ACUERDO A COMPROBANTES ADJUNTOS.",1000,"2020-12-08","5609A"]
[541,"ESTACION DE SERVICIO PEGASO S.A. DE C.V.","XAXX010101000","AV. LOPEZ MATEOS SUR NO. 3201","ZAPOPAN., JALISCO",45070,151,"BA PARTICIPACIONES 8760","Cheque N° 468","PAGO PAGO DE MEDICAMENTOS PARA PERSONAS DE ESCASOS RECURSOS Y PERSONAL DE ESTE AYUNTAMIENTO Y COMBUSTIBLE PARA AMBULANCIAS. DE ACUERDO A COMPRONANTES ADJUNTOS.",1000,"2020-01-17","FED4B"]
[542,"ESTACION DE SERVICIO PEGASO S.A. DE C.V.","XAXX010101000","AV. LOPEZ MATEOS SUR NO. 3201","ZAPOPAN., JALISCO",45070,151,"BA PARTICIPACIONES 8760","Cheque N° 468","PAGO PAGO DE MEDICAMENTOS PARA PERSONAS DE ESCASOS RECURSOS Y PERSONAL DE ESTE AYUNTAMIENTO Y COMBUSTIBLE PARA AMBULANCIAS. DE ACUERDO A COMPRONANTES ADJUNTOS.",1000,"2020-01-17","E8033"]
[543,"ESTACION DE SERVICIO PEGASO S.A. DE C.V.","XAXX010101000","AV. LOPEZ MATEOS SUR NO. 3201","ZAPOPAN., JALISCO",45070,151,"BA PARTICIPACIONES 8760","Cheque N° 0558","PAGO DE COMBSTIBLE PARA AMBULANCIA DE ESTE AUNTAMIENTO. DE ACUERDO A COMPROBANTE ADJUNTO.",1100.19,"2020-03-10","4A650"]
[544,"ESTACION DE SERVICIO PEGASO S.A. DE C.V.","XAXX010101000","AV. LOPEZ MATEOS SUR NO. 3201","ZAPOPAN., JALISCO",45070,151,"BA PARTICIPACIONES 8760","Cheque N° 0558","PAGO DE COMBSTIBLE PARA AMBULANCIA DE ESTE AUNTAMIENTO. DE ACUERDO A COMPROBANTE ADJUNTO.",1041.24,"2020-03-10","4883A"]
[545,"ESTACION DE SERVICIO PEGASO S.A. DE C.V.","XAXX010101000","AV. LOPEZ MATEOS SUR NO. 3201","ZAPOPAN., JALISCO",45070,111,"BA TESORERIA 6536","Cheque N° 2261","PAGO DE VIATICOS A CHOFER DE AMBULANCIA POR TRASLADOS DE EMERGENCIA. DE ACUERDO A COMPROBANTES ADJUNTOS.",1000,"2020-04-30",3523]
[546,"ESTACION DE SERVICIO PEGASO S.A. DE C.V.","XAXX010101000","AV. LOPEZ MATEOS SUR NO. 3201","ZAPOPAN., JALISCO",45070,151,"s/ref","s/ref ","PAGO DE GASTOS VARIOS DEL MES DE NOVIEMBRE 2020. DE ACUERDO A COMPROBANTES ADJUNTOS.",1000,"2020-11-02","34BD0"]
[547,"ESTACION DE SERVICIO PEGASO S.A. DE C.V.","XAXX010101000","AV. LOPEZ MATEOS SUR NO. 3201","ZAPOPAN., JALISCO",45070,151,"s/ref","s/ref ","PAGO DE GASTOS VARIOS CORRESPONDIENTES AL MES DE SEPTIEMBRE 2020. DE ACUERDO A COMPROBANES ADJUNTOS.",1000,"2020-09-30","34BD0"]
[548,"ESTEBAN MOLINA VAZQUEZ","MOVE780703VSA","DIEZ DE MAYO 16 CL PRIMERO DE MAYO","GUADALAJARA",44970,151,"BA PARTICIPACIONES 8760","Transf N° ","PAGO DE PORTAFUSIBLES PARA  EL ALUMBRADO PUBLICO DE ESTE MPIO. DE ACUERDO A COMPROBANTE ADJUNTO.",3889.94,"2020-04-09","952BD"]
[549,"ESTEBAN MOLINA VAZQUEZ","MOVE780703VSA","DIEZ DE MAYO 16 CL PRIMERO DE MAYO","GUADALAJARA",44970,151,"BA PARTICIPACIONES 8760","Transf N° 0095278033","PAGO DE MATERIAL ELECTRICO PARA MANTENIMIENTO DE ALUMBRADO PUBLICO DE ESTE MUNICIPIO. DE ACUERDO A COMPROBANTE ADJUNTO.",32059.55,"2020-01-16","C5AF2"]
[550,"ESTEBAN MOLINA VAZQUEZ","MOVE780703VSA","DIEZ DE MAYO 16 CL PRIMERO DE MAYO","GUADALAJARA",44970,111,"BA TESORERIA 6536","Transf N° 0043018056","PAGO DE MATERIAL ELECTRICO PARA EL MANTENIMIENTO DE ALUMBRADO PUBLICO DE ESTE MPIO. DE ACUERDO A COMPROBANTE ADJUNTO.",28215.25,"2020-02-21",63146]
[551,"ESTEBAN MOLINA VAZQUEZ","MOVE780703VSA","DIEZ DE MAYO 16 CL PRIMERO DE MAYO","GUADALAJARA",44970,151,"BA PARTICIPACIONES 8760","Transf N° 0044513015","PAGO DE MATERIAL ELECTRICO PARA EL MANTENIENTO DE RED DE ALUMBRADO PUBLICO EN EL MPIO. DE ACUEDO A COMPROBANTE ADJUNTO.",7864.8,"2020-05-29","B3D7F"]
[552,"ESTEBAN MOLINA VAZQUEZ","MOVE780703VSA","DIEZ DE MAYO 16 CL PRIMERO DE MAYO","GUADALAJARA",44970,151,"BA PARTICIPACIONES 8760","Transf N° 0099859040","PAGO DE MARERIAL ELECTRICO PARA EL MANTENIMIENTO DE RED DE ALUBRADO PUBLICO EN EL MPIO. DE ACUERDO A COMPROBANTE ADJUNTO.",3556.91,"2020-06-26","86D94"]
[553,"ESTHER ARREGUIN CAMACHO","AECE561128SY5","MARIA URIBE NO. 154","GUADALAJARA,JAL.",44820,151,"BA PARTICIPACIONES 8760","Transf N° 0047272123","PAGO DE HIPOCLORITO DE SODIO PARA EL PROCESOS DE POTABILIZA POSOS DE EN EL MPIO. DE ACUERDO A COMPROBANTE ADJUNTO.",12910.8,"2020-10-19",34878]
[554,"ESTHER ARREGUIN CAMACHO","AECE561128SY5","MARIA URIBE NO. 154","GUADALAJARA,JAL.",44820,151,"BA PARTICIPACIONES 8760","Transf N° 0083641021","PAGO DE HIPOCLORITO DE SODIO PARA POSOS DE AGUA POTABLE QUE ABASTESEN AL MPIO. DE ACUERDO A COMPROBANTE ADJUNTO.",8700,"2020-11-09","2BF7C"]
[555,"ESTHER ARREGUIN CAMACHO","AECE561128SY5","MARIA URIBE NO. 154","GUADALAJARA,JAL.",44820,151,"BA TESORERIA 6536","Transf N° 001216023","PAGO DE HIPOCLORITO DE SODIO PARA EL PROCESO DE POTABILIZACION AGUA PARA LA POBLACION DE ATEMAJAC DE BRIZUELA, JALISCO. DE ACUERDO A COMPROBANTE ADJUNTO.",13746,"2020-03-09","85A9D"]
[556,"ESTHER ARREGUIN CAMACHO","AECE561128SY5","MARIA URIBE NO. 154","GUADALAJARA,JAL.",44820,151,"BA PARTICIPACIONES 8760","Transf N° 0095278091","PAGO DE HIPOCLORITO DE SODIO PARA PLANTA POTABILIZADORA DE AGUA QUE ABASTECE A ESTE MUNICIPIO. DE ACUERDO A COMPRONANTE ADJUNTO.",9918,"2020-01-16"]
[557,"ESTHER ARREGUIN CAMACHO","AECE561128SY5","MARIA URIBE NO. 154","GUADALAJARA,JAL.",44820,151,"BA PARTICIPACIONES 8760","Transf N° 0030978068","PAGO DE HIPOCLORITO DE SODIO Y CUÑETE DE PASTILLA DE CLORO DE 1´ DE 25 KG, PARA POSOS DE AGUA POTABLE QUE ABASTESEN AL MPIO. DE ACUERDO A COMPROBANTE ADJUNTO.",14650.8,"2020-07-22","3FF33"]
[558,"ESTHER ARREGUIN CAMACHO","AECE561128SY5","MARIA URIBE NO. 154","GUADALAJARA,JAL.",44820,151,"BA TESORERIA 6536","Transf N° 0055049027","PAGO DE HIPOCLORITO DE SODIO PARA POZOS DE AGUA POTABLE DEL MUNICIPIO. DE ACUERDO A COMPROBANTES ADJUNTOS.",17220.2,"2020-04-08","6912E"]
[559,"ESTHER ARREGUIN CAMACHO","AECE561128SY5","MARIA URIBE NO. 154","GUADALAJARA,JAL.",44820,151,"BA PARTICIPACIONES 8760","Transf N° 0020573030","PAGO DE HIPOCLORITO DE SODIO PARA EL PROCESO DE POTABILIZACION AGUA PARA LA POBLACION DE ATEMAJAC DE BRIZUELA, JALISCO. DE ACUERDO A COMPROBANTE ADJUNTO.",11507.2,"2020-12-30","6909E"]
[560,"ESTHER ARREGUIN CAMACHO","AECE561128SY5","MARIA URIBE NO. 154","GUADALAJARA,JAL.",44820,151,"BA PARTICIPACIONES 8760","Transf N° 0020573030","PAGO DE HIPOCLORITO DE SODIO PARA EL PROCESO DE POTABILIZACION AGUA PARA LA POBLACION DE ATEMAJAC DE BRIZUELA, JALISCO. DE ACUERDO A COMPROBANTE ADJUNTO.",3236.4,"2020-12-30","1BCF3"]
[561,"EVERARDA LEON ORTEGA","LEOE540823EF3","CONSTITUCION NO. 01","ATEMAJAC DE BRIZUELA,JAL.",45790,151,"s/ref","s/ref ","PAGO DE MATERIALES DE ASEO PARA OFICINAS Y ESPACIOS PUBLICOS EN EL MPIO. DE ACUERDO A COMPROBANTE ADJUNTO.",6300,"2020-07-29","CDDCD"]
[562,"EVERARDA LEON ORTEGA","LEOE540823EF3","CONSTITUCION NO. 01","ATEMAJAC DE BRIZUELA,JAL.",45790,151,"BA PARTICIPACIONES 8760","Cheque N° 0677","PAGO DE MATERIALES DE ASEO PUBLI PARA OFICINAS Y ESPACIOS PUBLICOS EN EL MPIO. DE ACUERDO A COMPROBANTE ADJUNTO.",6821,"2020-04-17",6.5999999999999998E+86]
[563,"EVERARDA LEON ORTEGA","LEOE540823EF3","CONSTITUCION NO. 01","ATEMAJAC DE BRIZUELA,JAL.",45790,151,"BA PARTICIPACIONES 8760","Transf N° 0037355159","PAGO DE ARTICULOS DE LIMPIEZA PARA OFICINAS DE ESTE AYUNTAMIENTO. DE ACUERDO A COMPROBANTE ADJUNTO.",7576,"2020-10-15","CFEDC"]
[564,"EVERARDA LEON ORTEGA","LEOE540823EF3","CONSTITUCION NO. 01","ATEMAJAC DE BRIZUELA,JAL.",45790,151,"BA PARTICIPACIONES 8760","Cheque N° 0503","PAGO POR LA RENTA DE MUEBLE PARA POSADA NAVIDEÑA DEL PERSONAL QUE LABORA EN ESTE AYUNTAMIENTO. DE ACUERDO A COMPROBANTE ADJUNTO.",2227.1999999999998,"2020-02-12","CFBE9"]
[565,"EVERARDA LEON ORTEGA","LEOE540823EF3","CONSTITUCION NO. 01","ATEMAJAC DE BRIZUELA,JAL.",45790,151,"BA PARTICIPACIONES 8760","Cheque N° 0503","PAGO POR LA RENTA DE MUEBLE PARA POSADA NAVIDEÑA DEL PERSONAL QUE LABORA EN ESTE AYUNTAMIENTO. DE ACUERDO A COMPROBANTE ADJUNTO.",11136,"2020-02-12",49142]
[566,"EVERARDA LEON ORTEGA","LEOE540823EF3","CONSTITUCION NO. 01","ATEMAJAC DE BRIZUELA,JAL.",45790,151,"s/ref","s/ref ","PAGO DE INSUMOS PARA PERSONAL QUE ATIENDE PUNTO DE REVISION COVID 19 POR CONTINGENCIA SANITARIA. DE ACUERDO A COMPROBANTE ADJUNTO.",5655,"2020-07-29","CE5A7"]
[567,"EVERARDA LEON ORTEGA","LEOE540823EF3","CONSTITUCION NO. 01","ATEMAJAC DE BRIZUELA,JAL.",45790,151,"s/ref","Ref N° EF","PAGO DE PRODUCTOS DE ABARROTES PARA REUNIONES Y OFICINAS DE ESTE AYUNTAMIENTO. DE ACUERDO A COMPROBANTE ADJUNTO.",4317.01,"2020-05-04","67A78"]
[568,"EVERARDA LEON ORTEGA","LEOE540823EF3","CONSTITUCION NO. 01","ATEMAJAC DE BRIZUELA,JAL.",45790,151,"s/ref","Ref N° EF","PAGO DE PRODUCTOS DE ABARROTES PARA REUNIONES Y OFICINAS DE ESTE AYUNTAMIENTO. DE ACUERDO A COMPROBANTE ADJUNTO.",10000,"2020-05-04","0B5FA"]
[569,"EVERARDA LEON ORTEGA","LEOE540823EF3","CONSTITUCION NO. 01","ATEMAJAC DE BRIZUELA,JAL.",45790,151,"BA PARTICIPACIONES 8760","Cheque N° 813","PAGO DE PRODUCTOS DE ABARROTES Y ALIMENTICIOS PARA LA ELABORACION DE ALIMENTOS PARA PERSONAL QUE ATIENDE PUNTO DE REVISION COVID 19 EN EL MPIO. DE ACUERDO A COMPROBANTE ADJUNTO.",12892,"2020-08-31",75922]
[570,"EVERARDA LEON ORTEGA","LEOE540823EF3","CONSTITUCION NO. 01","ATEMAJAC DE BRIZUELA,JAL.",45790,151,"s/ref","Ref N° EF","PAGO DE GASTOS VARIOS CORRESPONDIENTES AL MES DE JULIO Y JUNIO 2020. DE ACUERDO A COMPROBANTES ADJUNTOS.",1566,"2020-07-30","CB1372"]
[571,"EVERARDA LEON ORTEGA","LEOE540823EF3","CONSTITUCION NO. 01","ATEMAJAC DE BRIZUELA,JAL.",45790,151,"BA PARTICIPACIONES 8760","Transf N° 0037355141","PAGO DE ALIMENTOS COMESTIBLES Y ABAROTES EN ATENSION A VISITANTES DE DIVERSASDEPENDENCIAS Y OFICINAS DE ESTE AYUNTAMIENTO. DE ACUERDO A COMPROBANTE ADJUNTO",6419,"2020-10-15","AD072"]
[572,"FASTER MAYOREO, S.A. DE C.V.","XAXX010101000","AV. ENRIQUE DIAZ DE LEON NO. 472","GUADALAJARA,JAL.",44160,151,"s/ref","s/ref ","REPOSICION DE CAJA CHICA DE EGRESOS CORRESPONDIENTE AL DIA 16 DE JUNIO 2020. DE ACUERDO A COMPROBANTES ADJUNTOS.",1554.4,"2020-06-16",139187]
[573,"FASTER MAYOREO, S.A. DE C.V.","XAXX010101000","AV. ENRIQUE DIAZ DE LEON NO. 472","GUADALAJARA,JAL.",44160,151,"BA PARTICIPACIONES 8760","Cheque N° 0493","REPOSICION DE CAJA CHICA DE EGRESOS DEL DIA 7 DE FEBRERO 2020. DE ACUERDO A COMPROBANTES ADJUNTO.",1032.98,"2020-02-07",89824]
[574,"FEDERICO HERNANDEZ VARGAS","HEVF75050997A","AV. FRAY ANTONIO ALCALDE 887A, ARTESANOS","GUADALAJARA,JAL.",44260,111,"s/ref","Ref N° EF","PAGO DE TROFEOS PARA LA FINAL DE LA LIGA DE FUTBOL DE ESTE MPIO. DE ACUERDO A COMPROBANTE ADJUNTO.",7999.36,"2020-07-01",1769]
[575,"FERNANDO CENTENO MOTA","CEMF710728BP1","JUAN MANUEL NO. 598","GUADALAJARA,JAL.",44100,111,"s/ref","Ref N° EF","REPOSICION FINAL DE CAJA CHICA DE EGRESOS (EX TESORERO) AL 25 DE OCTUBRE 2019. DE ACUERDO A COMROBANTES ADJUNTOS.",1733.77,"2020-06-01",85949]
[576,"FERRESA SA DE CV","XAXX010101000",".",".",44900,111,"BA TESORERIA 6536","Cheque N° 2789","PAGO DE PRODUCTOS DE LA CANASTA BASICA PARA LA ELABORACION DE DESPENSAS PARA LOS EMPLEADOS DE ESTE AYUNTAMIENTO. DE ACUEDO A COMPROBANTES ADJUNTO.",1974.02,"2020-12-22","CFC3D"]
[577,"FORMAS CONTINUAS DE GUADALAJARA, SA DE CV.","XAXX010101000","AV PERIFÉRICO MANUEL GÓMEZ MORIN 7301,COL. GRANJA  ZAPOPAN, JAL","ZAPOPAN, JALISCO.",45010,151,"BA PARTICIPACIONES 8760","Transf N° 0093400021","PAGO DE 1 MILLAR DE FORMAS VALORADAS DE RECIBOS DE AGUA POTABLE. DE ACUERDO A COMPROBANTE QUE SE ADJUNTO.",4314.04,"2020-05-20","313B8"]
[578,"FRANCISCO JAVIER GONZALEZ CASTAÑEDA","GOCF6603309M5",".",".",45790,111,"BA TESORERIA 6536","Transf N° 0069971015","PAGO DE UNIFORMES A ELEMENTOS DE SEGURIDAD PUBLICA. DE ACUERDO A COMPROBANTE AJDJUNTO.",17351.28,"2020-07-02","5BB28"]
[579,"FRANCISCO JAVIER GONZALEZ CASTAÑEDA","GOCF6603309M5",".",".",45790,111,"BA ESTRATEGIA ALE 0157","Transf N° 0030552204","PAGO DE BOTAS PARA PERSONAL OPERATIVO POLICIAL DEL PROGRAMA ESTRATEGIA ALE 2020. DE ACUERDO A COMPROBANTES ADJUNTOS.",2959.74,"2020-10-09","5600F"]
[580,"GABRIELA MARIA OREA CARDENAS","OECG580620P21","PLATANO 1420 Y 1425 FRESNO","GUADALAJARA",45790,151,"BA PARTICIPACIONES 8760","Cheque N° 0560","PAGO POR EL MANTENIMIENTO DE AMBULANCIA DE PROTECCION CIVIL Y PARAMEDICOS DE ESTE AYUNTAMIENTO. DE ACUERDO A COMPROBANTE ADJUNTO.",2257.36,"2020-03-10","F9E7E"]
[581,"GABRIELA MARIA OREA CARDENAS","OECG580620P21","PLATANO 1420 Y 1425 FRESNO","GUADALAJARA",45790,151,"BA PARTICIPACIONES 8760","Cheque N° 673","PAGO DE COMBUSTIBLE Y MANTENIMIENTO DE AMBULANCIA DE PROTECCION CIVIL DE ESTE MPIO. DE ACUERDO A COMPROBANTES ADJUNTOS.",5011.2,"2020-04-17",36351]
[582,"GABRIELA MARIA OREA CARDENAS","OECG580620P21","PLATANO 1420 Y 1425 FRESNO","GUADALAJARA",45790,151,"s/ref","s/ref ","PAGO DE SERVICIO A VEHICULO DE PROTECCION CIVIL DE ESTE MPIO. DE ACUERDO A COMPROBANTE ADJUNTO.",5011.2,"2020-06-08",36351]
[583,"GABRIELA MARIA OREA CARDENAS","OECG580620P21","PLATANO 1420 Y 1425 FRESNO","GUADALAJARA",45790,151,"BA PARTICIPACIONES 8760","Cheque N° 833","PAGO DE MADICAMENTOS Y COMBUSTIBLE PARA UNIDADES DE PROTECCION CIVIL DE LOS MESES DE ABRIL, MAYO, JUNIO 2020. DE ACUERDO A COMPROBANTES ADJUNTOS.",2373.36,"2020-10-02","726D2"]
[584,"GABRIELA MARIA OREA CARDENAS","OECG580620P21","PLATANO 1420 Y 1425 FRESNO","GUADALAJARA",45790,151,"BA PARTICIPACIONES 8760","Cheque N° 833","PAGO DE MADICAMENTOS Y COMBUSTIBLE PARA UNIDADES DE PROTECCION CIVIL DE LOS MESES DE ABRIL, MAYO, JUNIO 2020. DE ACUERDO A COMPROBANTES ADJUNTOS.",2726,"2020-10-02","92F09"]
[585,"GABRIELA MARIA OREA CARDENAS","OECG580620P21","PLATANO 1420 Y 1425 FRESNO","GUADALAJARA",45790,111,"BA TESORERIA 6536","Cheque N° 2758","PAGO DE MANTENIMIENTO  Y COMBUSTIBLE A AMBULANCIA DE PROTECCION CIVIL DE ESTE MPIO. DE ACUERDO A COMPROBANTES ADJUNTOS.",5042.5200000000004,"2020-12-08","5519D"]
[586,"GABRIELA MARIA OREA CARDENAS","OECG580620P21","PLATANO 1420 Y 1425 FRESNO","GUADALAJARA",45790,111,"BA TESORERIA 6536","Cheque N° 2758","PAGO DE MANTENIMIENTO  Y COMBUSTIBLE A AMBULANCIA DE PROTECCION CIVIL DE ESTE MPIO. DE ACUERDO A COMPROBANTES ADJUNTOS.",2257.36,"2020-12-08","9705D"]
[587,"GASER DE MEXICO SA DE CV","XAXX010101000",".",".",44470,151,"BA PARTICIPACIONES 8760","Transf N° 0040729023","PAGO DE BALONES DE FUTBOL PARA LA LIGA MUNICIPAL, DE ACUERDO A COMPROBANTE ADJUNTO.",3351.24,"2020-12-21","00A77"]
[588,"GASOLINERA CASCO HERMANOS S.A. DE C.V.","XAXX010101000","AUTOPISTA GUADALARAJA - COLIMA 125, LA NUEVA COFRADIA","GUADALAJARA,JALISCO",45640,151,"s/ref","s/ref ","REPOSICION DE CAJA CHICA DE EGRESOS CORRESPONDIENTE AL DIA 26 DE JUNIO 2020. DE ACUERDO A COMPROBANTES ADJUNTOS.",1000.23,"2020-06-26",490]
[589,"GASOLINERA CASCO HERMANOS S.A. DE C.V.","XAXX010101000","AUTOPISTA GUADALARAJA - COLIMA 125, LA NUEVA COFRADIA","GUADALAJARA,JALISCO",45640,151,"s/ref","s/ref ","PAGO DE VIATICOS A PRESIDENTE MUNICIPAL POR COMISION A DIVERSOS EVENTOS. DE ACUERDO A COMPROBANTES ADJUNTOS",1050.1300000000001,"2020-07-14","3C525"]
[590,"GASOLINERA CASCO HERMANOS S.A. DE C.V.","XAXX010101000","AUTOPISTA GUADALARAJA - COLIMA 125, LA NUEVA COFRADIA","GUADALAJARA,JALISCO",45640,151,"BA PARTICIPACIONES 8760","Cheque N° 922","PAGO DE VIATICOS A PRESIDENTE MUNICIPAL POR COMISION A DIVERSOS EVENTOS EN EL MES DE NOVIEMBRE Y DICIEMBRE 2020. DE ACUERDO A COMPROBANTES ADJUNTOS",1000.26,"2020-12-18","E567B"]
[591,"GASOLINERA CASCO HERMANOS S.A. DE C.V.","XAXX010101000","AUTOPISTA GUADALARAJA - COLIMA 125, LA NUEVA COFRADIA","GUADALAJARA,JALISCO",45640,151,"s/ref","s/ref ","PAGO DE VIATICOS A PRESIDENTE MUNICIPAL POR COMISION A DIVERSOS EVENTOS EN EL MES DE SEPTIEMBRE 2020. DE ACUERDO A COMPROBANTES ADJUNTOS",1200.1400000000001,"2020-09-30","DD5A4"]
[592,"GASOLINERA CASCO HERMANOS S.A. DE C.V.","XAXX010101000","AUTOPISTA GUADALARAJA - COLIMA 125, LA NUEVA COFRADIA","GUADALAJARA,JALISCO",45640,151,"BA PARTICIPACIONES 8760","Cheque N° 0667","PAGO DE VIATICOS A TESORERO MUNICIPAL POR DIVERSAS COMISIONES Y TRALADOS A GUADALAJARA. DE ACUERDO A COMPROBANTES ADJUNTOS.",1000,"2020-04-14","A7579"]
[593,"GASOLINERA CASCO HERMANOS S.A. DE C.V.","XAXX010101000","AUTOPISTA GUADALARAJA - COLIMA 125, LA NUEVA COFRADIA","GUADALAJARA,JALISCO",45640,151,"s/ref","s/ref ","COMPROBACION DE CAJA CHICA FINAL EX TESORERO. DE ACUERDO A COMPROBANTES ADJUNTOS.",1115.3,"2020-05-11","C8E3B"]
[594,"GASOLINERA CASCO HERMANOS S.A. DE C.V.","XAXX010101000","AUTOPISTA GUADALARAJA - COLIMA 125, LA NUEVA COFRADIA","GUADALAJARA,JALISCO",45640,111,"BA TESORERIA 6536","Cheque N° 2224","PAGO DE COMBUSTIBLE PARA AMBULANCIAS DE PROTECCION CIVIL DE ESTE AYUNTAMIENTO. DE ACUERDO A COMPROBANTE ADJUNTO.",1000,"2020-02-25","A7579"]
[595,"GASOLINERA CASCO HERMANOS S.A. DE C.V.","XAXX010101000","AUTOPISTA GUADALARAJA - COLIMA 125, LA NUEVA COFRADIA","GUADALAJARA,JALISCO",45640,111,"s/ref","Ref N° EF","PAGO DE COMBUSTIBLE PARA AMBULACIAS DE PROTECCION CIVIL Y  VIATICOS A CHOFER DE AMBULANCIA. DE ACUERDO A COMPROBANTES ADJUNTOS.",1601.21,"2020-07-03","26D3B"]
[596,"GASOLINERA CASCO HERMANOS S.A. DE C.V.","XAXX010101000","AUTOPISTA GUADALARAJA - COLIMA 125, LA NUEVA COFRADIA","GUADALAJARA,JALISCO",45640,111,"s/ref","Ref N° EF","PAGO DE COMBUSTIBLE PARA AMBULACIAS DE PROTECCION CIVIL Y  VIATICOS A CHOFER DE AMBULANCIA. DE ACUERDO A COMPROBANTES ADJUNTOS.",2050.0700000000002,"2020-07-03","EB92F"]
[597,"GASOLINERA LA VICTORIA S.A.","XAXX010101000","CALLE GUADALUPE VICTORIA 379, LLANOS DEL COAJINQUE","AUTLAN DE NAVARRO,JAL",48900,151,"s/ref","s/ref ","PAGO DE VIATICOS A PRESIDENTE MUNICIPAL POR COMISION A DIVERSOS EVENTOS EN EL MES DE OCTUBRE 2020. DE ACUERDO A COMPROBANTES ADJUNTOS",1169.4000000000001,"2020-10-31",140683]
[598,"GASOLINERA MARTIN S.A. DE C.V.","XAXX010101000","MARIANO OTERO NO. 79","ZAPOPAN",45239,151,"s/ref","s/ref ","PAGO DE VIATICOS A PRESIDENTE MUNICIPAL POR COMISION A DIVERSOS EVENTOS EN EL MES DE OCTUBRE 2020. DE ACUERDO A COMPROBANTES ADJUNTOS",1018.7,"2020-10-31",40843]
[599,"GASOLINERA MARTIN S.A. DE C.V.","XAXX010101000","MARIANO OTERO NO. 79","ZAPOPAN",45239,111,"BA TESORERIA 6536","Cheque N° 2358","PAGO DE GASTOS VARIOS CORRESPONDIENTES AL MES DE SEPTIEMBRE 2020. DE ACUERDO A COMPROBANTES ADJUNTOS.",1079.4000000000001,"2020-09-25","BB3D0"]
[600,"GASOLINERA MARTIN S.A. DE C.V.","XAXX010101000","MARIANO OTERO NO. 79","ZAPOPAN",45239,111,"BA TESORERIA 6536","Cheque N° 2364","PAGO DE VIATICOS A TESORERO MUNICIPAL POR COMISION A GUADALAJARA Y POR LA ELABORACION DE FESTONES POR LOS FESTEJOS PATRIOS. DE ACUERDO A COMPROBANTE ADJUNTO.",1079,"2020-09-30","BB6D0"]
[601,"GASOLINERA MARTIN S.A. DE C.V.","XAXX010101000","MARIANO OTERO NO. 79","ZAPOPAN",45239,151,"BA PARTICIPACIONES 8760","Cheque N° 833","PAGO DE MADICAMENTOS Y COMBUSTIBLE PARA UNIDADES DE PROTECCION CIVIL DE LOS MESES DE ABRIL, MAYO, JUNIO 2020. DE ACUERDO A COMPROBANTES ADJUNTOS.",1440.24,"2020-10-02","1D3AE"]
[602,"GASOLINERA MARTIN S.A. DE C.V.","XAXX010101000","MARIANO OTERO NO. 79","ZAPOPAN",45239,151,"BA PARTICIPACIONES 8760","Cheque N° 838","PAGO DE GASTOS VARIOS CORRESPONDIENTES AL MES DE OCTUBRE 2020. DE ACUERDO A COMPROBANTES ADJUNTOS.",1000,"2020-10-07","F80EF"]
[603,"GASOLINERA MARTIN S.A. DE C.V.","XAXX010101000","MARIANO OTERO NO. 79","ZAPOPAN",45239,111,"BA TESORERIA 6536","Cheque N° 2782","PAGO DE COMBUSTIBLE PARA ABULANCIA DE PROTECCION CIVIL DE ESTE MPIO. DE ACUERDO A COMPROBANTE ADJUNTO",1000,"2020-12-17","3361C"]
[604,"GASOLINERA MARTIN S.A. DE C.V.","XAXX010101000","MARIANO OTERO NO. 79","ZAPOPAN",45239,111,"BA TESORERIA 6536","Cheque N° 2758","PAGO DE MANTENIMIENTO  Y COMBUSTIBLE A AMBULANCIA DE PROTECCION CIVIL DE ESTE MPIO. DE ACUERDO A COMPROBANTES ADJUNTOS.",1000,"2020-12-08","EE4BE"]
[605,"GASOLINERA MARTIN S.A. DE C.V.","XAXX010101000","MARIANO OTERO NO. 79","ZAPOPAN",45239,151,"BA PARTICIPACIONES 8760","Ref N° EF","PAGO DE COMBUSTIBLE PARA VEHICULOS DEL SERVICIO PUBLICO DE ESTE AYUNTAMIENTO. DE ACUERDO A COMPROBANTE ADJUNTO.",1000,"2020-09-21","C71F9"]
[606,"GASOLINERA MARTIN S.A. DE C.V.","XAXX010101000","MARIANO OTERO NO. 79","ZAPOPAN",45239,151,"BA PARTICIPACIONES 8760","Ref N° EF","PAGO DE COMBUSTIBLE PARA VEHICULOS DEL SERVICIO PUBLICO DE ESTE AYUNTAMIENTO. DE ACUERDO A COMPROBANTE ADJUNTO.",1000,"2020-09-21","202DC"]
[607,"GRUPO COMERCIAL FOR S.A. DE C.V.","XAXX010101000","-","-",44330,151,"BA PARTICIPACIONES 8760","Transf N° 0011280047","PAGO DE CANILLAS PORTAFUSIBLES MEDIA TENSION PARA EL MANTENIMIENTO DE ALUMBRADO PUBLICO EN EL MPIO. DE ACUERDO A COMPROBANTE ADJUNTO.",6960,"2020-02-10","A9B8C"]
[608,"GRUPO FERRETERIA CALZADA S.A. DE C.V.","XAXX010101000","TIENDA 20 PLAZA TERRANOVA","GUADALAJARA",44680,151,"BA PARTICIPACIONES 8760","Transf N° 0022720014","PAGO DE BOTAS PARA PERSONAL QUE LABORA EN ASEO PUBLICO. DE ACUERDO A COMPROBANTE ADJUNTO.",2085.0500000000002,"2020-04-07",22205]
[609,"GRUPO FERRETERIA CALZADA S.A. DE C.V.","XAXX010101000","TIENDA 20 PLAZA TERRANOVA","GUADALAJARA",44680,111,"BA TESORERIA 6536","Transf N° 0037777014","PAGO DE LINTERNAS PARA ELEMENTOS DE BRIGADA CONTRA INCENDIOS. DE ACUERDO A COMPROBANTE ADJUNTO.",1521,"2020-04-13","10BC0"]
[610,"GRUPO GASOLINERO SAMARA SA DE CV","XAXX010101000","AV PROL GUADALUPE NO 3439 COL. MIRMAR","ZAPOPAN",45060,151,"s/ref","s/ref ","REPOSICION DE CAJA CHICA DE EGRESOS CORRESPONDIENTE AL DIA 08 DE JUNIO 2020. DE ACUERDO A COMPROBANTES ADJUNTOS.",1750.08,"2020-06-08","71B06"]
[611,"GRUPO MAJURO64 SA DE CV","XAXX010101000","JOSE MARIA VIGIL 3150","LOMAS DE PROVIDENCIA, GUADALAJARA",44647,111,"BA TESORERIA 6536","Cheque N° 2197","PAGO DE RENTA DE MAQUINARIA PESADA PARA TRABAJOS MANTENIMIENTO DE VERTEDERO MUNICIPAL TOPOMINA. DE ACUEDO A COMPROBANTE ADJUNTO.",9280,"2020-01-14","CD918"]
[612,"GRUPO MOTORMEXA COLIMA S.A. DE C.V.","XAXX010101000","CARLOS DE LA MADRIR BEJAR 900","COLIMA",49000,151,"BA PARTICIPACIONES 8760","Transf N° 0095073014","PAGO DE SERVICIO A CAMIONETA RAM DE ASEO PUBLICO DE ESTE AYUNTAMIENTO. DE ACUERDO A COMPROBANTE ADJUNTO.",3378.14,"2020-06-04","DB5F2"]
[613,"GRUPO MOTORMEXA COLIMA S.A. DE C.V.","XAXX010101000","CARLOS DE LA MADRIR BEJAR 900","COLIMA",49000,111,"BA TESORERIA 6536","Transf N° 0016932014","COMPLEMENTO DE SERVICIO  DE 20,000 KM A VEHICULO DE ASEO PUBLICO DE ESTE AYUNTAMIENTO. DE ACUERDO A COMPROBANTE ADJUNTO.",1000,"2020-02-03","077D9"]
[614,"GRUPO MOTORMEXA COLIMA S.A. DE C.V.","XAXX010101000","CARLOS DE LA MADRIR BEJAR 900","COLIMA",49000,151,"BA PARTICIPACIONES 8760","Transf N° 0069896028","PAGO POR EL SERVICIO AL CAMION RECOLECTOR DE BASURA DE ESTE MUNICIPIO. DE ACUERDO A COMPROBANTE ADJUNTO.",4613,"2020-04-02","4D5F0"]
[615,"GRUPO MOTORMEXA COLIMA S.A. DE C.V.","XAXX010101000","CARLOS DE LA MADRIR BEJAR 900","COLIMA",49000,151,"BA PARTICIPACIONES 8760","Transf N° 0005838014","PAGO POR EL SERVICIO AL CAMION RECOLECTOR DE BASURA DE ESTE MUNICIPIO. DE ACUERDO A COMPROBANTE ADJUNTO.",3449.83,"2020-04-16","46CC6"]
[616,"GRUPO MOTORMEXA COLIMA S.A. DE C.V.","XAXX010101000","CARLOS DE LA MADRIR BEJAR 900","COLIMA",49000,151,"BA PARTICIPACIONES 8760","Transf N° 0012225021","PAGO DE SERVICIO A CAMION RECOLECTOR DE BASURA DE ESTE MUNICIPIO. DE ACUERDO A COMPROANTE ADJUNTO.",3613,"2020-01-31","EDE53"]
[617,"GRUPO MOTORMEXA COLIMA S.A. DE C.V.","XAXX010101000","CARLOS DE LA MADRIR BEJAR 900","COLIMA",49000,111,"BA TESORERIA 6536","Transf N° 0030850037","PAGO DE SERVICIO DE 15 KILOMETROS A CAMIONETA RAM 4000 DE RECOLECCION DE BASURA. DE ACUERDO A COMPRONATE ADJUNTO.",3390,"2020-01-27","BB563"]
[618,"GRUPO OCTANO S.A. DE C.V.","XAXX010101000","AV. CRISTOBAL COLON 726 COL UNIVERSIDAD DE GUADALAJARA","ZAPOPLAN EL GRANDE, JAL.",49020,151,"BA PARTICIPACIONES 8760","Cheque N° 0558","PAGO DE COMBSTIBLE PARA AMBULANCIA DE ESTE AUNTAMIENTO. DE ACUERDO A COMPROBANTE ADJUNTO.",1200,"2020-03-10","3A516"]
[619,"GRUPO OCTANO S.A. DE C.V.","XAXX010101000","AV. CRISTOBAL COLON 726 COL UNIVERSIDAD DE GUADALAJARA","ZAPOPLAN EL GRANDE, JAL.",49020,111,"BA TESORERIA 6536","Cheque N° 2224","PAGO DE COMBUSTIBLE PARA AMBULANCIAS DE PROTECCION CIVIL DE ESTE AYUNTAMIENTO. DE ACUERDO A COMPROBANTE ADJUNTO.",1000,"2020-02-25","09C10"]
[620,"INSTALACIONES Y CONSTRUCCIONES ATENAS SA DE CV","XAXX010101000",".",".",45790,151,"s/ref","Ref N° EF","PAGO POR EL SERVICIO DE REPARACION DE BOMBA SUMERGIBLE, POZO DE AGUA 2 DE ESTE MUNICIPIO. DE ACUERDO A COMPROBANTE ADJUNTO.",32000,"2020-04-01","0CACA"]
[621,"INSTALACIONES Y CONSTRUCCIONES ATENAS SA DE CV","XAXX010101000",".",".",45790,111,"s/ref","Ref N° EF","PAGO DE MATERIAL ELECTRICO PARA EL MANTENIMIENTO DE ALUMBRADO PUBLICO EN EL MPIO. DE ACUERDO A COMPROBANTES ADJUNTOS.",6971.6,"2020-12-31","C8001"]
[622,"INSTALACIONES Y CONSTRUCCIONES ATENAS SA DE CV","XAXX010101000",".",".",45790,111,"s/ref","Ref N° EF","PAGO DE MATERIAL ELECTRICO PARA EL MANTENIMIENTO DE ALUMBRADO PUBLICO EN EL MPIO. DE ACUERDO A COMPROBANTES ADJUNTOS.",10730,"2020-12-31","7FB67"]
[623,"INSTALACIONES Y CONSTRUCCIONES ATENAS SA DE CV","XAXX010101000",".",".",45790,111,"s/ref","Ref N° EF","PAGO DE MATERIAL ELECTRICO PARA EL MANTENIMIENTO DE ALUMBRADO PUBLICO EN EL MPIO. DE ACUERDO A COMPROBANTES ADJUNTOS.",11139.44,"2020-12-31","0B6B6"]
[624,"INSTALACIONES Y CONSTRUCCIONES ATENAS SA DE CV","XAXX010101000",".",".",45790,111,"s/ref","Ref N° EF","PAGO DE MATERIAL ELECTRICO PARA EL MANTENIMIENTO DE ALUMBRADO PUBLICO EN EL MPIO. DE ACUERDO A COMPROBANTES ADJUNTOS.",6948.4,"2020-12-31",67329]
[625,"INSTALACIONES Y CONSTRUCCIONES ATENAS SA DE CV","XAXX010101000",".",".",45790,151,"s/ref","s/ref ","PAGO DE MATERIAL ELECTRICO PARA EL MANTENIMIENTO DE ALUMBRADO PUBLICO EN EL MPIO. DE ACUERDO A COMPROBANTES ADJUNTOS.",9173.2800000000007,"2020-12-29","C8331"]
[626,"INTEGRADORA CREATIVA COMERCIAL SA DE CV","XAXX010101000",".",".",45790,151,"s/ref","s/ref ","PAGO DE GASTOS VARIOS EX TESORERO MPAL. DE ACUEDO A COMPROBANTRES ADJUNTOS.",4198,"2020-05-04","FM177875"]
[627,"ISRRAEL PEREZ BEAS","PEBI15612099N","CAMINO REAL 6A  BCA DE SANTA CLARA","ZACOALCO DE TORRES",45790,151,"BA PARTICIPACIONES 8760","Cheque N° 0570","PAGO POR EL MANTENIMIENTO DE VEHICULO DE AGUA POTABLE DE ESTE MPIO. DE ACUERDO A COMPROBANTE ADJUNTO.",1790,"2020-03-12",906]
[628,"J. REFUGIO LARA CERVANTES","LACJ550228TIA","RAMON CORONA NO. 333","ZACOALCO DE TORRES,JAL.",45750,151,"BA TESORERIA 6536","Transf N° ","PAGO POR LA REPARACION DE VEHICULO DE ESTE AYUNTMIENTO. DE ACUERDO A COMPROBANTE ADJUNTO.",7200,"2020-01-10","C1D31"]
[629,"J. REFUGIO LARA CERVANTES","LACJ550228TIA","RAMON CORONA NO. 333","ZACOALCO DE TORRES,JAL.",45750,111,"BA TESORERIA 6536","Transf N° ","PAGO POR LA REPARACION DE VEHICULO DE ESTE AYUNTMIENTO. DE ACUERDO A COMPROBANTE ADJUNTO.",10000,"2020-01-10","C1D31"]
[630,"J. REFUGIO LARA CERVANTES","LACJ550228TIA","RAMON CORONA NO. 333","ZACOALCO DE TORRES,JAL.",45750,111,"BA TESORERIA 6536","Transf N° ","PAGO POR LA REPARACION Y MANTENIMIENTO DE PATRULLA DE LA BRIGADA CONTRA INCENDIOS DE ESTE MPIO. DE ACUERDO A COMPROBANTE ADJUNTO.",23500,"2020-03-12","81C2C"]
[631,"J. REFUGIO LARA CERVANTES","LACJ550228TIA","RAMON CORONA NO. 333","ZACOALCO DE TORRES,JAL.",45750,252,"BA FORTALECIMIENTO 2020 3770","Transf N° 0025932083","PAGO POR LA REPARACION DE PATRULLA DEL DEPARTAMENTO DE SEGURIDAD PUBLICA DE ESTE AYUNTAMIENTO. DE ACUERDO A COMPROBANTE ADJUNTO.",6728,"2020-03-03","9A3EE"]
[632,"J. REFUGIO LARA CERVANTES","LACJ550228TIA","RAMON CORONA NO. 333","ZACOALCO DE TORRES,JAL.",45750,151,"BA PARTICIPACIONES 8760","Transf N° 0096467027","REPARACIÓN DE MOTOR A PATRULLA DE SEGURIDAD PUBLICA DE ESTE AYUNTAMIENTO. DE ACUERDO A COMPROBANTE ADJUNTO",20000,"2020-03-04","5EAE0E"]
[633,"J. REFUGIO LARA CERVANTES","LACJ550228TIA","RAMON CORONA NO. 333","ZACOALCO DE TORRES,JAL.",45750,151,"BA PARTICIPACIONES 8760","Transf N° 0025932103","PAGO DEL REPARACION DE BALERO DE FLECHA LATERAL CAMIONETA SILVERADO DEL DEPARTAMENTO DE OBRAS PUBLICAS. DE ACUERDO A COMPROBANTE ADJUNTO.",2436,"2020-03-03",47063]
[634,"J. REFUGIO LARA CERVANTES","LACJ550228TIA","RAMON CORONA NO. 333","ZACOALCO DE TORRES,JAL.",45750,151,"BA PARTICIPACIONES 8760","Transf N° 0028863014","PAGO POR LA REPARACION DE TRANSMISION A VEHICULO DEL SERVICIO PUBLICO MPAL. DE ACUERDO A COMPROBANTE ADJUNTO",15000,"2020-12-29",85581]
[635,"J. REFUGIO LARA CERVANTES","LACJ550228TIA","RAMON CORONA NO. 333","ZACOALCO DE TORRES,JAL.",45750,151,"BA PARTICIPACIONES 8760","Transf N° 0024829014","PAGO POR LA REPARACION DE SUSPENCION A ABULANCIA DE PROTECCION CIVIL DE ESTE AYUNTAMIENTO. DE ACUERDO A COMPROBANTE ADJUNTO",15000,"2020-12-29","46E9F"]
[636,"J. REFUGIO LARA CERVANTES","LACJ550228TIA","RAMON CORONA NO. 333","ZACOALCO DE TORRES,JAL.",45750,151,"BA PARTICIPACIONES 8760","Transf N° 0024605044","PAGO POR LA REPARACION DE CAMIONETA NISSAN XTRAIL DE ESTE AYUNTAMIENTO. DE ACUERDO A COMPROBANTE ADJUNTO.",4176,"2020-01-17","977DE"]
[637,"J. REFUGIO LARA CERVANTES","LACJ550228TIA","RAMON CORONA NO. 333","ZACOALCO DE TORRES,JAL.",45750,151,"s/ref","s/ref ","PAGO POR LA REPARACION DE SUSPENCION A CAMIONERA NISSAN XTRAIL DE ESTA AYUNTAMIENTO. DE ACUERDOS A COMPROBANTE ADJUNTOS.",14616,"2020-07-01","B6C9C"]
[638,"J. REFUGIO LARA CERVANTES","LACJ550228TIA","RAMON CORONA NO. 333","ZACOALCO DE TORRES,JAL.",45750,151,"s/ref","s/ref ","PAGO POR LA REPARACION DE SUSPENCION A CAMIONERA NISSAN XTRAIL DE ESTA AYUNTAMIENTO. DE ACUERDOS A COMPROBANTE ADJUNTOS.",2262,"2020-07-01","FA92D"]
[639,"J. REFUGIO LARA CERVANTES","LACJ550228TIA","RAMON CORONA NO. 333","ZACOALCO DE TORRES,JAL.",45750,151,"s/ref","s/ref ","PAGO POR LA REPARACION DE AMBULANCIA DE PROTECCION CIVIL DE ESTE AYUNTAMIENTO. DE ACUERDO A COMPROBANTE ADJUNTO.",27608,"2020-07-10","538C2"]
[640,"J. REFUGIO LARA CERVANTES","LACJ550228TIA","RAMON CORONA NO. 333","ZACOALCO DE TORRES,JAL.",45750,111,"s/ref","s/ref ","PAGO POR LA REPARACION DE PATRULLA DE SEGURIDAD PUBLICA DE ESTE AYUNTAMIENTO. DE ACUERDO A COMPROBANTE ADJUNTO.",11500,"2020-09-30","5A06C"]
[641,"J. REFUGIO LARA CERVANTES","LACJ550228TIA","RAMON CORONA NO. 333","ZACOALCO DE TORRES,JAL.",45750,151,"BA PARTICIPACIONES 8760","Transf N° 0025932121","PAGO DE BATERIA PARA COMIONETA SILVERADO DEL DEPARTAMENTO DE OBRAS PUBLICAS. DE ACUERDO A COMPROBANTE ADJUNTO.",2842,"2020-03-03","AF253"]
[642,"J.REFUGIO LARA CERVANTES","LACJ550228TIA","RAMON CORONA NO. 333","ZACOALCO DE TORRES,JAL.",45750,111,"BA TESORERIA 6536","Transf N° 0097074014","PAGO POR EL SERVICIO DE MANTENIMIENTO Y REPARACION GENERAL DE PATRULLA DODGE RAM DE SEGURIDAD PUBLICA DE ESTE MPIO. DE ACUERDO A COMPROBANTE ADJUNTO.",27608,"2020-02-26","538C2"]
[643,"JAVIER ALBERTO ARRIAGA RUIZ","AIRJ720115364","CALLE 16 DE SEPTIEMBRE 78","ZACOALCO DE TORRES, JAL",45750,151,"BA PARTICIPACIONES 8760","Cheque N° 0590","REPOSICION DE CAJA CHICA DE EGRESOS DEL DIA 19  DE MARZO 2020. DE ACUERDO A COMPROBANTES ADJUNTOS.",1065,"2020-03-19","342D6"]
[644,"JAVIER ALBERTO ARRIAGA RUIZ","AIRJ720115364","CALLE 16 DE SEPTIEMBRE 78","ZACOALCO DE TORRES, JAL",45750,151,"BA PARTICIPACIONES 8760","Cheque N° 0555","PAGO DE REFACCIONES PARA VEHICULOS DEL SERVICIO PUBLICO DE ESTE AYUNTAMIENTO. DE ACUERDO A COMPROBANTE ADJUNTO.",9629,"2020-03-09","93EB1"]
[645,"JESUS ISAI ANDRADE OLMEDO","AAOJ910228AV5",".",".",45654,111,"BA TESORERIA 6536","Cheque N° 2400","PAGO POR LA REPARACION Y  MANTENIMIENTO DE VENTANAS DEL SALON DE USOS MULTIPELES. DE ACUERDO A COMPROBANTE ADJUNTO.",6032,"2020-10-30","CB9C4"]
[646,"JOSE CARLOS RAMOS LEON","RALC910214AA5",".",".",45790,111,"BA TESORERIA 6536","Cheque N° 2793","PAGO DE MATERIAL ELECTRICO PARA EL MANTENIMIENTO DE ALUMBRADO PUBLICO EN EL MPIO. DE ACUERDO A COMPROBANTES ADJUNTOS.",2260,"2020-12-23","0DEB8"]
[647,"JOSE DE JESUS GUZMAN LOPEZ","GULJ5502275M4","PRIMERO DE MAYO 126/31","CIUDAD GUZMAN, JALISCO",49000,111,"BA TESORERIA 6536","Transf N° 0092498015","PAGO POR LA TRANSMISION DEL 2DO INFORME DE ACTIVIDADES DE ESTE GOBIERNO. DE ACUERDO A COMPROBANTE ADJUNTO.",9280,"2020-09-10","C87B5"]
[648,"JOSE LUIS ANDRADE ALVAREZ","AAAL730803M41","CALZADA INDEPENDENCIA SUR 387 ANALCO","GUADALAJARA",44450,151,"BA PARTICIPACIONES 8760","Transf N° 0007690024","PAGO DE BOMBA DE AGUA PARA CAMIONETA SILVERADO ROJA DE OBRAS PUBLICAS DE ESTE AYUNTAMIENTO. DE ACUERDO A COMPROBANTE ADJUNTO.",2100,"2020-06-04",310000000000]
[649,"JOSE LUIS ANDRADE ALVAREZ","AAAL730803M41","CALZADA INDEPENDENCIA SUR 387 ANALCO","GUADALAJARA",44450,151,"BA PARTICIPACIONES 8760","Cheque N° 475","PAGO A DE GASTOS VARIOS DE ESTE AYUNTAMIENTO. DE ACUERDO A COMPROBANTES ADJUNTOS. ",1200,"2020-01-22","71B5F"]
[650,"JOSE LUIS ANDRADE ALVAREZ","AAAL730803M41","CALZADA INDEPENDENCIA SUR 387 ANALCO","GUADALAJARA",44450,151,"BA PARTICIPACIONES 8760","Transf N° 00999901169","PAGO DE BATERIA PARA PATRULLA B03 DE SEGURIDAD PUBLICA DE ESTE AYUNTAMIENTO. DE ACUERDO A COMPROBANTE ADJUNTO.",2300,"2020-07-31","16FAE"]
[651,"JOSE LUIS ANDRADE ALVAREZ","AAAL730803M41","CALZADA INDEPENDENCIA SUR 387 ANALCO","GUADALAJARA",44450,151,"BA PARTICIPACIONES 8760","Transf N° 0063308057","PAGO DE BATERIA PARA CAMIONETA RANGER PICK DE ESTE AYUNTAMIENTO. DE ACUERDO A COMPROBANTE ADJUNTO.",1750,"2020-07-24","C70E3"]
[652,"JOSE LUIS ANDRADE ALVAREZ","AAAL730803M41","CALZADA INDEPENDENCIA SUR 387 ANALCO","GUADALAJARA",44450,151,"BA PARTICIPACIONES 8760","Transf N° 006308039","PAGO DE BATERIA PARA VEHICULO DE AGUA POTABLE DE ESTE AYUNTAMIENTO. DE ACUERDO A COMPROBANTE ADJUNTO.",1700,"2020-07-24","A985E"]
[653,"JOSE LUIS ANDRADE ALVAREZ","AAAL730803M41","CALZADA INDEPENDENCIA SUR 387 ANALCO","GUADALAJARA",44450,151,"BA PARTICIPACIONES 8760","Transf N° 0071228032","PAGO DE BATERIA PARA PATRULLA DE SEGURIDAD PUBLICA DE ESTE AYUNTAMIENTO. DE ACUERDO A COMPROBANTE ADJUNTO.",2000,"2020-08-10","A0DF7"]
[654,"JOSE LUIS ANDRADE ALVAREZ","AAAL730803M41","CALZADA INDEPENDENCIA SUR 387 ANALCO","GUADALAJARA",44450,111,"BA TESORERIA 6536","Transf N° 0024186014","PAGO DE BATERIAS PARA TERMOMETROS PARA PUNTO DE REVISION COVID 19. DE ACUERDO A COMPROBANTE ADJUNTO",1650,"2020-04-13","8803E"]
[655,"JOSE LUIS HERNANDEZ MONTES","HEML890718G34","JOSE ANTONIO TORRES NO. 25 ","ZACOALCO DE TORRES, JAL.",45750,151,"BA PARTICIPACIONES 8760","Cheque N° 0534","REPOSICION DE CAJA CHICA DEL DIA 21 DE ENERO 2020. DE ACUERDO A COMPROBANTE ADJUNTO.",2000,"2020-02-22",5.0000000000000002E+265]
[656,"JOSE MANUEL DAVILA LEON","DALM601218UG4","AV. GUADALUPE NO. 6226","ZAPOPAN",45036,111,"BA TESORERIA 6536","Transf N° 21032","IMPRESIONES ORDENES DE PAGO CON RECIBO PARA HACIENDA MUNICIPAL. ",3533.7,"2020-12-07","F7695"]
[657,"JOSE MIGUEL RIVERA ESPINOZA","RIEM861117983","ALLENDE S/N","ATEMAJAC DE BRIZUELA,JAL",45790,111,"BA TESORERIA 6536","Cheque N° 2318","PAGO DE MUSICA PARA EVENTO SOCIAL CULTURAL. DE ACUERDO A COMPROBANTE ADJUNTO.",2500,"2020-08-20",334294]
[658,"JUAN CASTRO DELGADO","CADJ7609209YA","CARRETERA GUADALAJARA- ZACOALCO","ZACOALCO DE TORRES,JAL",45790,151,"BA PARTICIPACIONES 8760","Cheque N° 781","REPOSICION DE CAJA CHICA DE EGRESOS CORRESPONDIENTE AL DIA 14 DE JULIO 2020. DE ACUERDO A COMPROBANTE ADJUNTO.",1001,"2020-07-15","E40DC"]
[659,"JUAN MANUEL LOPEZ AMEZCUA","LOAJ420910MA8","8 DE JULIO NO 17","GUADALAJARA",45790,151,"BA PARTICIPACIONES 8760","Transf N° 0011280021","PAGO DE AGENDAS 2020 PARA PERSONAL DE ESTE AYUNTAMIENTOS. DE ACUERDO A COMPROBANTE ADJUNTO.",1218,"2020-02-10",5565]
[660,"JUAN MANUEL LOPEZ AMEZCUA","LOAJ420910MA8","8 DE JULIO NO 17","GUADALAJARA",45790,151,"BA PARTICIPACIONES 8760","Transf N° 0081353023","PAGO DE AGENDAS 2020 PARA PERSONAL DE ESTE AYUNTAMIENTO. DE ACUERDO A COMPROBANTE ADJUNTO.",1345.6,"2020-01-04",5476]
[661,"JUAN PABLO SANCHEZ LOMELI","SALJ7809037V3",".",".",45790,151,"s/ref","Ref N° EF","PAGO DE GACETAS DE LOS MESES ENERO, ABRIL, JUNIO Y AGOSTO INPRESAS EN NEGRO, CON PORTADA A COLOR, EN TAMAÑO CARTTA Y ENCUADERNADO HOTMELT. DE ACUERDO A COMPROBANTE ADJUNTO",19720,"2020-06-18","5D7C2"]
[662,"JUAN PABLO SANCHEZ LOMELI","SALJ7809037V3",".",".",45790,111,"BA ESTRATEGIA ALE 0157","Transf N° 0048279023","PAGO DE PUBLICIDAD IMPRESA PARA LA DIFUSION DEL PROGRAMA ESTRATEGIA ALE. DE ACUERDO A COMPROBANTE AJUNTO.",6136.4,"2020-11-20","7A79B"]
[663,"JUAN PABLO SANCHEZ LOMELI","SALJ7809037V3",".",".",45790,111,"BA ESTRATEGIA ALE 0157","Transf N° 0008248052","PAGO DE PUBLICIDAD IMPRESA PARA LA DIFUSION DEL PROGRAMA ESTRATEGIA ALE. DE ACUERDO A COMPROBANTE AJUNTO.",2896.52,"2020-11-30","797DB"]
[664,"JUDITH DIAZ BARBA","DIBJ790515A75",".",".",45560,151,"BA PARTICIPACIONES 8760","Transf N° 0058056028","PAGO POR FLETE DE LLANTAS DE MOTOCONFORMADORA Y RETRO PARA MODULO DE MAQUINARA DEL MPIO. DE ACUERDO A COMPROBANTE ADJUNTO.",3136,"2020-12-30",2320]
[665,"JULIO CESAR GODINEZ SUAREZ","GOSJ821225HN3","MORELOS NO. 1552","GUADALAJARA, JALISCO",44420,111,"BA TESORERIA 6536","Cheque N° 2720","PAGO DE COMBUSTIBLE PARA VEHICULOS DEL SERVICIO PUBLICO MPAL. DE ACUERDO A COMPROBANTES ADJUNTOS.",1676,"2020-11-20","F09BA"]
[666,"KENWORTH DE JALISCO SA DE CV","XAXX010101000",".",".",45790,151,"BA PARTICIPACIONES 8760","Transf N° 0057172014","PAGO DE REFACCIONES PARA MODULO DE MAQUINARIA DE ESTE MPIO. DE ACUERDO A COMPROBANTE ADJUNTO.",5092.41,"2020-05-19","625FE"]
[667,"KENWORTH DE JALISCO SA DE CV","XAXX010101000",".",".",45790,151,"BA PARTICIPACIONES 8760","Transf N° 0057172014","PAGO DE REFACCIONES PARA MODULO DE MAQUINARIA DE ESTE MPIO. DE ACUERDO A COMPROBANTE ADJUNTO.",2443.5100000000002,"2020-05-19","6BBC0"]
[668,"LAS DOS VB SA DE CV","XAXX010101000",".",".",45790,111,"BA TESORERIA 6536","Cheque N° 2789","PAGO DE PRODUCTOS DE LA CANASTA BASICA PARA LA ELABORACION DE DESPENSAS PARA LOS EMPLEADOS DE ESTE AYUNTAMIENTO. DE ACUEDO A COMPROBANTES ADJUNTO.",38851.64,"2020-12-22","605C4"]
[669,"LAS DOS VB SA DE CV","XAXX010101000",".",".",45790,151,"BA PARTICIPACIONES 8760","Cheque N° 0562","APOYO A COMEDOR ASISTENCIA DEL DIF, PARA ALIMENTACION DE ADULTOS MAYORES DEL MUNICIPIO. DE ACUERDO A COMPROBANTES ADJUNTOS.",2165.6999999999998,"2020-03-10","B8974"]
[670,"LILIA MUÑOZ PINEDA","MUPL630315UG8","-","-",44940,151,"BA PARTICIPACIONES 8760","Cheque N° 700","PAGO DE VIATICOS A PRESIDENTE MPAL DE ESTE MUNICIPIO. DE ACUERDO A COMPROBANTES ADJUNTOS.",1032.01,"2020-05-12","B7021"]
[671,"LIZBETH GRACIELA JAUREGUI SANTILLAN","JASL830319JS6","AV ARTESANOS NO 2725 B","GUADALAJARA",44700,151,"BA PARTICIPACIONES 8760","Cheque N° 803","PAGO DE REFACCIONES PARA LA REPARACION DE PATRULLA AB4 DE SEGURIDAD PUBLICA DE ESTE AYUNTAMIENTO. DE ACUERDO A COMPROBANTE ADJUNTO.",4900,"2020-08-14","0C3D9"]
[672,"LONAS Y ETIQUETAS S.A. DE C.V.","XAXX010101000","PERIFERICO PONIENTE NO. 2320","ZAPOPAN, JALISCO",45037,111,"s/ref","Ref N° EF","REPOSICION FINAL DE CAJA CHICA DE EGRESOS (EX TESORERO) AL 25 DE OCTUBRE 2019. DE ACUERDO A COMROBANTES ADJUNTOS.",1022.02,"2020-06-01","53BBD"]
[673,"LUIS FRANCISCO ROSAS VERGARA","ROVL520803R93","-","-",45700,111,"BA TESORERIA 6536","Cheque N° 2712","PAGO DE LLANTAS PARA CAMION DE ASEO PUBLICO Y COMBUSTIBLE PARA VEHICULOS DEL SERVICIO PUBLICO MPAL. DE ACUERDO A COMPROBANTES ADJUNTOS.",7200,"2020-11-13","BC5D6"]
[674,"LUIS FRANCISCO ROSAS VERGARA","ROVL520803R93","-","-",45700,151,"BA PARTICIPACIONES 8760","Transf N° 0098581025","PAGO DE LLANTAS PARA CAMINETA NISSAN  XTRAIL DE ESTE AYUNTAMIENTO. DE ACUERDO A COMPROBANTE ADJUNTO.",5780,"2020-06-09","FB407"]
[675,"LUIS FRANCISCO ROSAS VERGARA","ROVL520803R93","-","-",45700,151,"BA PARTICIPACIONES 8760","Transf N° 0052360032","PAGO DE LLANTAS PARA PATRULLA DE SEGURIDAD PUBLICA DE ESTE AYUNTAMIENTO. DE ACUERDO A COMPROBANTE ADJUNTO.",5050,"2020-12-08","81A81"]
[676,"LUIS FRANCISCO ROSAS VERGARA","ROVL520803R93","-","-",45700,151,"BA PARTICIPACIONES 8760","Transf N° 0052360014","PAGO DE LLANTAS PARA PIPA DE AGUA DE ESTE AYUNTAMIENTO. DE ACUERDO A COMPROBANTE ADJUNTO.",9600,"2020-12-05","9A859"]
[677,"MA. DEL RUBI VIDRIO GARCIA","VIGR731006R75",".",".",45790,111,"BA TESORERIA 6536","Cheque N° 2267","REPOSICION DE CAJA CHICA DE EGRESOS CORRESPONDIENTE AL DIA 30 DE ABRIL 2020. DE ACUERDO A COMPROBANTES ADJUNTOS.",1602.01,"2020-04-30","FA428"]
[678,"MA. FATIMA HERRERA DE LA TORRE","HETF601014BA8","-","ATEMAJAC DE BRIZUELA,JAL",45790,111,"BA TESORERIA 6536","Cheque N° 2220","APOYO A COLEGIO  GRAL. MIGUEL BRIZUELA DE ESTE MPIO. DE ACUERDO A COMPROBANTE ADJUNTO.",3000,"2020-02-25",332810]
[679,"MA. GUADALUPE DAVILA MADRIGAL","DAMG630313IJ6","JUAREZ S/N","ATEMAJAC DE BRIZUELA,JAL.",45790,151,"s/ref","Ref N° EF","PAGO DE ALIMENTOS EN ATENCION A VISITANTES Y PERSONAL DE ESTE AYUNTAMIENTO. DE ACUERDO A COMPROBANTE ADJUNTO.",2220,"2020-05-01","0F95E"]
[680,"MA. GUADALUPE DAVILA MADRIGAL","DAMG630313IJ6","JUAREZ S/N","ATEMAJAC DE BRIZUELA,JAL.",45790,151,"BA PARTICIPACIONES 8760","Cheque N° 0601","PAGO DE CONSUMO DE ALIMENTOS EN ATENCION A VISITANTES AL MPIO CORRESPONDIENTE AL MES FEBRERO 2020. DE ACUERSO A COMPROBANTE ADJUNTO.",5000,"2020-03-19","A39AA"]
[681,"MA. GUADALUPE DAVILA MADRIGAL","DAMG630313IJ6","JUAREZ S/N","ATEMAJAC DE BRIZUELA,JAL.",45790,151,"BA PARTICIPACIONES 8760","Cheque N° 599","PAGO DE ALIMENTOS PARA PERSONAL DE ESTE AYUNTAMIENTO CORRESPONDIENTE AL MES DE FEBRERO 2020. DE ACUERDO A COMPROBANTE ADJUNTO.",6000,"2020-03-19","CC885"]
[682,"MA. GUADALUPE DAVILA MADRIGAL","DAMG630313IJ6","JUAREZ S/N","ATEMAJAC DE BRIZUELA,JAL.",45790,151,"BA PARTICIPACIONES 8760","Cheque N° 0592","PAGO DE ALIMENTOS EN ATENCION A VISITANTES AL MUNICIPIO AL MES DE FEBRERO 2020. DE ACUERDO A COMPROBANTE ADJUNTO.",3005,"2020-03-19","ED130"]
[683,"MANUFACTURERA CENTURY SA DE CV","XAXX010101000",".",".",45790,111,"BA TESORERIA 6536","Transf N° 0079540177","PAGO DE MATERIAL PARA EL MANTENIMIENTO DE SOPLADOR DE LA PLANTA TRATADORA DE AGUAS RECIDUALES. DE ACUERDO A COMPROBANTE ADJUNTO.",5678.2,"2020-01-29","66A3D"]
[684,"MARGARITA GUERRERO LOPEZ","GULM6010027S9","ACATLAN DE JUAREZ","ACATLAN DE JAREZ, JAL.",45790,151,"BA PARTICIPACIONES 8760","Cheque N° 866","PAGO DE LLANTAS Y MONTADO PARA MOTONIVELADORA DEL MODULO DE MAQUINARIA. DE ACUERDO A COMPROBANTES ADJUNTOS.",15100,"2020-11-06","22DF3"]
[685,"MARIA CONCEPCION SANTANA COVARRUBIAS","SACC550702NB4",".",".",45089,151,"BA PARTICIPACIONES 8760","Transf N° 0060592033","PAGO DE EXAMENES TROXOCOLOGICOS A ELEMENTOS DE SEGURIDAD PUBLICA DE ESTE AYUNTAMIENTO. DE ACUERDO A COMPROBANTE ADJUNTO.",7714,"2020-10-07","66A22"]
[686,"MARIA DE LOURDES BRAVO BECERRA","BABL780813HF2","-","-",45790,151,"s/ref","s/ref ","REPOSICION DE CAJA CHICA DE EGRESOS CORRESPONDIENTE AL DIA 05 DE JUNIO 2020. DE ACUERDO A COMPROBANTES ADJUNTOS.",1070,"2020-06-05","D000C"]
[687,"MARIA ELENA LEDESMA REYES","LERE710627GT2",".",".",45790,151,"BA PARTICIPACIONES 8760","Cheque N° 0674","REPOSICION DE CAJA CHICA DE EGRESOS CORRESPONDIENTE AL DIA 17 DE ABRIL 2020. DE ACUERDO A COMPROBANTE ADJUNTO.",1299.5999999999999,"2020-04-17","1E856"]
[688,"MARIA EMMA OCHOA CASILLAS","OOCE3601062Y0",".",".",49000,111,"BA ESTRATEGIA ALE 0157","Transf N° 0002449024","PAGO DE PAPELERIA PARA LA OFICINAS DEL PROGRAMA DE ESTRATEGIA ALE 2020. DE ACUERDO A COMPROBANTE ADJUNTO.",2901.8,"2020-09-18","A-5656"]
[689,"MARIA ENE ALVAREZ CHAVEZ","AACE930407PA4",".",".",45790,111,"BA TESORERIA 6536","Transf N° 0031759023","PAGO DE IMPRESION DE LONAS INFORMATIVAS. DE ACUERDO A COMPROBANTES ADJUNTOS.",1535.98,"2020-07-08","65F3B"]
[690,"MARIA GRACIELA GARCIA OCEGUERA","GAOG720712EFA","-","-",45790,151,"BA PARTICIPACIONES 8760","Transf N° 0053901023","PAGO DE MATERIALES Y ACCESORIOS DE INFORMATICA PARA EQUIPO DE COMPUTO DE ESTE AYTO. DE ACUERDO A COMPROBANTE ADJUNTO.",34243.199999999997,"2020-02-07","6D8A6"]
[691,"MARIA GRACIELA GARCIA OCEGUERA","GAOG720712EFA","-","-",45790,151,"BA PARTICIPACIONES 8760","Transf N° 0096467046","PAGO DE ACCESORIOS Y REFACIONES PARA EL MANTENIMIENTO DE EQUIPO DE COMPUTO DE ESTE AYUNTAMIENTO. DE ACUERDO A COMPROBANTE ADJUNTO.",11020,"2020-03-04",89660]
[692,"MARIA GRACIELA GARCIA OCEGUERA","GAOG720712EFA","-","-",45790,151,"BA PARTICIPACIONES 8760","Transf N° 0045336099","PAGO DE CONSUMIBLES PARA EL MANTENIMIENTO DE EQUIPO DE CUMPUTO DE ESTE AYUNTAMIENTO. DE ACUERDO A COMPROBANTE ADJUNTO.",6136.4,"2020-04-02",36596]
[693,"MARIA GRACIELA GARCIA OCEGUERA","GAOG720712EFA","-","-",45790,151,"BA PARTICIPACIONES 8760","Transf N° 0076696024","PAGO DE CONSUMIBLES DE EQUIPO DE COMPUTO DE ESTA AYUNTAMIENTO. DE ACUERDO A COMPROBANTE ADJUNTO.",6983.2,"2020-05-19",2.8000000000000002E+54]
[694,"MARIA LOURDES SOLORZANO CARRANZA","SOCL620206520",".",".",45790,111,"BA TESORERIA 6536","Cheque N° 2790","PAGO DE DULCES PARA POSADA NAVIDEÑA EN EL MPIO. DE ACUERDO A COMPROBANTES ADJUNTOS.",5633.03,"2020-12-22","D8064"]
[695,"MARTHA ALICIA CARBAJAL JIMENEZ","CAJM640430UE6","-","TAPALPA,JAL.",45790,111,"BA TESORERIA 6536","Cheque N° 2389","PAGO DE ALIMENTOS PARA LA FINAL DE LIGA MPAL. DE ACUERDO A COMPROBANTE ADJUNTO. ",4060,"2020-10-21","3978B"]
[696,"MARTHA CAROLINA GALVAN GONZALEZ","GAGM840830AK7",".",".",45790,111,"BA TESORERIA 6536","Cheque N° 2794","PAGO DE VIATICOS A TESORERO MUNICIPAL. DE ACUERDO A COMPROBANTES ADJUNTOS.",1690.01,"2020-12-23","4C0D3"]
[697,"MARTHA CAROLINA GALVAN GONZALEZ","GAGM840830AK7",".",".",45790,151,"BA PARTICIPACIONES 8760","Cheque N° 0585","PAGO DE GASTOS VARIOS CORRESPONDIENTES AL MES DE FEBRERO 2020. DE ACUERDO A COMPRONTES ADJUNTOS.",1289.99,"2020-03-13","603C2"]
[698,"MARTHA NAVA RUBIO","NARM790926QB3","MELCHOR OCAMPO S/N","ATEMAJAC DE BRIZUELA,JAL.",45790,111,"BA TESORERIA 6536","Cheque N° 2744","PAGO DE ARREGLOS FLORALES PARA 2DO INFORME DE GOBIERNO  ARREGLOS PRESIDENCIA",6810,"2020-12-03","BAF2B"]
[699,"MARTHA NAVA RUBIO","NARM790926QB3","MELCHOR OCAMPO S/N","ATEMAJAC DE BRIZUELA,JAL.",45790,151,"BA PARTICIPACIONES 8760","Cheque N° 721","PAGO DE ARREGLOS FLORALES DEL 1ER INFORME DE GOBIERNO DE ESTE MPIO. DE ACUERDO A COMPROBANTE ADJUNTO.",4900,"2020-05-15","B7AB0"]
[700,"MARTHA NAVA RUBIO","NARM790926QB3","MELCHOR OCAMPO S/N","ATEMAJAC DE BRIZUELA,JAL.",45790,151,"BA PARTICIPACIONES 8760","Cheque N° 720","PAGO DE CORONAS PARA ENTREGA A PERSONAS QUE TUBIERON LA PERDIDA DE UN FAMILIAR. DE ACUERDO A COMPROBANTE ADJUNTO.",8600,"2020-05-15","3BCB7"]
[701,"MARTHA NAVA RUBIO","NARM790926QB3","MELCHOR OCAMPO S/N","ATEMAJAC DE BRIZUELA,JAL.",45790,151,"BA PARTICIPACIONES 8760","Cheque N° 878","PAGO DE ARREGLOS FLORALES PARA EVENTOS FUNERARIOS EN EL MPIO. DE ACUERDO A COMPROBANTE ADJUNTO.",11300,"2020-11-09","DBA4B"]
[702,"MARTHA NAVA RUBIO","NARM790926QB3","MELCHOR OCAMPO S/N","ATEMAJAC DE BRIZUELA,JAL.",45790,111,"BA TESORERIA 6536","Cheque N° 2760","PAGO DE 17 CORONAS FLORALES PARA PERSONAS FALLECIDAS DE ESTE MPIO. DE ACUERDO A COMPROBANTE ADJUNTO.",10200,"2020-12-08","E65C8"]
[703,"MARTHA NAVA RUBIO","NARM790926QB3","MELCHOR OCAMPO S/N","ATEMAJAC DE BRIZUELA,JAL.",45790,111,"BA PARTICIPACIONES 8760","Cheque N° 0552","PAGO DE CORONAS FUNEBRES. DE ACUERDO COMPROBANTE ADJUNTO.",5000.01,"2020-03-05","5D4D0"]
[704,"MARTHA NAVA RUBIO","NARM790926QB3","MELCHOR OCAMPO S/N","ATEMAJAC DE BRIZUELA,JAL.",45790,151,"BA PARTICIPACIONES 8760","Cheque N° 722","PAGO DE PRODUCTOS DE LIMPIEZA PARA OFICINAS DE ESTE AYUNTAMIENTO. DE ACUERDO A COMPROBANTE ADJUNTO.",2188,"2020-05-15","053FA"]
[705,"MARTHA NAVA RUBIO","NARM790926QB3","MELCHOR OCAMPO S/N","ATEMAJAC DE BRIZUELA,JAL.",45790,151,"BA PARTICIPACIONES 8760","Cheque N° 680","PAGO DE PRODUCTOS DE LIMPIEZA PARA OFICINAS DE ESTE AYUNTAMIENTO. DE ACUERDO A COMPROBANTE ADJUNTO.",3360,"2020-04-17",66692]
[706,"MARTHA NAVA RUBIO","NARM790926QB3","MELCHOR OCAMPO S/N","ATEMAJAC DE BRIZUELA,JAL.",45790,111,"BA TESORERIA 6536","Cheque N° 2295","PAGO DE MATERIALES DE LIMPIEZA PARA OFICINAS DE ESTE AYUNTAMIENTO. DE ACUERDO A COMPROBANTE ADJUNTO.",2268.96,"2020-06-19","1EFBF"]
[707,"MARTHA NAVA RUBIO","NARM790926QB3","MELCHOR OCAMPO S/N","ATEMAJAC DE BRIZUELA,JAL.",45790,151,"BA PARTICIPACIONES 8760","Cheque N° 802","PAGO DE PRODUCTOS DE LIMPIEZA PARA OFICINAS DE ESTA AYUNTAMIENTO. DE ACUERDO A COMPROBANTE ADJUNTO.",1717.96,"2020-08-14","DBA5D"]
[708,"MAURICIO CHAVEZ GOMEZ","CAGM7201231V1","AV. MOCTEZUMA NO. 5757","ZAPOPAN, JALISCO",45059,151,"s/ref","s/ref ","REPOSICION DE CAJA CHICA DE EGRESOS CORRESPONDIENTE AL DIA 16 DE JUNIO 2020. DE ACUERDO A COMPROBANTES ADJUNTOS.",1250.02,"2020-06-16","1413A"]
[709,"MAYOREO DE AUTOPARTES Y ACEITES SA DE CV","XAXX010101000","LIBERTAD 39 INT 10","GUADALAJARA JALISCO",44190,111,"s/ref","Ref N° EF","REPOSICION FINAL DE CAJA CHICA DE EGRESOS (EX TESORERO) AL 25 DE OCTUBRE 2019. DE ACUERDO A COMROBANTES ADJUNTOS.",1257.74,"2020-06-01","0A2221835"]
[710,"MEDIMARCAS SA DE CV","XAXX010101000","AV LOPEZ MATEOS 595 JARDINES DEL BOSQUE","GUADALAJARA",44520,111,"BA ESTRATEGIA ALE 0157","Transf N° 0051546024","PAGO DE BOTIQUIN MEDICO PARA LA OFICINAS DEL PROGRAMA DE ESTRATEGIA ALE 2020. DE ACUERDO A COMPROBANTE ADJUNTO.",2663.38,"2020-09-24","2014-02-03T04:03:00"]
[711,"MULTISERVICIOS GASOLINEROS LUNA SA DE CV","XAXX010101000",".","TLAJOMULCO DE ZUÑIGA, JALISCO",45642,151,"BA PARTICIPACIONES 8760","Cheque N° 0611","PAGO DE VIATICOS A CHOFER DE PROTECCION CIVIL POR TRASLADOS DE PASIENTES A LA CD DE GUADALAJARA, JALISCO.",1000.01,"2020-03-25","2C806"]
[712,"NUEVA WAL MART DE MEXICO S. DE R.L. DE C.V.","XAXX010101000","-","GUADALAJARA,JAL",45790,151,"s/ref","Ref N° EF","PAGO DE ELECTRODOMESTICOS COMO PREMIO POR PAGO PUNTUAL A LOS CONTRIBUYENTES EN EL PAGO DEL AGUA E IMPUESTO PREDIAL EN EL MPIO. DE ACUERDO A COMPROBANTES ADJUNTOS. ",10980,"2020-05-29","IBAFA82641"]
[713,"NUEVA WAL MART DE MEXICO S. DE R.L. DE C.V.","XAXX010101000","-","GUADALAJARA,JAL",45790,151,"s/ref","Ref N° EF","PAGO DE ELECTRODOMESTICOS COMO PREMIO POR PAGO PUNTUAL A LOS CONTRIBUYENTES EN EL PAGO DEL AGUA E IMPUESTO PREDIAL EN EL MPIO. DE ACUERDO A COMPROBANTES ADJUNTOS. ",2764,"2020-05-29","IBAFA82642"]
[714,"NUEVA WAL MART DE MEXICO S. DE R.L. DE C.V.","XAXX010101000","-","GUADALAJARA,JAL",45790,151,"s/ref","s/ref ","PAGO DE GASTOS VARIOS EX TESORERO MPAL. DE ACUEDO A COMPROBANTRES ADJUNTOS.",1499,"2020-05-04","EDD05"]
[715,"OFFICE DEPOT DE MEXICO S.A. DE C.V.","XAXX010101000","JUAN SALVADOR AGRAZ 101 COLONIA SANTA FE","CIUDAD DE MEXICO",5348,151,"BA PARTICIPACIONES 8760","Transf N° 0026861067","PAGO DE MATERIAL DE PAPELERIA PARA OFICINAS DE ESTE AYUNTAMIENTO. DE ACUERDO A COMPROBANTE ADJUNTOS",1958,"2020-08-07","4FCED"]
[716,"OFFICE DEPOT DE MEXICO S.A. DE C.V.","XAXX010101000","JUAN SALVADOR AGRAZ 101 COLONIA SANTA FE","CIUDAD DE MEXICO",5348,151,"BA PARTICIPACIONES 8760","Transf N° 0050899014","PAGO DE MATERIAL DE PAPELERIA PARA OFICINAS DE ESTE AYUTAMIENTO. DE ACUERDO A COMPROBANTE ADJUNTO.",3482.2,"2020-06-01","4465C"]
[717,"OFFICE DEPOT DE MEXICO S.A. DE C.V.","XAXX010101000","JUAN SALVADOR AGRAZ 101 COLONIA SANTA FE","CIUDAD DE MEXICO",5348,151,"BA PARTICIPACIONES 8760","Transf N° 0026167018","PAGO DE MATERIAL DE PAPELERIA PARA OFICINAS DE ESTE AYUNTAMIENTO. DE ACUERDO A COMPROBANTE ADJUNTO.",2163.36,"2020-08-24","8D296"]
[718,"OFFICE DEPOT DE MEXICO S.A. DE C.V.","XAXX010101000","JUAN SALVADOR AGRAZ 101 COLONIA SANTA FE","CIUDAD DE MEXICO",5348,151,"BA PARTICIPACIONES 8760","Transf N° 0063308093","PAGO DE MATERIAL DE PAPELERIA PARA OFICINAS DE ESTE AYUNTAMIENTO. DE ACUERDO A COMPROBANTE ADJUNTO.",1211.3499999999999,"2020-07-17","F409D"]
[719,"OFFICE DEPOT DE MEXICO S.A. DE C.V.","XAXX010101000","JUAN SALVADOR AGRAZ 101 COLONIA SANTA FE","CIUDAD DE MEXICO",5348,151,"BA PARTICIPACIONES 8760","Transf N° 0063308075","PAGO DE MATERIAL DE PAPELERIA PARA OFICINAS DE ESTE AYUNTAMIENTO. DE ACUERDO A COMPROBANTE ADJUNTO.",1109,"2020-07-24","2C915"]
[720,"OFFICE DEPOT DE MEXICO S.A. DE C.V.","XAXX010101000","JUAN SALVADOR AGRAZ 101 COLONIA SANTA FE","CIUDAD DE MEXICO",5348,151,"BA PARTICIPACIONES 8760","Transf N° 0068930065","PAGO DE MATERIAL DE PAPELERIA PARA OFICINAS DE ESTE AYUNTAMIENTO. DE ACUERDO A COMPROBANTE ADJUNTO.",1013.2,"2020-03-30","FEB7E"]
[721,"OFFICE DEPOT DE MEXICO S.A. DE C.V.","XAXX010101000","JUAN SALVADOR AGRAZ 101 COLONIA SANTA FE","CIUDAD DE MEXICO",5348,151,"BA PARTICIPACIONES 8760","Transf N° 0068930048","PAGO DE MATERIAL DE PAPELERIA PARA OFICINAS DE ESTE AYUNTAMIENTO. DE ACUERDO A COMPROBANTE ADJUNTO.",3001.1,"2020-03-31",1.4E+72]
[722,"OFFICE DEPOT DE MEXICO S.A. DE C.V.","XAXX010101000","JUAN SALVADOR AGRAZ 101 COLONIA SANTA FE","CIUDAD DE MEXICO",5348,151,"BA PARTICIPACIONES 8760","Transf N° 0011863014","PAGO DE MATERIAL DE PAPELERIA PARA OFICINAS DE ESTE AYUNTAMIENTO. DE ACUERDO A COMPROBANTE ADJUNTO.",3776,"2020-02-17","0EADD"]
[723,"OFFICE DEPOT DE MEXICO S.A. DE C.V.","XAXX010101000","JUAN SALVADOR AGRAZ 101 COLONIA SANTA FE","CIUDAD DE MEXICO",5348,111,"BA TESORERIA 6536","Transf N° ","PAGO DE MATERIAL DE PAPELERIA PARA OFICINAS DE ESTE AYUNTAMIENTO. DE ACUERDO A COMPROBANTE ADJUNTO.",2857.76,"2020-01-20","8BF53"]
[724,"OFFICE DEPOT DE MEXICO S.A. DE C.V.","XAXX010101000","JUAN SALVADOR AGRAZ 101 COLONIA SANTA FE","CIUDAD DE MEXICO",5348,111,"BA TESORERIA 6536","Transf N° 0024517031","PAGO DE MATERIAL DE PAPELERIA PARA OFICINAS DE ESTE AYUNTMAIENTO. DE ACUERDO A COMPROBANTE ADJUNTO.",1491,"2020-01-10","3FBAB"]
[725,"OFFICE DEPOT DE MEXICO S.A. DE C.V.","XAXX010101000","JUAN SALVADOR AGRAZ 101 COLONIA SANTA FE","CIUDAD DE MEXICO",5348,151,"BA PARTICIPACIONES 8760","Transf N° 0045303093","PAGO DE MATERIAL DE PAPELERIA PARA OFICINAS DE ESTE AYUNTAMIENTO. DE ACUERDO A COMPROBANTE ADJUNTO.",2409.8000000000002,"2020-04-24","A3DBF"]
[726,"OFFICE DEPOT DE MEXICO S.A. DE C.V.","XAXX010101000","JUAN SALVADOR AGRAZ 101 COLONIA SANTA FE","CIUDAD DE MEXICO",5348,111,"BA TESORERIA 6536","Transf N° 0088927022","PAGO DE MATERIALES DE PAPELERIA PARA OFICINAS DE ESTE AYUNTAMIENTO. DE ACUERDO A COMPROBANTE ADJUNTO.",1583,"2020-03-09","0D6F4"]
[727,"OFFICE DEPOT DE MEXICO S.A. DE C.V.","XAXX010101000","JUAN SALVADOR AGRAZ 101 COLONIA SANTA FE","CIUDAD DE MEXICO",5348,151,"BA PARTICIPACIONES 8760","Cheque N° 742","REPOSICION DE CAJA CHICA DE EGRESOS DEL DIA 29 DE MAYO 2020. DE ACUERDO A COMPROBANTES ADJUNTOS.",2158.5,"2020-05-29",4.4999999999999996E+96]
[728,"OPERADORA IBSA S.A. DE C.V.","XAXX010101000","-","ATEMAJAC DE BRIZUELA",45790,151,"BA PARTICIPACIONES 8760","Cheque N° 746","PAGO DE VIATICOS A PERSONAL DE ESTE AYUNTAMIENTO Y APOYO PARA ELABORACION DE FOSA SEPTICA EN LOC DE LOS TLACUACHES. DE ACUERDO A COMPROBNATES ADJUNTOS.",2272,"2020-05-29","BD2DF"]
[729,"OPERADORA IBSA S.A. DE C.V.","XAXX010101000","-","ATEMAJAC DE BRIZUELA",45790,151,"BA PARTICIPACIONES 8760","Cheque N° 0581","PAGO DE VIATIVOS A PRESIDENTE MPAL CORRESPONDOENTE AL MES DE FEBRERO 2020. DE ACUERDO A COMPROBANTES VARIOS.",3418.44,"2020-03-13","FED47"]
[730,"ORGANIZACION LA LUNA S.A. DE C.V.","XAXX010101000","AV. DE LOS ARCOS 887, JARDINES DEL BOSQUE","GUADALAJARA, JAL.",44520,151,"BA PARTICIPACIONES 8760","Cheque N° 0576","APOYO A PEREGRINOS DE ATEMAJAC DE BRIZUELA A TALPA DE ALLENDE, PARA GASTOS DE ALIMENTOS. DE ACUERDO A COMPROBANTES ADJUNTOS.",1000.09,"2020-03-13","F1347"]
[731,"ORGANIZACION LA LUNA S.A. DE C.V.","XAXX010101000","AV. DE LOS ARCOS 887, JARDINES DEL BOSQUE","GUADALAJARA, JAL.",44520,111,"BA TESORERIA 6536","Cheque N° 2224","PAGO DE COMBUSTIBLE PARA AMBULANCIAS DE PROTECCION CIVIL DE ESTE AYUNTAMIENTO. DE ACUERDO A COMPROBANTE ADJUNTO.",1200.01,"2020-02-25",26092]
[732,"OSCAR FILIBERTO HERRERA VAZQUEZ","HEVO890608HE5",".","ATEMAJAC DE BRUELA JALISCO",45790,151,"BA PARTICIPACIONES 8760","Transf N° 0055316059","PAGO DE MATERIALES VARIOS PARA EL MANTENIMENTO DE ESPACIOS PUBICOS EN EL MPIO. DE ACUERDO A COMPROBANTES ADJUNTOS.",3678.36,"2020-12-23","0B52B"]
[733,"OSCAR FILIBERTO HERRERA VAZQUEZ","HEVO890608HE5",".","ATEMAJAC DE BRUELA JALISCO",45790,151,"BA PARTICIPACIONES 8760","Transf N° 0055316059","PAGO DE MATERIALES VARIOS PARA EL MANTENIMENTO DE ESPACIOS PUBICOS EN EL MPIO. DE ACUERDO A COMPROBANTES ADJUNTOS.",1990.56,"2020-12-23","EF54A"]
[734,"OSCAR FILIBERTO HERRERA VAZQUEZ","HEVO890608HE5",".","ATEMAJAC DE BRUELA JALISCO",45790,151,"BA PARTICIPACIONES 8760","Transf N° 0055316059","PAGO DE MATERIALES VARIOS PARA EL MANTENIMENTO DE ESPACIOS PUBICOS EN EL MPIO. DE ACUERDO A COMPROBANTES ADJUNTOS.",6274.44,"2020-12-23",75000]
[735,"OSCAR FILIBERTO HERRERA VAZQUEZ","HEVO890608HE5",".","ATEMAJAC DE BRUELA JALISCO",45790,151,"BA PARTICIPACIONES 8760","Transf N° 0055316059","PAGO DE MATERIALES VARIOS PARA EL MANTENIMENTO DE ESPACIOS PUBICOS EN EL MPIO. DE ACUERDO A COMPROBANTES ADJUNTOS.",4888.24,"2020-12-23",80198]
[736,"PETROMAX  S.A. DE C.V.","XAXX010101000","AVE. MUNICHNO. 195","NUEVO LEON",66450,151,"s/ref","s/ref ","PAGO DE VIATICOS A PRESIDENTE MUNICIPAL POR COMISION A DIVERSOS EVENTOS EN EL MES DE SEPTIEMBRE 2020. DE ACUERDO A COMPROBANTES ADJUNTOS",1500,"2020-09-30","229F2"]
[737,"PETROMAX  S.A. DE C.V.","XAXX010101000","AVE. MUNICHNO. 195","NUEVO LEON",66450,151,"BA PARTICIPACIONES 8760","Cheque N° 468","PAGO PAGO DE MEDICAMENTOS PARA PERSONAS DE ESCASOS RECURSOS Y PERSONAL DE ESTE AYUNTAMIENTO Y COMBUSTIBLE PARA AMBULANCIAS. DE ACUERDO A COMPRONANTES ADJUNTOS.",1000,"2020-01-17","A32FC"]
[738,"PETROMAX  S.A. DE C.V.","XAXX010101000","AVE. MUNICHNO. 195","NUEVO LEON",66450,111,"BA TESORERIA 6536","Cheque N° 2204","PAGO DE VIATICOS A CHOFER DE AMBULANCIA POR TRASLADOS A LA CD DE GDL. DE ACUERDO A COMPROBANTES ADJUNTOS.",1100.03,"2020-01-27","B3E46"]
[739,"PETROMAX S.A. DE C.V.","XAXX010101000","CARR- MEXICO-GDL NO. S/N","TLAJOMULCO DE ZUÑIGA, JAL",45640,151,"s/ref","s/ref ","PAGO DE VIATICOS A PRESIDENTE MUNICIPAL POR COMISION A DIVERSOS EVENTOS EN EL MES DE OCTUBRE 2020. DE ACUERDO A COMPROBANTES ADJUNTOS",1717.88,"2020-10-31","0D849"]
[740,"PROMOTORA DE ENCUENTROS Y RETIROS DE MEXICO S DE RL DE CV","XAXX010101000",".",".",44600,111,"BA TESORERIA 6536","Transf N° 0054548022","PAGO DE HOSPEDAJE PARA EL STAF DE TRANSMISION DEL 2DO INFORME DE ACTIVIDADES DE ESTE GOBIERNO. DE ACUERDO A COMPROBANTE ADJUNTO.",1500,"2020-09-09","F67A6"]
[741,"PROMOTORA DE ENCUENTROS Y RETIROS DE MEXICO S DE RL DE CV","XAXX010101000",".",".",44600,151,"BA PARTICIPACIONES 8760","Transf N° 0049793018","PAGO DE HOSPEDAJE A PERSONAL QUE CUBRIO LOGISTICA DEL 2DO INFORME DE GOBIERNO. DE ACUERDO A COMPROBANTE AJUNTO.",8000,"2020-09-02","84F61"]
[742,"PROVEEDORA DE RINES Y LLANTAS MONTERREY SA DE CV","XAXX010101000",".",".",64820,151,"BA PARTICIPACIONES 8760","Cheque N° 914","PAGO DE LLANTAS PARA VEHICULO DE OBRAS PUBLICAS DE ESTE AYUNTAMIENTO. DE ACUERDO A COMPROBANTE ADJUNTO.",7227,"2020-12-16","4E25D"]
[743,"PROVEEDORA FARMACEUTICA CRUZ SA DE CV","XAXX010101000","BELEN NO. 967 COL. ALCALDE BRRANQUITAS","GUADALAJARA",44270,151,"BA PARTICIPACIONES 8760","Cheque N° 0674","PAGO DE MEDICAMENTOS PARA PERSONAL DE ESTE AYUNTAMIENTO Y PERSONAS DE ESCASOS RECURSOS DEL MPIO. DE ACUERDO A COMPROBANTE ADJUNTO.",5036,"2020-04-17","D20B4"]
[744,"PROVEEDORA FARMACEUTICA CRUZ SA DE CV","XAXX010101000","BELEN NO. 967 COL. ALCALDE BRRANQUITAS","GUADALAJARA",44270,151,"BA PARTICIPACIONES 8760","Cheque N° 0559","PAGO DE MEDICAMENTOS PARA PERSONAL QUE LABORA EN LA ADMINISTRACION PUBLICA MUNICIPAL. DE ACUERDO A COMPROBANTE ADJUNTO.",3027.5,"2020-03-10","C63A6"]
[745,"PROVEEDORA FARMACEUTICA CRUZ SA DE CV","XAXX010101000","BELEN NO. 967 COL. ALCALDE BRRANQUITAS","GUADALAJARA",44270,151,"BA PARTICIPACIONES 8760","Cheque N° 469","PAGO DE MEDICAMENTOS PARA PERSONAS DE ESCASOS RECURSOS Y PERSONAL DE ESTE AYUNTAMIENTO. DE ACUERDO A COMPRONATES ADJUNTOS.",4578.01,"2020-01-17","636F2"]
[746,"PROVEEDORA FARMACEUTICA CRUZ SA DE CV","XAXX010101000","BELEN NO. 967 COL. ALCALDE BRRANQUITAS","GUADALAJARA",44270,151,"BA PARTICIPACIONES 8760","Cheque N° 468","PAGO PAGO DE MEDICAMENTOS PARA PERSONAS DE ESCASOS RECURSOS Y PERSONAL DE ESTE AYUNTAMIENTO Y COMBUSTIBLE PARA AMBULANCIAS. DE ACUERDO A COMPRONANTES ADJUNTOS.",4222,"2020-01-17","7697F"]
[747,"PROVEEDORA FARMACEUTICA CRUZ SA DE CV","XAXX010101000","BELEN NO. 967 COL. ALCALDE BRRANQUITAS","GUADALAJARA",44270,151,"BA PARTICIPACIONES 8760","Cheque N° 833","PAGO DE MADICAMENTOS Y COMBUSTIBLE PARA UNIDADES DE PROTECCION CIVIL DE LOS MESES DE ABRIL, MAYO, JUNIO 2020. DE ACUERDO A COMPROBANTES ADJUNTOS.",2733.99,"2020-10-02","6D603"]
[748,"PROVEEDORA FARMACEUTICA CRUZ SA DE CV","XAXX010101000","BELEN NO. 967 COL. ALCALDE BRRANQUITAS","GUADALAJARA",44270,151,"BA PARTICIPACIONES 8760","Cheque N° 833","PAGO DE MADICAMENTOS Y COMBUSTIBLE PARA UNIDADES DE PROTECCION CIVIL DE LOS MESES DE ABRIL, MAYO, JUNIO 2020. DE ACUERDO A COMPROBANTES ADJUNTOS.",3750.1,"2020-10-02","8A4A9"]
[749,"PROVEEDORA FARMACEUTICA CRUZ SA DE CV","XAXX010101000","BELEN NO. 967 COL. ALCALDE BRRANQUITAS","GUADALAJARA",44270,151,"BA PARTICIPACIONES 8760","Cheque N° 833","PAGO DE MADICAMENTOS Y COMBUSTIBLE PARA UNIDADES DE PROTECCION CIVIL DE LOS MESES DE ABRIL, MAYO, JUNIO 2020. DE ACUERDO A COMPROBANTES ADJUNTOS.",3450.05,"2020-10-02","4035A"]
[750,"PROVEEDORA FARMACEUTICA CRUZ SA DE CV","XAXX010101000","BELEN NO. 967 COL. ALCALDE BRRANQUITAS","GUADALAJARA",44270,111,"BA TESORERIA 6536","Cheque N° 2321","PAGO DE MEDICAMENTOS PARA PERSONAL QUE LABORA EN ESTE AYUNTAMIENTO MPAL. DE ACUERDO A COMPROBANTE ADJUNTO.",12991.86,"2020-09-02","0DB72"]
[751,"QUOV960902IH9","QUOV960902IH9",".","ATEMAJAC DE BRIZUELA",45790,111,"s/ref","Ref N° EF","APOYO A COMEDOR ASISTENCIAL PARA LA COMPRA DE TORTILLAS DEL MES DE DICIEMBRE 2020. DE ACUERDO A COMPROBANTE ADJUNTO.",7626.42,"2020-12-31","785A1"]
[752,"RAFAEL VIRGEN OJEDA ","VIOR671024PA2","GONZALEZ ORTEGA # 270 COL: CENTRO","ZACOALCO DE TORRES",45790,151,"BA PARTICIPACIONES 8760","Cheque N° 759","REPOSICION DE CAJA CHICA DE EGRESOS DEL DIA 15 DE JUNIO DEL 2020. DE ACUERDO A COMPROBANTES ADJUNTOS.",1680.01,"2020-06-15","5A213"]
[753,"RAMIRO ALEJANDRO CORDOVA ZAMORA","COZR780427H70","GONZALEZ GALLO S/N","ATEMAJAC DE BRIZUELA,JAL.",45790,111,"BA TESORERIA 6536","Transf N° 0079126014","PAGO DE CEMENTO Y MATERIALES PARA LA CONSTRUCCION PARA EL MANTENIMIENTO  DE ESPACIOS PUBLICOS EN EL MPIO. DE ACUERDO A COMPROBANTES ADJUNTOS.",1535,"2020-12-08","E79B4"]
[754,"RAMIRO ALEJANDRO CORDOVA ZAMORA","COZR780427H70","GONZALEZ GALLO S/N","ATEMAJAC DE BRIZUELA,JAL.",45790,111,"BA TESORERIA 6536","Transf N° 0079126014","PAGO DE CEMENTO Y MATERIALES PARA LA CONSTRUCCION PARA EL MANTENIMIENTO  DE ESPACIOS PUBLICOS EN EL MPIO. DE ACUERDO A COMPROBANTES ADJUNTOS.",3700,"2020-12-08","BD9AC"]
[755,"RAMIRO ALEJANDRO CORDOVA ZAMORA","COZR780427H70","GONZALEZ GALLO S/N","ATEMAJAC DE BRIZUELA,JAL.",45790,111,"BA TESORERIA 6536","Transf N° 0082632015","PAGO DE TRABAJOS DE MAQUINARIA PARA LA ELABORACION DE ZANJAS PARA EL DESASOLVE EN CAMINO A TENERIAS. DE ACUERDO A COMPROBANTES ADJUNTOS.",5104,"2020-10-20","AB37D"]
[756,"RAMIRO ALEJANDRO CORDOVA ZAMORA","COZR780427H70","GONZALEZ GALLO S/N","ATEMAJAC DE BRIZUELA,JAL.",45790,111,"BA TESORERIA 6536","Transf N° 0062657038","PAGO DE MATERIALES DE CONTRUCCION PARA EL MANTENIMIENTO DE ESPACIOS PUBLICOS EN EL MPIO. DE ACUERDO A COMPROBANTE ADJUNTO.",8777.5400000000009,"2020-10-29","D3D36"]
[757,"RAMIRO ALEJANDRO CORDOVA ZAMORA","COZR780427H70","GONZALEZ GALLO S/N","ATEMAJAC DE BRIZUELA,JAL.",45790,111,"BA TESORERIA 6536","Transf N° 0062657014","PAGO DE MATERIALES DE CONTRUCCION PARA EL MANTENIMIENTO DE ESPACIOS PUBLICOS EN EL MPIO. DE ACUERDO A COMPROBANTE ADJUNTO.",7415.95,"2020-10-22","A-508"]
[758,"RAMIRO ALEJANDRO CORDOVA ZAMORA","COZR780427H70","GONZALEZ GALLO S/N","ATEMAJAC DE BRIZUELA,JAL.",45790,111,"BA TESORERIA 6536","Cheque N° 2345","REPOSICION DE CAJA CHICA CORRESPONDIENTE A MES DE SEPTIEMBRE 2020. DE ACUERDO A COMPROBANTES ADJUNTOS.",2824,"2020-09-14","14CEE"]
[759,"RAMIRO ALEJANDRO CORDOVA ZAMORA","COZR780427H70","GONZALEZ GALLO S/N","ATEMAJAC DE BRIZUELA,JAL.",45790,111,"BA TESORERIA 6536","Transf N° 0001722055","PAGO DE MATERIALES VARIOS PARA DIVERSAS OBRAS DE MANTENIMIENTO DE ESPACIOS PUBLICOS EN EL MPIO. DE ACUERDO A COMPROBANTES ADJUNTOS.",3502.04,"2020-01-24","846C8"]
[760,"RAMIRO ALEJANDRO CORDOVA ZAMORA","COZR780427H70","GONZALEZ GALLO S/N","ATEMAJAC DE BRIZUELA,JAL.",45790,111,"BA TESORERIA 6536","Transf N° 0001722055","PAGO DE MATERIALES VARIOS PARA DIVERSAS OBRAS DE MANTENIMIENTO DE ESPACIOS PUBLICOS EN EL MPIO. DE ACUERDO A COMPROBANTES ADJUNTOS.",9164,"2020-01-24",62113]
[761,"RAMIRO ALEJANDRO CORDOVA ZAMORA","COZR780427H70","GONZALEZ GALLO S/N","ATEMAJAC DE BRIZUELA,JAL.",45790,111,"BA TESORERIA 6536","Transf N° 0001722055","PAGO DE MATERIALES VARIOS PARA DIVERSAS OBRAS DE MANTENIMIENTO DE ESPACIOS PUBLICOS EN EL MPIO. DE ACUERDO A COMPROBANTES ADJUNTOS.",8936.07,"2020-01-24","1B885"]
[762,"RAMIRO ALEJANDRO CORDOVA ZAMORA","COZR780427H70","GONZALEZ GALLO S/N","ATEMAJAC DE BRIZUELA,JAL.",45790,111,"BA TESORERIA 6536","Transf N° 0086961014","PAGO DE MATERIALES PARA DIVERSAS OBRAS DE MANTENIMIENTO DE ESPACIOS PUBLICOS EN EL MUNICIPIO. DE ACUERDO A COMPROBANTES ADJUNTOS.",5104,"2020-01-23","8D159"]
[763,"RAMIRO ALEJANDRO CORDOVA ZAMORA","COZR780427H70","GONZALEZ GALLO S/N","ATEMAJAC DE BRIZUELA,JAL.",45790,111,"BA TESORERIA 6536","Transf N° 0086961014","PAGO DE MATERIALES PARA DIVERSAS OBRAS DE MANTENIMIENTO DE ESPACIOS PUBLICOS EN EL MUNICIPIO. DE ACUERDO A COMPROBANTES ADJUNTOS.",5553.14,"2020-01-23",57361]
[764,"RAMIRO ALEJANDRO CORDOVA ZAMORA","COZR780427H70","GONZALEZ GALLO S/N","ATEMAJAC DE BRIZUELA,JAL.",45790,111,"BA TESORERIA 6536","Transf N° 0086961014","PAGO DE MATERIALES PARA DIVERSAS OBRAS DE MANTENIMIENTO DE ESPACIOS PUBLICOS EN EL MUNICIPIO. DE ACUERDO A COMPROBANTES ADJUNTOS.",8354.84,"2020-01-23","116D4"]
[765,"RAMIRO ALEJANDRO CORDOVA ZAMORA","COZR780427H70","GONZALEZ GALLO S/N","ATEMAJAC DE BRIZUELA,JAL.",45790,151,"BA PARTICIPACIONES 8760","Transf N° 0077681101","PAGO DE MATERIALES PARA EL MENTENIMIENTO DE RED DE TUBERIA DE AGUA POTABLE EN LA LOCALIDAD DE JAGUEY, MPIO DE ATEMAJAC DE BRIZUELA, JALISCO. DE ACUERDO A COMPROBANTE ADJUNTO.",4297.32,"2020-03-24",249000000000]
[766,"RAMIRO ALEJANDRO CORDOVA ZAMORA","COZR780427H70","GONZALEZ GALLO S/N","ATEMAJAC DE BRIZUELA,JAL.",45790,151,"BA PARTICIPACIONES 8760","Transf N° 0077681084","PAGO DE MATERIALES PARA EL MANTENIMIENTO DE CEMENTERIO MPAL. DE ACUERDO A COMPROBANTE ADJUNTO.",3875,"2020-03-24","C94A5"]
[767,"RAMIRO ALEJANDRO CORDOVA ZAMORA","COZR780427H70","GONZALEZ GALLO S/N","ATEMAJAC DE BRIZUELA,JAL.",45790,151,"BA PARTICIPACIONES 8760","Transf N° 0077681031","PAGO DE MATERIALES PARA LA REHABILITACION DE BAÑOS EN AUDITORIO DEL MPIO. DE ACUERDO A COMPROBANTE ADJUNTO.",2301,"2020-03-24","018C6"]
[768,"RAMIRO ALEJANDRO CORDOVA ZAMORA","COZR780427H70","GONZALEZ GALLO S/N","ATEMAJAC DE BRIZUELA,JAL.",45790,151,"BA PARTICIPACIONES 8760","Transf N° 0077681014","PAGO DE MATERIALES PARA LA CONSTRUCCION PARA EL MANTENIMIE TO DE DIVERSOS ESPACIOS PUBLICOS EN EL MPIO. DE ACUERDO A COMPROBANTE ADJUNTO.",2842,"2020-03-24","E9DE2"]
[769,"RAMIRO ALEJANDRO CORDOVA ZAMORA","COZR780427H70","GONZALEZ GALLO S/N","ATEMAJAC DE BRIZUELA,JAL.",45790,151,"BA PARTICIPACIONES 8760","Transf N° 0077681067","PAGO DE MATERIAL PARA MANTENIMIENTO DE RED DE AGUA EN LA LOCALIDAD DE TIERRA BLANCA. DE ACUERDO A COMPROBANTE ADJUNTO.",2767.43,"2020-03-24","267B4"]
[770,"RAMON GARIBAY BRAVO","GABR4605294K5","-","-",45790,151,"BA PARTICIPACIONES 8760","Cheque N° 0576","APOYO A PEREGRINOS DE ATEMAJAC DE BRIZUELA A TALPA DE ALLENDE, PARA GASTOS DE ALIMENTOS. DE ACUERDO A COMPROBANTES ADJUNTOS.",16500,"2020-03-13","CB804"]
[771,"RAUL DAVILA LEON","DALR6611247KA","MANUEL AVILA CAMACHO NO. 63","ATEMAJAC DE BRIZUELA, JAL",45790,111,"BA TESORERIA 6536","Cheque N° 2254","REPOSICION DE CAJA CHICA DE EGRESOS CORRESPONDIENTE AL DIA 08 DE ABRIL 2020. DE ACUERDO A COMBRANTES ADJUNTOS.",1400,"2020-04-08",14009]
[772,"RAUL DAVILA LEON","DALR6611247KA","MANUEL AVILA CAMACHO NO. 63","ATEMAJAC DE BRIZUELA, JAL",45790,151,"BA PARTICIPACIONES 8760","Transf N° 0036262055","PAGO DE MATERIALES PARA EL MANTENIMIENTO DE RED DE AGUA POTABLE EN EL MPIO. DE ACUERDO A COMPROBANTE ADJUNTO",12807,"2020-03-18",1464]
[773,"RAUL DAVILA LEON","DALR6611247KA","MANUEL AVILA CAMACHO NO. 63","ATEMAJAC DE BRIZUELA, JAL",45790,151,"BA PARTICIPACIONES 8760","Transf N° 0036262071","PAGO DE MATERIAL ELECTRICO PARA EL MANTENIMENTO DE ALUMBRADO PUBLICO EN EL MPIO. DE ACUERDO A COMPROBANTE ADJUNTO.",55610,"2020-03-18",1449]
[774,"RAUL DAVILA LEON","DALR6611247KA","MANUEL AVILA CAMACHO NO. 63","ATEMAJAC DE BRIZUELA, JAL",45790,151,"BA PARTICIPACIONES 8760","Transf N° 0036203014","PAGO DE MATERIAL ELECTRICO PARA EL MANTENIMIENTO DE ALUMBRADO PUBLICO DE ESTE MPIO. DE ACUERDO A COMPROBANTE ADJUNTO.",49969,"2020-02-12",1456]
[775,"RAUL DAVILA LEON","DALR6611247KA","MANUEL AVILA CAMACHO NO. 63","ATEMAJAC DE BRIZUELA, JAL",45790,111,"BA TESORERIA 6536","Transf N° 0031118036","PAGO DE MATERIAL ELECTRICO PARA EL MANTENIMIENTO DE ALUMBRADO PUBLICO DE ESTE MPIO. DE ACUERDO A COMPROBANTE ADJUNTO.",51930,"2020-02-21",1465]
[776,"RAUL DAVILA LEON","DALR6611247KA","MANUEL AVILA CAMACHO NO. 63","ATEMAJAC DE BRIZUELA, JAL",45790,111,"BA TESORERIA 6536","Transf N° 0044767031","PAGO DE MATERAL ELECTRICO PARA EL MANTENIMIENTO DE ALUMBRADO PUBLICO EN EL MUNICIPIO. DE ACUERDO A COMPROBANTE ADJUNTO.",35870,"2020-01-23",1429]
[777,"RAUL DAVILA LEON","DALR6611247KA","MANUEL AVILA CAMACHO NO. 63","ATEMAJAC DE BRIZUELA, JAL",45790,111,"BA TESORERIA 6536","Cheque N° 2267","REPOSICION DE CAJA CHICA DE EGRESOS CORRESPONDIENTE AL DIA 30 DE ABRIL 2020. DE ACUERDO A COMPROBANTES ADJUNTOS.",1800,"2020-04-30",14007]
[778,"RAUL DAVILA LEON","DALR6611247KA","MANUEL AVILA CAMACHO NO. 63","ATEMAJAC DE BRIZUELA, JAL",45790,111,"BA TESORERIA 6536","Cheque N° 2267","REPOSICION DE CAJA CHICA DE EGRESOS CORRESPONDIENTE AL DIA 30 DE ABRIL 2020. DE ACUERDO A COMPROBANTES ADJUNTOS.",2700,"2020-04-30",14007]
[779,"RAUL DAVILA LEON","DALR6611247KA","MANUEL AVILA CAMACHO NO. 63","ATEMAJAC DE BRIZUELA, JAL",45790,151,"BA PARTICIPACIONES 8760","Transf N° 0063308021","PAGO DE LAMPARAS PARA ALUMBRADO PUBLICO EN CALLE MATAMOROS EN CABECERA MPAL. DE ACUERDO A COMPROBANTE ADJUNTO.",5240,"2020-07-24",1721]
[780,"RAUL DAVILA LEON","DALR6611247KA","MANUEL AVILA CAMACHO NO. 63","ATEMAJAC DE BRIZUELA, JAL",45790,151,"s/ref","s/ref ","PAGO DE MATERIAL ELECTRICO PARA EL MANTENIMIENTO DE ALUMBRADO PUBLICO EN EL MUNICIPIO. DE ACUERDO A COMPROBANTE ADJUNTO.",24824,"2020-05-04",1477]
[781,"RAUL DAVILA LEON","DALR6611247KA","MANUEL AVILA CAMACHO NO. 63","ATEMAJAC DE BRIZUELA, JAL",45790,151,"BA PARTICIPACIONES 8760","Transf N° 0016104116","PAGO DE MATERIALES VARIOS PARA EL MANTENIMIENTO Y CONSERVACION DE ESPACIOS PUBLICOS EN EL MPIO. DE ACUERDO A COMPROBANTES ADJUNTOS.",2040,"2020-10-02",1774]
[782,"RAUL DAVILA LEON","DALR6611247KA","MANUEL AVILA CAMACHO NO. 63","ATEMAJAC DE BRIZUELA, JAL",45790,151,"BA PARTICIPACIONES 8760","Transf N° 0016104116","PAGO DE MATERIALES VARIOS PARA EL MANTENIMIENTO Y CONSERVACION DE ESPACIOS PUBLICOS EN EL MPIO. DE ACUERDO A COMPROBANTES ADJUNTOS.",3180,"2020-10-02",1762]
[783,"RAUL DAVILA LEON","DALR6611247KA","MANUEL AVILA CAMACHO NO. 63","ATEMAJAC DE BRIZUELA, JAL",45790,151,"BA PARTICIPACIONES 8760","Transf N° 0016104116","PAGO DE MATERIALES VARIOS PARA EL MANTENIMIENTO Y CONSERVACION DE ESPACIOS PUBLICOS EN EL MPIO. DE ACUERDO A COMPROBANTES ADJUNTOS.",2950,"2020-10-02",1761]
[784,"RAUL DAVILA LEON","DALR6611247KA","MANUEL AVILA CAMACHO NO. 63","ATEMAJAC DE BRIZUELA, JAL",45790,151,"BA PARTICIPACIONES 8760","Transf N° 0016104116","PAGO DE MATERIALES VARIOS PARA EL MANTENIMIENTO Y CONSERVACION DE ESPACIOS PUBLICOS EN EL MPIO. DE ACUERDO A COMPROBANTES ADJUNTOS.",4615,"2020-10-02",1760]
[785,"RAUL DAVILA LEON","DALR6611247KA","MANUEL AVILA CAMACHO NO. 63","ATEMAJAC DE BRIZUELA, JAL",45790,151,"BA PARTICIPACIONES 8760","Transf N° 0016104099","PAGO DE MATERIALES VARIOS PARA EL MANTENIMIENTO Y CONSERVACION DE ESPACIOS PUBLICOS EN EL MPIO CORRESPONDIENTE AL MES DE JULIO 2020. DE ACUERDO A COMPROBANTES ADJUNTOS.",1080,"2020-10-02",1701]
[786,"RAUL DAVILA LEON","DALR6611247KA","MANUEL AVILA CAMACHO NO. 63","ATEMAJAC DE BRIZUELA, JAL",45790,151,"BA PARTICIPACIONES 8760","Transf N° 0016104099","PAGO DE MATERIALES VARIOS PARA EL MANTENIMIENTO Y CONSERVACION DE ESPACIOS PUBLICOS EN EL MPIO CORRESPONDIENTE AL MES DE JULIO 2020. DE ACUERDO A COMPROBANTES ADJUNTOS.",1440,"2020-10-02",1698]
[787,"RAUL DAVILA LEON","DALR6611247KA","MANUEL AVILA CAMACHO NO. 63","ATEMAJAC DE BRIZUELA, JAL",45790,151,"BA PARTICIPACIONES 8760","Transf N° 0016104099","PAGO DE MATERIALES VARIOS PARA EL MANTENIMIENTO Y CONSERVACION DE ESPACIOS PUBLICOS EN EL MPIO CORRESPONDIENTE AL MES DE JULIO 2020. DE ACUERDO A COMPROBANTES ADJUNTOS.",1140,"2020-10-02",1692]
[788,"RAUL DAVILA LEON","DALR6611247KA","MANUEL AVILA CAMACHO NO. 63","ATEMAJAC DE BRIZUELA, JAL",45790,151,"BA PARTICIPACIONES 8760","Transf N° 0016104082","PAGO DE MATERIALES VARIOS PARA EL MANTENIMIENTO Y CONSERVACION DE ESPACIOS PUBLICOS EN EL MPIO CORRESPONDIENTE AL MES DE JUNIO 2020. DE ACUERDO A COMPROBANTES ADJUNTOS.",2960,"2020-10-02",1665]
[789,"RAUL DAVILA LEON","DALR6611247KA","MANUEL AVILA CAMACHO NO. 63","ATEMAJAC DE BRIZUELA, JAL",45790,151,"BA PARTICIPACIONES 8760","Transf N° 0016104082","PAGO DE MATERIALES VARIOS PARA EL MANTENIMIENTO Y CONSERVACION DE ESPACIOS PUBLICOS EN EL MPIO CORRESPONDIENTE AL MES DE JUNIO 2020. DE ACUERDO A COMPROBANTES ADJUNTOS.",2640,"2020-10-02",1657]
[790,"RAUL DAVILA LEON","DALR6611247KA","MANUEL AVILA CAMACHO NO. 63","ATEMAJAC DE BRIZUELA, JAL",45790,151,"BA PARTICIPACIONES 8760","Transf N° 0016104082","PAGO DE MATERIALES VARIOS PARA EL MANTENIMIENTO Y CONSERVACION DE ESPACIOS PUBLICOS EN EL MPIO CORRESPONDIENTE AL MES DE JUNIO 2020. DE ACUERDO A COMPROBANTES ADJUNTOS.",1930,"2020-10-02",1666]
[791,"RAUL DAVILA LEON","DALR6611247KA","MANUEL AVILA CAMACHO NO. 63","ATEMAJAC DE BRIZUELA, JAL",45790,151,"BA PARTICIPACIONES 8760","Transf N° 0016104065","PAGO DE MATERIALES VARIOS PARA EL MANTENIMIENTO Y CONSERVACION DE ESPACIOS PUBLICOS EN EL MPIO CORRESPONDIENTE AL MES DE ABRIL 2020. DE ACUERDO A COMPROBANTES ADJUNTOS.",2032,"2020-10-02",1585]
[792,"RAUL DAVILA LEON","DALR6611247KA","MANUEL AVILA CAMACHO NO. 63","ATEMAJAC DE BRIZUELA, JAL",45790,151,"BA PARTICIPACIONES 8760","Transf N° 0016104065","PAGO DE MATERIALES VARIOS PARA EL MANTENIMIENTO Y CONSERVACION DE ESPACIOS PUBLICOS EN EL MPIO CORRESPONDIENTE AL MES DE ABRIL 2020. DE ACUERDO A COMPROBANTES ADJUNTOS.",1020,"2020-10-02",1584]
[793,"RAUL DAVILA LEON","DALR6611247KA","MANUEL AVILA CAMACHO NO. 63","ATEMAJAC DE BRIZUELA, JAL",45790,151,"BA PARTICIPACIONES 8760","Transf N° 0016104065","PAGO DE MATERIALES VARIOS PARA EL MANTENIMIENTO Y CONSERVACION DE ESPACIOS PUBLICOS EN EL MPIO CORRESPONDIENTE AL MES DE ABRIL 2020. DE ACUERDO A COMPROBANTES ADJUNTOS.",1685,"2020-10-02",1562]
[794,"RAUL DAVILA LEON","DALR6611247KA","MANUEL AVILA CAMACHO NO. 63","ATEMAJAC DE BRIZUELA, JAL",45790,151,"BA PARTICIPACIONES 8760","Transf N° 0016104065","PAGO DE MATERIALES VARIOS PARA EL MANTENIMIENTO Y CONSERVACION DE ESPACIOS PUBLICOS EN EL MPIO CORRESPONDIENTE AL MES DE ABRIL 2020. DE ACUERDO A COMPROBANTES ADJUNTOS.",1160,"2020-10-02",1561]
[795,"RAUL DAVILA LEON","DALR6611247KA","MANUEL AVILA CAMACHO NO. 63","ATEMAJAC DE BRIZUELA, JAL",45790,151,"BA PARTICIPACIONES 8760","Transf N° 0016104065","PAGO DE MATERIALES VARIOS PARA EL MANTENIMIENTO Y CONSERVACION DE ESPACIOS PUBLICOS EN EL MPIO CORRESPONDIENTE AL MES DE ABRIL 2020. DE ACUERDO A COMPROBANTES ADJUNTOS.",1540,"2020-10-02",1557]
[796,"RAUL DAVILA LEON","DALR6611247KA","MANUEL AVILA CAMACHO NO. 63","ATEMAJAC DE BRIZUELA, JAL",45790,151,"BA PARTICIPACIONES 8760","Transf N° 0016104065","PAGO DE MATERIALES VARIOS PARA EL MANTENIMIENTO Y CONSERVACION DE ESPACIOS PUBLICOS EN EL MPIO CORRESPONDIENTE AL MES DE ABRIL 2020. DE ACUERDO A COMPROBANTES ADJUNTOS.",1946,"2020-10-02",1554]
[797,"RAUL DAVILA LEON","DALR6611247KA","MANUEL AVILA CAMACHO NO. 63","ATEMAJAC DE BRIZUELA, JAL",45790,151,"BA PARTICIPACIONES 8760","Transf N° 0016104065","PAGO DE MATERIALES VARIOS PARA EL MANTENIMIENTO Y CONSERVACION DE ESPACIOS PUBLICOS EN EL MPIO CORRESPONDIENTE AL MES DE ABRIL 2020. DE ACUERDO A COMPROBANTES ADJUNTOS.",2675,"2020-10-02",1552]
[798,"RAUL DAVILA LEON","DALR6611247KA","MANUEL AVILA CAMACHO NO. 63","ATEMAJAC DE BRIZUELA, JAL",45790,151,"BA PARTICIPACIONES 8760","Transf N° 0016104065","PAGO DE MATERIALES VARIOS PARA EL MANTENIMIENTO Y CONSERVACION DE ESPACIOS PUBLICOS EN EL MPIO CORRESPONDIENTE AL MES DE ABRIL 2020. DE ACUERDO A COMPROBANTES ADJUNTOS.",2980,"2020-10-02",1551]
[799,"RAUL DAVILA LEON","DALR6611247KA","MANUEL AVILA CAMACHO NO. 63","ATEMAJAC DE BRIZUELA, JAL",45790,151,"BA PARTICIPACIONES 8760","Transf N° 0016104065","PAGO DE MATERIALES VARIOS PARA EL MANTENIMIENTO Y CONSERVACION DE ESPACIOS PUBLICOS EN EL MPIO CORRESPONDIENTE AL MES DE ABRIL 2020. DE ACUERDO A COMPROBANTES ADJUNTOS.",1050,"2020-10-02",1548]
[800,"RAUL DAVILA LEON","DALR6611247KA","MANUEL AVILA CAMACHO NO. 63","ATEMAJAC DE BRIZUELA, JAL",45790,151,"BA PARTICIPACIONES 8760","Transf N° 0016104065","PAGO DE MATERIALES VARIOS PARA EL MANTENIMIENTO Y CONSERVACION DE ESPACIOS PUBLICOS EN EL MPIO CORRESPONDIENTE AL MES DE ABRIL 2020. DE ACUERDO A COMPROBANTES ADJUNTOS.",2050,"2020-10-02",1538]
[801,"RAUL DAVILA LEON","DALR6611247KA","MANUEL AVILA CAMACHO NO. 63","ATEMAJAC DE BRIZUELA, JAL",45790,151,"BA PARTICIPACIONES 8760","Transf N° 0016104065","PAGO DE MATERIALES VARIOS PARA EL MANTENIMIENTO Y CONSERVACION DE ESPACIOS PUBLICOS EN EL MPIO CORRESPONDIENTE AL MES DE ABRIL 2020. DE ACUERDO A COMPROBANTES ADJUNTOS.",1815,"2020-10-02",1536]
[802,"RAUL DAVILA LEON","DALR6611247KA","MANUEL AVILA CAMACHO NO. 63","ATEMAJAC DE BRIZUELA, JAL",45790,151,"BA PARTICIPACIONES 8760","Transf N° 0016104065","PAGO DE MATERIALES VARIOS PARA EL MANTENIMIENTO Y CONSERVACION DE ESPACIOS PUBLICOS EN EL MPIO CORRESPONDIENTE AL MES DE ABRIL 2020. DE ACUERDO A COMPROBANTES ADJUNTOS.",1381,"2020-10-02",1533]
[803,"RAUL DAVILA LEON","DALR6611247KA","MANUEL AVILA CAMACHO NO. 63","ATEMAJAC DE BRIZUELA, JAL",45790,151,"BA PARTICIPACIONES 8760","Transf N° 0016104065","PAGO DE MATERIALES VARIOS PARA EL MANTENIMIENTO Y CONSERVACION DE ESPACIOS PUBLICOS EN EL MPIO CORRESPONDIENTE AL MES DE ABRIL 2020. DE ACUERDO A COMPROBANTES ADJUNTOS.",1153.01,"2020-10-02",1532]
[804,"RAUL DAVILA LEON","DALR6611247KA","MANUEL AVILA CAMACHO NO. 63","ATEMAJAC DE BRIZUELA, JAL",45790,151,"BA PARTICIPACIONES 8760","Transf N° 0016104065","PAGO DE MATERIALES VARIOS PARA EL MANTENIMIENTO Y CONSERVACION DE ESPACIOS PUBLICOS EN EL MPIO CORRESPONDIENTE AL MES DE ABRIL 2020. DE ACUERDO A COMPROBANTES ADJUNTOS.",2350,"2020-10-02",1529]
[805,"RAUL DAVILA LEON","DALR6611247KA","MANUEL AVILA CAMACHO NO. 63","ATEMAJAC DE BRIZUELA, JAL",45790,151,"BA PARTICIPACIONES 8760","Transf N° 0016104065","PAGO DE MATERIALES VARIOS PARA EL MANTENIMIENTO Y CONSERVACION DE ESPACIOS PUBLICOS EN EL MPIO CORRESPONDIENTE AL MES DE ABRIL 2020. DE ACUERDO A COMPROBANTES ADJUNTOS.",2220,"2020-10-02",1528]
[806,"RAUL DAVILA LEON","DALR6611247KA","MANUEL AVILA CAMACHO NO. 63","ATEMAJAC DE BRIZUELA, JAL",45790,151,"BA PARTICIPACIONES 8760","Transf N° 0016104048","PAGO DE MATERIALES VARIOS PARA EL MANTENIMIENTO Y CONSERVACION DE ESPACIOS PUBLICOS EN EL MPIO CORRESPONDIENTE AL MES DE MARZO 2020. DE ACUERDO A COMPROBANTES ADJUNTOS.",2370,"2020-10-02",1488]
[807,"RAUL DAVILA LEON","DALR6611247KA","MANUEL AVILA CAMACHO NO. 63","ATEMAJAC DE BRIZUELA, JAL",45790,151,"BA PARTICIPACIONES 8760","Transf N° 0016104048","PAGO DE MATERIALES VARIOS PARA EL MANTENIMIENTO Y CONSERVACION DE ESPACIOS PUBLICOS EN EL MPIO CORRESPONDIENTE AL MES DE MARZO 2020. DE ACUERDO A COMPROBANTES ADJUNTOS.",1965,"2020-10-02",1487]
[808,"RAUL DAVILA LEON","DALR6611247KA","MANUEL AVILA CAMACHO NO. 63","ATEMAJAC DE BRIZUELA, JAL",45790,151,"BA PARTICIPACIONES 8760","Transf N° 0016104048","PAGO DE MATERIALES VARIOS PARA EL MANTENIMIENTO Y CONSERVACION DE ESPACIOS PUBLICOS EN EL MPIO CORRESPONDIENTE AL MES DE MARZO 2020. DE ACUERDO A COMPROBANTES ADJUNTOS.",2355,"2020-10-02",1486]
[809,"RAUL DAVILA LEON","DALR6611247KA","MANUEL AVILA CAMACHO NO. 63","ATEMAJAC DE BRIZUELA, JAL",45790,151,"BA PARTICIPACIONES 8760","Transf N° 0016104048","PAGO DE MATERIALES VARIOS PARA EL MANTENIMIENTO Y CONSERVACION DE ESPACIOS PUBLICOS EN EL MPIO CORRESPONDIENTE AL MES DE MARZO 2020. DE ACUERDO A COMPROBANTES ADJUNTOS.",1650,"2020-10-02",1485]
[810,"RAUL DAVILA LEON","DALR6611247KA","MANUEL AVILA CAMACHO NO. 63","ATEMAJAC DE BRIZUELA, JAL",45790,151,"BA PARTICIPACIONES 8760","Transf N° 0016104048","PAGO DE MATERIALES VARIOS PARA EL MANTENIMIENTO Y CONSERVACION DE ESPACIOS PUBLICOS EN EL MPIO CORRESPONDIENTE AL MES DE MARZO 2020. DE ACUERDO A COMPROBANTES ADJUNTOS.",1448,"2020-10-02",1484]
[811,"RAUL DAVILA LEON","DALR6611247KA","MANUEL AVILA CAMACHO NO. 63","ATEMAJAC DE BRIZUELA, JAL",45790,151,"BA PARTICIPACIONES 8760","Transf N° 0016104048","PAGO DE MATERIALES VARIOS PARA EL MANTENIMIENTO Y CONSERVACION DE ESPACIOS PUBLICOS EN EL MPIO CORRESPONDIENTE AL MES DE MARZO 2020. DE ACUERDO A COMPROBANTES ADJUNTOS.",1085,"2020-10-02",1479]
[812,"RAUL DAVILA LEON","DALR6611247KA","MANUEL AVILA CAMACHO NO. 63","ATEMAJAC DE BRIZUELA, JAL",45790,151,"BA PARTICIPACIONES 8760","Transf N° 0016104048","PAGO DE MATERIALES VARIOS PARA EL MANTENIMIENTO Y CONSERVACION DE ESPACIOS PUBLICOS EN EL MPIO CORRESPONDIENTE AL MES DE MARZO 2020. DE ACUERDO A COMPROBANTES ADJUNTOS.",1484.99,"2020-10-02",1478]
[813,"RAUL DAVILA LEON","DALR6611247KA","MANUEL AVILA CAMACHO NO. 63","ATEMAJAC DE BRIZUELA, JAL",45790,151,"BA PARTICIPACIONES 8760","Transf N° 0016104031","PAGO DE MATERIALES VARIOS PARA EL MANTENIMIENTO Y CONSERVACION DE ESPACIOS PUBLICOS EN EL MPIO CORRESPONDIENTE AL MES DE FEBRERO 2020. DE ACUERDO A COMPROBANTES ADJUNTOS.",1045,"2020-10-02",1463]
[814,"RAUL DAVILA LEON","DALR6611247KA","MANUEL AVILA CAMACHO NO. 63","ATEMAJAC DE BRIZUELA, JAL",45790,151,"BA PARTICIPACIONES 8760","Transf N° 0016104014","PAGO DE MATERIALES VARIOS PARA EL MANTENIMIENTO Y CONSERVACION DE ESPACIOS PUBLICOS EN EL MPIO CORRESPONDIENTE AL MES DE ENERO 2020. DE ACUERDO A COMPROBANTES ADJUNTOS.",4345.99,"2020-10-02",1447]
[815,"RAUL DAVILA LEON","DALR6611247KA","MANUEL AVILA CAMACHO NO. 63","ATEMAJAC DE BRIZUELA, JAL",45790,151,"BA PARTICIPACIONES 8760","Transf N° 0016104014","PAGO DE MATERIALES VARIOS PARA EL MANTENIMIENTO Y CONSERVACION DE ESPACIOS PUBLICOS EN EL MPIO CORRESPONDIENTE AL MES DE ENERO 2020. DE ACUERDO A COMPROBANTES ADJUNTOS.",3089,"2020-10-02",1455]
[816,"RAUL DAVILA LEON","DALR6611247KA","MANUEL AVILA CAMACHO NO. 63","ATEMAJAC DE BRIZUELA, JAL",45790,111,"BA TESORERIA 6536","Transf N° 0044767089","PAGO DE HIDRONEUMATICO AUTOMATICO DE 220 VOLTIOS PARA BAÑOS DEL MERCADO MPAL. DE ACUERDO A COMPROBANTE ADJUNTO.",1650,"2020-01-23",1426]
[817,"RAUL DAVILA LEON","DALR6611247KA","MANUEL AVILA CAMACHO NO. 63","ATEMAJAC DE BRIZUELA, JAL",45790,111,"BA TESORERIA 6536","Transf N° 0044767072","PAGO DE MATERIALES VARIOS PARA EL MANTENIMIENTO DE ESPACIOS PUBLICOS EN EL MPIO. DE ACUERDO A COMPROBANTE ADJUNTO.",4225,"2020-01-23",1427]
[818,"RAUL DAVILA LEON","DALR6611247KA","MANUEL AVILA CAMACHO NO. 63","ATEMAJAC DE BRIZUELA, JAL",45790,111,"BA TESORERIA 6536","Transf N° 0044767014","PAGO DE MATERIA PARA EL EL MANTENIMIENTO DE RED DE AGUA POTABLE EN EL MUNICIPIO. DE ACUERDO A COMPROBANTE ADJUNTO.",9878,"2020-01-23",1430]
[819,"RAUL DAVILA LEON","DALR6611247KA","MANUEL AVILA CAMACHO NO. 63","ATEMAJAC DE BRIZUELA, JAL",45790,111,"BA TESORERIA 6536","Cheque N° 2734","PAGO DE MATERIAL DE FONTANERIA PARA MANTENIMIENTO A AGUA POTABLE EN CALLE XICOTENCATL EN ESTA POBLACION. ",1770,"2020-12-01",1805]
[820,"REFACCIONARIA JAUREGUI, SA.A. DE C.V.","XAXX010101000","PERIFERICO ORIENTE NO. 46","TONALA, JAL.",44320,111,"BA TESORERIA 6536","Cheque N° 2272","PAGO DE BATERIAS PARA VOLTEO ROJO DEL DEPARTAMENTO DE OBRAS PUBLICA. DE ACUERDO A COMPROBANTE ADJUNTO.",3052.26,"2020-05-08","9D746"]
[821,"REOCSA SA DE CV","XAXX010101000",".",".",45790,151,"BA PARTICIPACIONES 8760","Transf N° 0054146023","LLANTAS PARA PIPA DE AGUA DE ESTA AYUNTAMIENTO. DE ACUERDO A COMPROBANTE ADJUNTO.",8067.93,"2020-04-20","905F9"]
[822,"RIBONO SA DE CV","XAXX010101000",".",".",45790,151,"s/ref","Ref N° EF","PAGO DE ELECTRODOMESTICOS COMO PREMIO POR PAGO PUNTUAL A LOS CONTRIBUYENTES EN EL PAGO DEL AGUA E IMPUESTO PREDIAL EN EL MPIO. DE ACUERDO A COMPROBANTES ADJUNTOS. ",2199,"2020-05-29",100662926874]
[823,"RICARDO ANTONIO GUDIÑO PEREZ","GUPR910507GCA",".","ZACOALCO DE TORRES ",45130,151,"s/ref","s/ref ","PAGO DE VIATICOS A PRESIDENTE MUNICIPAL POR COMISION A DIVERSOS EVENTOS. DE ACUERDO A COMPROBANTES ADJUNTOS",4640,"2020-08-31","0DB23"]
[824,"RICARDO MUÑOZ QUIROZ","MUQR720203JG3",".",".",44100,151,"BA PARTICIPACIONES 8760","Cheque N° 912","PAGO DE JUGUETES PARA LA ELABORACION DE REGALOS NAVIDEÑOS PARA LOS NIÑOS DEL MUNICIPIO. DE ACUEDO A COMPROBANTE ADJUNTO.",30885,"2020-12-16","2D986"]
[825,"RIMARA RHCP SA DE CV","XAXX010101000","AV CAMACHO 449","SAYULA, JALISCO",49300,151,"s/ref","s/ref ","PAGO DE VIATICOS A PRESIDENTE MUNICIPAL POR COMISION A DIVERSOS EVENTOS EN EL MES DE SEPTIEMBRE 2020. DE ACUERDO A COMPROBANTES ADJUNTOS",1000,"2020-09-30",32644]
[826,"RIMARA RHCP SA DE CV","XAXX010101000","AV CAMACHO 449","SAYULA, JALISCO",49300,111,"BA TESORERIA 6536","Cheque N° 2782","PAGO DE COMBUSTIBLE PARA ABULANCIA DE PROTECCION CIVIL DE ESTE MPIO. DE ACUERDO A COMPROBANTE ADJUNTO",1000,"2020-12-17","CDAA8"]
[827,"RIMARA RHCP SA DE CV","XAXX010101000","AV CAMACHO 449","SAYULA, JALISCO",49300,111,"BA TESORERIA 6536","Cheque N° 2355","PAGO DE COMBUSTIBLE PARA VEHICULOS DEL SERVICIO PUBLICO DE ESTE MPIO. DE ACUERDO A COMPROBANTES ADJUNTOS.",1555.49,"2020-09-25","C0C92"]
[828,"RIMARA RHCP SA DE CV","XAXX010101000","AV CAMACHO 449","SAYULA, JALISCO",49300,111,"BA TESORERIA 6536","Cheque N° 2349","PAGO DE COMBUSTIBLE PARA VEHICULOS DEL SERVICIO PUBLICO DEL MPIO. DE ACUERDO A COMPROBANTE ADJUNTO.",1000,"2020-09-21","40BFE"]
[829,"ROBERTO CARDENAS GONZALEZ","CAGR371215F17","CRUZ DEL SUR NO. 3344","GUADALAJARA,JALISCO",44580,151,"BA PARTICIPACIONES 8760","Cheque N° 673","PAGO DE COMBUSTIBLE Y MANTENIMIENTO DE AMBULANCIA DE PROTECCION CIVIL DE ESTE MPIO. DE ACUERDO A COMPROBANTES ADJUNTOS.",1000,"2020-04-17","0FBC4"]
[830,"ROSA MARIA LEON DAVILA","LEDR7011147G9","CONSTITUCION S/N","ATEMAJAC DE BRIZUELA,JAL.",45790,111,"BA TESORERIA 6536","Cheque N° 2319","PAGO DE PRODUCTOS DE LIMPIEZA Y ALIMENTO PARA OFICINAS DE ESTE AYUNTAMIENTO. DE ACUERDO A COMPROBANTES ADJUNTOS.",4696.5,"2020-09-30",2738]
[831,"ROSA MARIA LEON DAVILA","LEDR7011147G9","CONSTITUCION S/N","ATEMAJAC DE BRIZUELA,JAL.",45790,111,"BA TESORERIA 6536","Cheque N° 2319","PAGO DE PRODUCTOS DE LIMPIEZA Y ALIMENTO PARA OFICINAS DE ESTE AYUNTAMIENTO. DE ACUERDO A COMPROBANTES ADJUNTOS.",4696.5,"2020-09-30","998B5"]
[832,"ROSA MARIA LEON DAVILA","LEDR7011147G9","CONSTITUCION S/N","ATEMAJAC DE BRIZUELA,JAL.",45790,111,"BA TESORERIA 6536","Cheque N° 2762","PAGO DE MATERIALES DE LIMPIERZA Y PRODUCTOS DE ABARROTES PARA OFICINAS DE ESTE AYUNTAMIENTO. DE ACUERDO A COMPROBANTE ADJUNTO.",5327,"2020-12-08","DC287"]
[833,"ROSA MARIA LEON DAVILA","LEDR7011147G9","CONSTITUCION S/N","ATEMAJAC DE BRIZUELA,JAL.",45790,151,"BA PARTICIPACIONES 8760","Cheque N° 0591","COMPRA DE PRODUCTOS DE ABARROTES Y DESECHABLES PARA EVENTO EN ENTREGA DE APOYO \"SESENTA Y MAS\" Y PARA OFICINAS DE ESTE AYUNTAMIENTO. DE ACUERDO A COMPROBANTE ADJUNTO.",7576.01,"2020-03-19","A2DBE"]
[834,"ROSA MARIA LEON DAVILA","LEDR7011147G9","CONSTITUCION S/N","ATEMAJAC DE BRIZUELA,JAL.",45790,151,"BA PARTICIPACIONES 8760","Cheque N° 885","PAGO DE MATERIALES DE LIMPIEZA PARA ESPACIOS PUBLICOS Y OFICINAS DE ESTE AYUNTAMIENTO. DE ACUERDO A COMPROBANTE ADJUNTO.",7505,"2020-11-12","8648D"]
[835,"ROSA MARIA LEON DAVILA","LEDR7011147G9","CONSTITUCION S/N","ATEMAJAC DE BRIZUELA,JAL.",45790,111,"s/ref","Ref N° EF","REPOSICION FINAL DE CAJA CHICA DE EGRESOS (EX TESORERO) AL 25 DE OCTUBRE 2019. DE ACUERDO A COMROBANTES ADJUNTOS.",1038,"2020-06-01",55100000000]
[836,"ROSA MARIA LEON DAVILA","LEDR7011147G9","CONSTITUCION S/N","ATEMAJAC DE BRIZUELA,JAL.",45790,111,"BA TESORERIA 6536","Cheque N° 2199","PAGO DE MATERIALES LIMPIEZA PARA ESPACIOS PUBLICOS Y OFICINAS DE ESTE AYUNTAMIENTO. DE ACUERDO A COMPROBANTE ADJUNTO.",14777.01,"2020-01-23","8A18B"]
[837,"RUBEN GONZALEZ FLORES","GOFR750809B55","ESTUDIO RG FOOGRAFIA Y VIDEO PROFECIONAL","ZACOALCO DE TORRES",45750,151,"s/ref","Ref N° EF","PAGO DE 1000 PIEZAS DE CABALLITOS IMPRESOS POR EL DIA DEL PADRE EN EL MUNICIPIO. DE ACUEDO A COMPROBANTE ADJUNTO.",23200,"2020-06-01","4B67C"]
[838,"RUBEN GONZALEZ FLORES","GOFR750809B55","ESTUDIO RG FOOGRAFIA Y VIDEO PROFECIONAL","ZACOALCO DE TORRES",45750,151,"s/ref","Ref N° EF","PAGO POR LA IMPRESION DE TERMOS E IMAGENES TABLOIDES COMO PRESENTES PARA LOS MAESTROS DEL MUNICIPIO EN SU DIA. DE ACUERDO A COMPROBANTE ADJUNTO.",14500,"2020-06-05","F87BC"]
[839,"SALVADOR SOLIS GARCIA","SOGS850101V21",".",".",45790,111,"BA TESORERIA 6536","Transf N° 0069804027","PAGO POR LA IMPRESION GASETA MPAL. DE ACUERDO A COMPROBANTE ADJUNTO.",8763.7999999999993,"2020-01-23","24BE7"]
[840,"SAN JOSE ELECTRONICOS S.A. DE C.V.","XAXX010101000","LOPEZ COTILLA NO. 183","GUADALAJARA,JAL.",44100,111,"BA TESORERIA 6536","Transf N° 0080903014","PAGO DE SELLOS FECHADOR Y MATERIAL ELECTRICO, PARA DIVERSAS ACTIVIDADES DEL AYUNTAMIENTO. DE ACUERDO A COMPROBANTES ADJUNTOS.",2990,"2020-04-30",62958]
[841,"SANIA FARMACEUTICA SA DE CV","XAXX010101000",".",".",44150,151,"BA PARTICIPACIONES 8760","Cheque N° 733","PAGO DE GEL ANTIBACTERIAL Y BATAS DESECHABLES PARA PUNTO DE REVISION COVID 19. DE ACUERDO A COMPROBANTE ADJUNTO",7424,"2020-05-22","8125E"]
[842,"SANIA FARMACEUTICA SA DE CV","XAXX010101000",".",".",44150,151,"BA PARTICIPACIONES 8760","Cheque N° 734","PAGO DE GEL ANTIBACTERIAL, JABON DE MANO, CUBRE BOCAS Y GUANTES PARA PUNTO DE REVISION COVID 19. DE ACUERDO A COMPROBANTE ADJUNTO",6101.6,"2020-05-22",87238]
[843,"SARA JULIETA RUVALCABA VAZQUEZ","RUVS951219S39",".",".",45790,151,"BA PARTICIPACIONES 8760","Cheque N° 0520","REPOSICION DE CAJA CHICA DE EGRESOS DEL DIA 14 DE FEBRERO 2020. DE ACUERDO A COMPROBANTES ADJUNTOS.",1500,"2020-02-14","8943F"]
[844,"SECRETARIA DE LA HACIENDA PUBLICA","XAXX010101000","PEDRO MORENO 281","GUADALAJARA,JAL",44220,252,"BA FORTALECIMIENTO 2020 3770","Cheque N° 006","PAGO DE INFRACCIONES A LA LEY DE MOVILIDAD Y TRANSPORTE DEL EDO DE JALISCO. DE VEHICULOS DE SEGURIDAD PUBLICA DE ESTE MPIO. DE ACUERDO A COMPROBANTES ADJUNTOS.",10642,"2020-06-29","1C44D"]
[845,"SECRETARIA DE LA HACIENDA PUBLICA","XAXX010101000","PEDRO MORENO 281","GUADALAJARA,JAL",44220,252,"BA FORTALECIMIENTO 2020 3770","Cheque N° 006","PAGO DE INFRACCIONES A LA LEY DE MOVILIDAD Y TRANSPORTE DEL EDO DE JALISCO. DE VEHICULOS DE SEGURIDAD PUBLICA DE ESTE MPIO. DE ACUERDO A COMPROBANTES ADJUNTOS.",1105,"2020-06-29",54810]
[846,"SECRETARIA DE LA HACIENDA PUBLICA","XAXX010101000","PEDRO MORENO 281","GUADALAJARA,JAL",44220,111,"BA TESORERIA 6536","Cheque N° 2301","PAGO DE INFRACCIONES A LA LEY DE MOVILIDAD Y TRANSPORTE DEL EDO DE JALISCO. DE VEHICULOS DE SEGURIDAD PUBLICA DE ESTE MPIO. DE ACUERDO A COMPROBANTES ADJUNTOS.",1517,"2020-06-30","6065F"]
[847,"SECRETARIA DE LA HACIENDA PUBLICA","XAXX010101000","PEDRO MORENO 281","GUADALAJARA,JAL",44220,111,"BA TESORERIA 6536","Cheque N° 2301","PAGO DE INFRACCIONES A LA LEY DE MOVILIDAD Y TRANSPORTE DEL EDO DE JALISCO. DE VEHICULOS DE SEGURIDAD PUBLICA DE ESTE MPIO. DE ACUERDO A COMPROBANTES ADJUNTOS.",1528,"2020-06-30","2DF56"]
[848,"SECRETARIA DE LA HACIENDA PUBLICA","XAXX010101000","PEDRO MORENO 281","GUADALAJARA,JAL",44220,111,"BA TESORERIA 6536","Cheque N° 2301","PAGO DE INFRACCIONES A LA LEY DE MOVILIDAD Y TRANSPORTE DEL EDO DE JALISCO. DE VEHICULOS DE SEGURIDAD PUBLICA DE ESTE MPIO. DE ACUERDO A COMPROBANTES ADJUNTOS.",1478,"2020-06-30","71A23"]
[849,"SECRETARIA DE LA HACIENDA PUBLICA","XAXX010101000","PEDRO MORENO 281","GUADALAJARA,JAL",44220,111,"BA TESORERIA 6536","Cheque N° 2301","PAGO DE INFRACCIONES A LA LEY DE MOVILIDAD Y TRANSPORTE DEL EDO DE JALISCO. DE VEHICULOS DE SEGURIDAD PUBLICA DE ESTE MPIO. DE ACUERDO A COMPROBANTES ADJUNTOS.",1503,"2020-06-30","DB4E7"]
[850,"SECRETARIA DE LA HACIENDA PUBLICA","XAXX010101000","PEDRO MORENO 281","GUADALAJARA,JAL",44220,111,"BA TESORERIA 6536","Cheque N° 2301","PAGO DE INFRACCIONES A LA LEY DE MOVILIDAD Y TRANSPORTE DEL EDO DE JALISCO. DE VEHICULOS DE SEGURIDAD PUBLICA DE ESTE MPIO. DE ACUERDO A COMPROBANTES ADJUNTOS.",3005,"2020-06-30","AC6A4"]
[851,"SECRETARIA DE LA HACIENDA PUBLICA","XAXX010101000","PEDRO MORENO 281","GUADALAJARA,JAL",44220,111,"BA TESORERIA 6536","Cheque N° 2332","PAGO DE FORMAS DE ORDEN DE SACRIFICIO DE GANADO PARA RASTRO MPAL. DE ACUERDO A COMPROBANTE ADJUNTO.",2700,"2020-09-09","D7404"]
[852,"SECRETARIA DE LA HACIENDA PUBLICA","XAXX010101000","PEDRO MORENO 281","GUADALAJARA,JAL",44220,151,"BA PARTICIPACIONES 8760","Transf N° 0076426032","APORTACION PARA PROGRAMA RECREA , EDUCANDO PARA LA VIDA, APOYO DE MOCHILAS, UTILES,  UNIFORMES Y CALZADO ESCOLAR 2020. CORRESPONDIENTE AL MES DE JUNIO 2020. DE ACUERDO A COMPROBANTE ADJUNTO.",76250,"2020-06-16","316A3"]
[853,"SECRETARIA DE LA HACIENDA PUBLICA","XAXX010101000","PEDRO MORENO 281","GUADALAJARA,JAL",44220,151,"BA PARTICIPACIONES 8760","Transf N° 0087622018","APORTACION PARA PROGRAMA RECREA , EDUCANDO PARA LA VIDA, APOYO DE MOCHILAS, UTILES,  UNIFORMES Y CALZADO ESCOLAR 2020. CORRESPONDIENTE AL MES DE JULIO 2020. DE ACUERDO A COMPROBANTE ADJUNTO.",76250,"2020-07-17","A0F0F"]
[854,"SECRETARIA DE LA HACIENDA PUBLICA","XAXX010101000","PEDRO MORENO 281","GUADALAJARA,JAL",44220,151,"BA PARTICIPACIONES 8760","Transf N° 0044691015","PAGO A PROGRAMA RECREA, EDUCANDO PARA LA VIDA, APOYO DE MOCHILA, UTILES, UNIFORME Y CALZADO ESCOLAR 2020. CORRESPONDIENTE AL MES DE AGOSTO 2020. DE ACUERDO A COMPROBANTE ADJUNTO.",76250,"2020-08-17","AF21C"]
[855,"SECRETARIA DE LA HACIENDA PUBLICA","XAXX010101000","PEDRO MORENO 281","GUADALAJARA,JAL",44220,151,"BA PARTICIPACIONES 8760","Transf N° 0076757039","PAGO A PROGRAMA RECREA, EDUCANDO PARA LA VIDA, APOYO DE MOCHILA, UTILES, UNIFORME Y CALZADO ESCOLAR 2020. CORRESPONDIENTE AL MES DE OCTUBRE 2020. DE ACUERDO A COMPROBANTE ADJUNTO.",76250,"2020-10-20",254801]
[856,"SECRETARIA DE LA HACIENDA PUBLICA","XAXX010101000","PEDRO MORENO 281","GUADALAJARA,JAL",44220,151,"BA PARTICIPACIONES 8760","Transf N° 0058234021","PAGO A PROGRAMA RECREA, EDUCANDO PARA LA VIDA, APOYO DE MOCHILA, UTILES, UNIFORME Y CALZADO ESCOLAR 2020. CORRESPONDIENTE AL MES DE SEPTIEMBRE 2020. DE ACUERDO A COMPROBANTE ADJUNTO.",76250,"2020-09-18","E3EE0"]
[857,"SECRETARIA DE LA HACIENDA PUBLICA","XAXX010101000","PEDRO MORENO 281","GUADALAJARA,JAL",44220,151,"BA PARTICIPACIONES 8760","Transf N° 000202031","PAGO A PROGRAMA RECREA, EDUCANDO PARA LA VIDA, APOYO DE MOCHILA, UTILES, UNIFORME Y CALZADO ESCOLAR 2020. CORRESPONDIENTE AL MES DE NOVIEMBRE 2020. DE ACUERDO A COMPROBANTE ADJUNTO.",76250,"2020-11-18","4E66D"]
[858,"SECRETARIA DE LA HACIENDA PUBLICA","XAXX010101000","PEDRO MORENO 281","GUADALAJARA,JAL",44220,151,"BA PARTICIPACIONES 8760","Transf N° 0067261052","APORTACION PARA PROGRAMA RECREA , EDUCANDO PARA LA VIDA, APOYO DE MOCHILAS, UTILES,  UNIFORMES Y CALZADO ESCOLAR 2020. CORRESPONDIENTE AL MES DE ABRIL 2020. DE ACUERDO A COMPROBANTE ADJUNTO.",76250,"2020-05-27","B1542"]
[859,"SERGIO DEL CASTILLO CRUZ","CACS8801113RA",".",".",45790,111,"BA TESORERIA 6536","Transf N° 0020821029","PAGO POR LA REPARACION DE VEHICULO DE ASEO PUBLICO DE ESTE AYUNTAMIENTO. DE ACUERDO A COMPROBANTES ADJUNTOS.",1590.36,"2020-09-11","E95D0"]
[860,"SERGIO DEL CASTILLO CRUZ","CACS8801113RA",".",".",45790,151,"BA PARTICIPACIONES 8760","Cheque N° 765","PAGO DE BATERIA PARA VEHICULO DE OBRAS PUBLICAS DE ESTE MPIO. DE ACUERDO A COMPROBANTE ADJUNTO.",2436,"2020-06-19","DC1B7"]
[861,"SERGIO DEL CASTILLO CRUZ","CACS8801113RA",".",".",45790,151,"BA PARTICIPACIONES 8760","Cheque N° 0585","PAGO DE GASTOS VARIOS CORRESPONDIENTES AL MES DE FEBRERO 2020. DE ACUERDO A COMPRONTES ADJUNTOS.",2900,"2020-03-13","32C0F"]
[862,"SERGIO DEL CASTILLO CRUZ","CACS8801113RA",".",".",45790,151,"BA PARTICIPACIONES 8760","Transf N° 0059413029","PAGO DE BATERIA PARA PATRULLA DE SEGURIDAD PUBLICA DE ESTE AYUNTAMIENTO. DE ACUERDO A COMPROBANTE ADJUNTO.",2262,"2020-07-17","3304F"]
[863,"SERVICIO LAS PALMITAS S.A DE C.V.","XAXX010101000","CARRETERA GDL- GUZMAN KM 59","ZACOALCO DE TORRES,JAL",45767,111,"BA TESORERIA 6536","Cheque N° 2391","PAGO DE GASTOS VARIOS CORRESPONDIENTES AL MES DE OCTUBRE 2020. DE ACUERDO A COMPROBANTES ADJUNTOS.",1000,"2020-10-23","CDBB8"]
[864,"SERVICIO LAS PALMITAS S.A DE C.V.","XAXX010101000","CARRETERA GDL- GUZMAN KM 59","ZACOALCO DE TORRES,JAL",45767,111,"BA TESORERIA 6536","Cheque N° 2784","PAGO DE VIATICOS A TESORERO MPIO POR COMISION A LA SEDECO. DE ACUERDO A COMPROBANTES ADJUNTOS.",1350.01,"2020-12-18","73E2F"]
[865,"SERVICIO LAS PALMITAS S.A DE C.V.","XAXX010101000","CARRETERA GDL- GUZMAN KM 59","ZACOALCO DE TORRES,JAL",45767,111,"BA TESORERIA 6536","Cheque N° 2718","PAGO DE COMBUSTIBLE PARA PATRULLAS DE SEGURIDAD PUBLICA DE ESTE AYUTAMIENTO. DE ACUERDO A COMPROBANTES ADJUNTOS.",1380,"2020-11-20","B92AB"]
[866,"SERVICIO LAS PALMITAS S.A DE C.V.","XAXX010101000","CARRETERA GDL- GUZMAN KM 59","ZACOALCO DE TORRES,JAL",45767,111,"BA TESORERIA 6536","Cheque N° 2704","PAGO DE COMBUSTIBLE PARA VEHICULOS DEL SERVICIO PUBLICO MPAL. DE ACUERDO A COMPROBANTES ADJUNTOS.",1982.35,"2020-11-03",13067]
[867,"SERVICIO LOPEZ MATEOS SA DE CV","XAXX010101000","LOPEZ MATEOS 760 LADRON DE GUEVARA","GUADALAJARA",44650,111,"BA TESORERIA 6536","Cheque N° 2209","PAGO DE GASTOS VARIOS CORRESPONDIENTES AL MES DE ENERO 2020. DE ACUERDO A COMPROBANTES ADJUNTOS",1145.9000000000001,"2020-01-28","761B9"]
[868,"SERVICIO PERCOGAS S.A. DE C.V.","XAXX010101000","PEERIFERICO NO. 11050","ZAPOPAN, JALISCO",45070,151,"s/ref","s/ref ","PAGO DE GASTOS VARIOS EX TESORERO MPAL. DE ACUERDO A COMPROBANTRES ADJUNTOS.",1184.48,"2020-05-20","33ED9"]
[869,"SERVICIO REYNOSO MADRIGAL","XAXX010101000","CARRETERA GUADALAJARA CD GUZMAN KM, SAN MIGUEL 69","ZACOALCO DE TORRES, JAL.",45750,111,"BA TESORERIA 6536","Cheque N° 2770","PAGO DE GASTOS VARIOS DEL MES DE DICIEMBRE 2020. DE ACUERDO A COMPROBANTES ADJUNTOS.",2000.03,"2020-12-11","9A293"]
[870,"SERVICIO REYNOSO MADRIGAL","XAXX010101000","CARRETERA GUADALAJARA CD GUZMAN KM, SAN MIGUEL 69","ZACOALCO DE TORRES, JAL.",45750,111,"s/ref","Ref N° EF","REPOSICION FINAL DE CAJA CHICA DE EGRESOS (EX TESORERO) AL 25 DE OCTUBRE 2019. DE ACUERDO A COMROBANTES ADJUNTOS.",1000.01,"2020-06-01","42AA4"]
[871,"SERVICIO REYNOSO MADRIGAL","XAXX010101000","CARRETERA GUADALAJARA CD GUZMAN KM, SAN MIGUEL 69","ZACOALCO DE TORRES, JAL.",45750,151,"s/ref","s/ref ","PAGO DE VIATICOS A PRESIDENTE MUNICIPAL POR COMISION A DIVERSOS EVENTOS EN EL MES DE OCTUBRE 2020. DE ACUERDO A COMPROBANTES ADJUNTOS",1000.08,"2020-10-31","C1996"]
[872,"SERVICIO REYNOSO MADRIGAL","XAXX010101000","CARRETERA GUADALAJARA CD GUZMAN KM, SAN MIGUEL 69","ZACOALCO DE TORRES, JAL.",45750,151,"BA PARTICIPACIONES 8760","Cheque N° 922","PAGO DE VIATICOS A PRESIDENTE MUNICIPAL POR COMISION A DIVERSOS EVENTOS EN EL MES DE NOVIEMBRE Y DICIEMBRE 2020. DE ACUERDO A COMPROBANTES ADJUNTOS",1425.36,"2020-12-18",11707]
[873,"SERVICIO TECHALUTA S.A. DE C.V.","XAXX010101000","CARR. ACATLAN DE JUAREZ- CD, GUZMAN KM 44.5 ","TECHALUTA DE MONTENEGRO, JAL.",49230,151,"BA PARTICIPACIONES 8760","Cheque N° 875","PAGO DE COMBUSTIBLE PARA VEHICULOS DEL SERVICIO PUBLICO MPAL. DE ACUERDO A COMPROBANTES ADJUNTOS.",5189.51,"2020-11-09","2E96D"]
[874,"SERVICIO TECHALUTA S.A. DE C.V.","XAXX010101000","CARR. ACATLAN DE JUAREZ- CD, GUZMAN KM 44.5 ","TECHALUTA DE MONTENEGRO, JAL.",49230,111,"BA TESORERIA 6536","Cheque N° 2704","PAGO DE COMBUSTIBLE PARA VEHICULOS DEL SERVICIO PUBLICO MPAL. DE ACUERDO A COMPROBANTES ADJUNTOS.",6440,"2020-11-03","0F57C"]
[875,"SERVICIO TECHALUTA S.A. DE C.V.","XAXX010101000","CARR. ACATLAN DE JUAREZ- CD, GUZMAN KM 44.5 ","TECHALUTA DE MONTENEGRO, JAL.",49230,151,"BA PARTICIPACIONES 8760","Cheque N° 826","PAGO DE COMBUSTIBLE PARA CAMION RECOLECTOR DE BASURA DE ESTE MPIO. DE ACUERDO A COMPROBANTERS ADJUNTOS.",1067.02,"2020-09-23","0FF63"]
[876,"SERVICIO TECHALUTA S.A. DE C.V.","XAXX010101000","CARR. ACATLAN DE JUAREZ- CD, GUZMAN KM 44.5 ","TECHALUTA DE MONTENEGRO, JAL.",49230,151,"BA PARTICIPACIONES 8760","Cheque N° 824","PAGO DE COMBUSTIBLE PARA VEHICULOS DEL SERVICIO PUBLICO DE ESTE AYUNTAMIENTO. DE ACUERDO A COMPROBANTE ADJUNTO.",6096.2,"2020-09-23","BE060"]
[877,"SERVICIO TECHALUTA S.A. DE C.V.","XAXX010101000","CARR. ACATLAN DE JUAREZ- CD, GUZMAN KM 44.5 ","TECHALUTA DE MONTENEGRO, JAL.",49230,111,"BA TESORERIA 6536","Cheque N° 2397","PAGO DE COMBUSTIBLE PARA VEHICULOS DEL SERVICIO PUBLICO DE ESTE MPIO.  DE ACUERDO A COMPROBANTES ADJUNTOS.",7654,"2020-10-29","EAE50"]
[878,"SERVICIO TECHALUTA S.A. DE C.V.","XAXX010101000","CARR. ACATLAN DE JUAREZ- CD, GUZMAN KM 44.5 ","TECHALUTA DE MONTENEGRO, JAL.",49230,151,"BA PARTICIPACIONES 8760","Transf N° 0009475014","PAGO DE COMBUSTIBLE PARA VEHICULOS DEL SERVICIO PUBLICO MPAL DE ESTE AYUNTAMIENTO. DE ACUERDO A COMPROBANTE ADJUNTO.",7654,"2020-10-26","EAE50"]
[879,"SERVICIO TECHALUTA S.A. DE C.V.","XAXX010101000","CARR. ACATLAN DE JUAREZ- CD, GUZMAN KM 44.5 ","TECHALUTA DE MONTENEGRO, JAL.",49230,111,"BA TESORERIA 6536","Cheque N° 2342","PAGO DE COMBUSTIBLE PARA VEHICULOS DEL SERVICIO PUBLICO MPAL. DE ACUERDO A COMPROBANTES ADJUTOS.",2000,"2020-09-14",65106]
[880,"SERVICIO TECHALUTA S.A. DE C.V.","XAXX010101000","CARR. ACATLAN DE JUAREZ- CD, GUZMAN KM 44.5 ","TECHALUTA DE MONTENEGRO, JAL.",49230,111,"BA TESORERIA 6536","Cheque N° 2342","PAGO DE COMBUSTIBLE PARA VEHICULOS DEL SERVICIO PUBLICO MPAL. DE ACUERDO A COMPROBANTES ADJUTOS.",6000,"2020-09-14","C419A"]
[881,"SERVICIO TECHALUTA S.A. DE C.V.","XAXX010101000","CARR. ACATLAN DE JUAREZ- CD, GUZMAN KM 44.5 ","TECHALUTA DE MONTENEGRO, JAL.",49230,111,"BA TESORERIA 6536","Cheque N° 2722","PAGO DE COMBUSTIBLE PARA VEHICULOS DEL SERVICIO PUBLICO MPAL. DE ACUERDO A COMPROBANTES ADJUNTOS.",8704.7999999999993,"2020-11-10","34F6E"]
[882,"SERVICIO VILLA CORONA S.A. DE C.V.","XAXX010101000","HIDALGO NO. 197","VILLA CORONA",45730,111,"s/ref","Ref N° EF","REPOSICION FINAL DE CAJA CHICA DE EGRESOS (EX TESORERO) AL 25 DE OCTUBRE 2019. DE ACUERDO A COMROBANTES ADJUNTOS.",1000,"2020-06-01","2A23B"]
[883,"SERVICIO ZZVV S.A. DE C.V.","XAXX010101000","CARRETERA TAPALPA- GUADALAJARA KM. 7","TAPALPA,JAL",49340,151,"BA PARTICIPACIONES 8760","Cheque N° 922","PAGO DE VIATICOS A PRESIDENTE MUNICIPAL POR COMISION A DIVERSOS EVENTOS EN EL MES DE NOVIEMBRE Y DICIEMBRE 2020. DE ACUERDO A COMPROBANTES ADJUNTOS",1000,"2020-12-18","862C9"]
[884,"SERVICIO ZZVV S.A. DE C.V.","XAXX010101000","CARRETERA TAPALPA- GUADALAJARA KM. 7","TAPALPA,JAL",49340,151,"BA PARTICIPACIONES 8760","Cheque N° 922","PAGO DE VIATICOS A PRESIDENTE MUNICIPAL POR COMISION A DIVERSOS EVENTOS EN EL MES DE NOVIEMBRE Y DICIEMBRE 2020. DE ACUERDO A COMPROBANTES ADJUNTOS",1000,"2020-12-18","042EB"]
[885,"SERVICIO ZZVV S.A. DE C.V.","XAXX010101000","CARRETERA TAPALPA- GUADALAJARA KM. 7","TAPALPA,JAL",49340,151,"s/ref","s/ref ","PAGO DE VIATICOS A PRESIDENTE MUNICIPAL POR COMISION A DIVERSOS EVENTOS EN EL MES DE SEPTIEMBRE 2020. DE ACUERDO A COMPROBANTES ADJUNTOS",1250.3,"2020-09-30",94145]
[886,"SERVICIO ZZVV S.A. DE C.V.","XAXX010101000","CARRETERA TAPALPA- GUADALAJARA KM. 7","TAPALPA,JAL",49340,151,"s/ref","s/ref ","PAGO DE VIATICOS A PRESIDENTE MUNICIPAL POR COMISION A DIVERSOS EVENTOS EN EL MES DE SEPTIEMBRE 2020. DE ACUERDO A COMPROBANTES ADJUNTOS",1500.5,"2020-09-30","2226B"]
[887,"SERVICIO ZZVV S.A. DE C.V.","XAXX010101000","CARRETERA TAPALPA- GUADALAJARA KM. 7","TAPALPA,JAL",49340,151,"s/ref","s/ref ","PAGO DE VIATICOS A PRESIDENTE MUNICIPAL POR COMISION A DIVERSOS EVENTOS EN EL MES DE SEPTIEMBRE 2020. DE ACUERDO A COMPROBANTES ADJUNTOS",1000.2,"2020-09-30",7.1999999999999994E+38]
[888,"SERVICIO ZZVV S.A. DE C.V.","XAXX010101000","CARRETERA TAPALPA- GUADALAJARA KM. 7","TAPALPA,JAL",49340,111,"BA TESORERIA 6536","Cheque N° 2381","PAGO DE GASTOS VARIOS DEL MES DE OCTUBRE 2020. DE ACUERDO A COMPROBANTES ADJUNTOS.",1000,"2020-10-08",38041]
[889,"SERVICIO ZZVV S.A. DE C.V.","XAXX010101000","CARRETERA TAPALPA- GUADALAJARA KM. 7","TAPALPA,JAL",49340,111,"BA TESORERIA 6536","Cheque N° 2381","PAGO DE GASTOS VARIOS DEL MES DE OCTUBRE 2020. DE ACUERDO A COMPROBANTES ADJUNTOS.",1500,"2020-10-08","3B051"]
[890,"SERVICIO ZZVV S.A. DE C.V.","XAXX010101000","CARRETERA TAPALPA- GUADALAJARA KM. 7","TAPALPA,JAL",49340,111,"BA TESORERIA 6536","Cheque N° 2770","PAGO DE GASTOS VARIOS DEL MES DE DICIEMBRE 2020. DE ACUERDO A COMPROBANTES ADJUNTOS.",2000,"2020-12-11","74ADB"]
[891,"SERVICIO ZZVV S.A. DE C.V.","XAXX010101000","CARRETERA TAPALPA- GUADALAJARA KM. 7","TAPALPA,JAL",49340,111,"BA TESORERIA 6536","Cheque N° 2746","PAGO A PROVEEDORES DIVERSOS DE ACUERDO A COMPROBANTES QUE SE ADJUNTAN. ",1000,"2020-12-03","3E337"]
[892,"SERVICIO ZZVV S.A. DE C.V.","XAXX010101000","CARRETERA TAPALPA- GUADALAJARA KM. 7","TAPALPA,JAL",49340,111,"BA TESORERIA 6536","Cheque N° 2775","PAGO DE GASTOS VARIOS CORRESPONDIENTES AL MES DE DICIEMBRE 2020. DE ACUERDO A COMPROBANTES ADJUNTOS.",1000,"2020-12-31","3E337"]
[893,"SERVICIO ZZVV S.A. DE C.V.","XAXX010101000","CARRETERA TAPALPA- GUADALAJARA KM. 7","TAPALPA,JAL",49340,151,"BA PARTICIPACIONES 8760","Cheque N° 836","PAGO DE COMBUSTIBLE PARA VEHICULOS DEL SERVICIO PUBLICO MUNICIPAL. DE ACUERDO A COMPROBANTES ADJUNTOS.",8000,"2020-10-07","B4627"]
[894,"SERVICIO ZZVV S.A. DE C.V.","XAXX010101000","CARRETERA TAPALPA- GUADALAJARA KM. 7","TAPALPA,JAL",49340,111,"BA TESORERIA 6536","Cheque N° 2399","PAGO DE COMBUSTIBLE PARA VEHICULOS DE SUGURIDAD PUBLICA Y PROTECCION CIVIL. DE CUERDO A COMPROBANTE ADJUNTO.",1250,"2020-10-23","05F9E"]
[895,"SERVICIO ZZVV S.A. DE C.V.","XAXX010101000","CARRETERA TAPALPA- GUADALAJARA KM. 7","TAPALPA,JAL",49340,111,"BA TESORERIA 6536","Cheque N° 2399","PAGO DE COMBUSTIBLE PARA VEHICULOS DE SUGURIDAD PUBLICA Y PROTECCION CIVIL. DE CUERDO A COMPROBANTE ADJUNTO.",1650.3,"2020-10-23","20BBF"]
[896,"SERVICIO ZZVV S.A. DE C.V.","XAXX010101000","CARRETERA TAPALPA- GUADALAJARA KM. 7","TAPALPA,JAL",49340,151,"BA PARTICIPACIONES 8760","Cheque N° 911","PAGO DE COMBUSTIBLE PARA VEHICULOS DEL SERVICIO PUBLICO MUNICIPAL. DE ACUERDO A COMPROBANTES ADJUNTOS. ",1544,"2020-12-15","3B90C"]
[897,"SERVICIO ZZVV S.A. DE C.V.","XAXX010101000","CARRETERA TAPALPA- GUADALAJARA KM. 7","TAPALPA,JAL",49340,151,"BA PARTICIPACIONES 8760","Cheque N° 911","PAGO DE COMBUSTIBLE PARA VEHICULOS DEL SERVICIO PUBLICO MUNICIPAL. DE ACUERDO A COMPROBANTES ADJUNTOS. ",7585.4,"2020-12-15","9AB30"]
[898,"SERVICIO ZZVV S.A. DE C.V.","XAXX010101000","CARRETERA TAPALPA- GUADALAJARA KM. 7","TAPALPA,JAL",49340,151,"BA PARTICIPACIONES 8760","Cheque N° 901","PAGO DE COMBUSTIBLE PARA VEHICULOS DEL SERVICIO PUBLICO MUNICIPAL. DE ACUERDO A COMPROBANTES ADJUNTOS. ",7208.2,"2020-12-04","84D7E"]
[899,"SERVICIO ZZVV S.A. DE C.V.","XAXX010101000","CARRETERA TAPALPA- GUADALAJARA KM. 7","TAPALPA,JAL",49340,151,"BA PARTICIPACIONES 8760","Cheque N° 838","PAGO DE GASTOS VARIOS CORRESPONDIENTES AL MES DE OCTUBRE 2020. DE ACUERDO A COMPROBANTES ADJUNTOS.",2023.3,"2020-10-07","A3D03"]
[900,"SERVICIO ZZVV S.A. DE C.V.","XAXX010101000","CARRETERA TAPALPA- GUADALAJARA KM. 7","TAPALPA,JAL",49340,151,"BA PARTICIPACIONES 8760","Cheque N° 838","PAGO DE GASTOS VARIOS CORRESPONDIENTES AL MES DE OCTUBRE 2020. DE ACUERDO A COMPROBANTES ADJUNTOS.",1500,"2020-10-07","D8F4C"]
[901,"SERVICIO ZZVV S.A. DE C.V.","XAXX010101000","CARRETERA TAPALPA- GUADALAJARA KM. 7","TAPALPA,JAL",49340,151,"BA PARTICIPACIONES 8760","Cheque N° 872","PAGO DE COMBUSTIBLE PARA VEHICULOS DEL SERVICIO PUBLICO MPAL. DE ACUERDO A COMPROBANTES ADJUNTOS.",3876,"2020-11-09","2211C"]
[902,"SERVICIO ZZVV S.A. DE C.V.","XAXX010101000","CARRETERA TAPALPA- GUADALAJARA KM. 7","TAPALPA,JAL",49340,151,"BA PARTICIPACIONES 8760","Cheque N° 865","PAGO DE COMBUSTIBLE PARA VEHICULOS DEL SERVICIO PUBLICO MPAL. DE ACUERDO A COMPROBANTES ADJUNTOS.",11000.3,"2020-11-06","8D025"]
[903,"SERVICIO ZZVV S.A. DE C.V.","XAXX010101000","CARRETERA TAPALPA- GUADALAJARA KM. 7","TAPALPA,JAL",49340,151,"BA PARTICIPACIONES 8760","Cheque N° 865","PAGO DE COMBUSTIBLE PARA VEHICULOS DEL SERVICIO PUBLICO MPAL. DE ACUERDO A COMPROBANTES ADJUNTOS.",1250,"2020-11-06","449DC"]
[904,"SERVICIO ZZVV S.A. DE C.V.","XAXX010101000","CARRETERA TAPALPA- GUADALAJARA KM. 7","TAPALPA,JAL",49340,151,"BA PARTICIPACIONES 8760","Cheque N° 865","PAGO DE COMBUSTIBLE PARA VEHICULOS DEL SERVICIO PUBLICO MPAL. DE ACUERDO A COMPROBANTES ADJUNTOS.",1250,"2020-11-06","65FCD"]
[905,"SERVICIO ZZVV S.A. DE C.V.","XAXX010101000","CARRETERA TAPALPA- GUADALAJARA KM. 7","TAPALPA,JAL",49340,151,"BA PARTICIPACIONES 8760","Cheque N° 939","PAGO DE GASTOS VARIOS CORRESPONDIENTES AL MES DE DICIEMBRE 2020. DE ACUERDO A COMPROBANTES ADJUNTOS.",1500.5,"2020-12-23","5DBE5"]
[906,"SERVICIO ZZVV S.A. DE C.V.","XAXX010101000","CARRETERA TAPALPA- GUADALAJARA KM. 7","TAPALPA,JAL",49340,111,"s/ref","Ref N° EF","REPOSICION FINAL DE CAJA CHICA DE EGRESOS (EX TESORERO) AL 25 DE OCTUBRE 2019. DE ACUERDO A COMROBANTES ADJUNTOS.",10000,"2020-06-01","6CD16"]
[907,"SERVICIO ZZVV S.A. DE C.V.","XAXX010101000","CARRETERA TAPALPA- GUADALAJARA KM. 7","TAPALPA,JAL",49340,151,"BA PARTICIPACIONES 8760","Ref N° EF","PAGO DE COMBUSTIBLE PARA VEHICULOS DEL SERVICIO PUBLICO DE ESTE AYUNTAMIENTO. DE ACUERDO A COMPROBANTE ADJUNTO.",1014,"2020-09-21","53ACA"]
[908,"SERVICIO ZZVV S.A. DE C.V.","XAXX010101000","CARRETERA TAPALPA- GUADALAJARA KM. 7","TAPALPA,JAL",49340,151,"BA PARTICIPACIONES 8760","Ref N° EF","PAGO DE COMBUSTIBLE PARA VEHICULOS DEL SERVICIO PUBLICO DE ESTE AYUNTAMIENTO. DE ACUERDO A COMPROBANTE ADJUNTO.",1500,"2020-09-21","4AF3E"]
[909,"SERVICIO ZZVV S.A. DE C.V.","XAXX010101000","CARRETERA TAPALPA- GUADALAJARA KM. 7","TAPALPA,JAL",49340,151,"BA PARTICIPACIONES 8760","Ref N° EF","PAGO DE COMBUSTIBLE PARA VEHICULOS DEL SERVICIO PUBLICO DE ESTE AYUNTAMIENTO. DE ACUERDO A COMPROBANTE ADJUNTO.",3956,"2020-09-21","A6A5C"]
[910,"SERVICIO ZZVV S.A. DE C.V.","XAXX010101000","CARRETERA TAPALPA- GUADALAJARA KM. 7","TAPALPA,JAL",49340,151,"BA PARTICIPACIONES 8760","Ref N° EF","PAGO DE COMBUSTIBLE PARA VEHICULOS DEL SERVICIO PUBLICO DE ESTE AYUNTAMIENTO. DE ACUERDO A COMPROBANTE ADJUNTO.",1200,"2020-09-21","E89CC"]
[911,"SERVICIO ZZVV S.A. DE C.V.","XAXX010101000","CARRETERA TAPALPA- GUADALAJARA KM. 7","TAPALPA,JAL",49340,151,"BA PARTICIPACIONES 8760","Ref N° EF","PAGO DE COMBUSTIBLE PARA VEHICULOS DEL SERVICIO PUBLICO DE ESTE AYUNTAMIENTO. DE ACUERDO A COMPROBANTE ADJUNTO.",1200,"2020-09-21",38778]
[912,"SERVICIO ZZVV S.A. DE C.V.","XAXX010101000","CARRETERA TAPALPA- GUADALAJARA KM. 7","TAPALPA,JAL",49340,111,"BA TESORERIA 6536","Cheque N° 2361","PAGO DE COMBUSTIBLE PARA VEHICULOS DEL SERVICIO PUBLICO DE ESTE MPIO. DE ACUERDO A COMPROBANTES ADJUNTOS.",1622.9,"2020-09-28","266DB"]
[913,"SERVICIO ZZVV S.A. DE C.V.","XAXX010101000","CARRETERA TAPALPA- GUADALAJARA KM. 7","TAPALPA,JAL",49340,111,"BA TESORERIA 6536","Cheque N° 2361","PAGO DE COMBUSTIBLE PARA VEHICULOS DEL SERVICIO PUBLICO DE ESTE MPIO. DE ACUERDO A COMPROBANTES ADJUNTOS.",7914.1,"2020-09-28","C9497"]
[914,"SERVICIO ZZVV S.A. DE C.V.","XAXX010101000","CARRETERA TAPALPA- GUADALAJARA KM. 7","TAPALPA,JAL",49340,111,"BA TESORERIA 6536","Cheque N° 2331","PAGO DE COMBUSTIBLE PARA VEHICULOS DEL SERVICIO PUBLICO MPAL. DE ACUERDO A COMPROBANTES ADJUTOS.",10125,"2020-09-07","CAF502"]
[915,"SERVICIO ZZVV S.A. DE C.V.","XAXX010101000","CARRETERA TAPALPA- GUADALAJARA KM. 7","TAPALPA,JAL",49340,151,"BA PARTICIPACIONES 8760","Transf N° 0009475031","PAGO DE COMBUSTIBLE PARA VEHICULOS DEL SERVICIO PUBLICO MPAL DE ESTE AYUNTAMIENTO. DE ACUERDO A COMPROBANTE ADJUNTO.",5000,"2020-10-26",8.0000000000000001E+141]
[916,"SERVICIO ZZVV S.A. DE C.V.","XAXX010101000","CARRETERA TAPALPA- GUADALAJARA KM. 7","TAPALPA,JAL",49340,111,"BA TESORERIA 6536","Cheque N° 2344","PAGO GASTOS VARIOS Y COMBUSTIBLE PARA VEHICULOS DEL SERVICIO PUBLICO MPAL. DE ACUERDO A COMPROBANTES ADJUTOS.",1000,"2020-09-14","E3C8E"]
[917,"SERVICIO ZZVV S.A. DE C.V.","XAXX010101000","CARRETERA TAPALPA- GUADALAJARA KM. 7","TAPALPA,JAL",49340,111,"BA TESORERIA 6536","Cheque N° 2344","PAGO GASTOS VARIOS Y COMBUSTIBLE PARA VEHICULOS DEL SERVICIO PUBLICO MPAL. DE ACUERDO A COMPROBANTES ADJUTOS.",1000,"2020-09-14","F9652"]
[918,"SERVICIO ZZVV S.A. DE C.V.","XAXX010101000","CARRETERA TAPALPA- GUADALAJARA KM. 7","TAPALPA,JAL",49340,111,"BA TESORERIA 6536","Cheque N° 2344","PAGO GASTOS VARIOS Y COMBUSTIBLE PARA VEHICULOS DEL SERVICIO PUBLICO MPAL. DE ACUERDO A COMPROBANTES ADJUTOS.",3000,"2020-09-14","354B1"]
[919,"SERVICIO ZZVV S.A. DE C.V.","XAXX010101000","CARRETERA TAPALPA- GUADALAJARA KM. 7","TAPALPA,JAL",49340,111,"BA TESORERIA 6536","Cheque N° 2368","PAGO DE COMBUSTIBLE PARA VEHICULOS DEL SERVICIO PUBLICO MPAL DE ESTE AYUNTAMIENTO. DE ACUERDO A COMPROBANTE ADJUNTO.",8002.8,"2020-10-05","F223D"]
[920,"SERVICIO ZZVV S.A. DE C.V.","XAXX010101000","CARRETERA TAPALPA- GUADALAJARA KM. 7","TAPALPA,JAL",49340,111,"BA TESORERIA 6536","Ref N° EF","PAGO DE COMBUSTIBLE PARA VEHICULOS DEL SERVICIO PUBLICO MPAL. DE ACUERDO A COMPROBANTES ADJUNTOS.",1500,"2020-10-13","26C5C"]
[921,"SERVICIO ZZVV S.A. DE C.V.","XAXX010101000","CARRETERA TAPALPA- GUADALAJARA KM. 7","TAPALPA,JAL",49340,111,"BA TESORERIA 6536","Ref N° EF","PAGO DE COMBUSTIBLE PARA VEHICULOS DEL SERVICIO PUBLICO MPAL. DE ACUERDO A COMPROBANTES ADJUNTOS.",1500,"2020-10-13","212B8"]
[922,"SERVICIO ZZVV S.A. DE C.V.","XAXX010101000","CARRETERA TAPALPA- GUADALAJARA KM. 7","TAPALPA,JAL",49340,111,"BA TESORERIA 6536","Ref N° EF","PAGO DE COMBUSTIBLE PARA VEHICULOS DEL SERVICIO PUBLICO MPAL. DE ACUERDO A COMPROBANTES ADJUNTOS.",2000,"2020-10-13","F844E"]
[923,"SERVICIO ZZVV S.A. DE C.V.","XAXX010101000","CARRETERA TAPALPA- GUADALAJARA KM. 7","TAPALPA,JAL",49340,111,"BA TESORERIA 6536","Cheque N° 2388","PAGO DE COMBUSTIBLES PARA VEHICULOS DEL SERVICIO PUBLICO MPAL. DE ACUERDO A COMPROBANTES ADJUNTOS.",1000,"2020-10-21","575EC"]
[924,"SERVICIO ZZVV S.A. DE C.V.","XAXX010101000","CARRETERA TAPALPA- GUADALAJARA KM. 7","TAPALPA,JAL",49340,111,"BA TESORERIA 6536","Cheque N° 2387","PAGO DE COMBUSTIBLES PARA AMBULANCIA DE PROTECCION CIVIL DE ESTE AYUNTAMIENTO. DE ACUERDO A COMPROBANTES ADJUNTOS.",1700.2,"2020-10-13","B2123"]
[925,"SERVICIO ZZVV S.A. DE C.V.","XAXX010101000","CARRETERA TAPALPA- GUADALAJARA KM. 7","TAPALPA,JAL",49340,111,"BA TESORERIA 6536","Cheque N° 2387","PAGO DE COMBUSTIBLES PARA AMBULANCIA DE PROTECCION CIVIL DE ESTE AYUNTAMIENTO. DE ACUERDO A COMPROBANTES ADJUNTOS.",1550,"2020-10-13","458CF"]
[926,"SERVICIO ZZVV S.A. DE C.V.","XAXX010101000","CARRETERA TAPALPA- GUADALAJARA KM. 7","TAPALPA,JAL",49340,111,"BA TESORERIA 6536","Cheque N° 2355","PAGO DE COMBUSTIBLE PARA VEHICULOS DEL SERVICIO PUBLICO DE ESTE MPIO. DE ACUERDO A COMPROBANTES ADJUNTOS.",1500,"2020-09-25","0682E"]
[927,"SERVICIO ZZVV S.A. DE C.V.","XAXX010101000","CARRETERA TAPALPA- GUADALAJARA KM. 7","TAPALPA,JAL",49340,111,"BA TESORERIA 6536","Cheque N° 2355","PAGO DE COMBUSTIBLE PARA VEHICULOS DEL SERVICIO PUBLICO DE ESTE MPIO. DE ACUERDO A COMPROBANTES ADJUNTOS.",1500,"2020-09-25","4FD5D"]
[928,"SERVICIO ZZVV S.A. DE C.V.","XAXX010101000","CARRETERA TAPALPA- GUADALAJARA KM. 7","TAPALPA,JAL",49340,151,"BA PARTICIPACIONES 8760","Cheque N° 826","PAGO DE COMBUSTIBLE PARA CAMION RECOLECTOR DE BASURA DE ESTE MPIO. DE ACUERDO A COMPROBANTERS ADJUNTOS.",1500,"2020-09-23","4AF3E"]
[929,"SERVICIO ZZVV S.A. DE C.V.","XAXX010101000","CARRETERA TAPALPA- GUADALAJARA KM. 7","TAPALPA,JAL",49340,111,"BA TESORERIA 6536","Cheque N° 2714","PAGO DE COMBUSTIBLE PARA VEHICULOS DEL SERVICIO PUBLICO MPAL. DE ACUERDO A COMPROBANTES ADJUNTOS.",4684.3999999999996,"2020-11-17","514D2"]
[930,"SERVICIO ZZVV S.A. DE C.V.","XAXX010101000","CARRETERA TAPALPA- GUADALAJARA KM. 7","TAPALPA,JAL",49340,111,"BA TESORERIA 6536","Cheque N° 2771","PAGO DE COMBUSTIBLE PARA VEHICULOS DEL SERVICIO PUBLICO MPAL. DE ACUERDO A COMPROBANTES ADJUNTOS.",1200,"2020-12-11","29FF4"]
[931,"SERVICIO ZZVV S.A. DE C.V.","XAXX010101000","CARRETERA TAPALPA- GUADALAJARA KM. 7","TAPALPA,JAL",49340,111,"BA TESORERIA 6536","Cheque N° 2771","PAGO DE COMBUSTIBLE PARA VEHICULOS DEL SERVICIO PUBLICO MPAL. DE ACUERDO A COMPROBANTES ADJUNTOS.",1000,"2020-12-11","385CB"]
[932,"SERVICIO ZZVV S.A. DE C.V.","XAXX010101000","CARRETERA TAPALPA- GUADALAJARA KM. 7","TAPALPA,JAL",49340,111,"BA TESORERIA 6536","Cheque N° 2805","PAGO DE COMBUSTIBLE PARA AMBULANCIA DE PROTECCION CIVIL  Y MEDICAMENTOS PARA PERSONAL QUE LABORA EN ESTE AYUNTAMIENTO. DE ACUERDO A COMPROBANTE ADJUNTO",1000,"2020-12-30","E3A89"]
[933,"SERVICIO ZZVV S.A. DE C.V.","XAXX010101000","CARRETERA TAPALPA- GUADALAJARA KM. 7","TAPALPA,JAL",49340,111,"BA TESORERIA 6536","Cheque N° 2804","PAGO DE COMBUSTIBLE PARA VEHICULO DE ASEO PUBLICO DE ESTE MPIO. DE ACUERDO A COMPROBANTE ADJUNTO.",2000,"2020-12-30","9DC5B"]
[934,"SERVICIO ZZVV S.A. DE C.V.","XAXX010101000","CARRETERA TAPALPA- GUADALAJARA KM. 7","TAPALPA,JAL",49340,111,"BA TESORERIA 6536","Cheque N° 2804","PAGO DE COMBUSTIBLE PARA VEHICULO DE ASEO PUBLICO DE ESTE MPIO. DE ACUERDO A COMPROBANTE ADJUNTO.",1000,"2020-12-30","69F30"]
[935,"SERVICIO ZZVV S.A. DE C.V.","XAXX010101000","CARRETERA TAPALPA- GUADALAJARA KM. 7","TAPALPA,JAL",49340,111,"BA TESORERIA 6536","Cheque N° 2795","PAGO DE GASTOS VARIOS DEL MES DE DICIEMBRE 2020. DE ACUERDO A COMROBANTES ADJUNTOS.",1000,"2020-12-23","EAC58"]
[936,"SERVICIO ZZVV S.A. DE C.V.","XAXX010101000","CARRETERA TAPALPA- GUADALAJARA KM. 7","TAPALPA,JAL",49340,111,"BA TESORERIA 6536","Cheque N° 2750","COMBUSTIBLE SERVICIOS PUBLICOS 7 DE DICIEMBRE 2020 DE ACUERDO A COMPROBANTES QUE SE ADJUNTAN. ",8600.2999999999993,"2020-12-08","D43E4"]
[937,"SERVICIO ZZVV S.A. DE C.V.","XAXX010101000","CARRETERA TAPALPA- GUADALAJARA KM. 7","TAPALPA,JAL",49340,111,"BA TESORERIA 6536","Cheque N° 2731","PAGO DE COMBUSTIBLE PARA VEHICULOS DEL SERVICIO PUBLICO MPAL. DE ACUERDO A COMPROBANTES ADJUNTOS.",10000,"2020-11-23","ACE9F"]
[938,"SERVICIO ZZVV S.A. DE C.V.","XAXX010101000","CARRETERA TAPALPA- GUADALAJARA KM. 7","TAPALPA,JAL",49340,111,"BA TESORERIA 6536","Cheque N° 2711","PAGO DE COMBUSTIBLE PARA VEHICULOS DEL SERVICIO PUBLICO MPAL. DE ACUERDO A COMPROBANTES ADJUNTOS.",7500,"2020-11-13","ACDD0"]
[939,"SERVICIO ZZVV S.A. DE C.V.","XAXX010101000","CARRETERA TAPALPA- GUADALAJARA KM. 7","TAPALPA,JAL",49340,111,"BA TESORERIA 6536","Cheque N° 2729","PAGO DE COMBUSTIBLE PARA VEHICULOS DEL SERVICIO PUBLICO MPAL. DE ACUERDO A COMPROBANTES ADJUNTOS.",6003.7,"2020-11-30","B915C"]
[940,"SERVICIO ZZVV S.A. DE C.V.","XAXX010101000","CARRETERA TAPALPA- GUADALAJARA KM. 7","TAPALPA,JAL",49340,151,"BA PARTICIPACIONES 8760","Cheque N° 785","PAGO DE COMBUSTIBLE PARA AMBULACIA DE PROTECCION CIVIL Y PARAMEDICOS PARA EL TRASLADO DE PASIENTES A CIUDAD GUZMAN. DE ACUERDO A COMPROBANTE ADJUNTO.",1000,"2020-07-23",76301]
[941,"SERVICIO ZZVV S.A. DE C.V.","XAXX010101000","CARRETERA TAPALPA- GUADALAJARA KM. 7","TAPALPA,JAL",49340,151,"BA PARTICIPACIONES 8760","Cheque N° 785","PAGO DE COMBUSTIBLE PARA AMBULACIA DE PROTECCION CIVIL Y PARAMEDICOS PARA EL TRASLADO DE PASIENTES A CIUDAD GUZMAN. DE ACUERDO A COMPROBANTE ADJUNTO.",1000,"2020-07-23","DFE34"]
[942,"SERVICIO ZZVV S.A. DE C.V.","XAXX010101000","CARRETERA TAPALPA- GUADALAJARA KM. 7","TAPALPA,JAL",49340,151,"BA PARTICIPACIONES 8760","Cheque N° 0493","REPOSICION DE CAJA CHICA DE EGRESOS DEL DIA 7 DE FEBRERO 2020. DE ACUERDO A COMPROBANTES ADJUNTO.",1000,"2020-02-07","19B8F"]
[943,"SERVICIOS GASOLINEROS DE MEXICO S.A. DE C.V.","XAXX010101000","EDISON NTE. 1301 TALLERES","MONTERREY NUEVO LEON",64480,151,"s/ref","s/ref ","PAGO DE COMBUSTIBLE DIESEL PARA MODULO DE MAQUINARIA PARA LA REHABILITACION DE CAMINOS EN DIVERSAS LOCALIDADES. DE ACUERDO A COMPROBANTES ADJUNTOS.",23413.42,"2020-11-17",71417]
[944,"SERVICIOS INTELIGENTES FLOMAR S.A. DE C.V.","XAXX010101000","MARIANO OTERO NO. 79","TLAQUEPAQUE",45790,151,"s/ref","s/ref ","PAGO DE COMBUSTIBLE DIESEL PARA MODULO DE MAQUINARIA PARA LA REHABILITACION DE CAMINOS EN DIVERSAS LOCALIDADES. DE ACUERDO A COMPROBANTES ADJUNTOS.",1600,"2020-11-17","B09B4"]
[945,"SERVICIOS INTELIGENTES FLOMAR S.A. DE C.V.","XAXX010101000","MARIANO OTERO NO. 79","TLAQUEPAQUE",45790,151,"s/ref","s/ref ","PAGO DE COMBUSTIBLE DIESEL PARA MODULO DE MAQUINARIA PARA LA REHABILITACION DE CAMINOS EN DIVERSAS LOCALIDADES. DE ACUERDO A COMPROBANTES ADJUNTOS.",2059.15,"2020-11-17","F177D"]
[946,"SERVICIOS INTELIGENTES FLOMAR S.A. DE C.V.","XAXX010101000","MARIANO OTERO NO. 79","TLAQUEPAQUE",45790,111,"BA TESORERIA 6536","Cheque N° 2714","PAGO DE COMBUSTIBLE PARA VEHICULOS DEL SERVICIO PUBLICO MPAL. DE ACUERDO A COMPROBANTES ADJUNTOS.",3002.42,"2020-11-17",34555]
[947,"SERVICIOS INTELIGENTES FLOMAR S.A. DE C.V.","XAXX010101000","MARIANO OTERO NO. 79","TLAQUEPAQUE",45790,111,"BA TESORERIA 6536","Cheque N° 2714","PAGO DE COMBUSTIBLE PARA VEHICULOS DEL SERVICIO PUBLICO MPAL. DE ACUERDO A COMPROBANTES ADJUNTOS.",6368.46,"2020-11-17","6939A"]
[948,"SERVICIOS INTELIGENTES FLOMAR S.A. DE C.V.","XAXX010101000","MARIANO OTERO NO. 79","TLAQUEPAQUE",45790,151,"s/ref","s/ref ","PAGO DE COMBUSTIBLE DIESEL PARA MODULO DE MAQUINARIA DE ESTE AYUNTAMIENTO. DE ACUERDO A COMPROBANTE ADJUNTO.",3650.03,"2020-11-10","A16E5"]
[949,"SERVICIOS INTELIGENTES FLOMAR S.A. DE C.V.","XAXX010101000","MARIANO OTERO NO. 79","TLAQUEPAQUE",45790,111,"BA TESORERIA 6536","Cheque N° 2386","PAGO DE COMBUSTIBLE PARA VEHICULOS DEL SERVICIO PUBLICO MPAL. DE ACUERDO A COMPROBANTE ADJUNTO.",9008.58,"2020-10-19","1391B"]
[950,"SERVICIOS INTELIGENTES FLOMAR S.A. DE C.V.","XAXX010101000","MARIANO OTERO NO. 79","TLAQUEPAQUE",45790,111,"BA TESORERIA 6536","Cheque N° 2380","PAGO DE COMBUSTIBLE PARA VEHICULOS DEL SERVICIO PUBLICO MPAL DEL DIA 14 DE OCTUBRE 2020. DE ACUERDO A COMPROBANTES ADJUNTOS.",1000.01,"2020-10-07",23263]
[951,"SERVICIOS INTELIGENTES FLOMAR S.A. DE C.V.","XAXX010101000","MARIANO OTERO NO. 79","TLAQUEPAQUE",45790,111,"BA TESORERIA 6536","Cheque N° 2380","PAGO DE COMBUSTIBLE PARA VEHICULOS DEL SERVICIO PUBLICO MPAL DEL DIA 14 DE OCTUBRE 2020. DE ACUERDO A COMPROBANTES ADJUNTOS.",8851,"2020-10-07","76CB0"]
[952,"SERVICIOS INTELIGENTES FLOMAR S.A. DE C.V.","XAXX010101000","MARIANO OTERO NO. 79","TLAQUEPAQUE",45790,111,"BA TESORERIA 6536","Cheque N° 2377","PAGO DE COMBUSTIBLE PARA VEHICULOS DEL SERVICIO PUBLICO MPAL. DE ACUERDO A COMPROBANTES ADJUNTOS.",1439.2,"2020-10-14","B664F"]
[953,"SERVICIOS INTELIGENTES FLOMAR S.A. DE C.V.","XAXX010101000","MARIANO OTERO NO. 79","TLAQUEPAQUE",45790,111,"BA TESORERIA 6536","Cheque N° 2377","PAGO DE COMBUSTIBLE PARA VEHICULOS DEL SERVICIO PUBLICO MPAL. DE ACUERDO A COMPROBANTES ADJUNTOS.",8410.5,"2020-10-14","7AA60"]
[954,"SERVICIOS INTELIGENTES FLOMAR S.A. DE C.V.","XAXX010101000","MARIANO OTERO NO. 79","TLAQUEPAQUE",45790,111,"BA TESORERIA 6536","Cheque N° 2369","PAGO DE COMBUSTIBLE PARA VEHICULOS DEL SERVICIO PUBLICO MPAL DE ESTE AYUNTAMIENTO. DE ACUERDO A COMPROBANTE ADJUNTO.",2491,"2020-10-05","374CA"]
[955,"SERVICIOS INTELIGENTES FLOMAR S.A. DE C.V.","XAXX010101000","MARIANO OTERO NO. 79","TLAQUEPAQUE",45790,111,"BA TESORERIA 6536","Cheque N° 2369","PAGO DE COMBUSTIBLE PARA VEHICULOS DEL SERVICIO PUBLICO MPAL DE ESTE AYUNTAMIENTO. DE ACUERDO A COMPROBANTE ADJUNTO.",1439.2,"2020-10-05","71BF9"]
[956,"SERVICIOS INTELIGENTES FLOMAR S.A. DE C.V.","XAXX010101000","MARIANO OTERO NO. 79","TLAQUEPAQUE",45790,151,"BA PARTICIPACIONES 8760","Cheque N° 831","PAGO DE COMBUSTIBLE PARA VEHICULOS DEL SERVICIO PUBLICO MUNICIPAL. DE ACUERDO A COMPROBANTES ADJUNTOS.",9600.7099999999991,"2020-10-01","70FF6"]
[957,"SERVICIOS INTELIGENTES FLOMAR S.A. DE C.V.","XAXX010101000","MARIANO OTERO NO. 79","TLAQUEPAQUE",45790,111,"BA TESORERIA 6536","Cheque N° 2344","PAGO GASTOS VARIOS Y COMBUSTIBLE PARA VEHICULOS DEL SERVICIO PUBLICO MPAL. DE ACUERDO A COMPROBANTES ADJUTOS.",2500,"2020-09-14",84212]
[958,"SERVICIOS INTELIGENTES FLOMAR S.A. DE C.V.","XAXX010101000","MARIANO OTERO NO. 79","TLAQUEPAQUE",45790,111,"BA TESORERIA 6536","Cheque N° 2344","PAGO GASTOS VARIOS Y COMBUSTIBLE PARA VEHICULOS DEL SERVICIO PUBLICO MPAL. DE ACUERDO A COMPROBANTES ADJUTOS.",8800.25,"2020-09-14",3138]
[959,"SERVICIOS INTELIGENTES FLOMAR S.A. DE C.V.","XAXX010101000","MARIANO OTERO NO. 79","TLAQUEPAQUE",45790,111,"BA TESORERIA 6536","Cheque N° 2344","PAGO GASTOS VARIOS Y COMBUSTIBLE PARA VEHICULOS DEL SERVICIO PUBLICO MPAL. DE ACUERDO A COMPROBANTES ADJUTOS.",1650.16,"2020-09-14",30617]
[960,"SERVICIOS INTELIGENTES FLOMAR S.A. DE C.V.","XAXX010101000","MARIANO OTERO NO. 79","TLAQUEPAQUE",45790,111,"BA TESORERIA 6536","Cheque N° 2224","PAGO DE COMBUSTIBLE PARA AMBULANCIAS DE PROTECCION CIVIL DE ESTE AYUNTAMIENTO. DE ACUERDO A COMPROBANTE ADJUNTO.",1000,"2020-02-25","E8DD6"]
[961,"SERVICIOS INTELIGENTES FLOMAR S.A. DE C.V.","XAXX010101000","MARIANO OTERO NO. 79","TLAQUEPAQUE",45790,151,"BA PARTICIPACIONES 8760","Cheque N° 939","PAGO DE GASTOS VARIOS CORRESPONDIENTES AL MES DE DICIEMBRE 2020. DE ACUERDO A COMPROBANTES ADJUNTOS.",4999.58,"2020-12-23","6DA0C"]
[962,"SERVICIOS INTELIGENTES FLOMAR S.A. DE C.V.","XAXX010101000","MARIANO OTERO NO. 79","TLAQUEPAQUE",45790,111,"BA TESORERIA 6536","Cheque N° 2784","PAGO DE VIATICOS A TESORERO MPIO POR COMISION A LA SEDECO. DE ACUERDO A COMPROBANTES ADJUNTOS.",1700.21,"2020-12-18","065A2"]
[963,"SERVICIOS INTELIGENTES FLOMAR S.A. DE C.V.","XAXX010101000","MARIANO OTERO NO. 79","TLAQUEPAQUE",45790,151,"BA PARTICIPACIONES 8760","Cheque N° 868","PAGO DE VIATICOS A DIRECTORA DE PARQUES Y JARDINES POR DIVERSAS COMISIONES. DE ACUERDO A COMPROBANTES ADJUNTOS.",1308.3,"2020-11-06",46239]
[964,"SERVICIOS INTELIGENTES FLOMAR S.A. DE C.V.","XAXX010101000","MARIANO OTERO NO. 79","TLAQUEPAQUE",45790,151,"s/ref","s/ref ","PAGO DE VIATICOS A PRESIDENTE MUNICIPAL POR COMISION A DIVERSOS EVENTOS EN EL MES DE OCTUBRE 2020. DE ACUERDO A COMPROBANTES ADJUNTOS",1000,"2020-10-31",389]
[965,"SERVICIOS INTELIGENTES FLOMAR S.A. DE C.V.","XAXX010101000","MARIANO OTERO NO. 79","TLAQUEPAQUE",45790,151,"s/ref","s/ref ","PAGO DE VIATICOS A PRESIDENTE MUNICIPAL POR COMISION A DIVERSOS EVENTOS EN EL MES DE OCTUBRE 2020. DE ACUERDO A COMPROBANTES ADJUNTOS",1115.4000000000001,"2020-10-31",71548]
[966,"SERVICIOS INTELIGENTES FLOMAR S.A. DE C.V.","XAXX010101000","MARIANO OTERO NO. 79","TLAQUEPAQUE",45790,151,"s/ref","s/ref ","PAGO DE VIATICOS A PRESIDENTE MUNICIPAL POR COMISION A DIVERSOS EVENTOS EN EL MES DE SEPTIEMBRE 2020. DE ACUERDO A COMPROBANTES ADJUNTOS",1115.4000000000001,"2020-09-30",263]
[967,"SERVICIOS INTELIGENTES FLOMAR S.A. DE C.V.","XAXX010101000","MARIANO OTERO NO. 79","TLAQUEPAQUE",45790,151,"s/ref","s/ref ","PAGO DE VIATICOS A PRESIDENTE MUNICIPAL POR COMISION A DIVERSOS EVENTOS EN EL MES DE SEPTIEMBRE 2020. DE ACUERDO A COMPROBANTES ADJUNTOS",1500.25,"2020-09-30","152F0"]
[968,"SERVICIOS INTELIGENTES FLOMAR S.A. DE C.V.","XAXX010101000","MARIANO OTERO NO. 79","TLAQUEPAQUE",45790,151,"BA PARTICIPACIONES 8760","Cheque N° 838","PAGO DE GASTOS VARIOS CORRESPONDIENTES AL MES DE OCTUBRE 2020. DE ACUERDO A COMPROBANTES ADJUNTOS.",1000,"2020-10-07","AC2EC"]
[969,"SERVICIOS INTELIGENTES FLOMAR S.A. DE C.V.","XAXX010101000","MARIANO OTERO NO. 79","TLAQUEPAQUE",45790,151,"s/ref","s/ref ","PAGO DE VIATICOS A PRESIDENTE MUNICIPAL POR COMISION A DIVERSOS EVENTOS EN EL MES DE SEPTIEMBRE 2020. DE ACUERDO A COMPROBANTES ADJUNTOS",1115.4000000000001,"2020-09-30",263]
[970,"SERVICIOS INTELIGENTES FLOMAR S.A. DE C.V.","XAXX010101000","MARIANO OTERO NO. 79","TLAQUEPAQUE",45790,151,"BA PARTICIPACIONES 8760","Cheque N° 0493","REPOSICION DE CAJA CHICA DE EGRESOS DEL DIA 7 DE FEBRERO 2020. DE ACUERDO A COMPROBANTES ADJUNTO.",1000,"2020-02-07","6E909"]
[971,"SISTEMA INTERMUNICIPAL DE MANEJO DE RESIDUOS LAGUNAS","XAXX010101000","-","-",49000,151,"BA PARTICIPACIONES 8760","Transf N° 0019291061","APORTACION PARA LA INCORPORACION AL SISTEMA INTERMUNICIPAL DE MANEJO SE RESIDUOS LAGUNAS CORRESPONDIENTE AL MES DE MARZO 2020. DE ACUERDO A COMPROBANTE ADJUNTO.",150000,"2020-03-20","6AB6F"]
[972,"SISTEMA INTERMUNICIPAL DE MANEJO DE RESIDUOS LAGUNAS","XAXX010101000","-","-",49000,151,"BA PARTICIPACIONES 8760","Transf N° 0019291015","APORTACION PARA LA INCORPORACION AL SISTEMA INTERMUNICIPAL DE MANEJO SE RESIDUOS LAGUNAS CORRESPONDIENTE AL MES DE FEBRERO 2020. DE ACUERDO A COMPROBANTE ADJUNTO.",50000,"2020-03-20","14A69"]
[973,"SISTEMA INTERMUNICIPAL DE MANEJO DE RESIDUOS LAGUNAS","XAXX010101000","-","-",49000,151,"BA PARTICIPACIONES 8760","Transf N° 0017028025","PAGO POR DISPOSICION FINAL DE 103.97 TONELADAS DE RESIDUOS  SOLIDOS URBANOS EN EL RELLENO SANITARIO INTERMUNICIPAL DE SIMAR LAGUNAS CORRESPONDIENTE AL MES DE MARZO 2020. DE ACUERDO A COMPROBANTE ADJUNTO.",47377.05,"2020-04-30","C6023"]
[974,"SISTEMA INTERMUNICIPAL DE MANEJO DE RESIDUOS LAGUNAS","XAXX010101000","-","-",49000,111,"BA TESORERIA 6536","Transf N° 0038891021","PAGO POR DISPOSICION FINAL DE 122.414 TONELADAS DE RESIDUOS  SOLIDOS URBANOS EN EL RELLENO SANITARIO INTERMUNICIPAL DE SIMAR LAGUNAS CORRESPONDIENTE AL MES DE ENERO 2020. DE ACUERDO A COMPROBANTE ADJUNTO.",55781.61,"2020-02-21",88514]
[975,"SISTEMA INTERMUNICIPAL DE MANEJO DE RESIDUOS LAGUNAS","XAXX010101000","-","-",49000,151,"BA PARTICIPACIONES 8760","Transf N° 0048454015","PAGO POR DISPOSICION FINAL DE 122. TONELADAS DE RESIDUOS  SOLIDOS URBANOS EN EL RELLENO SANITARIO INTERMUNICIPAL DE SIMAR LAGUNAS CORRESPONDIENTE AL MES DE FEBRERO 2020. DE ACUERDO A COMPROBANTE ADJUNTO.",55592.959999999999,"2020-03-20","D0B21"]
[976,"SISTEMA INTERMUNICIPAL DE MANEJO DE RESIDUOS LAGUNAS","XAXX010101000","-","-",49000,111,"BA TESORERIA 6536","Transf N° 0034617015","PAGO POR DISPOSICION FINAL DE 114.452 TONELADAS DE RESIDUOS  SOLIDOS URBANOS EN EL RELLENO SANITARIO INTERMUNICIPAL DE SIMAR LAGUNAS CORRESPONDIENTE AL MES DE DICIEMBRE 2019. DE ACUERDO A COMPROBANTE ADJUNTO.",78227.94,"2020-01-01","9CCD1"]
[977,"SISTEMA INTERMUNICIPAL DE MANEJO DE RESIDUOS LAGUNAS","XAXX010101000","-","-",49000,151,"BA PARTICIPACIONES 8760","Transf N° 0004557053","PAGO POR DISPOSICION FINAL DE 109.62 TONELADAS DE RESIDUOS SOLIDOS URBANOS EN EL RELLENO SANITARIO INTERMUNICIPAL DEL SIMAR LAGUNAS, MES DE MAYO 2020.",49951.64,"2020-06-18","E1BEE"]
[978,"SISTEMA INTERMUNICIPAL DE MANEJO DE RESIDUOS LAGUNAS","XAXX010101000","-","-",49000,151,"BA PARTICIPACIONES 8760","Transf N° 0052650055","APORTACION PARA LA INCORPORACION AL SISTEMA INTERMUNICIPAL DE MANEJO SE RESIDUOS LAGUNAS CORRESPONDIENTE AL MES DE MAYO 2020. DE ACUERDO A COMPROBANTE ADJUNTO.",100000,"2020-05-21","FEDC8"]
[979,"SISTEMA INTERMUNICIPAL DE MANEJO DE RESIDUOS LAGUNAS","XAXX010101000","-","-",49000,151,"BA PARTICIPACIONES 8760","Transf N° 0062838097","PAGO POR DISPOSICION FINAL DE 92.524 TONELADAS DE RESIDUOS SOLIDOS URBANOS EN EL RELLENO SANITARIO INTERMUNICIPAL DEL SIMAR LAGUNAS CORRESPONDIENTE AL MES DE MAYO 2020. DE ACUERDO A COMPROBANTE ADJUNTO.",42161.34,"2020-05-20","56E0D"]
[980,"SISTEMA INTERMUNICIPAL DE MANEJO DE RESIDUOS LAGUNAS","XAXX010101000","-","-",49000,151,"BA PARTICIPACIONES 8760","Transf N° 0040143016","PAGO POR DISPOSICION FINAL DE 133.485 TONELADAS DE RESIDUOS SOLIDOS URBANOS EN EL RELLENO SANITARIO INTERMUNICIPAL DEL SIMAR LAGUNAS CORRESPONDIENTE AL MES DE JULIO 2020. DE ACUERDO A COMPROBANTE ADJUNTO.",60863.82,"2020-08-17","59FC5"]
[981,"SISTEMA INTERMUNICIPAL DE MANEJO DE RESIDUOS LAGUNAS","XAXX010101000","-","-",49000,151,"BA PARTICIPACIONES 8760","Transf N° 0037348049","PAGO POR DISPOSICION FINAL DE 135.04 TONELADAS DE RESIDUOS SOLIDOS URBANOS EN EL RELLENO SANITARIO INTERMUNICIPAL DEL SIMAR LAGUNAS CORRESPONDIENTE AL MES DE AGOSTO 2020. DE ACUERDO A COMPROBANTE ADJUNTO.",61572.84,"2020-09-17","780EB"]
[982,"SISTEMA INTERMUNICIPAL DE MANEJO DE RESIDUOS LAGUNAS","XAXX010101000","-","-",49000,151,"BA PARTICIPACIONES 8760","Transf N° 0080771017","PAGO POR DISPOSICION FINAL DE 104.27 TONELADAS DE RESIDUOS SOLIDOS URBANOS EN EL RELLENO SANITARIO INTERMUNICIPAL DEL SIMAR LAGUNAS CORRESPONDIENTE AL MES DE NOVIEMBRE 2020. DE ACUERDO A COMPROBANTE ADJUNTO.",47513.75,"2020-12-17","42F22"]
[983,"SISTEMA INTERMUNICIPAL DE MANEJO DE RESIDUOS LAGUNAS","XAXX010101000","-","-",49000,151,"BA PARTICIPACIONES 8760","Transf N° 0000202015","PAGO POR DISPOSICION FINAL DE 129.25 TONELADAS DE RESIDUOS SOLIDOS URBANOS EN EL RELLENO SANITARIO INTERMUNICIPAL DEL SIMAR LAGUNAS CORRESPONDIENTE AL MES DE OCTUBRE 2020. DE ACUERDO A COMPROBANTE ADJUNTO.",58896.639999999999,"2020-11-18","B487D"]
[984,"SISTEMA PARA EL DESARROLLO INTEGRAL DE LA FAMILIA","XAXX010101000","XICOTENCATL NO. 445 COL LOS PINOS","ATEMAJAC DE BRIZUELA,JAL.",45790,151,"BA PARTICIPACIONES 8760","Cheque N° 795","PAGO DE SUBSIDIO A DIF MPAL CORRESPONDIENTE AL MES DE AGOSTO 2020. DE ACUERDO A COMPROBANTE ADJUNTO",105000,"2020-08-14","7BEFD"]
[985,"SISTEMA PARA EL DESARROLLO INTEGRAL DE LA FAMILIA","XAXX010101000","XICOTENCATL NO. 445 COL LOS PINOS","ATEMAJAC DE BRIZUELA,JAL.",45790,151,"BA PARTICIPACIONES 8760","Transf N° 0037348014","PAGO DE SUBSIDIO A DIF MUNICIPAL CORRESPONDIENTE AL MES DE SEPTIEMBRE 2020. DE ACUERDO A COMPROBANTE ADJUNTO.",105000,"2020-09-17","0C1D2"]
[986,"SISTEMA PARA EL DESARROLLO INTEGRAL DE LA FAMILIA","XAXX010101000","XICOTENCATL NO. 445 COL LOS PINOS","ATEMAJAC DE BRIZUELA,JAL.",45790,151,"BA PARTICIPACIONES 8760","Transf N° 0043730014","PAGO DE SUBSIDIO A DIF MUNICIPAL CORRESPONDIENTE AL MES DE OCTUBRE 2020. DE ACUERDO A COMPROBANTE ADJUNTO.",105000,"2020-10-16","R7C97"]
[987,"SISTEMA PARA EL DESARROLLO INTEGRAL DE LA FAMILIA","XAXX010101000","XICOTENCATL NO. 445 COL LOS PINOS","ATEMAJAC DE BRIZUELA,JAL.",45790,151,"BA PARTICIPACIONES 8760","Transf N° 0029185014","PAGO DE SUBSIDIO A DIF MUNICIPAL CORRESPONDIENTE AL MES DE NOVIEMBRE 2020. DE ACUERDO A COMPROBANTE ADJUNTO.",105000,"2020-11-13","AF1C4"]
[988,"SISTEMA PARA EL DESARROLLO INTEGRAL DE LA FAMILIA","XAXX010101000","XICOTENCATL NO. 445 COL LOS PINOS","ATEMAJAC DE BRIZUELA,JAL.",45790,151,"BA PARTICIPACIONES 8760","Transf N° 00133574039","REINTEGRO DE ISR SEGUN ART 3B DE LA LCF ENTERADO AL MPIO DE ATEMAJAC DE BRIZUELA, JALISCO. DE ACUERDO A COMPROBANTE ADJUNTO.",13021,"2020-12-23","EB327"]
[989,"SISTEMA PARA EL DESARROLLO INTEGRAL DE LA FAMILIA","XAXX010101000","XICOTENCATL NO. 445 COL LOS PINOS","ATEMAJAC DE BRIZUELA,JAL.",45790,151,"BA PARTICIPACIONES 8760","Transf N° 0076106084","PAGO DE SUBSIDIO A DIF MUNICIPAL CORRESPONDIENTE AL MES DE DICIEMBRE 2020. DE ACUERDO A COMPROBANTE ADJUNTO.",105000,"2020-12-15","00D3E"]
[990,"SISTEMA PARA EL DESARROLLO INTEGRAL DE LA FAMILIA","XAXX010101000","XICOTENCATL NO. 445 COL LOS PINOS","ATEMAJAC DE BRIZUELA,JAL.",45790,151,"BA PARTICIPACIONES 8760","Transf N° 0005838031","SUBSIDIO CORRESPONDIENTE AL MES DE ABRIL 2020. DE ACUERDO A COMPROBANTE ADJUNTO.",105000,"2020-04-16",3268]
[991,"SISTEMA PARA EL DESARROLLO INTEGRAL DE LA FAMILIA","XAXX010101000","XICOTENCATL NO. 445 COL LOS PINOS","ATEMAJAC DE BRIZUELA,JAL.",45790,151,"BA PARTICIPACIONES 8760","Transf N° 0040363049","PAGO DE SUBSIDIO AL DIF MUNICIPAL CORRESPONDIENTE AL MES DE MARZO 2020. DE ACUERDO A COMPROBANTE ADJUNTO.",105000,"2020-03-17","0D839"]
[992,"SISTEMA PARA EL DESARROLLO INTEGRAL DE LA FAMILIA","XAXX010101000","XICOTENCATL NO. 445 COL LOS PINOS","ATEMAJAC DE BRIZUELA,JAL.",45790,151,"BA PARTICIPACIONES 8760","Transf N° 0085198014","PAGO DE SUBSIDIO AL DIF MUNICIPAL CORRESPONDIENTE AL MES DE FEBRERO 2020. DE ACUERDO A COMPROBANTE ADJUNTO.",105000,"2020-02-14","27E2C"]
[993,"SISTEMA PARA EL DESARROLLO INTEGRAL DE LA FAMILIA","XAXX010101000","XICOTENCATL NO. 445 COL LOS PINOS","ATEMAJAC DE BRIZUELA,JAL.",45790,151,"BA PARTICIPACIONES 8760","Transf N° 0005682029","PAGO DE SUBSIDIO MENSUAL AL DIF MUNICIPAL CORRESPONDIENTE AL MES DE MAYO 2020. DE ACUERDO A COPROBANTE ADJUNTO.",105000,"2020-05-18","4A563"]
[994,"SISTEMA PARA EL DESARROLLO INTEGRAL DE LA FAMILIA","XAXX010101000","XICOTENCATL NO. 445 COL LOS PINOS","ATEMAJAC DE BRIZUELA,JAL.",45790,151,"BA PARTICIPACIONES 8760","Transf N° 0015545014","PAGO DE SUBSIDIO A DIF MPAL CORRESPONDIENTE AL MES DE JUNIO 2020. DE ACUEDO A COMPROBANTE ADJUNTO",105000,"2020-06-16","32A72"]
[995,"SISTEMA PARA EL DESARROLLO INTEGRAL DE LA FAMILIA","XAXX010101000","XICOTENCATL NO. 445 COL LOS PINOS","ATEMAJAC DE BRIZUELA,JAL.",45790,151,"BA PARTICIPACIONES 8760","Transf N° 0016043028","PAGO DE SUBSIDIO A DIF MPAL CORRESPONDIENTE AL MES DE JULIO 2020. DE ACUEDO A COMPROBANTE ADJUNTO",105000,"2020-07-17","48D53"]
[996,"SISTEMA PARA EL DESARROLLO INTEGRAL DE LA FAMILIA","XAXX010101000","XICOTENCATL NO. 445 COL LOS PINOS","ATEMAJAC DE BRIZUELA,JAL.",45790,151,"BA PARTICIPACIONES 8760","Transf N° 0043806014","SUBSIDIO A DIF MUNICIPAL CORRESPONDIENTE AL MES DE ENERO 2020. DE ACUERDO A COMPROBANTE ADJUNTO.",105000,"2020-01-16","8375F"]
[997,"SOFIA BONALES GOMEZ","BOGS950315V32","JOSE ANTONIO TORRES NO. 124 C","ZACOALCO DE TORRES, JAL",45750,111,"BA TESORERIA 6536","Transf N° 0030407046","PAGO DE IMPRESION DIGITAL PARA FESTEJOS DEL DIA DE LAS MADRES EN EL MPIO. DE ACUEDO A COMPROBANTE ADJUNTO.",3132,"2020-05-08","1AE46"]
[998,"SOFIA BONALES GOMEZ","BOGS950315V32","JOSE ANTONIO TORRES NO. 124 C","ZACOALCO DE TORRES, JAL",45750,111,"BA TESORERIA 6536","Cheque N° 2789","PAGO DE PRODUCTOS DE LA CANASTA BASICA PARA LA ELABORACION DE DESPENSAS PARA LOS EMPLEADOS DE ESTE AYUNTAMIENTO. DE ACUEDO A COMPROBANTES ADJUNTO.",1113.5999999999999,"2020-12-22","44B2C"]
[999,"SOFIA BONALES GOMEZ","BOGS950315V32","JOSE ANTONIO TORRES NO. 124 C","ZACOALCO DE TORRES, JAL",45750,111,"BA ESTRATEGIA ALE 0157","Transf N° 0056892014","PAGO POR LA IMPRESION DE LONAS DEL PROGRAMA ESTRATEGIA ALE EN EL MPIO. DE ACUERDO A COMPROBANTE ADJUNTO.",2784,"2020-10-16","5C77C"]
[1000,"SOFIA BONALES GOMEZ","BOGS950315V32","JOSE ANTONIO TORRES NO. 124 C","ZACOALCO DE TORRES, JAL",45750,111,"BA ESTRATEGIA ALE 0157","Transf N° 0063565017","PAGO POR LA IMPRESION DE LONAS DEL PROGRAMA ESTRATEGIA ALE EN EL MPIO. DE ACUERDO A COMPROBANTE ADJUNTO.",2296.8000000000002,"2020-10-14","B13C1"]
[1001,"SOFIMEX, INSTITUCION DE GARANTIAS SA","XAXX010101000","ADOLFO LOPEZ MATEOS NO. 1941","CIUDAD DE MEXICO",45790,111,"BA TESORERIA 6536","Transf N° 0038458015","PAGO DE FINAZA PARA PRESIDENTE Y DIRECTOR E OBRAS PUBLICAS DE ESTE AYUNTAMIENTO. DE ACUERDO A COMPROBANTES ADJUNTOS.",4249.08,"2020-02-25","EFDE5"]
[1002,"SOFIMEX, INSTITUCION DE GARANTIAS SA","XAXX010101000","ADOLFO LOPEZ MATEOS NO. 1941","CIUDAD DE MEXICO",45790,111,"BA TESORERIA 6536","Transf N° 0038458015","PAGO DE FINAZA PARA PRESIDENTE Y DIRECTOR E OBRAS PUBLICAS DE ESTE AYUNTAMIENTO. DE ACUERDO A COMPROBANTES ADJUNTOS.",4249.08,"2020-02-25",82386]
[1003,"SOFIMEX, INSTITUCION DE GARANTIAS SA","XAXX010101000","ADOLFO LOPEZ MATEOS NO. 1941","CIUDAD DE MEXICO",45790,151,"BA PARTICIPACIONES 8760","Transf N° 0099441026","PAGO DE FINAZA PARA ENCARGADO DE HACIENDA PUBLICA MUNICIPAL  DE ESTE AYUNTAMIENTO. DE ACUERDO A COMPROBANTES ADJUNTOS.",4249.08,"2020-02-11","663DC"]
[1004,"SUMINISTROS MEDICOS DE LA RIBERA SA DE CV","XAXX010101000",".",".",45790,111,"BA TESORERIA 6536","Cheque N° 2256","PAGO DE SUMINISTROS MEDICOS PARA PUNTO DE REVISION COVID 19. DE ACUERDO A COMPROBANTE ADJUNTO",4593.6000000000004,"2020-04-08","CB62E"]
[1005,"SUMINISTROS MEDICOS DE LA RIBERA SA DE CV","XAXX010101000",".",".",45790,111,"BA TESORERIA 6536","Cheque N° 2255","PAGO DE SUMINISTROS MEDICOS PARA PUNTO DE REVISION COVID 19. DE ACUERDO A COMPROBANTE ADJUNTO",1832.8,"2020-04-08","4AE5F"]
[1006,"SUMINISTROS MEDICOS DE LA RIBERA SA DE CV","XAXX010101000",".",".",45790,111,"BA TESORERIA 6536","Transf N° 0054376032","PAGO DE GEL ANTIBACTERIAL PARA PUNTO DE REVISION POR CONTINGENCIA SANITARIA COVID 19. DE ACUERDO A COMPROBANTES ADJUNTOS.",2998,"2020-04-08","8C4E0"]
[1007,"SUMINISTROS MEDICOS DE LA RIBERA SA DE CV","XAXX010101000",".",".",45790,111,"BA TESORERIA 6536","Transf N° 0054376032","PAGO DE GEL ANTIBACTERIAL PARA PUNTO DE REVISION POR CONTINGENCIA SANITARIA COVID 19. DE ACUERDO A COMPROBANTES ADJUNTOS.",1832,"2020-04-08","4AE5F"]
[1008,"SUMINISTROS MEDICOS DE LA RIBERA SA DE CV","XAXX010101000",".",".",45790,111,"BA TESORERIA 6536","Transf N° 0054376014","PAGO DE CUBRE BOCAS Y GUANTES PARA PUNTO DE REVISION POR CONTINGENCIA SANITARIA COVID 19. DE ACUERDO A COMPROBANTES ADJUNTOS.",1090.4000000000001,"2020-04-08",58400]
[1009,"SUMINISTROS MEDICOS DE LA RIBERA SA DE CV","XAXX010101000",".",".",45790,151,"BA PARTICIPACIONES 8760","Transf N° 0045336024","PAGO DE TERMOMETROS LASER INFRARROJO PARA PUNTO DE REVISION COVID 19. DE ACUERDO A COMPROBANTE ADJUNTO.",7830,"2020-04-02","6CE33"]
[1010,"SUMINISTROS MEDICOS DE LA RIBERA SA DE CV","XAXX010101000",".",".",45790,151,"BA PARTICIPACIONES 8760","Cheque N° 0674","REPOSICION DE CAJA CHICA DE EGRESOS CORRESPONDIENTE AL DIA 17 DE ABRIL 2020. DE ACUERDO A COMPROBANTE ADJUNTO.",2998.6,"2020-04-17","8C4E0"]
[1011,"SUMINISTROS MEDICOS DE LA RIBERA SA DE CV","XAXX010101000",".",".",45790,151,"BA PARTICIPACIONES 8760","Transf N° 0044691036","PAGO DE INSUMOS MEDICOS PARA PERSONAL QUE ATIENDE PUNTO DE REVISION COVID 19. DE ACUERDO A COMPROBANTE ADJUNTO.",4164.3999999999996,"2020-08-17","1FB19"]
[1012,"SUMINISTROS MEDICOS DE LA RIBERA SA DE CV","XAXX010101000",".",".",45790,151,"BA PARTICIPACIONES 8760","Cheque N° 0674","REPOSICION DE CAJA CHICA DE EGRESOS CORRESPONDIENTE AL DIA 17 DE ABRIL 2020. DE ACUERDO A COMPROBANTE ADJUNTO.",4640,"2020-04-17",4.7E+21]
[1013,"TAMARA GABRIELA PADILLA GUTIERREZ","PAGT820904DR1","LOPEZ MATEOS SUR KM 16","TLAJOMULCO DE ZUÑIGA",45645,151,"BA PARTICIPACIONES 8760","Cheque N° 922","PAGO DE VIATICOS A PRESIDENTE MUNICIPAL POR COMISION A DIVERSOS EVENTOS EN EL MES DE NOVIEMBRE Y DICIEMBRE 2020. DE ACUERDO A COMPROBANTES ADJUNTOS",2080,"2020-12-18","3932C"]
[1014,"TAMARA GABRIELA PADILLA GUTIERREZ","PAGT820904DR1","LOPEZ MATEOS SUR KM 16","TLAJOMULCO DE ZUÑIGA",45645,111,"s/ref","Ref N° EF","REPOSICION FINAL DE CAJA CHICA DE EGRESOS (EX TESORERO) AL 25 DE OCTUBRE 2019. DE ACUERDO A COMROBANTES ADJUNTOS.",1270,"2020-06-01",30138]
[1015,"TAMARA GABRIELA PADILLA GUTIERREZ","PAGT820904DR1","LOPEZ MATEOS SUR KM 16","TLAJOMULCO DE ZUÑIGA",45645,111,"s/ref","Ref N° EF","REPOSICION FINAL DE CAJA CHICA DE EGRESOS (EX TESORERO) AL 25 DE OCTUBRE 2019. DE ACUERDO A COMROBANTES ADJUNTOS.",1336,"2020-06-01",30148]
[1016,"TEJEDA NICIO CONSUELO","TENC4008282K8","BRIZUELA S/N","ATEMAJAC DE BRIZUELA,JAL.",45790,111,"s/ref","s/ref ","REPOSICION DE CAJA CHICA CORRESPONDIENTE AL DIA 30 DE JULIO 2020. DE ACUERDO A COMPROBANTES ADJUNTOS.",1136.8,"2020-07-30","FB5C6"]
[1017,"TEJEDA NICIO CONSUELO","TENC4008282K8","BRIZUELA S/N","ATEMAJAC DE BRIZUELA,JAL.",45790,111,"BA TESORERIA 6536","Cheque N° 2338","PAGO DE RENTA DE SALON PARA EL 2DO INFORME DE ACTIVIDADES DE ESTE GOBIERNO. DE ACUERDO A COMPROBANTE ADJUNTO.",6960,"2020-09-10","F1698"]
[1018,"TEJEDA NICIO CONSUELO","TENC4008282K8","BRIZUELA S/N","ATEMAJAC DE BRIZUELA,JAL.",45790,151,"BA PARTICIPACIONES 8760","Cheque N° 762","PAGO DE HOSPEDAJE A PERSONAL DE BACAS BENITO JUAREZ EN LA POBLACION. DE ACUERDO A COMPROBANTE ADJUNTO.",2784,"2020-06-19","E7D81"]
[1019,"TELEFONIA POR CABLE, S.A. DE C.V.","XAXX010101000","PEDRO GALVAN CENTRO","ATEMAJAC DE BRIZUELA, JAL",45790,111,"BA TESORERIA 6536","Cheque N° 2254","REPOSICION DE CAJA CHICA DE EGRESOS CORRESPONDIENTE AL DIA 08 DE ABRIL 2020. DE ACUERDO A COMBRANTES ADJUNTOS.",1077.99,"2020-04-08","75B93"]
[1020,"VAMSA LAS FUENTES SA DE CV","XAXX010101000","LOPEZ MATEOS SUR 4115 LOS GAVILANES","TLAJOMULCO DE ZUÑIGA",45645,151,"s/ref","s/ref ","PAGO DE VIATICOS A PRESIDENTE MUNICIPAL POR COMISION A DIVERSOS EVENTOS EN EL MES DE SEPTIEMBRE 2020. DE ACUERDO A COMPROBANTES ADJUNTOS",1304.3,"2020-09-30","838F4"]
[1021,"VAMSA NIÑOS HEROES SA DE CV","XAXX010101000","AV NIÑOS HEROES 963 COL MODERNA","GUADALAJARA",44190,111,"BA TESORERIA 6536","Transf N° 0079802037","PAGO POR LA REPARACION DE PATRULLA FRONTIER DE SEGURIDAD PUBLICA DE ESTE AYUNTAMIENTO. DE ACUERDO A COMPROBANTE ADJUNTO.",1350,"2020-01-17","E4483"]
[1022,"VAMSA NIÑOS HEROES SA DE CV","XAXX010101000","AV NIÑOS HEROES 963 COL MODERNA","GUADALAJARA",44190,111,"BA TESORERIA 6536","Transf N° 0079802037","PAGO POR LA REPARACION DE PATRULLA FRONTIER DE SEGURIDAD PUBLICA DE ESTE AYUNTAMIENTO. DE ACUERDO A COMPROBANTE ADJUNTO.",6500,"2020-01-17","EDB81"]
[1023,"VIASUNSA VENTURES S DE RL DE CV","XAXX010101000",".",".",45790,151,"BA PARTICIPACIONES 8760","Transf N° 0058056046","PAGO DE COMBUSTIBLE PARA VEHICULOS DEL SERVICIO PUBLICO MUNICIPAL DEL DIA 18 AL 30 DE DICIEMBRE 2020. DE ACUERDO A COMPROBANTES ADJUNTOS. ",97500,"2020-12-30",64400]
[1024,"VICTOR MARISCAL NAVARRO","MANV6607284C9",".",".",45790,111,"BA TESORERIA 6536","Transf N° 0026574024","PAGO DE MANTENIMIENTO A LA BASCULA DE DEL RASTRO MPAL. DE ACUERDO A COMPROBANTE ADJUNTO.",3248,"2020-07-10","A1991"]
[1025,"ZYSA ABARROTERA DE OCCIDENTE SA DE CV","XAXX010101000","NUEZ 2157 MERCADO DE ABASTOS","GUADALAJARA",44530,111,"BA TESORERIA 6536","Cheque N° 2789","PAGO DE PRODUCTOS DE LA CANASTA BASICA PARA LA ELABORACION DE DESPENSAS PARA LOS EMPLEADOS DE ESTE AYUNTAMIENTO. DE ACUEDO A COMPROBANTES ADJUNTO.",1980,"2021-12-17","0093B"]
[1026,"RAUL DAVILA LEON","DALR6611247KA","MANUEL AVILA CAMACHO NO. 63","ATEMAJAC DE BRIZUELA, JAL",45790,252,"BBVA 3647 FORTALECIMIENTO","TRANSFERENCIA","COMPRA DE MATERIAL PARA ALUMBRADO PUBLICO",22388,"2021-12-17",1973]
[1027,"LUIS FRANCISCO ROSAS VERGARA","ROVL520803R93","CARR. GUADALAJARA-BARRA DE NAVIDAD KM. 30 LOC. 4 S/N","ACATLAN DE JAREZ, JAL.",45700,252,"BBVA 3647 FORTALECIMIENTO","TRANSFERENCIA","COMPRA DE NEUMATICOS PARA PATRULLA DE SEGURIDAD PUBLICA",6200,"2021-12-17",28710]
[1028,"SMILES PER GALLON S DE RL DE CV","SPG190301IW9","AV. CIRCUITO PERIFERICO SUR MANUEL GOMEZ MORIN NO 3135 1- B","SAN PEDRO TLAQUEPAQUE, JAL.",45619,111,"BBVA 6536 TESORERIA","TRANSFERENCIA","PAGO POR EL CONSUMO DE GASOLINA PARA VEHICULOS DE SERVICIO PUBLICO DE ESTE AYUNTAMINTO",51937.1,"2021-12-17","E1687"]
[1029,"ESPERANZA ROSAS GUERRERO","ROGE96051362A","CARR. GUADALAJARA-BARRA DE NAVIDAD KM. 30 LOC. 4 S/N","ACATLAN DE JAREZ, JAL.",45700,111,"BBVA 6536 TESORERIA","TRANSFERENCIA","COMPRA DE NEUMATICOS PARA MODULO DE MAQUINARIA DE ESTE MPIO",54000,"2021-12-17","PE4574"]
[1030,"CONSULTORES EN AUDITORIAS LEGATUS SA DE CV","CAL190730GL4","VIDRIO 2380 A COL. BARRERA","GUADALAJARA, JALISCO",44150,151,"BBVA 8760 PARTICIPACIONES","TRANSFERENCIA","SERVICIO DE ASESORIA Y CAPACITACION  EN ADMINSTRACION PUBLICA",14500,"2021-12-01","000029E"]
[1031,"ELVA MONROY IBARRA","MOIE610806GEA",".","ATEMAJAC DE BRIZUELA, JAL",45790,151,"BBVA 8760 PARTICIPACIONES","TRANSFERENCIA","CONSUMO DE ALIMENTOS PARA PERSONAL DE ESTE AYUNTAMINTO",2070,"2021-12-16","DFC0C"]
[1032,"DAOSA SA DE CV","DAO0401205W7","AV PLAN DE SAN LUIS 2060 COL LOMAS DE COUNTRY","GUADALAJARA, JALISCO",44610,151,"BBVA 8760 PARTICIPACIONES","TRANSFERENCIA","PAGO DE SERVICIO A URVAN DE ESTE MPIO",6145,"2021-12-20",64704]
[1033,"JAVIER ALBERTO ARRIAGA RUIZ","ARRJ720115364","16 DE SEPTIMBRE 78 B COL CENTRO","ZACOALCO DE TORRES, JALISCO",45750,151,"BBVA 8760 PARTICIPACIONES","TRANSFERENCIA","COMPRA DE AMORTIGUADORES",4000,"2021-12-24",400]
[1034,"IMAGINA E IMPRIME S DE RL CV","IIM1405224A7","LIBERTAD 1010 COL CENTRO","GUADALAJARA JALISCO",44100,151,"BBVA 8760 PARTICIPACIONES","TRANSFERENCIA","COMPRA DE HOJAS MEMBRETADAS",2726,"2021-12-03","4181 A"]
[1035,"ANA ISABEL LIMON MONTES","LIMA6311209N7","JUSTO SIERRA 114 COL CENTRO","ACATLAN DE JAREZ, JAL.",45700,151,"BBVA 8760 PARTICIPACIONES","TRANSFERENCIA","CONSUMO DE ALIMENTOS PARA PERSONAL DE ESTE AYUNTAMINTO",269.99,"2021-12-02","A17783"]

{"sheet":"F11","index":7,"n_rows":212,"n_cols":31,"rows_kept":212,"cut":false,"hidden":false,"merged":[[0,0,0,30],[1,0,1,30],[2,0,2,30],[214,0,214,30],[206,0,207,30],[4,0,4,29],[5,0,6,29],[183,0,184,29],[185,0,186,29],[187,0,188,29],[189,0,190,29],[191,0,192,29],[197,0,198,29],[199,0,200,29],[211,22,212,30],[211,1,212,17],[171,0,172,29],[171,30,172,30],[173,0,174,29],[173,30,174,30],[209,1,210,17],[209,22,210,30],[201,0,202,29],[203,0,204,29],[5,30,6,30],[183,30,184,30],[185,30,186,30],[187,30,188,30],[189,30,190,30],[191,30,192,30],[197,30,198,30],[199,30,200,30],[201,30,202,30],[179,30,180,30],[203,30,204,30],[167,0,168,29],[167,30,168,30],[181,0,182,29],[181,30,182,30],[151,0,152,29],[151,30,152,30],[153,0,154,29],[153,30,154,30],[155,0,156,29],[155,30,156,30],[157,0,158,29],[157,30,158,30],[159,0,160,29],[159,30,160,30],[161,0,162,29],[161,30,162,30],[163,0,164,29],[163,30,164,30],[175,0,176,29],[175,30,176,30],[177,0,178,29],[177,30,178,30],[179,0,180,29],[169,0,170,29],[169,30,170,30],[165,0,166,29],[165,30,166,30],[135,0,136,29],[135,30,136,30],[137,0,138,29],[137,30,138,30],[139,0,140,29],[139,30,140,30],[141,0,142,29],[141,30,142,30],[143,0,144,29],[143,30,144,30],[145,0,146,29],[145,30,146,30],[147,0,148,29],[147,30,148,30],[149,0,150,29],[149,30,150,30],[71,0,72,29],[71,30,72,30],[73,0,74,29],[73,30,74,30],[75,0,76,29],[75,30,76,30],[77,0,78,29],[77,30,78,30],[79,0,80,29],[79,30,80,30],[81,0,82,29],[81,30,82,30],[83,0,84,29],[83,30,84,30],[91,0,92,29],[91,30,92,30],[93,0,94,29],[93,30,94,30],[95,0,96,29],[95,30,96,30],[85,0,86,29],[85,30,86,30],[87,0,88,29],[87,30,88,30],[89,0,90,29],[89,30,90,30],[103,0,104,29],[103,30,104,30],[105,0,106,29],[105,30,106,30],[107,0,108,29],[107,30,108,30],[97,0,98,29],[97,30,98,30],[99,0,100,29],[99,30,100,30],[101,0,102,29],[101,30,102,30],[117,0,118,29],[117,30,118,30],[119,0,120,29],[119,30,120,30],[109,0,110,29],[109,30,110,30],[111,0,112,29],[111,30,112,30],[113,0,114,29],[113,30,114,30],[21,0,22,29],[21,30,22,30],[23,0,24,29],[23,30,24,30],[25,0,26,29],[25,30,26,30],[133,0,134,29],[133,30,134,30],[7,0,8,29],[7,30,8,30],[9,0,10,29],[9,30,10,30],[11,0,12,29],[11,30,12,30],[13,0,14,29],[13,30,14,30],[15,0,16,29],[15,30,16,30],[17,0,18,29],[17,30,18,30],[19,0,20,29],[19,30,20,30],[127,0,128,29],[127,30,128,30],[33,0,34,29],[33,30,34,30],[35,0,36,29],[35,30,36,30],[37,0,38,29],[37,30,38,30],[27,0,28,29],[27,30,28,30],[29,0,30,29],[29,30,30,30],[31,0,32,29],[31,30,32,30],[45,0,46,29],[45,30,46,30],[47,0,48,29],[47,30,48,30],[49,0,50,29],[49,30,50,30],[39,0,40,29],[39,30,40,30],[41,0,42,29],[41,30,42,30],[43,0,44,29],[43,30,44,30],[57,0,58,29],[57,30,58,30],[59,0,60,29],[59,30,60,30],[61,0,62,29],[61,30,62,30],[51,0,52,29],[51,30,52,30],[53,0,54,29],[53,30,54,30],[55,0,56,29],[55,30,56,30],[69,0,70,29],[69,30,70,30],[195,0,196,29],[195,30,196,30],[193,0,194,29],[193,30,194,30],[63,0,64,29],[63,30,64,30],[65,0,66,29],[65,30,66,30],[67,0,68,29],[67,30,68,30],[129,0,130,29],[129,30,130,30],[131,0,132,29],[131,30,132,30],[121,0,122,29],[121,30,122,30],[123,0,124,29],[123,30,124,30],[125,0,126,29],[125,30,126,30],[115,0,116,29],[115,30,116,30]]}
[{"$f":"Validacion!A2","v":"Atemajac de Brizuela"}]
["INFORME SOBRE PASIVOS CONTINGENTES"]
[{"$f":"'F1'!B3","v":"Al 31 de Diciembre de 2021"}]
[]
["DESCRIPCIÓN",{"$nulls":29},"IMPORTE"]
["NO SE CUENTA CON PASIVOS CONTINGENTES"]
{"$rows_empty":200}
["Bajo protesta de decir verdad declaramos que los Estados Financieros y sus Notas son razonablemente correctos y resposabilidad del emisor"]
[]
[]
[null,{"$f":"Validacion!A7","v":"C. SANTIAGO LEON CASTRO"},{"$nulls":20},{"$f":"Validacion!A9","v":"L.T. JOCELYN SANCHEZ HERRERA"}]
[]
[null,"Presidente Municipal o Titular del ente público",{"$nulls":20},"Encargado de la Hacienda Municipal o Responsable de las finanzas del ente público"]

{"sheet":"F7B","index":8,"n_rows":76,"n_cols":8,"rows_kept":76,"cut":false,"hidden":false,"merged":[[38,7,39,7],[39,4,39,6],[69,0,70,7],[75,1,76,2],[75,4,76,7],[73,4,74,7],[73,1,74,2],[0,0,0,7],[1,0,1,7],[2,0,2,7],[4,2,4,6],[4,7,5,7],[4,0,5,1]]}
[{"$f":"Validacion!A2","v":"Atemajac de Brizuela"}]
["ESTADO ANALÍTICO DE INGRESOS DETALLADO - LDF"]
[{"$f":"'F6'!A3","v":"Del 1° de Enero al 31 de Diciembre de 2021"}]
[]
["RUBRO DE INGRESOS",null,"INGRESO",{"$nulls":4},"DIFERENCIA"]
[null,null,"ESTIMADO","AMPLIACIÓN Y REDUCCIÓN","MODIFICADO","DEVENGADO","RECAUDADO"]
["INGRESOS DE LIBRE DISPOSICIÓN"]
["Impuestos",null,{"$f":"Balanza!G796","v":3016201},{"$f":"Balanza!G930","v":0},{"$f":"C8+D8","v":3016201},{"$f":"Balanza!F997","v":4282314.9799999995},{"$f":"Balanza!H1064","v":4282314.9799999995},{"$f":"G8-C8","v":1266113.9799999995}]
["Cuotas y aportaciones de seguridad social ",null,{"$f":"Balanza!G806","v":0},{"$f":"Balanza!G940","v":0},{"$f":"C9+D9","v":0},{"$f":"Balanza!F1007","v":0},{"$f":"Balanza!H1074","v":0},{"$f":"G9-C9","v":0}]
["Contribuciones de mejoras ",null,{"$f":"Balanza!G812","v":0},{"$f":"Balanza!G946","v":0},0,{"$f":"Balanza!F1013","v":0},{"$f":"Balanza!H1080","v":0},0]
["Derechos",null,{"$f":"Balanza!G815","v":1732545},{"$f":"Balanza!G949","v":0},1732545,{"$f":"Balanza!F1016","v":4717158.67},{"$f":"Balanza!H1083","v":4717158.67},2984613.67]
["Productos",null,{"$f":"Balanza!G822","v":164588},{"$f":"Balanza!G956","v":0},164588,{"$f":"Balanza!F1023","v":53968.85},{"$f":"Balanza!H1090","v":53968.85},-110619.15]
["Aprovechamientos",null,{"$f":"Balanza!G826","v":550910},{"$f":"Balanza!G960","v":0},550910,{"$f":"Balanza!F1027","v":592426.06999999995},{"$f":"Balanza!H1094","v":592426.06999999995},41516.069999999949]
["Ingresos por ventas de bienes y servicios ",null,{"$f":"Balanza!G831","v":0},{"$f":"Balanza!G965","v":0},0,{"$f":"Balanza!F1032","v":0},{"$f":"Balanza!H1099","v":0},0]
["Participaciones",null,{"$f":"SUM(C16:C26)","v":23528908},0,23528908,24420587.93,24420587.93,891679.9299999983]
[null,"Fondo general de participaciones",23528908,null,23528908,17159367.489999998,17159367.489999998,{"$f":"G16-C16","v":-6369540.5100000016}]
[null,"Fondo de fomento municipal",null,null,0,4099611.85,4099611.85,4099611.85]
[null,"Fondo de fiscalización y recaudación",null,null,0,232160.82,232160.82,232160.82]
[null,"Fondo de compensación",null,null,0,null,null,0]
[null,"Fondo de extracción de hidrocarburos",null,null,0,null,null,0]
[null,"Impuesto especial sobre producción y servicios",null,null,0,446914.35,446914.35,446914.35]
[null,"0.136% de la recaudación federal participable",null,null,0,null,null,0]
[null,"3.17% sobre extracción del petróleo",null,null,0,null,null,0]
[null,"Gasolinas y diésel",null,null,0,770457.35,770457.35,770457.35]
[null,"Fondo de impuesto sobre la renta",null,null,0,1555537.17,1555537.17,1555537.17]
[null,"Fondo de estabilización de los ingresos de las entidades federativas",null,null,0,156538.9,156538.9,156538.9]
["Incentivos derivados de la colaboración fiscal",null,{"$f":"SUM(C28:C32)","v":0},0,0,465218.26,465218.26,465218.26]
[null,"Tenencia o uso de vehículos",null,null,0,301.58,301.58,{"$f":"G28-C28","v":301.58}]
[null,"Fondo de compensación ISAN",null,null,0,74455.320000000007,74455.320000000007,74455.320000000007]
[null,"Impuesto sobre automóviles nuevos",null,null,0,390461.36,390461.36,390461.36]
[null,"Fondo de compensación de repecos-intermedios",null,null,0,null,null,0]
[null,"Otros incentivos económicos",null,null,0,null,null,0]
["Transferencias",null,{"$f":"Balanza!G849+Balanza!G857","v":0},{"$f":"Balanza!G983+Balanza!G991","v":0},0,{"$f":"Balanza!F1050+Balanza!F1058","v":0},{"$f":"Balanza!H1117+Balanza!H1125","v":0},{"$f":"C33-G33","v":0}]
["Convenios",null,{"$f":"C35","v":3000000},{"$f":"D35","v":0},{"$f":"E35","v":3000000},{"$f":"F35","v":1865390},{"$f":"G35","v":1865390},{"$f":"G34-C34","v":-1134610}]
[null,"Otros convenios y subsidios",{"$f":"Balanza!G844+Balanza!G852","v":3000000},{"$f":"Balanza!G978+Balanza!G986","v":0},3000000,{"$f":"Balanza!F1045+Balanza!F1053","v":1865390},{"$f":"Balanza!H1112+Balanza!H1120","v":1865390},{"$f":"G35-C35","v":-1134610}]
["Otros ingresos de libre disposición",null,{"$f":"SUM(C37:C38)","v":0},0,0,0,0,0]
[null,"Participaciones en ingresos locales",null,null,0,null,null,{"$f":"G37-C37","v":0}]
[null,"Otros ingresos de libre disposición",{"$f":"Balanza!G855","v":0},{"$f":"Balanza!G989","v":0},0,{"$f":"Balanza!F1056","v":0},{"$f":"Balanza!H1123","v":0},0]
[null,"Total de ingresos de libre disposición",{"$f":"C8+C9+C10+C11+C12+C13+C14+C15+C27+C33+C34+C36","v":31993152},0,31993152,36397064.759999998,36397064.759999998,4403912.7599999979]
[{"$nulls":4},"Ingresos excedentes de ingresos de libre disposición"]
["TRANSFERENCIAS FEDERALES ETIQUETADAS"]
["Aportaciones",null,{"$f":"SUM(C43:C50)","v":13005666},0,13005666,12954133.24,12954133.24,-51532.759999999776]
[null,"Fondo de aportaciones para la nómina educativa y gasto operativo",0,0,{"$f":"C43+D43","v":0},0,0,{"$f":"G43-C43","v":0}]
[null,"Fondo de aportaciones para los servicios de salud",0,0,0,0,0,0]
[null,"Fondo de aportaciones para la infraestructura social",8086710,null,8086710,7786787.1600000001,7786787.1600000001,-299922.83999999985]
[null,"Fondo de aportaciones para el fortalecimiento de los municipios y de las demarcaciones territoriales del distrito federal",4918956,null,4918956,5167346.08,5167346.08,248390.08000000007]
[null,"Fondo de aportaciones múltiples",0,0,0,0,0,0]
[null,"Fondo de aportaciones para la educación tecnológica y de adultos",0,0,0,0,0,0]
[null,"Fondo de aportaciones para la seguridad pública de los estados y del distrito federal",0,0,0,0,0,0]
[null,"Fondo de aportaciones para el fortalecimiento de las entidades federativas",0,0,0,0,0,0]
["Convenios",null,{"$f":"SUM(C52:C55)","v":0},{"$f":"SUM(D52:D55)","v":0},0,0,0,0]
[null,"Convenios de protección social en salud",null,null,0,null,null,0]
[null,"Convenios de descentralización",null,null,0,null,null,0]
[null,"Convenios de reasignación",null,null,0,null,null,0]
[null,"Otros convenios y subsidios",null,null,0,null,null,0]
["Fondos distintos de aportaciones",null,{"$f":"C57+C58","v":0},{"$f":"D57+D58","v":0},0,0,0,0]
[null,"Fondo para entidades federativas y municipios productores de hidrocarburos",null,null,0,null,null,0]
[null,"Fondo minero",null,null,0,null,null,0]
["Transferencias, subsidios y subvenciones, y pensiones y jubilaciones",null,{"$f":"Balanza!G850+Balanza!G853","v":0},{"$f":"Balanza!G984+Balanza!G987","v":0},0,{"$f":"Balanza!F1051+Balanza!F1054","v":0},{"$f":"Balanza!H1118+Balanza!H1121","v":0},0]
["Otras transferencias federales etiquetadas",null,0,0,0,0,0,0]
[null,"Total de transferencias federales etiquetadas",{"$f":"C42+C51+C56+C59+C60","v":13005666},{"$f":"D42+D51+D56+D59+D60","v":0},13005666,12954133.24,12954133.24,-51532.759999999776]
["INGRESOS DERIVADOS DE FINANCIAMIENTO"]
[null,"Ingresos derivados de financiamiento",{"$f":"C68","v":0},{"$f":"D68","v":0},0,{"$f":"F68","v":0},{"$f":"G68","v":0},0]
[null,"Total de ingresos ",{"$f":"C39+C61+C63","v":44998818},{"$f":"D39+D61+D63","v":0},44998818,49351198,49351198,{"$f":"H39+H61+H63","v":4352379.9999999981}]
["DATOS INFORMATIVOS"]
[null,"Ingresos derivados de financiamientos con fuente de pago de ingresos de libre disposición",null,null,0,null,null,0]
[null,"Ingresos derivados de financiamientos con fuente de pago de transferencias federales etiquetadas",null,null,0,null,null,0]
[null,"Ingresos derivados de financiamiento",{"$f":"SUM(C66:C67)","v":0},0,0,0,0,0]
[]
["Bajo protesta de decir verdad declaramos que los estados financieros y sus notas, son razonablemente correctos y son responsabilidad del emisor."]
[]
[]
[]
[null,{"$f":"Validacion!A7","v":"C. SANTIAGO LEON CASTRO"},null,null,{"$f":"Validacion!A9","v":"L.T. JOCELYN SANCHEZ HERRERA"}]
[]
[null,"Presidente Municipal o Titular del ente público",null,null,"Encargado de la Hacienda Municipal\n o Responsable de las finanzas del ente público"]

{"sheet":"F18A","index":9,"n_rows":70,"n_cols":7,"rows_kept":70,"cut":false,"hidden":false,"merged":[[63,0,64,6],[67,0,68,1],[67,3,68,5],[69,0,70,1],[69,3,70,5],[0,0,0,6],[1,0,1,6],[2,0,2,6],[3,0,3,6],[5,0,6,0],[5,1,5,5],[5,6,6,6]]}
[{"$f":"Validacion!A2","v":"Atemajac de Brizuela"}]
["ESTADO ANALÍTICO DEL EJERCICIO DEL PRESUPUESTO DE EGRESOS DETALLADO - LDF"]
["CLASIFICACIÓN ADMINISTRATIVA"]
[{"$f":"'F6'!A3","v":"Del 1° de Enero al 31 de Diciembre de 2021"}]
[]
["CONCEPTO","EGRESOS",{"$nulls":4},"SUBEJERCICIO"]
[null,"APROBADO","AMPLIACIONES/\n(REDUCCIONES)","MODIFICADO","DEVENGADO","PAGADO"]
["I. GASTO NO ETIQUETADO"]
["GOBIERNO MUNICIPAL",28993152,null,{"$f":"B9+C9","v":28993152},36095706.439999998,36095706.439999998,{"$f":"D9-E9","v":-7102554.4399999976}]
[null,null,null,{"$f":"B10+C10","v":0},null,null,{"$f":"D10-E10","v":0}]
[null,null,null,0,null,null,0]
[null,null,null,0,null,null,0]
[null,null,null,0,null,null,0]
[null,null,null,0,null,null,0]
[null,null,null,0,null,null,0]
[null,null,null,0,null,null,0]
[null,null,null,0,null,null,0]
[null,null,null,0,null,null,0]
[null,null,null,0,null,null,0]
[null,null,null,0,null,null,0]
[null,null,null,0,null,null,0]
[null,null,null,0,null,null,0]
[null,null,null,0,null,null,0]
[null,null,null,0,null,null,0]
[null,null,null,0,null,null,0]
[null,null,null,0,null,null,0]
[null,null,null,0,null,null,0]
[null,null,null,0,null,null,0]
[null,null,null,0,null,null,0]
[null,null,null,0,null,null,0]
[null,null,null,0,null,null,0]
[null,null,null,0,null,null,0]
[null,null,null,0,null,null,0]
["TOTAL DEL GASTO NO ETIQUETADO",{"$f":"SUM(B8:B33)","v":28993152},{"$f":"SUM(C8:C33)","v":0},28993152,36095706.439999998,36095706.439999998,-7102554.4399999976]
["II. GASTO ETIQUETADO"]
["GOBIERNO MUNICIPAL",16005666,null,{"$f":"B36+C36","v":16005666},12954133.24,12954133.24,{"$f":"D36-E36","v":3051532.76}]
[null,null,null,{"$f":"B37+C37","v":0},null,null,{"$f":"D37-E37","v":0}]
[null,null,null,0,null,null,0]
[null,null,null,0,null,null,0]
[null,null,null,0,null,null,0]
[null,null,null,0,null,null,0]
[null,null,null,0,null,null,0]
[null,null,null,0,null,null,0]
[null,null,null,0,null,null,0]
[null,null,null,0,null,null,0]
[null,null,null,0,null,null,0]
[null,null,null,0,null,null,0]
[null,null,null,0,null,null,0]
[null,null,null,0,null,null,0]
[null,null,null,0,null,null,0]
[null,null,null,0,null,null,0]
[null,null,null,0,null,null,0]
[null,null,null,0,null,null,0]
[null,null,null,0,null,null,0]
[null,null,null,0,null,null,0]
[null,null,null,0,null,null,0]
[null,null,null,0,null,null,0]
[null,null,null,0,null,null,0]
[null,null,null,0,null,null,0]
[null,null,null,0,null,null,0]
["TOTAL DEL GASTO ETIQUETADO",{"$f":"SUM(B35:B60)","v":16005666},{"$f":"SUM(C35:C60)","v":0},16005666,12954133.24,12954133.24,3051532.76]
["TOTAL DEL GASTO",{"$f":"B34+B61","v":44998818},{"$f":"C34+C61","v":0},44998818,49049839.68,49049839.68,-4051021.6799999978]
[]
["Bajo protesta de decir verdad declaramos que los estados financieros y sus notas, son razonablemente correctos y son responsabilidad del emisor."]
[]
[]
[]
[{"$f":"Validacion!A7","v":"C. SANTIAGO LEON CASTRO"},null,null,{"$f":"Validacion!A9","v":"L.T. JOCELYN SANCHEZ HERRERA"}]
[]
["Presidente Municipal o titular del ente público",null,null,"Encargado de la Hacienda Municipal\n o Responsable de las finanzas del ente público"]

{"sheet":"F19A","index":10,"n_rows":83,"n_cols":9,"rows_kept":83,"cut":false,"hidden":false,"merged":[[80,4,81,7],[82,2,83,2],[82,4,83,7],[5,0,6,2],[51,1,51,2],[59,1,59,2],[69,1,69,2],[17,1,17,2],[25,1,25,2],[35,1,35,2],[80,2,81,2],[0,1,0,9],[1,1,1,8],[2,1,2,8],[3,2,3,9],[5,3,5,7],[5,8,6,8]]}
[null,{"$f":"Validacion!A2","v":"Atemajac de Brizuela"}]
[null,"ESTADO ANALÍTICO DEL EJERCICIO DEL PRESUPUESTO DE EGRESOS DETALLADO - LDF"]
[null,"CLASIFICACIÓN FUNCIONAL (FINALIDAD Y FUNCIÓN)"]
[null,null,{"$f":"'F6'!A3","v":"Del 1° de Enero al 31 de Diciembre de 2021"}]
[]
["CONCEPTO",null,null,"EGRESOS",{"$nulls":4},"SUBEJERCICIO"]
[null,null,null,"APROBADO","AMPLIACIONES/\n(REDUCCIONES)","MODIFICADO","DEVENGADO","PAGADO"]
["I","GASTO NO ETIQUETADO"]
[null,"A Gobierno",null,{"$f":"SUM(D10:D17)","v":28993152},{"$f":"SUM(E10:E17)","v":0},{"$f":"D9+E9","v":28993152},{"$f":"SUM(G10:G17)","v":36095706.439999998},36095706.439999998,{"$f":"F9-G9","v":-7102554.4399999976}]
[null,null,"Legislación",null,null,{"$f":"D10+E10","v":0},null,null,{"$f":"F10-G10","v":0}]
[null,null,"Justicia",null,null,0,null,null,0]
[null,null,"Coordinación de la política de gobierno",null,null,0,null,null,0]
[null,null,"Relaciones exteriores",null,null,0,null,null,0]
[null,null,"Asuntos financieros y hacendarios",null,null,0,null,null,0]
[null,null,"Seguridad nacional",null,null,0,null,null,0]
[null,null,"Asuntos de orden público y de seguridad interior",null,null,0,null,null,0]
[null,null,"Otros servicios generales",28993152,null,28993152,36095706.439999998,36095706.439999998,-7102554.4399999976]
[null,"B Desarrollo social",null,{"$f":"SUM(D19:D25)","v":0},{"$f":"SUM(E19:E25)","v":0},0,{"$f":"SUM(G19:G25)","v":0},0,0]
[null,null,"Protección ambiental",null,null,0,null,null,0]
[null,null,"Vivienda y servicios a la comunidad",null,null,0,null,null,0]
[null,null,"Salud",null,null,0,null,null,0]
[null,null,"Recreación, cultura y otras manifestaciones sociales",null,null,0,null,null,0]
[null,null,"Educación",null,null,0,null,null,0]
[null,null,"Protección social",null,null,0,null,null,0]
[null,null,"Otros asuntos sociales",null,null,0,null,null,0]
[null,"C Desarrollo económico",null,{"$f":"SUM(D27:D35)","v":0},{"$f":"SUM(E27:E35)","v":0},0,{"$f":"SUM(G27:G35)","v":0},0,0]
[null,null,"Asuntos económicos, comerciales y laborales en general",null,null,0,null,null,0]
[null,null,"Agropecuaria, silvicultura, pesca y caza",null,null,0,null,null,0]
[null,null,"Combustibles y energía",null,null,0,null,null,0]
[null,null,"Minería, manufacturas y construcción",null,null,0,null,null,0]
[null,null,"Transporte",null,null,0,null,null,0]
[null,null,"Comunicaciones",null,null,0,null,null,0]
[null,null,"Turismo",null,null,0,null,null,0]
[null,null,"Ciencia, tecnología e innovación",null,null,0,null,null,0]
[null,null,"Otras industrias y otros asuntos económicos",null,null,0,null,null,0]
[null,"D Otras no clasificadas en fdunciones anteriores",null,{"$f":"SUM(D37:D40)","v":0},{"$f":"SUM(E37:E40)","v":0},0,{"$f":"SUM(G37:G40)","v":0},{"$f":"SUM(H37:H40)","v":0},0]
[null,null,"Transacciones de la deuda publica / costo financiero de la deuda",null,null,0,null,null,0]
[null,null,"Transferencias, participaciones y aportaciones entre diferentes niveles y órdenes de gobierno",null,null,0,null,null,0]
[null,null,"Saneamiento del sistema financiero",null,null,0,null,null,0]
[null,null,"Adeudos de ejercicios fiscales anteriores",null,null,0,null,null,0]
[null,null,"TOTAL DEL GASTO NO ETIQUETADO",{"$f":"D9+D18+D26+D36","v":28993152},{"$f":"E9+E18+E26+E36","v":0},28993152,{"$f":"G9+G18+G26+G36","v":36095706.439999998},{"$f":"H9+H18+H26+H36","v":36095706.439999998},-7102554.4399999976]
["II","GASTO ETIQUETADO"]
[null,"A Gobierno",null,{"$f":"SUM(D44:D51)","v":16005666},{"$f":"SUM(E44:E51)","v":0},{"$f":"D43+E43","v":16005666},{"$f":"SUM(G44:G51)","v":12954133.24},12954133.24,{"$f":"F43-G43","v":3051532.76}]
[null,null,"Legislación",null,null,{"$f":"D44+E44","v":0},null,null,{"$f":"F44-G44","v":0}]
[null,null,"Justicia",null,null,0,null,null,0]
[null,null,"Coordinación de la política de gobierno",null,null,0,null,null,0]
[null,null,"Relaciones exteriores",null,null,0,null,null,0]
[null,null,"Asuntos financieros y hacendarios",null,null,0,null,null,0]
[null,null,"Seguridad nacional",null,null,0,null,null,0]
[null,null,"Asuntos de orden público y de seguridad interior",null,null,0,null,null,0]
[null,null,"Otros servicios generales",16005666,null,16005666,12954133.24,12954133.24,3051532.76]
[null,"B Desarrollo social",null,{"$f":"SUM(D53:D59)","v":0},{"$f":"SUM(E53:E59)","v":0},0,{"$f":"SUM(G53:G59)","v":0},0,0]
[null,null,"Protección ambiental",null,null,0,null,null,0]
[null,null,"Vivienda y servicios a la comunidad",null,null,0,null,null,0]
[null,null,"Salud",null,null,0,null,null,0]
[null,null,"Recreación, cultura y otras manifestaciones sociales",null,null,0,null,null,0]
[null,null,"Educación",null,null,0,null,null,0]
[null,null,"Protección social",null,null,0,null,null,0]
[null,null,"Otros asuntos sociales",null,null,0,null,null,0]
[null,"C Desarrollo económico",null,{"$f":"SUM(D61:D69)","v":0},{"$f":"SUM(E61:E69)","v":0},0,{"$f":"SUM(G61:G69)","v":0},0,0]
[null,null,"Asuntos económicos, comerciales y laborales en general",null,null,0,null,null,0]
[null,null,"Agropecuaria, silvicultura, pesca y caza",null,null,0,null,null,0]
[null,null,"Combustibles y energía",null,null,0,null,null,0]
[null,null,"Minería, manufacturas y construcción",null,null,0,null,null,0]
[null,null,"Transporte",null,null,0,null,null,0]
[null,null,"Comunicaciones",null,null,0,null,null,0]
[null,null,"Turismo",null,null,0,null,null,0]
[null,null,"Ciencia, tecnología e innovación",null,null,0,null,null,0]
[null,null,"Otras industrias y otros asuntos económicos",null,null,0,null,null,0]
[null,"D Otras no clasificadas en fdunciones anteriores",null,{"$f":"SUM(D71:D74)","v":0},{"$f":"SUM(E71:E74)","v":0},0,{"$f":"SUM(G71:G74)","v":0},{"$f":"SUM(H71:H74)","v":0},0]
[null,null,"Transacciones de la deuda publica / costo financiero de la deuda",null,null,0,null,null,0]
[null,null,"Transferencias, participaciones y aportaciones entre diferentes niveles y órdenes de gobierno",null,null,0,null,null,0]
[null,null,"Saneamiento del sistema financiero",null,null,0,null,null,0]
[null,null,"Adeudos de ejercicios fiscales anteriores",null,null,0,null,null,0]
[null,null,"TOTAL DEL GASTO ETIQUETADO",{"$f":"D43+D52+D60+D70","v":16005666},{"$f":"E43+E52+E60+E70","v":0},{"$f":"D75+E75","v":16005666},{"$f":"G43+G52+G60+G70","v":12954133.24},{"$f":"H43+H52+H60+H70","v":12954133.24},3051532.76]
[null,null,"TOTAL DEL GASTO",{"$f":"D41+D75","v":44998818},{"$f":"E41+E75","v":0},{"$f":"F41+F75","v":44998818},49049839.68,49049839.68,-4051021.6799999978]
[]
[null,"Bajo protesta de decir verdad declaramos que los estados financieros y sus notas, son razonablemente correctos y son responsabilidad del emisor."]
[]
[]
[null,null,{"$f":"Validacion!A7","v":"C. SANTIAGO LEON CASTRO"},null,{"$f":"Validacion!A9","v":"L.T. JOCELYN SANCHEZ HERRERA"}]
[]
[null,null,"Presidente Municipal o titular del ente público",null,"Encargado de la Hacienda Municipal\n o Responsable de las finanzas del ente público"]

{"sheet":"F21","index":11,"n_rows":39,"n_cols":9,"rows_kept":39,"cut":false,"hidden":false,"merged":[[2,0,2,8],[5,0,6,2],[38,2,39,2],[38,5,39,7],[0,0,0,8],[1,0,1,8],[3,0,3,8],[4,0,4,8],[5,3,5,7],[5,8,6,8],[36,2,37,2],[36,5,37,7],[7,1,7,2],[19,1,19,2],[31,1,31,2]]}
[{"$f":"Validacion!A2","v":"Atemajac de Brizuela"}]
["ESTADO ANALÍTICO DEL EJERCICIO DEL PRESPUESTO DE EGRESOS DETALLADO - LDF"]
["CLASIFICACIÓN DE SERVICIOS PERSONALES POR CATEGORÍA"]
[{"$f":"'F6'!A3","v":"Del 1° de Enero al 31 de Diciembre de 2021"}]
[]
["CONCEPTO",null,null,"EGRESOS",{"$nulls":4},"SUBEJERCICIO"]
[null,null,null,"APROBADO","AMPLIACIONES/\n(REDUCCIONES)","MODFICADO","DEVENGADO","PAGADO"]
["I","GASTOS NO ETIQUETADOS"]
[null,"A","Personal administrativo y de servicio público",28993152,null,{"$f":"D9+E9","v":28993152},36095706.439999998,36095706.439999998,{"$f":"F9-G9","v":-7102554.4399999976}]
[null,"B","Magisterio",null,null,{"$f":"D10+E10","v":0},null,null,{"$f":"F10-G10","v":0}]
[null,"C","Servicios de salud",{"$f":"D12+D13","v":0},{"$f":"E12+E13","v":0},0,{"$f":"G12+G13","v":0},{"$f":"H12+H13","v":0},0]
[null,null,"Personal administrativo ",null,null,0,null,null,0]
[null,null,"Personal médico, paramédico y afín",null,null,0,null,null,0]
[null,"D","Seguridad pública",null,null,0,null,null,0]
[null,"E","Gastos asociados a la implementación  de nuevas leyes federales o reformas a las mismas",{"$f":"D16+D17","v":0},{"$f":"E16+E17","v":0},0,{"$f":"G16+G17","v":0},{"$f":"H16+H17","v":0},0]
[null,null,"Nombre del programa o ley",null,null,0,null,null,0]
[null,null,"Nombre del programa o ley",null,null,0,null,null,0]
[null,"F","Sentencias laborales definitivas",null,null,0,null,null,0]
[null,null,"TOTAL DEL GASTO NO ETIQUETADO",{"$f":"D9+D10+D11+D14+D15+D18","v":28993152},{"$f":"E9+E10+E11+E14+E15+E18","v":0},28993152,36095706.439999998,36095706.439999998,-7102554.4399999976]
["II","GASTOS ETIQUETADOS"]
[null,"A","Personal administrativo y de servicio público",16005666,null,{"$f":"D21+E21","v":16005666},12954133.24,12954133.24,{"$f":"F21-G21","v":3051532.76}]
[null,"B","Magisterio",null,null,{"$f":"D22+E22","v":0},null,null,0]
[null,"C","Servicios de salud",{"$f":"D24+D25","v":0},{"$f":"E24+E25","v":0},{"$f":"D23+E23","v":0},{"$f":"G24+G25","v":0},0,0]
[null,null,"Personal administrativo ",null,null,{"$f":"D24+E24","v":0},null,null,0]
[null,null,"Personal médico, paramédico y afín",null,null,0,null,null,0]
[null,"D","Seguridad pública",null,null,{"$f":"D26+E26","v":0},null,null,0]
[null,"E","Gastos asociados a la implementación  de nuevas leyes federales o reformas a las mismas",{"$f":"D28+D29","v":0},{"$f":"E28+E29","v":0},{"$f":"D27+E27","v":0},{"$f":"G28+G29","v":0},0,0]
[null,null,"Nombre del programa o ley",null,null,{"$f":"D28+E28","v":0},null,null,0]
[null,null,"Nombre del programa o ley",null,null,0,null,null,0]
[null,"F","Sentencias laborales definitivas",null,null,{"$f":"D30+E30","v":0},null,null,0]
[null,null,"TOTAL DEL GASTO ETIQUETADO",{"$f":"D21+D22+D23+D26+D27+D30","v":16005666},{"$f":"E21+E22+E23+E26+E27+E30","v":0},{"$f":"D31+E31","v":16005666},{"$f":"G21+G22+G23+G26+G27+G30","v":12954133.24},{"$f":"H21+H22+H23+H26+H27+H30","v":12954133.24},3051532.76]
["III","TOTAL DEL GASTO DE SERVICIOS PERSONALES",null,{"$f":"D19+D31","v":44998818},{"$f":"E19+E31","v":0},{"$f":"F19+F31","v":44998818},49049839.68,49049839.68,{"$f":"F32-G32","v":-4051021.6799999997}]
[]
["Bajo protesta de decir verdad declaramos que los estados financieros y sus notas, son razonablemente correctos y son responsabilidad del emisor."]
[]
[]
[null,null,{"$f":"Validacion!A7","v":"C. SANTIAGO LEON CASTRO"},null,null,{"$f":"Validacion!A9","v":"L.T. JOCELYN SANCHEZ HERRERA"}]
[]
[null,null,"Presidente Municipal o titular del ente público",null,null,"Encargado de la Hacienda Municipal o\nResponsable de las finanzas del ente público"]

{"sheet":"F22","index":12,"n_rows":61,"n_cols":7,"rows_kept":61,"cut":false,"hidden":false,"merged":[[19,0,19,2],[0,0,0,6],[1,0,1,6],[2,0,2,6],[3,0,3,6],[4,0,4,2],[25,0,25,2],[34,0,34,2],[44,0,44,2],[54,0,55,6],[60,2,61,2],[60,4,61,6],[58,2,59,2],[58,4,59,6]]}
[{"$f":"Validacion!A2","v":"Atemajac de Brizuela"}]
["BALANCE PRESUPUESTARIO - LDF"]
[{"$f":"'F6'!A3","v":"Del 1° de Enero al 31 de Diciembre de 2021"}]
[]
["CONCEPTO",null,null,null,"ESTIMADO/\nAPROBADO","DEVENGADO","RECAUDADO/\nPAGADO"]
["A",null,"Ingresos totales",null,{"$f":"SUM(E7:E9)","v":42998818},{"$f":"SUM(F7:F9)","v":46901198},46901198]
[null,"A1","Ingresos de libre disposición",null,{"$f":"F7B!C39","v":31993152},{"$f":"F7B!F39","v":36397064.759999998},{"$f":"F7B!G39","v":36397064.759999998}]
[null,"A2","Transferencias federales etiquetadas",null,{"$f":"F7B!C61","v":13005666},{"$f":"F7B!F61","v":12954133.24},{"$f":"F7B!G61","v":12954133.24}]
[null,"A3","Financiamiento neto",null,{"$f":"E33","v":-2000000},{"$f":"F33","v":-2450000},{"$f":"G33","v":-2450000}]
["B",null,"Egresos presupuestarios",null,{"$f":"SUM(E11:E12)","v":42998818},{"$f":"SUM(F11:F12)","v":46599839.680000007},46599839.680000007]
[null,"B1","Gastos no etiquetado (sin incluir amortización de la deuda pública)",null,{"$f":"F8B!D80-E31","v":26993152},{"$f":"F8B!G80-F31","v":33645706.440000005},{"$f":"F8B!H80-G31","v":33645706.440000005}]
[null,"B2","Gasto etiquetado (sin incluir amortización de la deuda pública)",null,{"$f":"F8B!D154-E32","v":16005666},{"$f":"F8B!G154-F32","v":12954133.24},{"$f":"F8B!H154-G32","v":12954133.24}]
["C",null,"Remanentes del ejercicio anterior",null,{"$f":"SUM(E14:E15)","v":0},{"$f":"SUM(F14:F15)","v":0},0]
[null,"C1","Remanentes de ingresos de libre disposición aplicados en el periodo",null,null,0,0]
[null,"C2","Remanentes de transferencias federales etiquetadas aplicados en el periodo",null,null,0,0]
["I",null,"Balance presupuestario",null,{"$f":"E6-E10+E13","v":0},{"$f":"F6-F10+F13","v":301358.31999999285},301358.31999999285]
["II",null,"Balance presupuestario sin financiamiento neto",null,{"$f":"E16-E9","v":2000000},{"$f":"F16-F9","v":2751358.3199999928},2751358.3199999928]
["III",null,"Balance presupuestario sin financiamiento neto y sin remanentes del ejercicio anterior",null,{"$f":"E17-E13","v":2000000},{"$f":"F17-F13","v":2751358.3199999928},2751358.3199999928]
[]
["CONCEPTO",null,null,null,"APROBADO","DEVENGADO","PAGADO"]
["E",null,"Intereses, comisiones y gastos de la deuda",null,{"$f":"SUM(E22:E23)","v":38455},{"$f":"SUM(F22:F23)","v":38454.21},38454.21]
[null,"E1","Intereses, comisiones y gastos de la deuda con gasto no etiquetado",null,{"$f":"SUM(F8B!D74:D76)","v":38455},{"$f":"SUM(F8B!G74:G76)","v":38454.21},{"$f":"SUM(F8B!H74:H76)","v":38454.21}]
[null,"E2","Intereses, comisiones y gastos de la deuda con gasto etiquetado",null,{"$f":"SUM(F8B!D148:D150)","v":0},{"$f":"SUM(F8B!G148:G150)","v":0},{"$f":"SUM(F8B!H148:H150)","v":0}]
["IV",null,"Balance primario",null,{"$f":"E18+E21","v":2038455},{"$f":"F18+F21","v":2789812.5299999928},2789812.5299999928]
[]
["CONCEPTO",null,null,null,"ESTIMADO/\nAPROBADO","DEVENGADO","RECAUDADO/\nPAGADO"]
["F",null,"Financiamiento ",null,{"$f":"SUM(E28:E29)","v":0},{"$f":"SUM(F28:F29)","v":0},0]
[null,"F1","Financiamiento con fuente de pago de ingresos de libre disposición",null,{"$f":"F7B!C66","v":0},{"$f":"F7B!F66","v":0},{"$f":"F7B!G66","v":0}]
[null,"F2","Financiamiento con fuente de pago de transferencias federales etiquetadas",null,{"$f":"F7B!C67","v":0},{"$f":"F7B!F67","v":0},{"$f":"F7B!G67","v":0}]
["G",null,"Amortización de la deuda",null,{"$f":"SUM(E31:E32)","v":2000000},{"$f":"SUM(F31:F32)","v":2450000},2450000]
[null,"G1","Amortización de la deuda pública con gasto no etiquetado",null,{"$f":"F8B!D73","v":2000000},{"$f":"F8B!G73","v":2450000},{"$f":"F8B!H73","v":2450000}]
[null,"G2","Amortización de la deuda pública con gasto etiquetado",null,{"$f":"F8B!D147","v":0},{"$f":"F8B!G147","v":0},{"$f":"F8B!H147","v":0}]
["A3",null,"Financiamiento Neto",null,{"$f":"E27-E30","v":-2000000},{"$f":"F27-F30","v":-2450000},-2450000]
[]
["CONCEPTO",null,null,null,"ESTIMADO/\nAPROBADO","DEVENGADO","RECAUDADO/\nPAGADO"]
["A1",null,"Ingresos de libre disposición",null,{"$f":"E7","v":31993152},{"$f":"F7","v":36397064.759999998},{"$f":"G7","v":36397064.759999998}]
["A3.1",null,"Financiamiento neto con fuente de pago de ingresos de libre disposición",null,{"$f":"E38-E39","v":-2000000},{"$f":"F38-F39","v":-2450000},{"$f":"G38-G39","v":-2450000}]
[null,"F1","Financiamiento con fuente de pago de ingresos de libre disposición",null,{"$f":"E28","v":0},{"$f":"F28","v":0},{"$f":"G28","v":0}]
[null,"G1","Amortización de la deuda pública con gasto etiquetado",null,{"$f":"E31","v":2000000},{"$f":"F31","v":2450000},{"$f":"G31","v":2450000}]
["B1",null,"Gasto no etiquetado  (sin incluir amortización de la deuda pública)",null,{"$f":"E11","v":26993152},{"$f":"F11","v":33645706.440000005},{"$f":"G11","v":33645706.440000005}]
["C1",null,"Remanente de ingresos de libre disposición aplicados en el periodo",null,null,{"$f":"F14","v":0},{"$f":"G14","v":0}]
["V",null,"Balance presupuestario de recursos disponibles",null,{"$f":"E36+E37-E40+E41","v":3000000},{"$f":"F36+F37-F40+F41","v":301358.31999999285},{"$f":"G36+G37-G40+G41","v":301358.31999999285}]
["VI",null,"Balance presupuestario de recursos disponibles sin financiamiento neto",null,{"$f":"E42-E37","v":5000000},{"$f":"F42-F37","v":2751358.3199999928},{"$f":"G42-G37","v":2751358.3199999928}]
[]
["CONCEPTO",null,null,null,"ESTIMADO/\nAPROBADO","DEVENGADO","RECAUDADO/\nPAGADO"]
["A2",null,"Transferencias federales etiquetadas",null,{"$f":"E8","v":13005666},{"$f":"F8","v":12954133.24},{"$f":"G8","v":12954133.24}]
["A3.2",null,"Financiamiento neto con fuente de pago de transferencias federales etiquetadas",null,{"$f":"E48-E49","v":0},{"$f":"F48-F49","v":0},0]
[null,"F2","Financiamiento con fuente de pago de transferencias federales",null,{"$f":"E29","v":0},{"$f":"F29","v":0},{"$f":"G29","v":0}]
[null,"G2","Amortización de la deuda pública con gasto  etiquetado",null,{"$f":"E32","v":0},{"$f":"F32","v":0},{"$f":"G32","v":0}]
["B2",null,"Gasto  etiquetado  (sin incluir amortización de la deuda pública)",null,{"$f":"E12","v":16005666},{"$f":"F12","v":12954133.24},{"$f":"G12","v":12954133.24}]
["C2",null,"Remanente de transferencias federales etiquetadas aplicados en el periodo",null,null,{"$f":"F15","v":0},{"$f":"G15","v":0}]
["VII",null,"Balance presupuestario de recursos etiquetados",null,{"$f":"E46+E47-E50+E51","v":-3000000},{"$f":"F46+F47-F50+F51","v":0},{"$f":"G46+G47-G50+G51","v":0}]
["VIII",null,"Balance presupuestario de recursos etiquetados sin financiamiento neto",null,{"$f":"E52-E47","v":-3000000},{"$f":"F52-F47","v":0},{"$f":"G52-G47","v":0}]
[]
["Bajo protesta de decir verdad declaramos que los estados financieros y sus notas, son razonablemente correctos y son responsabilidad del emisor."]
[]
[]
[]
[null,null,{"$f":"Validacion!A7","v":"C. SANTIAGO LEON CASTRO"},null,{"$f":"Validacion!A9","v":"L.T. JOCELYN SANCHEZ HERRERA"}]
[]
[null,null,"Presidente Municipal o titular del ente público",null,"Encargado de la Hacienda Municipal o\nResponsable de las finanzas del ente público"]

{"sheet":"F23","index":13,"n_rows":500,"n_cols":23,"rows_kept":500,"cut":false,"hidden":false,"merged":[[4,21,6,22],[0,0,0,22],[1,0,1,22],[2,0,2,22],[4,0,7,0],[4,1,7,1],[4,2,7,2],[4,3,7,3],[6,6,7,6],[6,7,6,9],[4,10,6,12],[4,13,6,14],[4,15,6,18],[4,19,7,19],[4,4,6,5],[4,6,5,9],[4,20,7,20]]}
[{"$f":"Validacion!A2","v":"Atemajac de Brizuela"}]
["INFORMATIVA ANUAL DE OBRAS"]
[{"$f":"'F6'!A3","v":"Del 1° de Enero al 31 de Diciembre de 2021"}]
[]
["NOMBRE DE OBRA O NÚMERO DE ORDEN DE TRABAJO","LOCALIDAD","DESCRIPCIÓN DE LA OBRA U OBJETO DEL CONTRATO","NOMBRE DEL EJECUTOR DE LA OBRA","UBICACIÓN GEOGRÁFICA",null,"MODALIDAD DE EJECUCIÓN",null,null,null,"PLAZO DE EJECUCIÓN",null,null,"PRORROGA Y/O DIFERIMIENTO",null,"ORIGEN DEL RECURSO (MONTO)",null,null,null,"IMPORTE TOTAL DEL PAGO","ESTATUS DE LA OBRA","ENTREGA RECEPCIÓN Y/O MINUTA DE TERMINACIÓIN"]
[]
[{"$nulls":6},"ADMÓN. DIRECTA","CONTRATO"]
[{"$nulls":4},"LATITUD","LONGITUD",null,"ADJ. DIRECTA","CONCURSO SIMPL.","LICITA. PÚBLICA","INICIO","TERMINO","DÍAS NATURALES","SI","NO","PROPIOS","ESTATAL","FISMDF","CONVENIO FEDERAL",null,null,"SI","NO"]
["MANTENIMIENTO TEMPLO DE SAN BARTOLO","ATEMAJAC DE BRIZUELA","MENTENIMIENTO A PARROQUIA","CONSTRUCTORA",0,0,null,"X",null,null,"2021-11-11","2021-12-16",{"$f":"L9-K9","v":35},null,"X",null,null,900000,null,{"$f":"SUM(P9:S9)","v":900000},"Terminada","X"]
["CONTRUCCION DE REDES HIDRO SANITARIAS","ATEMAJAC DE BRIZUELA","CONSTRICCION DE REDES HIDRO SANITARIAS","CONTRUCTORA RUIZ",0,0,null,"X",null,null,"2021-11-29","2021-12-31",{"$f":"L10-K10","v":32},null,"X",null,null,543544.99,null,{"$f":"SUM(P10:S10)","v":543544.99},"Terminada","X"]
["MANTENIMIENTO POZO PUEBLO NUEVO","PUEBLO NUEVO","POZO PUEBLO NUEVO","ND",0,0,null,"X",null,null,"2021-12-01","2021-12-31",30,null,"X",null,null,77363.66,null,77363.66,"Terminada","X"]
["REHABILITACION POZO PLAN","ATEMAJAC DE BRIZUELA","REHABILITACION POZO PLAN","ND",0,0,null,"X",null,null,"2021-12-01","2021-12-31",30,null,"X",null,null,80296.81,null,80296.81,"Terminada","X"]
["MANTENIMIENTO POZO ATEMAJAC","ATEMAJAC DE BRIZUELA","REHABILITACION POZO ATEMAJAC","ND",0,0,null,"X",null,null,"2021-12-01","2021-12-31",30,null,"X",null,null,77440,null,77440,"Terminada","X"]
[{"$nulls":12},0,{"$nulls":6},0]
[{"$nulls":12},0,{"$nulls":6},0]
[{"$nulls":12},0,{"$nulls":6},0]
[{"$nulls":12},0,{"$nulls":6},0]
[{"$nulls":12},0,{"$nulls":6},0]
[{"$nulls":12},0,{"$nulls":6},0]
[{"$nulls":12},0,{"$nulls":6},0]
[{"$nulls":12},0,{"$nulls":6},0]
[{"$nulls":12},0,{"$nulls":6},0]
[{"$nulls":12},0,{"$nulls":6},0]
[{"$nulls":12},0,{"$nulls":6},0]
[{"$nulls":12},0,{"$nulls":6},0]
[{"$nulls":12},0,{"$nulls":6},0]
[{"$nulls":12},0,{"$nulls":6},0]
[{"$nulls":12},0,{"$nulls":6},0]
[{"$nulls":12},0,{"$nulls":6},0]
[{"$nulls":12},0,{"$nulls":6},0]
[{"$nulls":12},0,{"$nulls":6},0]
[{"$nulls":12},0,{"$nulls":6},0]
[{"$nulls":12},0,{"$nulls":6},0]
[{"$nulls":12},0,{"$nulls":6},0]
[{"$nulls":12},0,{"$nulls":6},0]
[{"$nulls":12},0,{"$nulls":6},0]
[{"$nulls":12},0,{"$nulls":6},0]
[{"$nulls":12},0,{"$nulls":6},0]
[{"$nulls":12},0,{"$nulls":6},0]
[{"$nulls":12},0,{"$nulls":6},0]
[{"$nulls":12},0,{"$nulls":6},0]
[{"$nulls":12},0,{"$nulls":6},0]
[{"$nulls":12},0,{"$nulls":6},0]
[{"$nulls":12},0,{"$nulls":6},0]
[{"$nulls":12},0,{"$nulls":6},0]
[{"$nulls":12},0,{"$nulls":6},0]
[{"$nulls":12},0,{"$nulls":6},0]
[{"$nulls":12},0,{"$nulls":6},0]
[{"$nulls":12},0,{"$nulls":6},0]
[{"$nulls":12},0,{"$nulls":6},0]
[{"$nulls":12},0,{"$nulls":6},0]
[{"$nulls":12},0,{"$nulls":6},0]
[{"$nulls":12},0,{"$nulls":6},0]
[{"$nulls":12},0,{"$nulls":6},0]
[{"$nulls":12},0,{"$nulls":6},0]
[{"$nulls":12},0,{"$nulls":6},0]
[{"$nulls":12},0,{"$nulls":6},0]
[{"$nulls":12},0,{"$nulls":6},0]
[{"$nulls":12},0,{"$nulls":6},0]
[{"$nulls":12},0,{"$nulls":6},0]
[{"$nulls":12},0,{"$nulls":6},0]
[{"$nulls":12},0,{"$nulls":6},0]
[{"$nulls":12},0,{"$nulls":6},0]
[{"$nulls":12},0,{"$nulls":6},0]
[{"$nulls":12},0,{"$nulls":6},0]
[{"$nulls":12},0,{"$nulls":6},0]
[{"$nulls":12},0,{"$nulls":6},0]
[{"$nulls":12},0,{"$nulls":6},0]
[{"$nulls":12},0,{"$nulls":6},0]
[{"$nulls":12},0,{"$nulls":6},0]
[{"$nulls":12},0,{"$nulls":6},0]
[{"$nulls":12},0,{"$nulls":6},0]
[{"$nulls":12},0,{"$nulls":6},0]
[{"$nulls":12},{"$f":"L74-K74","v":0},{"$nulls":6},{"$f":"SUM(P74:S74)","v":0}]
[{"$nulls":12},0,{"$nulls":6},0]
[{"$nulls":12},0,{"$nulls":6},0]
[{"$nulls":12},0,{"$nulls":6},0]
[{"$nulls":12},0,{"$nulls":6},0]
[{"$nulls":12},0,{"$nulls":6},0]
[{"$nulls":12},0,{"$nulls":6},0]
[{"$nulls":12},0,{"$nulls":6},0]
[{"$nulls":12},0,{"$nulls":6},0]
[{"$nulls":12},0,{"$nulls":6},0]
[{"$nulls":12},0,{"$nulls":6},0]
[{"$nulls":12},0,{"$nulls":6},0]
[{"$nulls":12},0,{"$nulls":6},0]
[{"$nulls":12},0,{"$nulls":6},0]
[{"$nulls":12},0,{"$nulls":6},0]
[{"$nulls":12},0,{"$nulls":6},0]
[{"$nulls":12},0,{"$nulls":6},0]
[{"$nulls":12},0,{"$nulls":6},0]
[{"$nulls":12},0,{"$nulls":6},0]
[{"$nulls":12},0,{"$nulls":6},0]
[{"$nulls":12},0,{"$nulls":6},0]
[{"$nulls":12},0,{"$nulls":6},0]
[{"$nulls":12},0,{"$nulls":6},0]
[{"$nulls":12},0,{"$nulls":6},0]
[{"$nulls":12},0,{"$nulls":6},0]
[{"$nulls":12},0,{"$nulls":6},0]
[{"$nulls":12},0,{"$nulls":6},0]
[{"$nulls":12},0,{"$nulls":6},0]
[{"$nulls":12},0,{"$nulls":6},0]
[{"$nulls":12},0,{"$nulls":6},0]
[{"$nulls":12},0,{"$nulls":6},0]
[{"$nulls":12},0,{"$nulls":6},0]
[{"$nulls":12},0,{"$nulls":6},0]
[{"$nulls":12},0,{"$nulls":6},0]
[{"$nulls":12},0,{"$nulls":6},0]
[{"$nulls":12},0,{"$nulls":6},0]
[{"$nulls":12},0,{"$nulls":6},0]
[{"$nulls":12},0,{"$nulls":6},0]
[{"$nulls":12},0,{"$nulls":6},0]
[{"$nulls":12},0,{"$nulls":6},0]
[{"$nulls":12},0,{"$nulls":6},0]
[{"$nulls":12},0,{"$nulls":6},0]
[{"$nulls":12},0,{"$nulls":6},0]
[{"$nulls":12},0,{"$nulls":6},0]
[{"$nulls":12},0,{"$nulls":6},0]
[{"$nulls":12},0,{"$nulls":6},0]
[{"$nulls":12},0,{"$nulls":6},0]
[{"$nulls":12},0,{"$nulls":6},0]
[{"$nulls":12},0,{"$nulls":6},0]
[{"$nulls":12},0,{"$nulls":6},0]
[{"$nulls":12},0,{"$nulls":6},0]
[{"$nulls":12},0,{"$nulls":6},0]
[{"$nulls":12},0,{"$nulls":6},0]
[{"$nulls":12},0,{"$nulls":6},0]
[{"$nulls":12},0,{"$nulls":6},0]
[{"$nulls":12},0,{"$nulls":6},0]
[{"$nulls":12},0,{"$nulls":6},0]
[{"$nulls":12},0,{"$nulls":6},0]
[{"$nulls":12},0,{"$nulls":6},0]
[{"$nulls":12},0,{"$nulls":6},0]
[{"$nulls":12},0,{"$nulls":6},0]
[{"$nulls":12},0,{"$nulls":6},0]
[{"$nulls":12},0,{"$nulls":6},0]
[{"$nulls":12},0,{"$nulls":6},0]
[{"$nulls":12},{"$f":"L138-K138","v":0},{"$nulls":6},{"$f":"SUM(P138:S138)","v":0}]
[{"$nulls":12},0,{"$nulls":6},0]
[{"$nulls":12},0,{"$nulls":6},0]
[{"$nulls":12},0,{"$nulls":6},0]
[{"$nulls":12},0,{"$nulls":6},0]
[{"$nulls":12},0,{"$nulls":6},0]
[{"$nulls":12},0,{"$nulls":6},0]
[{"$nulls":12},0,{"$nulls":6},0]
[{"$nulls":12},0,{"$nulls":6},0]
[{"$nulls":12},0,{"$nulls":6},0]
[{"$nulls":12},0,{"$nulls":6},0]
[{"$nulls":12},0,{"$nulls":6},0]
[{"$nulls":12},0,{"$nulls":6},0]
[{"$nulls":12},0,{"$nulls":6},0]
[{"$nulls":12},0,{"$nulls":6},0]
[{"$nulls":12},0,{"$nulls":6},0]
[{"$nulls":12},0,{"$nulls":6},0]
[{"$nulls":12},0,{"$nulls":6},0]
[{"$nulls":12},0,{"$nulls":6},0]
[{"$nulls":12},0,{"$nulls":6},0]
[{"$nulls":12},0,{"$nulls":6},0]
[{"$nulls":12},0,{"$nulls":6},0]
[{"$nulls":12},0,{"$nulls":6},0]
[{"$nulls":12},0,{"$nulls":6},0]
[{"$nulls":12},0,{"$nulls":6},0]
[{"$nulls":12},0,{"$nulls":6},0]
[{"$nulls":12},0,{"$nulls":6},0]
[{"$nulls":12},0,{"$nulls":6},0]
[{"$nulls":12},0,{"$nulls":6},0]
[{"$nulls":12},0,{"$nulls":6},0]
[{"$nulls":12},0,{"$nulls":6},0]
[{"$nulls":12},0,{"$nulls":6},0]
[{"$nulls":12},0,{"$nulls":6},0]
[{"$nulls":12},0,{"$nulls":6},0]
[{"$nulls":12},0,{"$nulls":6},0]
[{"$nulls":12},0,{"$nulls":6},0]
[{"$nulls":12},0,{"$nulls":6},0]
[{"$nulls":12},0,{"$nulls":6},0]
[{"$nulls":12},0,{"$nulls":6},0]
[{"$nulls":12},0,{"$nulls":6},0]
[{"$nulls":12},0,{"$nulls":6},0]
[{"$nulls":12},0,{"$nulls":6},0]
[{"$nulls":12},0,{"$nulls":6},0]
[{"$nulls":12},0,{"$nulls":6},0]
[{"$nulls":12},0,{"$nulls":6},0]
[{"$nulls":12},0,{"$nulls":6},0]
[{"$nulls":12},0,{"$nulls":6},0]
[{"$nulls":12},0,{"$nulls":6},0]
[{"$nulls":12},0,{"$nulls":6},0]
[{"$nulls":12},0,{"$nulls":6},0]
[{"$nulls":12},0,{"$nulls":6},0]
[{"$nulls":12},0,{"$nulls":6},0]
[{"$nulls":12},0,{"$nulls":6},0]
[{"$nulls":12},0,{"$nulls":6},0]
[{"$nulls":12},0,{"$nulls":6},0]
[{"$nulls":12},0,{"$nulls":6},0]
[{"$nulls":12},0,{"$nulls":6},0]
[{"$nulls":12},0,{"$nulls":6},0]
[{"$nulls":12},0,{"$nulls":6},0]
[{"$nulls":12},0,{"$nulls":6},0]
[{"$nulls":12},0,{"$nulls":6},0]
[{"$nulls":12},0,{"$nulls":6},0]
[{"$nulls":12},0,{"$nulls":6},0]
[{"$nulls":12},0,{"$nulls":6},0]
[{"$nulls":12},{"$f":"L202-K202","v":0},{"$nulls":6},{"$f":"SUM(P202:S202)","v":0}]
[{"$nulls":12},0,{"$nulls":6},0]
[{"$nulls":12},0,{"$nulls":6},0]
[{"$nulls":12},0,{"$nulls":6},0]
[{"$nulls":12},0,{"$nulls":6},0]
[{"$nulls":12},0,{"$nulls":6},0]
[{"$nulls":12},0,{"$nulls":6},0]
[{"$nulls":12},0,{"$nulls":6},0]
[{"$nulls":12},0,{"$nulls":6},0]
[{"$nulls":12},0,{"$nulls":6},0]
[{"$nulls":12},0,{"$nulls":6},0]
[{"$nulls":12},0,{"$nulls":6},0]
[{"$nulls":12},0,{"$nulls":6},0]
[{"$nulls":12},0,{"$nulls":6},0]
[{"$nulls":12},0,{"$nulls":6},0]
[{"$nulls":12},0,{"$nulls":6},0]
[{"$nulls":12},0,{"$nulls":6},0]
[{"$nulls":12},0,{"$nulls":6},0]
[{"$nulls":12},0,{"$nulls":6},0]
[{"$nulls":12},0,{"$nulls":6},0]
[{"$nulls":12},0,{"$nulls":6},0]
[{"$nulls":12},0,{"$nulls":6},0]
[{"$nulls":12},0,{"$nulls":6},0]
[{"$nulls":12},0,{"$nulls":6},0]
[{"$nulls":12},0,{"$nulls":6},0]
[{"$nulls":12},0,{"$nulls":6},0]
[{"$nulls":12},0,{"$nulls":6},0]
[{"$nulls":12},0,{"$nulls":6},0]
[{"$nulls":12},0,{"$nulls":6},0]
[{"$nulls":12},0,{"$nulls":6},0]
[{"$nulls":12},0,{"$nulls":6},0]
[{"$nulls":12},0,{"$nulls":6},0]
[{"$nulls":12},0,{"$nulls":6},0]
[{"$nulls":12},0,{"$nulls":6},0]
[{"$nulls":12},0,{"$nulls":6},0]
[{"$nulls":12},0,{"$nulls":6},0]
[{"$nulls":12},0,{"$nulls":6},0]
[{"$nulls":12},0,{"$nulls":6},0]
[{"$nulls":12},0,{"$nulls":6},0]
[{"$nulls":12},0,{"$nulls":6},0]
[{"$nulls":12},0,{"$nulls":6},0]
[{"$nulls":12},0,{"$nulls":6},0]
[{"$nulls":12},0,{"$nulls":6},0]
[{"$nulls":12},0,{"$nulls":6},0]
[{"$nulls":12},0,{"$nulls":6},0]
[{"$nulls":12},0,{"$nulls":6},0]
[{"$nulls":12},0,{"$nulls":6},0]
[{"$nulls":12},0,{"$nulls":6},0]
[{"$nulls":12},0,{"$nulls":6},0]
[{"$nulls":12},0,{"$nulls":6},0]
[{"$nulls":12},0,{"$nulls":6},0]
[{"$nulls":12},0,{"$nulls":6},0]
[{"$nulls":12},0,{"$nulls":6},0]
[{"$nulls":12},0,{"$nulls":6},0]
[{"$nulls":12},0,{"$nulls":6},0]
[{"$nulls":12},0,{"$nulls":6},0]
[{"$nulls":12},0,{"$nulls":6},0]
[{"$nulls":12},0,{"$nulls":6},0]
[{"$nulls":12},0,{"$nulls":6},0]
[{"$nulls":12},0,{"$nulls":6},0]
[{"$nulls":12},0,{"$nulls":6},0]
[{"$nulls":12},0,{"$nulls":6},0]
[{"$nulls":12},0,{"$nulls":6},0]
[{"$nulls":12},0,{"$nulls":6},0]
[{"$nulls":12},{"$f":"L266-K266","v":0},{"$nulls":6},{"$f":"SUM(P266:S266)","v":0}]
[{"$nulls":12},0,{"$nulls":6},0]
[{"$nulls":12},0,{"$nulls":6},0]
[{"$nulls":12},0,{"$nulls":6},0]
[{"$nulls":12},0,{"$nulls":6},0]
[{"$nulls":12},0,{"$nulls":6},0]
[{"$nulls":12},0,{"$nulls":6},0]
[{"$nulls":12},0,{"$nulls":6},0]
[{"$nulls":12},0,{"$nulls":6},0]
[{"$nulls":12},0,{"$nulls":6},0]
[{"$nulls":12},0,{"$nulls":6},0]
[{"$nulls":12},0,{"$nulls":6},0]
[{"$nulls":12},0,{"$nulls":6},0]
[{"$nulls":12},0,{"$nulls":6},0]
[{"$nulls":12},0,{"$nulls":6},0]
[{"$nulls":12},0,{"$nulls":6},0]
[{"$nulls":12},0,{"$nulls":6},0]
[{"$nulls":12},0,{"$nulls":6},0]
[{"$nulls":12},0,{"$nulls":6},0]
[{"$nulls":12},0,{"$nulls":6},0]
[{"$nulls":12},0,{"$nulls":6},0]
[{"$nulls":12},0,{"$nulls":6},0]
[{"$nulls":12},0,{"$nulls":6},0]
[{"$nulls":12},0,{"$nulls":6},0]
[{"$nulls":12},0,{"$nulls":6},0]
[{"$nulls":12},0,{"$nulls":6},0]
[{"$nulls":12},0,{"$nulls":6},0]
[{"$nulls":12},0,{"$nulls":6},0]
[{"$nulls":12},0,{"$nulls":6},0]
[{"$nulls":12},0,{"$nulls":6},0]
[{"$nulls":12},0,{"$nulls":6},0]
[{"$nulls":12},0,{"$nulls":6},0]
[{"$nulls":12},0,{"$nulls":6},0]
[{"$nulls":12},0,{"$nulls":6},0]
[{"$nulls":12},0,{"$nulls":6},0]
[{"$nulls":12},0,{"$nulls":6},0]
[{"$nulls":12},0,{"$nulls":6},0]
[{"$nulls":12},0,{"$nulls":6},0]
[{"$nulls":12},0,{"$nulls":6},0]
[{"$nulls":12},0,{"$nulls":6},0]
[{"$nulls":12},0,{"$nulls":6},0]
[{"$nulls":12},0,{"$nulls":6},0]
[{"$nulls":12},0,{"$nulls":6},0]
[{"$nulls":12},0,{"$nulls":6},0]
[{"$nulls":12},0,{"$nulls":6},0]
[{"$nulls":12},0,{"$nulls":6},0]
[{"$nulls":12},0,{"$nulls":6},0]
[{"$nulls":12},0,{"$nulls":6},0]
[{"$nulls":12},0,{"$nulls":6},0]
[{"$nulls":12},0,{"$nulls":6},0]
[{"$nulls":12},0,{"$nulls":6},0]
[{"$nulls":12},0,{"$nulls":6},0]
[{"$nulls":12},0,{"$nulls":6},0]
[{"$nulls":12},0,{"$nulls":6},0]
[{"$nulls":12},0,{"$nulls":6},0]
[{"$nulls":12},0,{"$nulls":6},0]
[{"$nulls":12},0,{"$nulls":6},0]
[{"$nulls":12},0,{"$nulls":6},0]
[{"$nulls":12},0,{"$nulls":6},0]
[{"$nulls":12},0,{"$nulls":6},0]
[{"$nulls":12},0,{"$nulls":6},0]
[{"$nulls":12},0,{"$nulls":6},0]
[{"$nulls":12},0,{"$nulls":6},0]
[{"$nulls":12},0,{"$nulls":6},0]
[{"$nulls":12},{"$f":"L330-K330","v":0},{"$nulls":6},{"$f":"SUM(P330:S330)","v":0}]
[{"$nulls":12},0,{"$nulls":6},0]
[{"$nulls":12},0,{"$nulls":6},0]
[{"$nulls":12},0,{"$nulls":6},0]
[{"$nulls":12},0,{"$nulls":6},0]
[{"$nulls":12},0,{"$nulls":6},0]
[{"$nulls":12},0,{"$nulls":6},0]
[{"$nulls":12},0,{"$nulls":6},0]
[{"$nulls":12},0,{"$nulls":6},0]
[{"$nulls":12},0,{"$nulls":6},0]
[{"$nulls":12},0,{"$nulls":6},0]
[{"$nulls":12},0,{"$nulls":6},0]
[{"$nulls":12},0,{"$nulls":6},0]
[{"$nulls":12},0,{"$nulls":6},0]
[{"$nulls":12},0,{"$nulls":6},0]
[{"$nulls":12},0,{"$nulls":6},0]
[{"$nulls":12},0,{"$nulls":6},0]
[{"$nulls":12},0,{"$nulls":6},0]
[{"$nulls":12},0,{"$nulls":6},0]
[{"$nulls":12},0,{"$nulls":6},0]
[{"$nulls":12},0,{"$nulls":6},0]
[{"$nulls":12},0,{"$nulls":6},0]
[{"$nulls":12},0,{"$nulls":6},0]
[{"$nulls":12},0,{"$nulls":6},0]
[{"$nulls":12},0,{"$nulls":6},0]
[{"$nulls":12},0,{"$nulls":6},0]
[{"$nulls":12},0,{"$nulls":6},0]
[{"$nulls":12},0,{"$nulls":6},0]
[{"$nulls":12},0,{"$nulls":6},0]
[{"$nulls":12},0,{"$nulls":6},0]
[{"$nulls":12},0,{"$nulls":6},0]
[{"$nulls":12},0,{"$nulls":6},0]
[{"$nulls":12},0,{"$nulls":6},0]
[{"$nulls":12},0,{"$nulls":6},0]
[{"$nulls":12},0,{"$nulls":6},0]
[{"$nulls":12},0,{"$nulls":6},0]
[{"$nulls":12},0,{"$nulls":6},0]
[{"$nulls":12},0,{"$nulls":6},0]
[{"$nulls":12},0,{"$nulls":6},0]
[{"$nulls":12},0,{"$nulls":6},0]
[{"$nulls":12},0,{"$nulls":6},0]
[{"$nulls":12},0,{"$nulls":6},0]
[{"$nulls":12},0,{"$nulls":6},0]
[{"$nulls":12},0,{"$nulls":6},0]
[{"$nulls":12},0,{"$nulls":6},0]
[{"$nulls":12},0,{"$nulls":6},0]
[{"$nulls":12},0,{"$nulls":6},0]
[{"$nulls":12},0,{"$nulls":6},0]
[{"$nulls":12},0,{"$nulls":6},0]
[{"$nulls":12},0,{"$nulls":6},0]
[{"$nulls":12},0,{"$nulls":6},0]
[{"$nulls":12},0,{"$nulls":6},0]
[{"$nulls":12},0,{"$nulls":6},0]
[{"$nulls":12},0,{"$nulls":6},0]
[{"$nulls":12},0,{"$nulls":6},0]
[{"$nulls":12},0,{"$nulls":6},0]
[{"$nulls":12},0,{"$nulls":6},0]
[{"$nulls":12},0,{"$nulls":6},0]
[{"$nulls":12},0,{"$nulls":6},0]
[{"$nulls":12},0,{"$nulls":6},0]
[{"$nulls":12},0,{"$nulls":6},0]
[{"$nulls":12},0,{"$nulls":6},0]
[{"$nulls":12},0,{"$nulls":6},0]
[{"$nulls":12},0,{"$nulls":6},0]
[{"$nulls":12},{"$f":"L394-K394","v":0},{"$nulls":6},{"$f":"SUM(P394:S394)","v":0}]
[{"$nulls":12},0,{"$nulls":6},0]
[{"$nulls":12},0,{"$nulls":6},0]
[{"$nulls":12},0,{"$nulls":6},0]
[{"$nulls":12},0,{"$nulls":6},0]
[{"$nulls":12},0,{"$nulls":6},0]
[{"$nulls":12},0,{"$nulls":6},0]
[{"$nulls":12},0,{"$nulls":6},0]
[{"$nulls":12},0,{"$nulls":6},0]
[{"$nulls":12},0,{"$nulls":6},0]
[{"$nulls":12},0,{"$nulls":6},0]
[{"$nulls":12},0,{"$nulls":6},0]
[{"$nulls":12},0,{"$nulls":6},0]
[{"$nulls":12},0,{"$nulls":6},0]
[{"$nulls":12},0,{"$nulls":6},0]
[{"$nulls":12},0,{"$nulls":6},0]
[{"$nulls":12},0,{"$nulls":6},0]
[{"$nulls":12},0,{"$nulls":6},0]
[{"$nulls":12},0,{"$nulls":6},0]
[{"$nulls":12},0,{"$nulls":6},0]
[{"$nulls":12},0,{"$nulls":6},0]
[{"$nulls":12},0,{"$nulls":6},0]
[{"$nulls":12},0,{"$nulls":6},0]
[{"$nulls":12},0,{"$nulls":6},0]
[{"$nulls":12},0,{"$nulls":6},0]
[{"$nulls":12},0,{"$nulls":6},0]
[{"$nulls":12},0,{"$nulls":6},0]
[{"$nulls":12},0,{"$nulls":6},0]
[{"$nulls":12},0,{"$nulls":6},0]
[{"$nulls":12},0,{"$nulls":6},0]
[{"$nulls":12},0,{"$nulls":6},0]
[{"$nulls":12},0,{"$nulls":6},0]
[{"$nulls":12},0,{"$nulls":6},0]
[{"$nulls":12},0,{"$nulls":6},0]
[{"$nulls":12},0,{"$nulls":6},0]
[{"$nulls":12},0,{"$nulls":6},0]
[{"$nulls":12},0,{"$nulls":6},0]
[{"$nulls":12},0,{"$nulls":6},0]
[{"$nulls":12},0,{"$nulls":6},0]
[{"$nulls":12},0,{"$nulls":6},0]
[{"$nulls":12},0,{"$nulls":6},0]
[{"$nulls":12},0,{"$nulls":6},0]
[{"$nulls":12},0,{"$nulls":6},0]
[{"$nulls":12},0,{"$nulls":6},0]
[{"$nulls":12},0,{"$nulls":6},0]
[{"$nulls":12},0,{"$nulls":6},0]
[{"$nulls":12},0,{"$nulls":6},0]
[{"$nulls":12},0,{"$nulls":6},0]
[{"$nulls":12},0,{"$nulls":6},0]
[{"$nulls":12},0,{"$nulls":6},0]
[{"$nulls":12},0,{"$nulls":6},0]
[{"$nulls":12},0,{"$nulls":6},0]
[{"$nulls":12},0,{"$nulls":6},0]
[{"$nulls":12},0,{"$nulls":6},0]
[{"$nulls":12},0,{"$nulls":6},0]
[{"$nulls":12},0,{"$nulls":6},0]
[{"$nulls":12},0,{"$nulls":6},0]
[{"$nulls":12},0,{"$nulls":6},0]
[{"$nulls":12},0,{"$nulls":6},0]
[{"$nulls":12},0,{"$nulls":6},0]
[{"$nulls":12},0,{"$nulls":6},0]
[{"$nulls":12},0,{"$nulls":6},0]
[{"$nulls":12},0,{"$nulls":6},0]
[{"$nulls":12},0,{"$nulls":6},0]
[{"$nulls":12},{"$f":"L458-K458","v":0},{"$nulls":6},{"$f":"SUM(P458:S458)","v":0}]
[{"$nulls":12},0,{"$nulls":6},0]
[{"$nulls":12},0,{"$nulls":6},0]
[{"$nulls":12},0,{"$nulls":6},0]
[{"$nulls":12},0,{"$nulls":6},0]
[{"$nulls":12},0,{"$nulls":6},0]
[{"$nulls":12},0,{"$nulls":6},0]
[{"$nulls":12},0,{"$nulls":6},0]
[{"$nulls":12},0,{"$nulls":6},0]
[{"$nulls":12},0,{"$nulls":6},0]
[{"$nulls":12},0,{"$nulls":6},0]
[{"$nulls":12},0,{"$nulls":6},0]
[{"$nulls":12},0,{"$nulls":6},0]
[{"$nulls":12},0,{"$nulls":6},0]
[{"$nulls":12},0,{"$nulls":6},0]
[{"$nulls":12},0,{"$nulls":6},0]
[{"$nulls":12},0,{"$nulls":6},0]
[{"$nulls":12},0,{"$nulls":6},0]
[{"$nulls":12},0,{"$nulls":6},0]
[{"$nulls":12},0,{"$nulls":6},0]
[{"$nulls":12},0,{"$nulls":6},0]
[{"$nulls":12},0,{"$nulls":6},0]
[{"$nulls":12},0,{"$nulls":6},0]
[{"$nulls":12},0,{"$nulls":6},0]
[{"$nulls":12},0,{"$nulls":6},0]
[{"$nulls":12},0,{"$nulls":6},0]
[{"$nulls":12},0,{"$nulls":6},0]
[{"$nulls":12},0,{"$nulls":6},0]
[{"$nulls":12},0,{"$nulls":6},0]
[{"$nulls":12},0,{"$nulls":6},0]
[{"$nulls":12},0,{"$nulls":6},0]
[{"$nulls":12},0,{"$nulls":6},0]
[{"$nulls":12},0,{"$nulls":6},0]
[{"$nulls":12},0,{"$nulls":6},0]
[{"$nulls":12},0,{"$nulls":6},0]
[{"$nulls":12},0,{"$nulls":6},0]
[{"$nulls":12},0,{"$nulls":6},0]
[{"$nulls":12},0,{"$nulls":6},0]
[{"$nulls":12},0,{"$nulls":6},0]
[{"$nulls":12},0,{"$nulls":6},0]
[{"$nulls":12},0,{"$nulls":6},0]
[{"$nulls":12},0,{"$nulls":6},0]
[{"$nulls":12},0,{"$nulls":6},0]

{"sheet":"F1","index":14,"n_rows":120,"n_cols":66,"rows_kept":120,"cut":false,"hidden":false,"merged":[[0,1,0,65],[1,1,1,65],[2,1,2,65],[4,1,4,30],[4,34,4,63],[5,1,5,30],[5,34,5,63],[104,50,104,63],[9,1,9,30],[9,34,9,63],[10,1,10,30],[10,34,10,63],[11,1,11,30],[11,34,11,63],[6,1,6,30],[6,34,6,63],[7,1,7,30],[7,34,7,63],[8,1,8,30],[8,34,8,63],[15,1,15,30],[15,34,15,63],[16,1,16,30],[16,34,16,63],[17,1,17,30],[17,34,17,63],[12,1,12,30],[12,34,12,63],[13,1,13,30],[13,34,13,63],[14,1,14,30],[14,34,14,63],[21,1,21,30],[21,34,21,63],[22,1,22,30],[22,34,22,63],[23,1,23,30],[23,34,23,63],[18,1,18,30],[18,34,18,63],[19,1,19,30],[19,34,19,63],[20,1,20,30],[20,34,20,63],[27,1,27,30],[27,34,27,63],[28,1,28,30],[28,34,28,63],[29,1,29,30],[29,34,29,63],[24,1,24,30],[24,34,24,63],[25,1,25,30],[25,34,25,63],[26,1,26,30],[26,34,26,63],[33,1,33,30],[33,34,33,63],[34,1,34,30],[34,34,34,63],[35,1,35,30],[35,34,35,63],[30,1,30,30],[30,34,30,63],[31,1,31,30],[31,34,31,63],[32,1,32,30],[32,34,32,63],[39,1,39,30],[39,34,39,63],[40,1,40,30],[40,34,40,63],[41,1,41,30],[41,34,41,63],[36,1,36,30],[36,34,36,63],[37,1,37,30],[37,34,37,63],[38,1,38,30],[38,34,38,63],[45,1,45,30],[45,34,45,63],[46,1,46,30],[46,34,46,63],[47,1,47,30],[47,34,47,63],[42,1,42,30],[42,34,42,63],[43,1,43,30],[43,34,43,63],[44,1,44,30],[44,34,44,63],[51,1,51,30],[51,34,51,63],[52,1,52,30],[52,34,52,63],[53,1,53,30],[53,34,53,63],[48,1,48,30],[48,34,48,63],[49,1,49,30],[49,34,49,63],[50,1,50,30],[50,34,50,63],[57,1,57,30],[57,34,57,63],[58,1,58,30],[58,34,58,63],[59,1,59,30],[59,34,59,63],[54,1,54,30],[54,34,54,63],[55,1,55,30],[55,34,55,63],[56,1,56,30],[56,34,56,63],[63,1,63,30],[63,34,63,63],[64,1,64,30],[64,34,64,63],[65,1,65,30],[65,34,65,63],[60,1,60,30],[60,34,60,63],[61,1,61,30],[61,34,61,63],[62,1,62,30],[62,34,62,63],[69,1,69,30],[69,34,69,63],[70,1,70,30],[70,34,70,63],[71,1,71,30],[71,34,71,63],[66,1,66,30],[66,34,66,63],[67,1,67,30],[67,34,67,63],[68,1,68,30],[68,34,68,63],[75,1,75,30],[75,34,75,63],[76,1,76,30],[76,34,76,63],[77,1,77,30],[77,34,77,63],[72,1,72,30],[72,34,72,63],[73,1,73,30],[73,34,73,63],[74,1,74,30],[74,34,74,63],[81,1,81,30],[81,34,81,63],[82,1,82,30],[82,34,82,63],[83,1,83,30],[83,34,83,63],[78,1,78,30],[78,34,78,63],[79,1,79,30],[79,34,79,63],[80,1,80,30],[80,34,80,63],[87,1,87,30],[87,34,87,63],[88,1,88,30],[88,34,88,63],[89,1,89,30],[89,34,89,63],[84,1,84,30],[84,34,84,63],[85,1,85,30],[85,34,85,63],[86,1,86,30],[86,34,86,63],[93,1,93,30],[93,34,93,63],[94,1,94,30],[94,34,94,63],[95,1,95,30],[95,34,95,63],[90,1,90,30],[90,34,90,63],[91,1,91,30],[91,34,91,63],[92,1,92,30],[92,34,92,63],[99,1,99,30],[99,34,99,63],[100,1,100,30],[100,34,100,63],[101,1,101,30],[101,34,101,63],[96,1,96,30],[96,34,96,63],[97,1,97,30],[97,34,97,63],[98,1,98,30],[98,34,98,63],[119,16,121,31],[106,1,106,30],[106,34,106,63],[116,18,116,30],[116,51,116,63],[119,48,121,64],[117,16,118,31],[117,48,118,64],[102,1,102,30],[102,34,102,63],[103,1,103,30],[104,1,104,30],[105,1,105,30],[105,34,105,63]]}
[null,{"$f":"Validacion!A2","v":"Atemajac de Brizuela"}]
[null,"ESTADO DE SITUACIÓN FINANCIERA"]
[null,{"$f":"\"Al \"&INDEX(Validacion!D131:D142,MATCH(Validacion!A11,Validacion!C131:C142,0))","v":"Al 31 de Diciembre de 2021"}]
[]
["CTA.","CONCEPTO",{"$nulls":29},2021,2020,"CTA","CONCEPTO",{"$nulls":29},2021,2020]
[10000,"ACTIVO",{"$nulls":31},"20000","PASIVO"]
[11000,"  ACTIVO CIRCULANTE",{"$nulls":31},"21000","  PASIVO CIRCULANTE"]
[11100,"    EFECTIVO Y EQUIVALENTES",{"$nulls":29},{"$f":"SUM(AF9:AF15)","v":765144.47999998927},{"$f":"SUM(AG9:AG15)","v":1439544.34},"21100","    CUENTAS POR PAGAR A CORTO PLAZO",{"$nulls":29},{"$f":"SUM(BM9:BM17)","v":261060.72999999998},{"$f":"SUM(BN9:BN17)","v":0}]
[11110,"      Efectivo",{"$nulls":29},{"$f":"Balanza!G6","v":2557.0199999958277},{"$f":"Balanza!C6","v":94925.3},"21110","      Servicios personales por pagar a corto plazo",{"$nulls":29},{"$f":"Balanza!H104","v":0},{"$f":"Balanza!D104","v":0}]
[11120,"      Bancos/Tesorería",{"$nulls":29},{"$f":"Balanza!G7","v":762587.45999999344},{"$f":"Balanza!C7","v":1320619.04},"21120","      Proveedores por pagar a corto plazo",{"$nulls":29},{"$f":"Balanza!H105","v":0},{"$f":"Balanza!D105","v":0}]
[11130,"      Bancos/Dependencias y otros",{"$nulls":29},{"$f":"Balanza!G8","v":0},{"$f":"Balanza!C8","v":24000},"21130","      Contratistas por obras públicas por pagar a corto plazo",{"$nulls":29},{"$f":"Balanza!H106","v":0},{"$f":"Balanza!D106","v":0}]
[11140,"      Inversiones temporales (hasta 3 meses)",{"$nulls":29},{"$f":"Balanza!G9","v":0},{"$f":"Balanza!C9","v":0},"21140","      Participaciones y aportaciones por pagar a corto plazo",{"$nulls":29},{"$f":"Balanza!H107","v":0},{"$f":"Balanza!D107","v":0}]
[11150,"      Fondos con afectación específica",{"$nulls":29},{"$f":"Balanza!G10","v":0},{"$f":"Balanza!C10","v":0},"21150","      Transferencias otorgadas por pagar a corto plazo",{"$nulls":29},{"$f":"Balanza!H108","v":0},{"$f":"Balanza!D108","v":0}]
[11160,"      Depósitos de fondos de terceros en garantía y/o administración",{"$nulls":29},{"$f":"Balanza!G11","v":0},{"$f":"Balanza!C11","v":0},"21160","      Intereses, comisiones y otros gastos de la deuda pública por pagar a corto plazo",{"$nulls":29},{"$f":"Balanza!H109","v":0},{"$f":"Balanza!D109","v":0}]
[11190,"      Otros efectivos y equivalentes",{"$nulls":29},{"$f":"Balanza!G12","v":0},{"$f":"Balanza!C12","v":0},"21170","      Retenciones y contribuciones por pagar a corto plazo",{"$nulls":29},{"$f":"Balanza!H110","v":261060.72999999998},{"$f":"Balanza!D110","v":0}]
[11200,"    DERECHOS A RECIBIR EFECTIVO O EQUIVALENTES",{"$nulls":29},{"$f":"SUM(AF17:AF23)","v":4000},{"$f":"SUM(AG17:AG23)","v":199059.5},"21180","      Devoluciones de la ley de ingresos por pagar a corto plazo",{"$nulls":29},{"$f":"Balanza!H111","v":0},{"$f":"Balanza!D111","v":0}]
[11210,"      Inversiones financieras de corto plazo",{"$nulls":29},{"$f":"Balanza!G14","v":0},{"$f":"Balanza!C14","v":0},"21190","      Otras cuentas por pagar a corto plazo",{"$nulls":29},{"$f":"Balanza!H112","v":0},{"$f":"Balanza!D112","v":0}]
[11220,"      Cuentas por cobrar a corto plazo",{"$nulls":29},{"$f":"Balanza!G15","v":0},{"$f":"Balanza!C15","v":0},"21200","    DOCUMENTOS POR PAGAR A CORTO PLAZO",{"$nulls":29},{"$f":"SUM(BM19:BM21)","v":66181.999999999534},{"$f":"SUM(BN19:BN21)","v":1498060.41}]
["11230","      Deudores diversos por cobrar a corto plazo",{"$nulls":29},{"$f":"Balanza!G16","v":4000},{"$f":"Balanza!C16","v":176059.5},"21210","      Documentos  comerciales por pagar a corto plazo",{"$nulls":29},{"$f":"Balanza!H114","v":0},{"$f":"Balanza!D114","v":0}]
["11240","      Ingresos por recuperar a corto plazo",{"$nulls":29},{"$f":"Balanza!G17","v":0},{"$f":"Balanza!C17","v":0},"21220","      Documentos con contratistas por obras públicas por pagar a corto plazo",{"$nulls":29},{"$f":"Balanza!H115","v":0},{"$f":"Balanza!D115","v":0}]
["11250","      Deudores por anticipos de la tesorería a corto plazo",{"$nulls":29},{"$f":"Balanza!G18","v":0},{"$f":"Balanza!C18","v":0},"21290","      Otros documentos por pagar a corto plazo",{"$nulls":29},{"$f":"Balanza!H116","v":66181.999999999534},{"$f":"Balanza!D116","v":1498060.41}]
["11260","      Préstamos otorgados a corto plazo",{"$nulls":29},{"$f":"Balanza!G19","v":0},{"$f":"Balanza!C19","v":23000},"21300","    PORCIÓN A CORTO PLAZO DE LA DEUDA PÚBLICA A LARGO PLAZO",{"$nulls":29},{"$f":"SUM(BM23:BM25)","v":0},{"$f":"SUM(BN23:BN25)","v":2450000}]
["11290","      Otros derechos a recibir efectivo o equivalentes a corto plazo",{"$nulls":29},{"$f":"Balanza!G20","v":0},{"$f":"Balanza!C20","v":0},"21310","      Porción a corto plazo de la deuda pública interna",{"$nulls":29},{"$f":"Balanza!H118","v":0},{"$f":"Balanza!D118","v":2450000}]
["11300","    DERECHOS A RECIBIR BIENES O SERVICIOS",{"$nulls":29},{"$f":"SUM(AF25:AF29)","v":0},{"$f":"SUM(AG25:AG29)","v":0},"21320","      Porción a corto plazo de la deuda pública externa",{"$nulls":29},{"$f":"Balanza!H119","v":0},{"$f":"Balanza!D119","v":0}]
["11310","      Anticipo a proveedores por adquisición de bienes y prestación de servicios a corto plazo",{"$nulls":29},{"$f":"Balanza!G22","v":0},{"$f":"Balanza!C22","v":0},"21330","      Porción a corto plazo de arrendamiento financiero",{"$nulls":29},{"$f":"Balanza!H120","v":0},{"$f":"Balanza!D120","v":0}]
["11320","      Anticipo a proveedores por adquisición de bienes inmuebles y muebles a corto plazo",{"$nulls":29},{"$f":"Balanza!G23","v":0},{"$f":"Balanza!C23","v":0},"21400","    TÍTULOS Y VALORES A CORTO PLAZO",{"$nulls":29},{"$f":"SUM(BM27:BM28)","v":0},{"$f":"SUM(BN27:BN28)","v":0}]
["11330","      Anticipo a proveedores por adquisición de bienes intangibles a corto plazo",{"$nulls":29},{"$f":"Balanza!G24","v":0},{"$f":"Balanza!C24","v":0},"21410","      Títulos y valores de la deuda pública interna a corto plazo",{"$nulls":29},{"$f":"Balanza!H122","v":0},{"$f":"Balanza!D122","v":0}]
["11340","      Anticipo a contratistas por obras públicas a corto plazo",{"$nulls":29},{"$f":"Balanza!G25","v":0},{"$f":"Balanza!C25","v":0},"21420","      Títulos y valores de la deuda pública externa a corto plazo",{"$nulls":29},{"$f":"Balanza!H123","v":0},{"$f":"Balanza!D123","v":0}]
["11390","      Otros derechos a recibir bienes o servicios a corto plazo",{"$nulls":29},{"$f":"Balanza!G26","v":0},{"$f":"Balanza!C26","v":0},"21500","    PASIVOS DIFERIDOS A CORTO PLAZO",{"$nulls":29},{"$f":"SUM(BM30:BM32)","v":0},{"$f":"SUM(BN30:BN32)","v":0}]
["11400","    INVENTARIOS",{"$nulls":29},{"$f":"SUM(AF31:AF35)","v":0},{"$f":"SUM(AG31:AG35)","v":0},"21510","      Ingresos cobrados por adelantado a corto plazo",{"$nulls":29},{"$f":"Balanza!H125","v":0},{"$f":"Balanza!D125","v":0}]
["11410","      Inventario de mercancías para venta",{"$nulls":29},{"$f":"Balanza!G28","v":0},{"$f":"Balanza!C28","v":0},"21520","      Intereses cobrados por adelantado a corto plazo",{"$nulls":29},{"$f":"Balanza!H126","v":0},{"$f":"Balanza!D126","v":0}]
["11420","      Inventario de mercancías terminadas",{"$nulls":29},{"$f":"Balanza!G29","v":0},{"$f":"Balanza!C29","v":0},"21590","      Otros pasivos diferidos a corto plazo",{"$nulls":29},{"$f":"Balanza!H127","v":0},{"$f":"Balanza!D127","v":0}]
["11430","      Inventario de mercancías en proceso de elaboración",{"$nulls":29},{"$f":"Balanza!G30","v":0},{"$f":"Balanza!C30","v":0},"21600","    FONDOS Y BIENES DE TERCEROS EN GARANTÍA Y/O ADMINISTRACIÓN A CORTO PLAZO",{"$nulls":29},{"$f":"SUM(BM34:BM39)","v":0},{"$f":"SUM(BN34:BN39)","v":0}]
["11440","      Inventario de materias primas, materiales y suministros para producción",{"$nulls":29},{"$f":"Balanza!G31","v":0},{"$f":"Balanza!C31","v":0},"21610","      Fondos en garantía a corto plazo",{"$nulls":29},{"$f":"Balanza!H129","v":0},{"$f":"Balanza!D129","v":0}]
["11450","      Bienes en tránsito",{"$nulls":29},{"$f":"Balanza!G32","v":0},{"$f":"Balanza!C32","v":0},"21620","      Fondos en administración a corto plazo",{"$nulls":29},{"$f":"Balanza!H130","v":0},{"$f":"Balanza!D130","v":0}]
["11500","    ALMACENES",{"$nulls":29},{"$f":"AF37","v":0},{"$f":"AG37","v":0},"21630","      Fondos contingentes a corto plazo",{"$nulls":29},{"$f":"Balanza!H131","v":0},{"$f":"Balanza!D131","v":0}]
["11510","      Almacén de materiales y suministro para el consumo",{"$nulls":29},{"$f":"Balanza!G34","v":0},{"$f":"Balanza!C34","v":0},"21640","      Fondos de fideicomisos, mandatos y contratos análogos a corto plazo",{"$nulls":29},{"$f":"Balanza!H132","v":0},{"$f":"Balanza!D132","v":0}]
["11600","    ESTIMACIÓN POR PÉRDIDA O DETERIORO DE ACTIVOS CIRCULANTES",{"$nulls":29},{"$f":"SUM(AF39:AF40)","v":0},{"$f":"SUM(AG39:AG40)","v":0},"21650","      Otros fondos de terceros en garantía y/o administración a corto plazo",{"$nulls":29},{"$f":"Balanza!H133","v":0},{"$f":"Balanza!D133","v":0}]
["11610","      Estimaciones para cuentas incobrables por derechos a recibir efectivo o equivalentes",{"$nulls":29},{"$f":"Balanza!G36","v":0},{"$f":"Balanza!C36","v":0},"21660","      Valores y bienes en garantía a corto plazo",{"$nulls":29},{"$f":"Balanza!H134","v":0},{"$f":"Balanza!D134","v":0}]
["11620","      Estimación por deterioro de inventarios",{"$nulls":29},{"$f":"Balanza!G37","v":0},{"$f":"Balanza!C37","v":0},"21700","    PROVISIONES A CORTO PLAZO",{"$nulls":29},{"$f":"SUM(BM41:BM43)","v":0},{"$f":"SUM(BN41:BN43)","v":0}]
["11900","    OTROS ACTIVOS CIRCULANTES",{"$nulls":29},{"$f":"SUM(AF42:AF45)","v":0},{"$f":"SUM(AG42:AG45)","v":0},"21710","      Provisión para demandas y juicios a corto plazo",{"$nulls":29},{"$f":"Balanza!H136","v":0},{"$f":"Balanza!D136","v":0}]
["11910","      Valores en garantía",{"$nulls":29},{"$f":"Balanza!G39","v":0},{"$f":"Balanza!C39","v":0},"21720","      Provisión para contingencias a corto plazo",{"$nulls":29},{"$f":"Balanza!H137","v":0},{"$f":"Balanza!D137","v":0}]
["11920","      Bienes en garantía (excluye depósitos de fondos)",{"$nulls":29},{"$f":"Balanza!G40","v":0},{"$f":"Balanza!C40","v":0},"21790","      Otras provisiones a corto plazo",{"$nulls":29},{"$f":"Balanza!H138","v":0},{"$f":"Balanza!D138","v":0}]
["11930","      Bienes derivados de embargos,  decomisos, aseguramientos y dación en pago",{"$nulls":29},{"$f":"Balanza!G41","v":0},{"$f":"Balanza!C41","v":0},"21900","    OTROS PASIVOS A CORTO PLAZO",{"$nulls":29},{"$f":"SUM(BM45:BM47)","v":0},{"$f":"SUM(BN45:BN47)","v":0}]
["11940","      Adquisición con fondos de terceros",{"$nulls":29},{"$f":"Balanza!G42","v":0},{"$f":"Balanza!C42","v":0},"21910","      Ingresos por clasificar",{"$nulls":29},{"$f":"Balanza!H140","v":0},{"$f":"Balanza!D140","v":0}]
[null,"ACTIVOS CIRCULANTES",{"$nulls":29},{"$f":"AF8+AF16+AF24+AF30+AF36+AF38+AF41","v":769144.47999998927},{"$f":"AG8+AG16+AG24+AG30+AG36+AG38+AG41","v":1638603.84},"21920","      Recaudación por participar",{"$nulls":29},{"$f":"Balanza!H141","v":0},{"$f":"Balanza!D141","v":0}]
["12000","  ACTIVO NO CIRCULANTE",{"$nulls":31},"21990","      Otros pasivos circulantes",{"$nulls":29},{"$f":"Balanza!H142","v":0},{"$f":"Balanza!D142","v":0}]
["12100","    INVERSIONES FINANCIERAS A LARGO PLAZO",{"$nulls":29},{"$f":"SUM(AF49:AF52)","v":0},{"$f":"SUM(AG49:AG52)","v":0},null,"PASIVOS CIRCULANTES",{"$nulls":29},{"$f":"BM8+BM18+BM22+BM26+BM29+BM33+BM40+BM44","v":327242.72999999952},{"$f":"BN8+BN18+BN22+BN26+BN29+BN33+BN40+BN44","v":3948060.41}]
["12110","      Inversiones a largo plazo",{"$nulls":29},{"$f":"Balanza!G45","v":0},{"$f":"Balanza!C45","v":0},"22000","  PASIVO NO CIRCULANTE"]
["12120","      Títulos y valores a largo plazo",{"$nulls":29},{"$f":"Balanza!G46","v":0},{"$f":"Balanza!C46","v":0},"22100","    CUENTAS POR PAGAR A LARGO PLAZO",{"$nulls":29},{"$f":"SUM(BM51:BM52)","v":0},{"$f":"SUM(BN51:BN52)","v":0}]
["12130","      Fideicomisos, mandatos y contratos análogos",{"$nulls":29},{"$f":"Balanza!G47","v":0},{"$f":"Balanza!C47","v":0},"22110","      Proveedores por pagar a largo plazo",{"$nulls":29},{"$f":"Balanza!H145","v":0},{"$f":"Balanza!D145","v":0}]
["12140","      Participaciones y aportaciones de capital",{"$nulls":29},{"$f":"Balanza!G48","v":0},{"$f":"Balanza!C48","v":0},"22120","      Contratistas por obras públicas por pagar a largo plazo",{"$nulls":29},{"$f":"Balanza!H146","v":0},{"$f":"Balanza!D146","v":0}]
["12200","    DERECHOS A RECIBIR EFECTIVO O EQUIVALENTES A LARGO PLAZO",{"$nulls":29},{"$f":"SUM(AF54:AF58)","v":0},{"$f":"SUM(AG54:AG58)","v":0},"22200","    DOCUMENTOS POR PAGAR A LARGO PLAZO",{"$nulls":29},{"$f":"SUM(BM54:BM56)","v":0},{"$f":"SUM(BN54:BN56)","v":0}]
["12210","      Documentos por cobrar a largo plazo",{"$nulls":29},{"$f":"Balanza!G50","v":0},{"$f":"Balanza!C50","v":0},"22210","      Documentos comerciales por pagar a largo plazo",{"$nulls":29},{"$f":"Balanza!H148","v":0},{"$f":"Balanza!D148","v":0}]
["12220","      Deudores diversos a largo plazo",{"$nulls":29},{"$f":"Balanza!G51","v":0},{"$f":"Balanza!C51","v":0},"22220","      Documentos con contratistas por obras públicas por pagar a largo plazo",{"$nulls":29},{"$f":"Balanza!H149","v":0},{"$f":"Balanza!D149","v":0}]
["12230","      Ingresos por recuperar a largo plazo",{"$nulls":29},{"$f":"Balanza!G52","v":0},{"$f":"Balanza!C52","v":0},"22290","      Otros documentos por pagar a largo plazo",{"$nulls":29},{"$f":"Balanza!H150","v":0},{"$f":"Balanza!D150","v":0}]
["12240","      Préstamos otorgados a largo plazo",{"$nulls":29},{"$f":"Balanza!G53","v":0},{"$f":"Balanza!C53","v":0},"22300","    DEUDA PÚBLICA A LARGO PLAZO",{"$nulls":29},{"$f":"SUM(BM58:BM62)","v":0},{"$f":"SUM(BN58:BN62)","v":0}]
["12290","      Otros derechos a recibir efectivo o equivalentes a largo plazo",{"$nulls":29},{"$f":"Balanza!G54","v":0},{"$f":"Balanza!C54","v":0},"22310","      Títulos y valores de la deuda pública interna a largo plazo",{"$nulls":29},{"$f":"Balanza!H152","v":0},{"$f":"Balanza!D152","v":0}]
["12300","    BIENES INMUEBLES, INFRAESTRUCTURA Y CONSTRUCCIONES EN PROCESO",{"$nulls":29},{"$f":"SUM(AF60:AF66)","v":25830417.289999999},{"$f":"SUM(AG60:AG66)","v":16868234.870000001},"22320","      Títulos y valores de la deuda pública externa a largo plazo",{"$nulls":29},{"$f":"Balanza!H153","v":0},{"$f":"Balanza!D153","v":0}]
["12310","      Terrenos",{"$nulls":29},{"$f":"Balanza!G56","v":0},{"$f":"Balanza!C56","v":0},"22330","      Préstamos de la deuda pública interna por pagar a largo plazo",{"$nulls":29},{"$f":"Balanza!H154","v":0},{"$f":"Balanza!D154","v":0}]
["12320","      Viviendas",{"$nulls":29},{"$f":"Balanza!G57","v":0},{"$f":"Balanza!C57","v":0},"22340","      Préstamos de la deuda pública externa por pagar a largo plazo",{"$nulls":29},{"$f":"Balanza!H155","v":0},{"$f":"Balanza!D155","v":0}]
["12330","      Edificios no habitacionales",{"$nulls":29},{"$f":"Balanza!G58","v":0},{"$f":"Balanza!C58","v":0},"22350","      Arrendamiento financiero por pagar a largo plazo",{"$nulls":29},{"$f":"Balanza!H156","v":0},{"$f":"Balanza!D156","v":0}]
["12340","      Infraestructura",{"$nulls":29},{"$f":"Balanza!G59","v":0},{"$f":"Balanza!C59","v":0},"22400","    PASIVOS DIFERIDOS A LARGO PLAZO",{"$nulls":29},{"$f":"SUM(BM64:BM66)","v":0},{"$f":"SUM(BN64:BN66)","v":0}]
["12350","      Construcciones en proceso en bienes de dominio público",{"$nulls":29},{"$f":"Balanza!G60","v":25830417.289999999},{"$f":"Balanza!C60","v":16868234.870000001},"22410","      Créditos diferidos a largo plazo",{"$nulls":29},{"$f":"Balanza!H158","v":0},{"$f":"Balanza!D158","v":0}]
["12360","      Construcciones en proceso en bienes propios",{"$nulls":29},{"$f":"Balanza!G61","v":0},{"$f":"Balanza!C61","v":0},"22420","      Intereses cobrados por adelantado a largo plazo",{"$nulls":29},{"$f":"Balanza!H159","v":0},{"$f":"Balanza!D159","v":0}]
["12390","      Otros bienes inmuebles",{"$nulls":29},{"$f":"Balanza!G62","v":0},{"$f":"Balanza!C62","v":0},"22490","      Otros pasivos diferidos a largo plazo",{"$nulls":29},{"$f":"Balanza!H160","v":0},{"$f":"Balanza!D160","v":0}]
["12400","    BIENES MUEBLES",{"$nulls":29},{"$f":"SUM(AF68:AF75)","v":2530307.2200000002},{"$f":"SUM(AG68:AG75)","v":2169894.25},"22500","    FONDOS Y BIENES DE TERCEROS EN GARANTÍA Y/O ADMINISTRACIÓN A LARGO PLAZO",{"$nulls":29},{"$f":"SUM(BM68:BM73)","v":0},{"$f":"SUM(BN68:BN73)","v":0}]
["12410","      Mobiliario y equipo de administración",{"$nulls":29},{"$f":"Balanza!G64","v":198100.98},{"$f":"Balanza!C64","v":65188.01},"22510","      Fondos en garantía a largo plazo",{"$nulls":29},{"$f":"Balanza!H162","v":0},{"$f":"Balanza!D162","v":0}]
["12420","      Mobiliario y equipo educacional y recreativo",{"$nulls":29},{"$f":"Balanza!G65","v":0},{"$f":"Balanza!C65","v":0},"22520","      Fondos en administración a largo plazo",{"$nulls":29},{"$f":"Balanza!H163","v":0},{"$f":"Balanza!D163","v":0}]
["12430","      Equipo e instrumental médico y de laboratorio",{"$nulls":29},{"$f":"Balanza!G66","v":0},{"$f":"Balanza!C66","v":0},"22530","      Fondos contingentes a largo plazo",{"$nulls":29},{"$f":"Balanza!H164","v":0},{"$f":"Balanza!D164","v":0}]
["12440","      Vehículos y equipo de transporte",{"$nulls":29},{"$f":"Balanza!G67","v":2332206.2400000002},{"$f":"Balanza!C67","v":2104706.2400000002},"22540","      Fondos de fideicomisos, mandatos y contratos análogos a largo plazo",{"$nulls":29},{"$f":"Balanza!H165","v":0},{"$f":"Balanza!D165","v":0}]
["12450","      Equipo de defensa y seguridad",{"$nulls":29},{"$f":"Balanza!G68","v":0},{"$f":"Balanza!C68","v":0},"22550","      Otros fondos de terceros en garantía y/o administración a largo plazo",{"$nulls":29},{"$f":"Balanza!H166","v":0},{"$f":"Balanza!D166","v":0}]
["12460","      Maquinaria, otros equipos y herramientas",{"$nulls":29},{"$f":"Balanza!G69","v":0},{"$f":"Balanza!C69","v":0},"22560","      Valores y bienes en garantía a largo plazo",{"$nulls":29},{"$f":"Balanza!H167","v":0},{"$f":"Balanza!D167","v":0}]
["12470","      Colecciones, obras de arte y objetos valiosos",{"$nulls":29},{"$f":"Balanza!G70","v":0},{"$f":"Balanza!C70","v":0},"22600","    PROVISIONES A LARGO PLAZO",{"$nulls":29},{"$f":"SUM(BM75:BM78)","v":0},{"$f":"SUM(BN75:BN78)","v":0}]
["12480","      Activos biológicos",{"$nulls":29},{"$f":"Balanza!G71","v":0},{"$f":"Balanza!C71","v":0},"22610","      Provisión para demandas y juicios a largo plazo",{"$nulls":29},{"$f":"Balanza!H169","v":0},{"$f":"Balanza!D169","v":0}]
["12500","    ACTIVOS INTANGIBLES",{"$nulls":29},{"$f":"SUM(AF77:AF81)","v":0},{"$f":"SUM(AG77:AG81)","v":0},"22620","      Provisión para pensiones a largo plazo",{"$nulls":29},{"$f":"Balanza!H170","v":0},{"$f":"Balanza!D170","v":0}]
["12510","      Software",{"$nulls":29},{"$f":"Balanza!G73","v":0},{"$f":"Balanza!C73","v":0},"22630","      Provisión para contingencias a largo plazo",{"$nulls":29},{"$f":"Balanza!H171","v":0},{"$f":"Balanza!D171","v":0}]
["12520","      Patentes, marcas y derechos",{"$nulls":29},{"$f":"Balanza!G74","v":0},{"$f":"Balanza!C74","v":0},"22690","      Otras provisiones a largo plazo",{"$nulls":29},{"$f":"Balanza!H172","v":0},{"$f":"Balanza!D172","v":0}]
["12530","      Concesiones y franquicias",{"$nulls":29},{"$f":"Balanza!G75","v":0},{"$f":"Balanza!C75","v":0},null,"PASIVOS NO CIRCULANTES",{"$nulls":29},{"$f":"BM50+BM53+BM57+BM63+BM67+BM74","v":0},{"$f":"BN50+BN53+BN57+BN63+BN67+BN74","v":0}]
["12540","      Licencias",{"$nulls":29},{"$f":"Balanza!G76","v":0},{"$f":"Balanza!C76","v":0},null,"TOTAL DE PASIVOS",{"$nulls":29},{"$f":"BM48+BM79","v":327242.72999999952},{"$f":"BN48+BN79","v":3948060.41}]
["12590","      Otros activos intangibles",{"$nulls":29},{"$f":"Balanza!G77","v":0},{"$f":"Balanza!C77","v":0},"30000","HACIENDA PÚBLICA/ PATRIMONIO"]
["12600","    DEPRECIACIÓN, DETERIORO Y AMORTIZACIÓN ACUMULADA DE BIENES",{"$nulls":29},{"$f":"SUM(AF83:AF87)","v":0},{"$f":"SUM(AG83:AG87)","v":0},"31000","  HACIENDA PÚBLICA/ PATRIMONIO CONTRIBUIDO",{"$nulls":29},{"$f":"SUM(BM83:BM85)","v":0},{"$f":"SUM(BN83:BN85)","v":0}]
["12610","      Depreciación acumulada de bienes inmuebles",{"$nulls":29},{"$f":"(Balanza!H79)*-1","v":0},{"$f":"(Balanza!D79)*-1","v":0},"31100","    Aportaciones",{"$nulls":29},{"$f":"Balanza!H175","v":0},{"$f":"Balanza!D175","v":0}]
["12620","      Depreciación acumulada de infraestructura",{"$nulls":29},{"$f":"(Balanza!H80)*-1","v":0},{"$f":"(Balanza!D80)*-1","v":0},"31200","    Donaciones de capítal",{"$nulls":29},{"$f":"Balanza!H176","v":0},{"$f":"Balanza!D176","v":0}]
["12630","      Depreciación acumulada de bienes muebles",{"$nulls":29},{"$f":"(Balanza!H81)*-1","v":0},{"$f":"(Balanza!D81)*-1","v":0},"31300","    Actualización de la hacienda pública/patrimonio",{"$nulls":29},{"$f":"Balanza!H177","v":0},{"$f":"Balanza!D177","v":0}]
["12640","      Deterioro acumulado de activos biológicos",{"$nulls":29},{"$f":"(Balanza!H82)*-1","v":0},{"$f":"(Balanza!D82)*-1","v":0},"32000","  HACIENDA PÚBLICA/PATRIMONIO GENERADO",{"$nulls":29},{"$f":"BM87+BM88+BM89+BM94+BM98","v":28802626.263999991},{"$f":"BN87+BN88+BN89+BN94+BN98","v":16728672.549999988}]
["12650","      Amortización acumulada de activos intangibles",{"$nulls":29},{"$f":"(Balanza!H83)*-1","v":0},{"$f":"(Balanza!D83)*-1","v":0},"32100","    Resultado del ejercicio  (ahorro/desahorro)",{"$nulls":29},{"$f":"Balanza!H179","v":12073953.714000002},{"$f":"Balanza!D179","v":8267371.6999999881}]
["12700","    ACTIVOS DIFERIDOS",{"$nulls":29},{"$f":"SUM(AF89:AF94)","v":0},{"$f":"SUM(AG89:AG94)","v":0},"32200","    Resultado de ejercicios anteriores",{"$nulls":29},{"$f":"Balanza!H180","v":16728672.549999988},{"$f":"Balanza!D180","v":8461300.8499999996}]
["12710","      Estudios, formulación y evaluación de proyectos",{"$nulls":29},{"$f":"Balanza!G85","v":0},{"$f":"Balanza!C85","v":0},"32300","  REVALÚOS",{"$nulls":29},{"$f":"SUM(BM90:BM93)","v":0},{"$f":"SUM(BN90:BN93)","v":0}]
["12720","      Derechos sobre bienes en régimen de arrendamiento financiero",{"$nulls":29},{"$f":"Balanza!G86","v":0},{"$f":"Balanza!C86","v":0},"32310","    Revalúo de bienes inmuebles",{"$nulls":29},{"$f":"Balanza!H182","v":0},{"$f":"Balanza!D182","v":0}]
["12730","      Gastos pagados por adelantado a largo plazo",{"$nulls":29},{"$f":"Balanza!G87","v":0},{"$f":"Balanza!C87","v":0},"32320","    Revalúo de bienes muebles",{"$nulls":29},{"$f":"Balanza!H183","v":0},{"$f":"Balanza!D183","v":0}]
["12740","      Anticipos a largo plazo",{"$nulls":29},{"$f":"Balanza!G88","v":0},{"$f":"Balanza!C88","v":0},"32330","    Revalúo de bienes intangibles",{"$nulls":29},{"$f":"Balanza!H184","v":0},{"$f":"Balanza!D184","v":0}]
["12750","      Beneficios al retiro de empleados pagados por adelantado",{"$nulls":29},{"$f":"Balanza!G89","v":0},{"$f":"Balanza!C89","v":0},"32390","    Otros revalúos",{"$nulls":29},{"$f":"Balanza!H185","v":0},{"$f":"Balanza!D185","v":0}]
["12790","      Otros activos diferidos",{"$nulls":29},{"$f":"Balanza!G90","v":0},{"$f":"Balanza!C90","v":0},"32400","  RESERVAS",{"$nulls":29},{"$f":"SUM(BM95:BM97)","v":0},{"$f":"SUM(BN95:BN97)","v":0}]
["12800","    ESTIMACIÓN POR PÉRDIDA O DETERIORO DE ACTIVOS NO CIRCULANTES",{"$nulls":29},{"$f":"SUM(AF96:AF100)","v":0},{"$f":"SUM(AG96:AG100)","v":0},"32410","    Reservas de patrimonio",{"$nulls":29},{"$f":"Balanza!H187","v":0},{"$f":"Balanza!D187","v":0}]
["12810","      Estimaciones por pérdida de cuentas incobrables de documentos por cobrar a largo plazo",{"$nulls":29},{"$f":"(Balanza!H92)*-1","v":0},{"$f":"(Balanza!D92)*-1","v":0},"32420","    Reservas territoriales",{"$nulls":29},{"$f":"Balanza!H188","v":0},{"$f":"Balanza!D188","v":0}]
["12820","      Estimaciones por pérdida de cuentas incobrables de deudores diversos por cobrar a largo plazo",{"$nulls":29},{"$f":"(Balanza!H93)*-1","v":0},{"$f":"(Balanza!D93)*-1","v":0},"32430","    Reservas por contingencias",{"$nulls":29},{"$f":"Balanza!H189","v":0},{"$f":"Balanza!D189","v":0}]
["12830","      Estimaciones por pérdida de cuentas incobrables de ingresos por cobrar a largo plazo",{"$nulls":29},{"$f":"(Balanza!H94)*-1","v":0},{"$f":"(Balanza!D94)*-1","v":0},"32500","  RECTIFICACIONES DE RESULTADOS DE EJERCICIOS ANTERIORES",{"$nulls":29},{"$f":"SUM(BM99:BM100)","v":0},{"$f":"SUM(BN99:BN100)","v":0}]
["12840","      Estimaciones por pérdida de cuentas incobrables de préstamos otorgados a largo plazo",{"$nulls":29},{"$f":"(Balanza!H95)*-1","v":0},{"$f":"(Balanza!D95)*-1","v":0},"32510","    Cambios en políticas contables",{"$nulls":29},{"$f":"Balanza!H191","v":0},{"$f":"Balanza!D191","v":0}]
["12890","      Estimaciones por pérdida de otras cuentas incobrables a largo plazo",{"$nulls":29},{"$f":"(Balanza!H96)*-1","v":0},{"$f":"(Balanza!D96)*-1","v":0},"32520","    Cambios por errores contables",{"$nulls":29},{"$f":"Balanza!H192","v":0},{"$f":"Balanza!D192","v":0}]
["12900","    OTROS ACTIVOS NO CIRCULANTES",{"$nulls":29},{"$f":"SUM(AF102:AF104)","v":0},{"$f":"SUM(AG102:AG104)","v":0},"33000","  EXCESO O INSUFICIENCIA EN LA ACTUALIZACIÓN DE LA HACIENDA PÚBLICA / PATRIMONIO",{"$nulls":29},{"$f":"SUM(BM102:BM103)","v":0},{"$f":"SUM(BN102:BN103)","v":0}]
["12910","      Bienes en concesión",{"$nulls":29},{"$f":"Balanza!G98","v":0},{"$f":"Balanza!C98","v":0},"33100","    Resultado por posición monetaria",{"$nulls":29},{"$f":"Balanza!H194","v":0},{"$f":"Balanza!D194","v":0}]
["12920","      Bienes en arrendamiento financiero",{"$nulls":29},{"$f":"Balanza!G99","v":0},{"$f":"Balanza!C99","v":0},"33200","    Resultado por tenencia de activos no monetarios",{"$nulls":29},{"$f":"Balanza!H195","v":0},{"$f":"Balanza!D195","v":0}]
["12930","      Bienes en comodato",{"$nulls":29},{"$f":"Balanza!G100","v":0},{"$f":"Balanza!C100","v":0},{"$nulls":30},"TOTAL HACIENDA PUBLICA / PATRIMONIO",{"$f":"BM82+BM86+BM101","v":28802626.263999991},{"$f":"BN82+BN86+BN101","v":16728672.549999988}]
[null,"ACTIVOS NO CIRCULANTES",{"$nulls":29},{"$f":"AF48+AF53+AF59+AF67+AF76+AF82+AF88+AF95+AF101","v":28360724.509999998},{"$f":"AG48+AG53+AG59+AG67+AG76+AG82+AG88+AG95+AG101","v":19038129.120000001}]
[null,"TOTAL DEL ACTIVO",{"$nulls":29},{"$f":"AF46+AF105","v":29129868.989999987},{"$f":"AG46+AG105","v":20676732.960000001},null,"SUMA DE PASIVO Y PATRIMONIO / HACIENDA PÚBLICA",{"$nulls":29},{"$f":"BM80+BM104","v":29129868.993999992},{"$f":"BN80+BN104","v":20676732.959999986}]
[]
[]
[null,"Bajo protesta de decir verdad declaramos que los estados financieros y sus notas, son razonablemente correctos y son responsabilidad del emisor."]
{"$rows_empty":8}
[{"$nulls":16},{"$f":"Validacion!A7","v":"C. SANTIAGO LEON CASTRO"},{"$nulls":31},{"$f":"Validacion!A9","v":"L.T. JOCELYN SANCHEZ HERRERA"}]
[]
[{"$nulls":16},"Presidente Municipal o Títular del ente público",{"$nulls":31},"Encargado de la Hacienda Pública Municipal o Responsable de las finanzas del ente público"]

{"sheet":"F1LDF","index":15,"n_rows":120,"n_cols":66,"rows_kept":120,"cut":false,"hidden":false,"merged":[[0,1,0,65],[1,1,1,65],[2,1,2,65],[4,1,4,30],[4,34,4,63],[5,1,5,30],[5,34,5,63],[9,1,9,30],[9,34,9,63],[10,1,10,30],[10,34,10,63],[11,1,11,30],[11,34,11,63],[6,1,6,30],[6,34,6,63],[7,1,7,30],[7,34,7,63],[8,1,8,30],[8,34,8,63],[15,1,15,30],[15,34,15,63],[16,1,16,30],[16,34,16,63],[17,1,17,30],[17,34,17,63],[12,1,12,30],[12,34,12,63],[13,1,13,30],[13,34,13,63],[14,1,14,30],[14,34,14,63],[21,1,21,30],[21,34,21,63],[22,1,22,30],[22,34,22,63],[23,1,23,30],[23,34,23,63],[18,1,18,30],[18,34,18,63],[19,1,19,30],[19,34,19,63],[20,1,20,30],[20,34,20,63],[27,1,27,30],[27,34,27,63],[28,1,28,30],[28,34,28,63],[29,1,29,30],[29,34,29,63],[24,1,24,30],[24,34,24,63],[25,1,25,30],[25,34,25,63],[26,1,26,30],[26,34,26,63],[33,1,33,30],[33,34,33,63],[34,1,34,30],[34,34,34,63],[35,1,35,30],[35,34,35,63],[30,1,30,30],[30,34,30,63],[31,1,31,30],[31,34,31,63],[32,1,32,30],[32,34,32,63],[39,1,39,30],[39,34,39,63],[40,1,40,30],[40,34,40,63],[41,1,41,30],[41,34,41,63],[36,1,36,30],[36,34,36,63],[37,1,37,30],[37,34,37,63],[38,1,38,30],[38,34,38,63],[45,1,45,30],[45,34,45,63],[46,1,46,30],[46,34,46,63],[47,1,47,30],[47,34,47,63],[42,1,42,30],[42,34,42,63],[43,1,43,30],[43,34,43,63],[44,1,44,30],[44,34,44,63],[51,1,51,30],[51,34,51,63],[52,1,52,30],[52,34,52,63],[53,1,53,30],[53,34,53,63],[48,1,48,30],[48,34,48,63],[49,1,49,30],[49,34,49,63],[50,1,50,30],[50,34,50,63],[57,1,57,30],[57,34,57,63],[58,1,58,30],[58,34,58,63],[59,1,59,30],[59,34,59,63],[54,1,54,30],[54,34,54,63],[55,1,55,30],[55,34,55,63],[56,1,56,30],[56,34,56,63],[63,1,63,30],[63,34,63,63],[64,1,64,30],[64,34,64,63],[65,1,65,30],[65,34,65,63],[60,1,60,30],[60,34,60,63],[61,1,61,30],[61,34,61,63],[62,1,62,30],[62,34,62,63],[69,1,69,30],[69,34,69,63],[70,1,70,30],[70,34,70,63],[71,1,71,30],[71,34,71,63],[66,1,66,30],[66,34,66,63],[67,1,67,30],[67,34,67,63],[68,1,68,30],[68,34,68,63],[75,1,75,30],[75,34,75,63],[76,1,76,30],[76,34,76,63],[77,1,77,30],[77,34,77,63],[72,1,72,30],[72,34,72,63],[73,1,73,30],[73,34,73,63],[74,1,74,30],[74,34,74,63],[81,1,81,30],[81,34,81,63],[82,1,82,30],[82,34,82,63],[83,1,83,30],[83,34,83,63],[78,1,78,30],[78,34,78,63],[79,1,79,30],[79,34,79,63],[80,1,80,30],[80,34,80,63],[87,1,87,30],[87,34,87,63],[88,1,88,30],[88,34,88,63],[89,1,89,30],[89,34,89,63],[84,1,84,30],[84,34,84,63],[85,1,85,30],[85,34,85,63],[86,1,86,30],[86,34,86,63],[93,1,93,30],[93,34,93,63],[94,1,94,30],[94,34,94,63],[95,1,95,30],[95,34,95,63],[90,1,90,30],[90,34,90,63],[91,1,91,30],[91,34,91,63],[92,1,92,30],[92,34,92,63],[99,1,99,30],[99,34,99,63],[100,1,100,30],[100,34,100,63],[101,1,101,30],[101,34,101,63],[96,1,96,30],[96,34,96,63],[97,1,97,30],[97,34,97,63],[98,1,98,30],[98,34,98,63],[119,16,121,31],[119,48,121,64],[106,1,106,30],[106,34,106,63],[116,18,116,30],[116,51,116,63],[117,16,118,31],[117,48,118,64],[102,1,102,30],[102,34,102,63],[103,1,103,30],[104,1,104,30],[104,50,104,63],[105,1,105,30],[105,34,105,63]]}
[null,{"$f":"Validacion!A2","v":"Atemajac de Brizuela"}]
[null,"ESTADO DE SITUACIÓN FINANCIERA DETALLADO - LDF"]
[null,{"$f":"\"Al \"&INDEX(Validacion!D131:D142,MATCH(Validacion!A11,Validacion!C131:C142,0))","v":"Al 31 de Diciembre de 2021"}]
[]
["CTA.","CONCEPTO",{"$nulls":29},2021,2020,"CTA","CONCEPTO",{"$nulls":29},2021,2020]
[10000,"ACTIVO",{"$nulls":31},"20000","PASIVO"]
[11000,"  ACTIVO CIRCULANTE",{"$nulls":31},"21000","  PASIVO CIRCULANTE"]
[11100,"    EFECTIVO Y EQUIVALENTES",{"$nulls":29},{"$f":"SUM(AF9:AF15)","v":765144.47999998927},{"$f":"SUM(AG9:AG15)","v":1439544.34},"21100","    CUENTAS POR PAGAR A CORTO PLAZO",{"$nulls":29},{"$f":"SUM(BM9:BM17)","v":261060.72999999998},{"$f":"SUM(BN9:BN17)","v":0}]
[11110,"      Efectivo",{"$nulls":29},{"$f":"Balanza!G6","v":2557.0199999958277},{"$f":"Balanza!C6","v":94925.3},"21110","      Servicios personales por pagar a corto plazo",{"$nulls":29},{"$f":"Balanza!H104","v":0},{"$f":"Balanza!D104","v":0}]
[11120,"      Bancos/Tesorería",{"$nulls":29},{"$f":"Balanza!G7","v":762587.45999999344},{"$f":"Balanza!C7","v":1320619.04},"21120","      Proveedores por pagar a corto plazo",{"$nulls":29},{"$f":"Balanza!H105","v":0},{"$f":"Balanza!D105","v":0}]
[11130,"      Bancos/Dependencias y otros",{"$nulls":29},{"$f":"Balanza!G8","v":0},{"$f":"Balanza!C8","v":24000},"21130","      Contratistas por obras públicas por pagar a corto plazo",{"$nulls":29},{"$f":"Balanza!H106","v":0},{"$f":"Balanza!D106","v":0}]
[11140,"      Inversiones temporales (hasta 3 meses)",{"$nulls":29},{"$f":"Balanza!G9","v":0},{"$f":"Balanza!C9","v":0},"21140","      Participaciones y aportaciones por pagar a corto plazo",{"$nulls":29},{"$f":"Balanza!H107","v":0},{"$f":"Balanza!D107","v":0}]
[11150,"      Fondos con afectación específica",{"$nulls":29},{"$f":"Balanza!G10","v":0},{"$f":"Balanza!C10","v":0},"21150","      Transferencias otorgadas por pagar a corto plazo",{"$nulls":29},{"$f":"Balanza!H108","v":0},{"$f":"Balanza!D108","v":0}]
[11160,"      Depósitos de fondos de terceros en garantía y/o administración",{"$nulls":29},{"$f":"Balanza!G11","v":0},{"$f":"Balanza!C11","v":0},"21160","      Intereses, comisiones y otros gastos de la deuda pública por pagar a corto plazo",{"$nulls":29},{"$f":"Balanza!H109","v":0},{"$f":"Balanza!D109","v":0}]
[11190,"      Otros efectivos y equivalentes",{"$nulls":29},{"$f":"Balanza!G12","v":0},{"$f":"Balanza!C12","v":0},"21170","      Retenciones y contribuciones por pagar a corto plazo",{"$nulls":29},{"$f":"Balanza!H110","v":261060.72999999998},{"$f":"Balanza!D110","v":0}]
[11200,"    DERECHOS A RECIBIR EFECTIVO O EQUIVALENTES",{"$nulls":29},{"$f":"SUM(AF17:AF23)","v":4000},{"$f":"SUM(AG17:AG23)","v":199059.5},"21180","      Devoluciones de la ley de ingresos por pagar a corto plazo",{"$nulls":29},{"$f":"Balanza!H111","v":0},{"$f":"Balanza!D111","v":0}]
[11210,"      Inversiones financieras de corto plazo",{"$nulls":29},{"$f":"Balanza!G14","v":0},{"$f":"Balanza!C14","v":0},"21190","      Otras cuentas por pagar a corto plazo",{"$nulls":29},{"$f":"Balanza!H112","v":0},{"$f":"Balanza!D112","v":0}]
[11220,"      Cuentas por cobrar a corto plazo",{"$nulls":29},{"$f":"Balanza!G15","v":0},{"$f":"Balanza!C15","v":0},"21200","    DOCUMENTOS POR PAGAR A CORTO PLAZO",{"$nulls":29},{"$f":"SUM(BM19:BM21)","v":66181.999999999534},{"$f":"SUM(BN19:BN21)","v":1498060.41}]
["11230","      Deudores diversos por cobrar a corto plazo",{"$nulls":29},{"$f":"Balanza!G16","v":4000},{"$f":"Balanza!C16","v":176059.5},"21210","      Documentos  comerciales por pagar a corto plazo",{"$nulls":29},{"$f":"Balanza!H114","v":0},{"$f":"Balanza!D114","v":0}]
["11240","      Ingresos por recuperar a corto plazo",{"$nulls":29},{"$f":"Balanza!G17","v":0},{"$f":"Balanza!C17","v":0},"21220","      Documentos con contratistas por obras públicas por pagar a corto plazo",{"$nulls":29},{"$f":"Balanza!H115","v":0},{"$f":"Balanza!D115","v":0}]
["11250","      Deudores por anticipos de la tesorería a corto plazo",{"$nulls":29},{"$f":"Balanza!G18","v":0},{"$f":"Balanza!C18","v":0},"21290","      Otros documentos por pagar a corto plazo",{"$nulls":29},{"$f":"Balanza!H116","v":66181.999999999534},{"$f":"Balanza!D116","v":1498060.41}]
["11260","      Préstamos otorgados a corto plazo",{"$nulls":29},{"$f":"Balanza!G19","v":0},{"$f":"Balanza!C19","v":23000},"21300","    PORCIÓN A CORTO PLAZO DE LA DEUDA PÚBLICA A LARGO PLAZO",{"$nulls":29},{"$f":"SUM(BM23:BM25)","v":0},{"$f":"SUM(BN23:BN25)","v":2450000}]
["11290","      Otros derechos a recibir efectivo o equivalentes a corto plazo",{"$nulls":29},{"$f":"Balanza!G20","v":0},{"$f":"Balanza!C20","v":0},"21310","      Porción a corto plazo de la deuda pública interna",{"$nulls":29},{"$f":"Balanza!H118","v":0},{"$f":"Balanza!D118","v":2450000}]
["11300","    DERECHOS A RECIBIR BIENES O SERVICIOS",{"$nulls":29},{"$f":"SUM(AF25:AF29)","v":0},{"$f":"SUM(AG25:AG29)","v":0},"21320","      Porción a corto plazo de la deuda pública externa",{"$nulls":29},{"$f":"Balanza!H119","v":0},{"$f":"Balanza!D119","v":0}]
["11310","      Anticipo a proveedores por adquisición de bienes y prestación de servicios a corto plazo",{"$nulls":29},{"$f":"Balanza!G22","v":0},{"$f":"Balanza!C22","v":0},"21330","      Porción a corto plazo de arrendamiento financiero",{"$nulls":29},{"$f":"Balanza!H120","v":0},{"$f":"Balanza!D120","v":0}]
["11320","      Anticipo a proveedores por adquisición de bienes inmuebles y muebles a corto plazo",{"$nulls":29},{"$f":"Balanza!G23","v":0},{"$f":"Balanza!C23","v":0},"21400","    TÍTULOS Y VALORES A CORTO PLAZO",{"$nulls":29},{"$f":"SUM(BM27:BM28)","v":0},{"$f":"SUM(BN27:BN28)","v":0}]
["11330","      Anticipo a proveedores por adquisición de bienes intangibles a corto plazo",{"$nulls":29},{"$f":"Balanza!G24","v":0},{"$f":"Balanza!C24","v":0},"21410","      Títulos y valores de la deuda pública interna a corto plazo",{"$nulls":29},{"$f":"Balanza!H122","v":0},{"$f":"Balanza!D122","v":0}]
["11340","      Anticipo a contratistas por obras públicas a corto plazo",{"$nulls":29},{"$f":"Balanza!G25","v":0},{"$f":"Balanza!C25","v":0},"21420","      Títulos y valores de la deuda pública externa a corto plazo",{"$nulls":29},{"$f":"Balanza!H123","v":0},{"$f":"Balanza!D123","v":0}]
["11390","      Otros derechos a recibir bienes o servicios a corto plazo",{"$nulls":29},{"$f":"Balanza!G26","v":0},{"$f":"Balanza!C26","v":0},"21500","    PASIVOS DIFERIDOS A CORTO PLAZO",{"$nulls":29},{"$f":"SUM(BM30:BM32)","v":0},{"$f":"SUM(BN30:BN32)","v":0}]
["11400","    INVENTARIOS",{"$nulls":29},{"$f":"SUM(AF31:AF35)","v":0},{"$f":"SUM(AG31:AG35)","v":0},"21510","      Ingresos cobrados por adelantado a corto plazo",{"$nulls":29},{"$f":"Balanza!H125","v":0},{"$f":"Balanza!D125","v":0}]
["11410","      Inventario de mercancías para venta",{"$nulls":29},{"$f":"Balanza!G28","v":0},{"$f":"Balanza!C28","v":0},"21520","      Intereses cobrados por adelantado a corto plazo",{"$nulls":29},{"$f":"Balanza!H126","v":0},{"$f":"Balanza!D126","v":0}]
["11420","      Inventario de mercancías terminadas",{"$nulls":29},{"$f":"Balanza!G29","v":0},{"$f":"Balanza!C29","v":0},"21590","      Otros pasivos diferidos a corto plazo",{"$nulls":29},{"$f":"Balanza!H127","v":0},{"$f":"Balanza!D127","v":0}]
["11430","      Inventario de mercancías en proceso de elaboración",{"$nulls":29},{"$f":"Balanza!G30","v":0},{"$f":"Balanza!C30","v":0},"21600","    FONDOS Y BIENES DE TERCEROS EN GARANTÍA Y/O ADMINISTRACIÓN A CORTO PLAZO",{"$nulls":29},{"$f":"SUM(BM34:BM39)","v":0},{"$f":"SUM(BN34:BN39)","v":0}]
["11440","      Inventario de materias primas, materiales y suministros para producción",{"$nulls":29},{"$f":"Balanza!G31","v":0},{"$f":"Balanza!C31","v":0},"21610","      Fondos en garantía a corto plazo",{"$nulls":29},{"$f":"Balanza!H129","v":0},{"$f":"Balanza!D129","v":0}]
["11450","      Bienes en tránsito",{"$nulls":29},{"$f":"Balanza!G32","v":0},{"$f":"Balanza!C32","v":0},"21620","      Fondos en administración a corto plazo",{"$nulls":29},{"$f":"Balanza!H130","v":0},{"$f":"Balanza!D130","v":0}]
["11500","    ALMACENES",{"$nulls":29},{"$f":"AF37","v":0},{"$f":"AG37","v":0},"21630","      Fondos contingentes a corto plazo",{"$nulls":29},{"$f":"Balanza!H131","v":0},{"$f":"Balanza!D131","v":0}]
["11510","      Almacén de materiales y suministro para el consumo",{"$nulls":29},{"$f":"Balanza!G34","v":0},{"$f":"Balanza!C34","v":0},"21640","      Fondos de fideicomisos, mandatos y contratos análogos a corto plazo",{"$nulls":29},{"$f":"Balanza!H132","v":0},{"$f":"Balanza!D132","v":0}]
["11600","    ESTIMACIÓN POR PÉRDIDA O DETERIORO DE ACTIVOS CIRCULANTES",{"$nulls":29},{"$f":"SUM(AF39:AF40)","v":0},{"$f":"SUM(AG39:AG40)","v":0},"21650","      Otros fondos de terceros en garantía y/o administración a corto plazo",{"$nulls":29},{"$f":"Balanza!H133","v":0},{"$f":"Balanza!D133","v":0}]
["11610","      Estimaciones para cuentas incobrables por derechos a recibir efectivo o equivalentes",{"$nulls":29},{"$f":"Balanza!G36","v":0},{"$f":"Balanza!C36","v":0},"21660","      Valores y bienes en garantía a corto plazo",{"$nulls":29},{"$f":"Balanza!H134","v":0},{"$f":"Balanza!D134","v":0}]
["11620","      Estimación por deterioro de inventarios",{"$nulls":29},{"$f":"Balanza!G37","v":0},{"$f":"Balanza!C37","v":0},"21700","    PROVISIONES A CORTO PLAZO",{"$nulls":29},{"$f":"SUM(BM41:BM43)","v":0},{"$f":"SUM(BN41:BN43)","v":0}]
["11900","    OTROS ACTIVOS CIRCULANTES",{"$nulls":29},{"$f":"SUM(AF42:AF45)","v":0},{"$f":"SUM(AG42:AG45)","v":0},"21710","      Provisión para demandas y juicios a corto plazo",{"$nulls":29},{"$f":"Balanza!H136","v":0},{"$f":"Balanza!D136","v":0}]
["11910","      Valores en garantía",{"$nulls":29},{"$f":"Balanza!G39","v":0},{"$f":"Balanza!C39","v":0},"21720","      Provisión para contingencias a corto plazo",{"$nulls":29},{"$f":"Balanza!H137","v":0},{"$f":"Balanza!D137","v":0}]
["11920","      Bienes en garantía (excluye depósitos de fondos)",{"$nulls":29},{"$f":"Balanza!G40","v":0},{"$f":"Balanza!C40","v":0},"21790","      Otras provisiones a corto plazo",{"$nulls":29},{"$f":"Balanza!H138","v":0},{"$f":"Balanza!D138","v":0}]
["11930","      Bienes derivados de embargos,  decomisos, aseguramientos y dación en pago",{"$nulls":29},{"$f":"Balanza!G41","v":0},{"$f":"Balanza!C41","v":0},"21900","    OTROS PASIVOS A CORTO PLAZO",{"$nulls":29},{"$f":"SUM(BM45:BM47)","v":0},{"$f":"SUM(BN45:BN47)","v":0}]
["11940","      Adquisición con fondos de terceros",{"$nulls":29},{"$f":"Balanza!G42","v":0},{"$f":"Balanza!C42","v":0},"21910","      Ingresos por clasificar",{"$nulls":29},{"$f":"Balanza!H140","v":0},{"$f":"Balanza!D140","v":0}]
[null,"ACTIVOS CIRCULANTES",{"$nulls":29},{"$f":"AF8+AF16+AF24+AF30+AF36+AF38+AF41","v":769144.47999998927},{"$f":"AG8+AG16+AG24+AG30+AG36+AG38+AG41","v":1638603.84},"21920","      Recaudación por participar",{"$nulls":29},{"$f":"Balanza!H141","v":0},{"$f":"Balanza!D141","v":0}]
["12000","  ACTIVO NO CIRCULANTE",{"$nulls":31},"21990","      Otros pasivos circulantes",{"$nulls":29},{"$f":"Balanza!H142","v":0},{"$f":"Balanza!D142","v":0}]
["12100","    INVERSIONES FINANCIERAS A LARGO PLAZO",{"$nulls":29},{"$f":"SUM(AF49:AF52)","v":0},{"$f":"SUM(AG49:AG52)","v":0},null,"PASIVOS CIRCULANTES",{"$nulls":29},{"$f":"BM8+BM18+BM22+BM26+BM29+BM33+BM40+BM44","v":327242.72999999952},{"$f":"BN8+BN18+BN22+BN26+BN29+BN33+BN40+BN44","v":3948060.41}]
["12110","      Inversiones a largo plazo",{"$nulls":29},{"$f":"Balanza!G45","v":0},{"$f":"Balanza!C45","v":0},"22000","  PASIVO NO CIRCULANTE"]
["12120","      Títulos y valores a largo plazo",{"$nulls":29},{"$f":"Balanza!G46","v":0},{"$f":"Balanza!C46","v":0},"22100","    CUENTAS POR PAGAR A LARGO PLAZO",{"$nulls":29},{"$f":"SUM(BM51:BM52)","v":0},{"$f":"SUM(BN51:BN52)","v":0}]
["12130","      Fideicomisos, mandatos y contratos análogos",{"$nulls":29},{"$f":"Balanza!G47","v":0},{"$f":"Balanza!C47","v":0},"22110","      Proveedores por pagar a largo plazo",{"$nulls":29},{"$f":"Balanza!H145","v":0},{"$f":"Balanza!D145","v":0}]
["12140","      Participaciones y aportaciones de capital",{"$nulls":29},{"$f":"Balanza!G48","v":0},{"$f":"Balanza!C48","v":0},"22120","      Contratistas por obras públicas por pagar a largo plazo",{"$nulls":29},{"$f":"Balanza!H146","v":0},{"$f":"Balanza!D146","v":0}]
["12200","    DERECHOS A RECIBIR EFECTIVO O EQUIVALENTES A LARGO PLAZO",{"$nulls":29},{"$f":"SUM(AF54:AF58)","v":0},{"$f":"SUM(AG54:AG58)","v":0},"22200","    DOCUMENTOS POR PAGAR A LARGO PLAZO",{"$nulls":29},{"$f":"SUM(BM54:BM56)","v":0},{"$f":"SUM(BN54:BN56)","v":0}]
["12210","      Documentos por cobrar a largo plazo",{"$nulls":29},{"$f":"Balanza!G50","v":0},{"$f":"Balanza!C50","v":0},"22210","      Documentos comerciales por pagar a largo plazo",{"$nulls":29},{"$f":"Balanza!H148","v":0},{"$f":"Balanza!D148","v":0}]
["12220","      Deudores diversos a largo plazo",{"$nulls":29},{"$f":"Balanza!G51","v":0},{"$f":"Balanza!C51","v":0},"22220","      Documentos con contratistas por obras públicas por pagar a largo plazo",{"$nulls":29},{"$f":"Balanza!H149","v":0},{"$f":"Balanza!D149","v":0}]
["12230","      Ingresos por recuperar a largo plazo",{"$nulls":29},{"$f":"Balanza!G52","v":0},{"$f":"Balanza!C52","v":0},"22290","      Otros documentos por pagar a largo plazo",{"$nulls":29},{"$f":"Balanza!H150","v":0},{"$f":"Balanza!D150","v":0}]
["12240","      Préstamos otorgados a largo plazo",{"$nulls":29},{"$f":"Balanza!G53","v":0},{"$f":"Balanza!C53","v":0},"22300","    DEUDA PÚBLICA A LARGO PLAZO",{"$nulls":29},{"$f":"SUM(BM58:BM62)","v":0},{"$f":"SUM(BN58:BN62)","v":0}]
["12290","      Otros derechos a recibir efectivo o equivalentes a largo plazo",{"$nulls":29},{"$f":"Balanza!G54","v":0},{"$f":"Balanza!C54","v":0},"22310","      Títulos y valores de la deuda pública interna a largo plazo",{"$nulls":29},{"$f":"Balanza!H152","v":0},{"$f":"Balanza!D152","v":0}]
["12300","    BIENES INMUEBLES, INFRAESTRUCTURA Y CONSTRUCCIONES EN PROCESO",{"$nulls":29},{"$f":"SUM(AF60:AF66)","v":25830417.289999999},{"$f":"SUM(AG60:AG66)","v":16868234.870000001},"22320","      Títulos y valores de la deuda pública externa a largo plazo",{"$nulls":29},{"$f":"Balanza!H153","v":0},{"$f":"Balanza!D153","v":0}]
["12310","      Terrenos",{"$nulls":29},{"$f":"Balanza!G56","v":0},{"$f":"Balanza!C56","v":0},"22330","      Préstamos de la deuda pública interna por pagar a largo plazo",{"$nulls":29},{"$f":"Balanza!H154","v":0},{"$f":"Balanza!D154","v":0}]
["12320","      Viviendas",{"$nulls":29},{"$f":"Balanza!G57","v":0},{"$f":"Balanza!C57","v":0},"22340","      Préstamos de la deuda pública externa por pagar a largo plazo",{"$nulls":29},{"$f":"Balanza!H155","v":0},{"$f":"Balanza!D155","v":0}]
["12330","      Edificios no habitacionales",{"$nulls":29},{"$f":"Balanza!G58","v":0},{"$f":"Balanza!C58","v":0},"22350","      Arrendamiento financiero por pagar a largo plazo",{"$nulls":29},{"$f":"Balanza!H156","v":0},{"$f":"Balanza!D156","v":0}]
["12340","      Infraestructura",{"$nulls":29},{"$f":"Balanza!G59","v":0},{"$f":"Balanza!C59","v":0},"22400","    PASIVOS DIFERIDOS A LARGO PLAZO",{"$nulls":29},{"$f":"SUM(BM64:BM66)","v":0},{"$f":"SUM(BN64:BN66)","v":0}]
["12350","      Construcciones en proceso en bienes de dominio público",{"$nulls":29},{"$f":"Balanza!G60","v":25830417.289999999},{"$f":"Balanza!C60","v":16868234.870000001},"22410","      Créditos diferidos a largo plazo",{"$nulls":29},{"$f":"Balanza!H158","v":0},{"$f":"Balanza!D158","v":0}]
["12360","      Construcciones en proceso en bienes propios",{"$nulls":29},{"$f":"Balanza!G61","v":0},{"$f":"Balanza!C61","v":0},"22420","      Intereses cobrados por adelantado a largo plazo",{"$nulls":29},{"$f":"Balanza!H159","v":0},{"$f":"Balanza!D159","v":0}]
["12390","      Otros bienes inmuebles",{"$nulls":29},{"$f":"Balanza!G62","v":0},{"$f":"Balanza!C62","v":0},"22490","      Otros pasivos diferidos a largo plazo",{"$nulls":29},{"$f":"Balanza!H160","v":0},{"$f":"Balanza!D160","v":0}]
["12400","    BIENES MUEBLES",{"$nulls":29},{"$f":"SUM(AF68:AF75)","v":2530307.2200000002},{"$f":"SUM(AG68:AG75)","v":2169894.25},"22500","    FONDOS Y BIENES DE TERCEROS EN GARANTÍA Y/O ADMINISTRACIÓN A LARGO PLAZO",{"$nulls":29},{"$f":"SUM(BM68:BM73)","v":0},{"$f":"SUM(BN68:BN73)","v":0}]
["12410","      Mobiliario y equipo de administración",{"$nulls":29},{"$f":"Balanza!G64","v":198100.98},{"$f":"Balanza!C64","v":65188.01},"22510","      Fondos en garantía a largo plazo",{"$nulls":29},{"$f":"Balanza!H162","v":0},{"$f":"Balanza!D162","v":0}]
["12420","      Mobiliario y equipo educacional y recreativo",{"$nulls":29},{"$f":"Balanza!G65","v":0},{"$f":"Balanza!C65","v":0},"22520","      Fondos en administración a largo plazo",{"$nulls":29},{"$f":"Balanza!H163","v":0},{"$f":"Balanza!D163","v":0}]
["12430","      Equipo e instrumental médico y de laboratorio",{"$nulls":29},{"$f":"Balanza!G66","v":0},{"$f":"Balanza!C66","v":0},"22530","      Fondos contingentes a largo plazo",{"$nulls":29},{"$f":"Balanza!H164","v":0},{"$f":"Balanza!D164","v":0}]
["12440","      Vehículos y equipo de transporte",{"$nulls":29},{"$f":"Balanza!G67","v":2332206.2400000002},{"$f":"Balanza!C67","v":2104706.2400000002},"22540","      Fondos de fideicomisos, mandatos y contratos análogos a largo plazo",{"$nulls":29},{"$f":"Balanza!H165","v":0},{"$f":"Balanza!D165","v":0}]
["12450","      Equipo de defensa y seguridad",{"$nulls":29},{"$f":"Balanza!G68","v":0},{"$f":"Balanza!C68","v":0},"22550","      Otros fondos de terceros en garantía y/o administración a largo plazo",{"$nulls":29},{"$f":"Balanza!H166","v":0},{"$f":"Balanza!D166","v":0}]
["12460","      Maquinaria, otros equipos y herramientas",{"$nulls":29},{"$f":"Balanza!G69","v":0},{"$f":"Balanza!C69","v":0},"22560","      Valores y bienes en garantía a largo plazo",{"$nulls":29},{"$f":"Balanza!H167","v":0},{"$f":"Balanza!D167","v":0}]
["12470","      Colecciones, obras de arte y objetos valiosos",{"$nulls":29},{"$f":"Balanza!G70","v":0},{"$f":"Balanza!C70","v":0},"22600","    PROVISIONES A LARGO PLAZO",{"$nulls":29},{"$f":"SUM(BM75:BM78)","v":0},{"$f":"SUM(BN75:BN78)","v":0}]
["12480","      Activos biológicos",{"$nulls":29},{"$f":"Balanza!G71","v":0},{"$f":"Balanza!C71","v":0},"22610","      Provisión para demandas y juicios a largo plazo",{"$nulls":29},{"$f":"Balanza!H169","v":0},{"$f":"Balanza!D169","v":0}]
["12500","    ACTIVOS INTANGIBLES",{"$nulls":29},{"$f":"SUM(AF77:AF81)","v":0},{"$f":"SUM(AG77:AG81)","v":0},"22620","      Provisión para pensiones a largo plazo",{"$nulls":29},{"$f":"Balanza!H170","v":0},{"$f":"Balanza!D170","v":0}]
["12510","      Software",{"$nulls":29},{"$f":"Balanza!G73","v":0},{"$f":"Balanza!C73","v":0},"22630","      Provisión para contingencias a largo plazo",{"$nulls":29},{"$f":"Balanza!H171","v":0},{"$f":"Balanza!D171","v":0}]
["12520","      Patentes, marcas y derechos",{"$nulls":29},{"$f":"Balanza!G74","v":0},{"$f":"Balanza!C74","v":0},"22690","      Otras provisiones a largo plazo",{"$nulls":29},{"$f":"Balanza!H172","v":0},{"$f":"Balanza!D172","v":0}]
["12530","      Concesiones y franquicias",{"$nulls":29},{"$f":"Balanza!G75","v":0},{"$f":"Balanza!C75","v":0},null,"PASIVOS NO CIRCULANTES",{"$nulls":29},{"$f":"BM50+BM53+BM57+BM63+BM67+BM74","v":0},{"$f":"BN50+BN53+BN57+BN63+BN67+BN74","v":0}]
["12540","      Licencias",{"$nulls":29},{"$f":"Balanza!G76","v":0},{"$f":"Balanza!C76","v":0},null,"TOTAL DE PASIVOS",{"$nulls":29},{"$f":"BM48+BM79","v":327242.72999999952},{"$f":"BN48+BN79","v":3948060.41}]
["12590","      Otros activos intangibles",{"$nulls":29},{"$f":"Balanza!G77","v":0},{"$f":"Balanza!C77","v":0},"30000","HACIENDA PÚBLICA/ PATRIMONIO"]
["12600","    DEPRECIACIÓN, DETERIORO Y AMORTIZACIÓN ACUMULADA DE BIENES",{"$nulls":29},{"$f":"SUM(AF83:AF87)","v":0},{"$f":"SUM(AG83:AG87)","v":0},"31000","  HACIENDA PÚBLICA/ PATRIMONIO CONTRIBUIDO",{"$nulls":29},{"$f":"SUM(BM83:BM85)","v":0},{"$f":"SUM(BN83:BN85)","v":0}]
["12610","      Depreciación acumulada de bienes inmuebles",{"$nulls":29},{"$f":"(Balanza!H79)*-1","v":0},{"$f":"(Balanza!D79)*-1","v":0},"31100","    Aportaciones",{"$nulls":29},{"$f":"Balanza!H175","v":0},{"$f":"Balanza!D175","v":0}]
["12620","      Depreciación acumulada de infraestructura",{"$nulls":29},{"$f":"(Balanza!H80)*-1","v":0},{"$f":"(Balanza!D80)*-1","v":0},"31200","    Donaciones de capítal",{"$nulls":29},{"$f":"Balanza!H176","v":0},{"$f":"Balanza!D176","v":0}]
["12630","      Depreciación acumulada de bienes muebles",{"$nulls":29},{"$f":"(Balanza!H81)*-1","v":0},{"$f":"(Balanza!D81)*-1","v":0},"31300","    Actualización de la hacienda pública/patrimonio",{"$nulls":29},{"$f":"Balanza!H177","v":0},{"$f":"Balanza!D177","v":0}]
["12640","      Deterioro acumulado de activos biológicos",{"$nulls":29},{"$f":"(Balanza!H82)*-1","v":0},{"$f":"(Balanza!D82)*-1","v":0},"32000","  HACIENDA PÚBLICA/PATRIMONIO GENERADO",{"$nulls":29},{"$f":"BM87+BM88+BM89+BM94+BM98","v":28802626.263999991},{"$f":"BN87+BN88+BN89+BN94+BN98","v":16728672.549999988}]
["12650","      Amortización acumulada de activos intangibles",{"$nulls":29},{"$f":"(Balanza!H83)*-1","v":0},{"$f":"(Balanza!D83)*-1","v":0},"32100","    Resultado del ejercicio  (ahorro/desahorro)",{"$nulls":29},{"$f":"Balanza!H179","v":12073953.714000002},{"$f":"Balanza!D179","v":8267371.6999999881}]
["12700","    ACTIVOS DIFERIDOS",{"$nulls":29},{"$f":"SUM(AF89:AF94)","v":0},{"$f":"SUM(AG89:AG94)","v":0},"32200","    Resultado de ejercicios anteriores",{"$nulls":29},{"$f":"Balanza!H180","v":16728672.549999988},{"$f":"Balanza!D180","v":8461300.8499999996}]
["12710","      Estudios, formulación y evaluación de proyectos",{"$nulls":29},{"$f":"Balanza!G85","v":0},{"$f":"Balanza!C85","v":0},"32300","  REVALÚOS",{"$nulls":29},{"$f":"SUM(BM90:BM93)","v":0},{"$f":"SUM(BN90:BN93)","v":0}]
["12720","      Derechos sobre bienes en régimen de arrendamiento financiero",{"$nulls":29},{"$f":"Balanza!G86","v":0},{"$f":"Balanza!C86","v":0},"32310","    Revalúo de bienes inmuebles",{"$nulls":29},{"$f":"Balanza!H182","v":0},{"$f":"Balanza!D182","v":0}]
["12730","      Gastos pagados por adelantado a largo plazo",{"$nulls":29},{"$f":"Balanza!G87","v":0},{"$f":"Balanza!C87","v":0},"32320","    Revalúo de bienes muebles",{"$nulls":29},{"$f":"Balanza!H183","v":0},{"$f":"Balanza!D183","v":0}]
["12740","      Anticipos a largo plazo",{"$nulls":29},{"$f":"Balanza!G88","v":0},{"$f":"Balanza!C88","v":0},"32330","    Revalúo de bienes intangibles",{"$nulls":29},{"$f":"Balanza!H184","v":0},{"$f":"Balanza!D184","v":0}]
["12750","      Beneficios al retiro de empleados pagados por adelantado",{"$nulls":29},{"$f":"Balanza!G89","v":0},{"$f":"Balanza!C89","v":0},"32390","    Otros revalúos",{"$nulls":29},{"$f":"Balanza!H185","v":0},{"$f":"Balanza!D185","v":0}]
["12790","      Otros activos diferidos",{"$nulls":29},{"$f":"Balanza!G90","v":0},{"$f":"Balanza!C90","v":0},"32400","  RESERVAS",{"$nulls":29},{"$f":"SUM(BM95:BM97)","v":0},{"$f":"SUM(BN95:BN97)","v":0}]
["12800","    ESTIMACIÓN POR PÉRDIDA O DETERIORO DE ACTIVOS NO CIRCULANTES",{"$nulls":29},{"$f":"SUM(AF96:AF100)","v":0},{"$f":"SUM(AG96:AG100)","v":0},"32410","    Reservas de patrimonio",{"$nulls":29},{"$f":"Balanza!H187","v":0},{"$f":"Balanza!D187","v":0}]
["12810","      Estimaciones por pérdida de cuentas incobrables de documentos por cobrar a largo plazo",{"$nulls":29},{"$f":"(Balanza!H92)*-1","v":0},{"$f":"(Balanza!D92)*-1","v":0},"32420","    Reservas territoriales",{"$nulls":29},{"$f":"Balanza!H188","v":0},{"$f":"Balanza!D188","v":0}]
["12820","      Estimaciones por pérdida de cuentas incobrables de deudores diversos por cobrar a largo plazo",{"$nulls":29},{"$f":"(Balanza!H93)*-1","v":0},{"$f":"(Balanza!D93)*-1","v":0},"32430","    Reservas por contingencias",{"$nulls":29},{"$f":"Balanza!H189","v":0},{"$f":"Balanza!D189","v":0}]
["12830","      Estimaciones por pérdida de cuentas incobrables de ingresos por cobrar a largo plazo",{"$nulls":29},{"$f":"(Balanza!H94)*-1","v":0},{"$f":"(Balanza!D94)*-1","v":0},"32500","  RECTIFICACIONES DE RESULTADOS DE EJERCICIOS ANTERIORES",{"$nulls":29},{"$f":"SUM(BM99:BM100)","v":0},{"$f":"SUM(BN99:BN100)","v":0}]
["12840","      Estimaciones por pérdida de cuentas incobrables de préstamos otorgados a largo plazo",{"$nulls":29},{"$f":"(Balanza!H95)*-1","v":0},{"$f":"(Balanza!D95)*-1","v":0},"32510","    Cambios en políticas contables",{"$nulls":29},{"$f":"Balanza!H191","v":0},{"$f":"Balanza!D191","v":0}]
["12890","      Estimaciones por pérdida de otras cuentas incobrables a largo plazo",{"$nulls":29},{"$f":"(Balanza!H96)*-1","v":0},{"$f":"(Balanza!D96)*-1","v":0},"32520","    Cambios por errores contables",{"$nulls":29},{"$f":"Balanza!H192","v":0},{"$f":"Balanza!D192","v":0}]
["12900","    OTROS ACTIVOS NO CIRCULANTES",{"$nulls":29},{"$f":"SUM(AF102:AF104)","v":0},{"$f":"SUM(AG102:AG104)","v":0},"33000","  EXCESO O INSUFICIENCIA EN LA ACTUALIZACIÓN DE LA HACIENDA PÚBLICA / PATRIMONIO",{"$nulls":29},{"$f":"SUM(BM102:BM103)","v":0},{"$f":"SUM(BN102:BN103)","v":0}]
["12910","      Bienes en concesión",{"$nulls":29},{"$f":"Balanza!G98","v":0},{"$f":"Balanza!C98","v":0},"33100","    Resultado por posición monetaria",{"$nulls":29},{"$f":"Balanza!H194","v":0},{"$f":"Balanza!D194","v":0}]
["12920","      Bienes en arrendamiento financiero",{"$nulls":29},{"$f":"Balanza!G99","v":0},{"$f":"Balanza!C99","v":0},"33200","    Resultado por tenencia de activos no monetarios",{"$nulls":29},{"$f":"Balanza!H195","v":0},{"$f":"Balanza!D195","v":0}]
["12930","      Bienes en comodato",{"$nulls":29},{"$f":"Balanza!G100","v":0},{"$f":"Balanza!C100","v":0},{"$nulls":30},"TOTAL HACIENDA PUBLICA / PATRIMONIO",{"$f":"BM82+BM86+BM101","v":28802626.263999991},{"$f":"BN82+BN86+BN101","v":16728672.549999988}]
[null,"ACTIVOS NO CIRCULANTES",{"$nulls":29},{"$f":"AF48+AF53+AF59+AF67+AF76+AF82+AF88+AF95+AF101","v":28360724.509999998},{"$f":"AG48+AG53+AG59+AG67+AG76+AG82+AG88+AG95+AG101","v":19038129.120000001}]
[null,"TOTAL DEL ACTIVO",{"$nulls":29},{"$f":"AF46+AF105","v":29129868.989999987},{"$f":"AG46+AG105","v":20676732.960000001},null,"SUMA DE PASIVO Y PATRIMONIO / HACIENDA PÚBLICA",{"$nulls":29},{"$f":"BM80+BM104","v":29129868.993999992},{"$f":"BN80+BN104","v":20676732.959999986}]
[]
[]
[null,"Bajo protesta de decir verdad declaramos que los estados financieros y sus notas, son razonablemente correctos y son responsabilidad del emisor."]
{"$rows_empty":8}
[{"$nulls":16},{"$f":"Validacion!A7","v":"C. SANTIAGO LEON CASTRO"},{"$nulls":31},{"$f":"Validacion!A9","v":"L.T. JOCELYN SANCHEZ HERRERA"}]
[]
[{"$nulls":16},"Presidente Municipal o Títular del ente público",{"$nulls":31},"Encargado de la Hacienda Pública Municipal o Responsable de las finanzas del ente público"]

{"sheet":"F6","index":16,"n_rows":554,"n_cols":51,"rows_kept":554,"cut":false,"hidden":false,"merged":[[0,0,0,50],[542,1,542,48],[4,1,4,48],[183,1,183,48],[2,0,2,50],[1,0,1,50],[543,1,543,48],[553,15,554,31],[550,15,550,31],[553,47,554,50],[550,47,550,50],[551,15,552,31],[551,47,552,50]]}
[{"$f":"Validacion!A2","v":"Atemajac de Brizuela"}]
["ESTADO DE ACTIVIDADES"]
[{"$f":"'F9-EDP'!A3","v":"Del 1° de Enero al 31 de Diciembre de 2021"}]
[]
["CTA.","CONCEPTO",{"$nulls":47},2021,2020]
["40000","INGRESOS Y OTROS BENEFICIOS"]
["41000","INGRESOS DE GESTIÓN",{"$nulls":47},{"$f":"AX8+AX29+AX35+AX40+AX72+AX81+AX102+AX114","v":9645868.5699999984},{"$f":"AY8+AY29+AY35+AY40+AY72+AY81+AY102+AY114","v":5796928.2999999998}]
["41100","IMPUESTOS",{"$nulls":47},{"$f":"AX9+AX11+AX15+AX16+AX17+AX18+AX19+AX25+AX27","v":4282314.9799999995},{"$f":"AY9+AY11+AY15+AY16+AY17+AY18+AY19+AY25+AY27","v":2849601.27}]
[41110,"Impuestos sobre los ingresos",{"$nulls":47},{"$f":"SUM(AX10)","v":15088},{"$f":"SUM(AY10)","v":0}]
["41110-1","  Impuestos sobre espectáculos públicos",{"$nulls":47},{"$f":"Balanza!H200","v":15088},{"$f":"Balanza!D200","v":0}]
[41120,"Impuestos sobre el patrimonio",{"$nulls":47},{"$f":"SUM(AX12:AX14)","v":4235306.8499999996},{"$f":"SUM(AY12:AY14)","v":2801526.16}]
["41120-1","  Impuesto predial ",{"$nulls":47},{"$f":"Balanza!H202","v":2162492.08},{"$f":"Balanza!D202","v":1862867.3}]
["41120-2","  Impuestos sobre transmisiones patrimoniales",{"$nulls":47},{"$f":"Balanza!H203","v":2022154.88},{"$f":"Balanza!D203","v":938658.86}]
["41120-3","  Impuestos sobre negocios jurídicos",{"$nulls":47},{"$f":"Balanza!H204","v":50659.89},{"$f":"Balanza!D204","v":0}]
["41130","Impuestos sobre la producción, el consumo y las transacciones",{"$nulls":47},0,0]
["41140","Impuestos al comercio exterior",{"$nulls":47},0,0]
["41150","Impuestos sobre nóminas y asimilables",{"$nulls":47},0,0]
["41160","Impuestos ecológicos",{"$nulls":47},0,0]
["41170","Accesorios de impuestos",{"$nulls":47},{"$f":"SUM(AX20:AX24)","v":31920.129999999997},{"$f":"SUM(AY20:AY24)","v":48075.11}]
["41170-1","  Recargos",{"$nulls":47},{"$f":"Balanza!H210","v":12455.2},{"$f":"Balanza!D210","v":35902.370000000003}]
["41170-2","  Actualizaciones",{"$nulls":47},{"$f":"Balanza!H211","v":0},{"$f":"Balanza!D211","v":0}]
["41170-3","  Multas",{"$nulls":47},{"$f":"Balanza!H212","v":10490.8},{"$f":"Balanza!D212","v":12172.74}]
["41170-4","  Gastos de ejecución",{"$nulls":47},{"$f":"Balanza!H213","v":0},{"$f":"Balanza!D213","v":0}]
["41170-5","  Otros no especificados",{"$nulls":47},{"$f":"Balanza!H214","v":8974.1299999999992},{"$f":"Balanza!D214","v":0}]
["41180","Impuestos no comprendidos en la ley de ingresos vigente, causados en ejercicio fiscales anteriores pendientes de liquidar o pago",{"$nulls":47},{"$f":"SUM(AX26)","v":0},{"$f":"SUM(AY26)","v":0}]
["41180-1","Impuestos no comprendidos en la ley de ingresos vigente, causados en ejercicio fiscales anteriores pendientes de liquidar o pago",{"$nulls":47},{"$f":"Balanza!H216","v":0},{"$f":"Balanza!D216","v":0}]
["41190","Otros Impuestos",{"$nulls":47},{"$f":"SUM(AX28)","v":0},{"$f":"SUM(AY28)","v":0}]
["41190-1","  Otros impuestos",{"$nulls":47},{"$f":"Balanza!H218","v":0},{"$f":"Balanza!D218","v":0}]
["41200","CUOTAS Y APORTACIONES DE SEGURIDAD SOCIAL",{"$nulls":47},{"$f":"SUM(AX30:AX34)","v":0},{"$f":"SUM(AY30:AY34)","v":0}]
["41210","Aportaciones para fondos de vivienda",{"$nulls":47},0,0]
["41220","Cuotas para la seguridad social",{"$nulls":47},0,0]
["41230","Cuotas de ahorro para el retiro",{"$nulls":47},0,0]
["41240","Accesorios de cuotas y aportaciones de seguridad social",{"$nulls":47},0,0]
["41290","Otras cuotas y aportaciones para la seguridad social",{"$nulls":47},0,0]
["41300","CONTRIBUCIONES DE MEJORAS",{"$nulls":47},{"$f":"AX36+AX38","v":0},{"$f":"AY36+AY38","v":0}]
["41310","Contribuciones de mejoras por obras públicas",{"$nulls":47},{"$f":"SUM(AX37)","v":0},{"$f":"SUM(AY37)","v":0}]
["41310-1","  Contribuciones de mejoras por obras públicas",{"$nulls":47},{"$f":"Balanza!H227","v":0},{"$f":"Balanza!D227","v":0}]
["41320","Contribuciones de mejoras no comprendidas en la ley de ing. vigente, causadas en ejercicios fiscales anteriores pendientes de liq. o pago",{"$nulls":47},{"$f":"SUM(AX39)","v":0},{"$f":"SUM(AY39)","v":0}]
["41320-1","  Contribuciones de mejoras no comprendidas en la ley de ing. vigente, causadas en ejercicios fiscales anteriores pendientes de liq. o pago",{"$nulls":47},{"$f":"Balanza!H229","v":0},{"$f":"Balanza!D229","v":0}]
["41400","DERECHOS",{"$nulls":47},{"$f":"AX41+AX46+AX47+AX62+AX68+AX70","v":4717158.669999999},{"$f":"AY41+AY46+AY47+AY62+AY68+AY70","v":2154316.19}]
["41410","Derechos por el uso, goce, aprovechamiento o explotación de bienes de dominio público",{"$nulls":47},{"$f":"SUM(AX42:AX45)","v":157383},{"$f":"SUM(AY42:AY45)","v":32057}]
["41410-1","  Derechos por el uso del piso",{"$nulls":47},{"$f":"Balanza!H232","v":81581},{"$f":"Balanza!D232","v":4123}]
["41410-2","  Derechos por el uso de los estacionamientos",{"$nulls":47},{"$f":"Balanza!H233","v":0},{"$f":"Balanza!D233","v":0}]
["41410-3","  Derechos de uso de cementerios y panteones municipales",{"$nulls":47},{"$f":"Balanza!H234","v":25732},{"$f":"Balanza!D234","v":27934}]
["41410-4","  Derechos de concesiones y demás inmuebles de propiedad municipal",{"$nulls":47},{"$f":"Balanza!H235","v":50070},{"$f":"Balanza!D235","v":0}]
["41420","Derechos a los hidrocarburos (derogada)",{"$nulls":47},0,0]
["41430","Derechos por prestación de servicios",{"$nulls":47},{"$f":"SUM(AX48:AX61)","v":4552870.1499999994},{"$f":"SUM(AY48:AY61)","v":2110077.19}]
["41430-1","  Derechos de licencias y permisos de giros",{"$nulls":47},{"$f":"Balanza!H238","v":240109.44},{"$f":"Balanza!D238","v":89917.36}]
["41430-2","  Derechos de licencias y permisos de anuncios",{"$nulls":47},{"$f":"Balanza!H239","v":2297},{"$f":"Balanza!D239","v":0}]
["41430-3","  Derechos de licencias de construcción, reconstrucción, reparación o demolición de obras",{"$nulls":47},{"$f":"Balanza!H240","v":535054.02},{"$f":"Balanza!D240","v":158618.75}]
["41430-4","  Derechos de regularizaciones de los registros de obra",{"$nulls":47},{"$f":"Balanza!H241","v":17582.63},{"$f":"Balanza!D241","v":334838.71000000002}]
["41430-5","  Derechos de alineamiento, designación de número oficial e inspección",{"$nulls":47},{"$f":"Balanza!H242","v":572523.31999999995},{"$f":"Balanza!D242","v":19033.7}]
["41430-6","  Derechos de licencias de cambio de régimen de propiedad y urbanización",{"$nulls":47},{"$f":"Balanza!H243","v":168680.65},{"$f":"Balanza!D243","v":0}]
["41430-7","  Derechos de servicios de obra",{"$nulls":47},{"$f":"Balanza!H244","v":30202.31},{"$f":"Balanza!D244","v":0}]
["41430-8","  Derechos de servicios de sanidad",{"$nulls":47},{"$f":"Balanza!H245","v":11878},{"$f":"Balanza!D245","v":9971.1299999999992}]
["41430-9","  Derechos de servicio de limpieza, recolección, traslado, tratamiento y disposición final de residuos",{"$nulls":47},{"$f":"Balanza!H246","v":0},{"$f":"Balanza!D246","v":0}]
["41430-10","  Derechos de agua potable, drenaje, alcantarillado, tratamiento y disposición final de aguas residuales",{"$nulls":47},{"$f":"Balanza!H247","v":870571.82},{"$f":"Balanza!D247","v":867105.93}]
["41430-11","  Derechos del rastro",{"$nulls":47},{"$f":"Balanza!H248","v":273901},{"$f":"Balanza!D248","v":252976}]
["41430-12","  Derechos del registro civil",{"$nulls":47},{"$f":"Balanza!H249","v":12370},{"$f":"Balanza!D249","v":14227}]
["41430-13","  Derechos de las certificaciones",{"$nulls":47},{"$f":"Balanza!H250","v":167377.82},{"$f":"Balanza!D250","v":167914.41}]
["41430-14","  Derechos de los servicios de catastro",{"$nulls":47},{"$f":"Balanza!H251","v":1650322.14},{"$f":"Balanza!D251","v":195474.2}]
["41440","Accesorios de derecho",{"$nulls":47},{"$f":"SUM(AX63:AX67)","v":6905.52},{"$f":"SUM(AY63:AY67)","v":12182}]
["41440-1","  Recargos",{"$nulls":47},{"$f":"Balanza!H253","v":900},{"$f":"Balanza!D253","v":12182}]
["41440-2","  Actualizaciones",{"$nulls":47},{"$f":"Balanza!H254","v":0},{"$f":"Balanza!D254","v":0}]
["41440-3","  Multas",{"$nulls":47},{"$f":"Balanza!H255","v":0},{"$f":"Balanza!D255","v":0}]
["41440-4","  Gastos de ejecución",{"$nulls":47},{"$f":"Balanza!H256","v":0},{"$f":"Balanza!D256","v":0}]
["41440-5","  Otros no especificados",{"$nulls":47},{"$f":"Balanza!H257","v":6005.52},{"$f":"Balanza!D257","v":0}]
["41450","Derechos no comprendidos en la ley de ingresos vigente, causados en ejercicios fiscales anteriores pendientes de liquidación o pago",{"$nulls":47},{"$f":"SUM(AX69)","v":0},{"$f":"SUM(AY69)","v":0}]
["41450-1","  Derechos no comprendidos en la ley de ingresos vigente, causados en ejercicios fiscales anteriores pendientes de liquidación o pago",{"$nulls":47},{"$f":"Balanza!H259","v":0},{"$f":"Balanza!D259","v":0}]
["41490","Otros derechos",{"$nulls":47},{"$f":"SUM(AX71)","v":0},{"$f":"SUM(AY71)","v":0}]
["41490-1","  Otros derechos",{"$nulls":47},{"$f":"Balanza!H261","v":0},{"$f":"Balanza!D261","v":0}]
["41500","PRODUCTOS",{"$nulls":47},{"$f":"AX73+AX76+AX77+AX78+AX80","v":53968.85},{"$f":"AY73+AY76+AY77+AY78+AY80","v":182923.84}]
["41510","Productos ",{"$nulls":47},{"$f":"SUM(AX74:AX75)","v":53968.85},{"$f":"SUM(AY74:AY75)","v":182923.84}]
["41510-1","  Uso, goce, aprovechamiento o explotación de bienes de dominio privado",{"$nulls":47},{"$f":"Balanza!H264","v":0},{"$f":"Balanza!D264","v":103838}]
["41510-2","  Productos diversos",{"$nulls":47},{"$f":"Balanza!H265","v":53968.85},{"$f":"Balanza!D265","v":79085.84}]
["41520","Enajenación de bienes muebles no sujetos a ser inventariados (derogada)",{"$nulls":47},0,0]
["41530","Accesorios de productos (derogada)",{"$nulls":47},0,0]
["41540","Productos no comprendidos en la ley de ingresos vigente, causados en ejercicios fiscales anteriores pendientes de liquidación o pago",{"$nulls":47},{"$f":"SUM(AX79)","v":0},{"$f":"SUM(AY79)","v":0}]
["41540-1","  Productos no comprendidos en la ley de ingresos vigente, causadas en ejercicios fiscales anteriores pendientes de liquidación o pago",{"$nulls":47},{"$f":"Balanza!H269","v":0},{"$f":"Balanza!D269","v":0}]
["41590","Otros productos que generan ingresos corrientes (derogada)",{"$nulls":47},0,0]
["41600","APROVECHAMIENTOS",{"$nulls":47},{"$f":"AX82+AX83+AX85+AX87+AX89+AX91+AX93+AX94+AX100","v":592426.06999999995},{"$f":"AY82+AY83+AY85+AY87+AY89+AY91+AY93+AY94+AY100","v":610087}]
["41610","Incentivos derivados de la colaboración fiscal (derogada)",{"$nulls":47},0,0]
["41620","Multas",{"$nulls":47},{"$f":"SUM(AX84)","v":0},{"$f":"SUM(AY84)","v":8058}]
["41620-1","  Multas",{"$nulls":47},{"$f":"Balanza!H274","v":0},{"$f":"Balanza!D274","v":8058}]
["41630","Indemnizaciones",{"$nulls":47},{"$f":"SUM(AX86)","v":0},{"$f":"SUM(AY86)","v":0}]
["41630-1","  Indemnizaciones",{"$nulls":47},{"$f":"Balanza!H276","v":0},{"$f":"Balanza!D276","v":0}]
["41640","Reintegros",{"$nulls":47},{"$f":"SUM(AX88)","v":349127.05},{"$f":"SUM(AY88)","v":0}]
["41640-1","  Reintegros",{"$nulls":47},{"$f":"Balanza!H278","v":349127.05},{"$f":"Balanza!D278","v":0}]
["41650","Aprovechamientos provenientes de obras públicas",{"$nulls":47},{"$f":"SUM(AX90)","v":0},{"$f":"SUM(AY90)","v":0}]
["41640-1","  Aprovechamientos provenientes de obras públicas",{"$nulls":47},{"$f":"Balanza!H280","v":0},{"$f":"Balanza!D280","v":0}]
["41660","Aprovechamientos no comprendidos en la ley de ing. vigente, causados en ejercicios fiscales anteriores pendientes de liquidación o pago",{"$nulls":47},{"$f":"SUM(AX92)","v":0},{"$f":"SUM(AY92)","v":0}]
["41640-1","  Aprovechamientos no comprendidos en la ley de ing. vigente, causados en ejercicios fiscales anteriores pendientes de liquidación o pago",{"$nulls":47},{"$f":"Balanza!H282","v":0},{"$f":"Balanza!D282","v":0}]
["41670","Aprovechamientos por aportaciones y cooperaciones (derogada)",{"$nulls":47},0,0]
["41680","Accesorios de aprovechamiento",{"$nulls":47},{"$f":"SUM(AX95:AX99)","v":243299.02},{"$f":"SUM(AY95:AY99)","v":0}]
["41680-1","  Recargos",{"$nulls":47},{"$f":"Balanza!H285","v":0},{"$f":"Balanza!D285","v":0}]
["41680-2","  Actualizaciones",{"$nulls":47},{"$f":"Balanza!H286","v":0},{"$f":"Balanza!D286","v":0}]
["41680-3","  Multas",{"$nulls":47},{"$f":"Balanza!H287","v":16184},{"$f":"Balanza!D287","v":0}]
["41680-4","  Gastos de ejecución",{"$nulls":47},{"$f":"Balanza!H288","v":0},{"$f":"Balanza!D288","v":0}]
["41680-5","  Otros no especificados",{"$nulls":47},{"$f":"Balanza!H289","v":227115.02},{"$f":"Balanza!D289","v":0}]
["41690","Otros aprovechamientos",{"$nulls":47},{"$f":"SUM(AX101)","v":0},{"$f":"SUM(AY101)","v":602029}]
["41690-1","  Otros aprovechamientos",{"$nulls":47},{"$f":"Balanza!H291","v":0},{"$f":"Balanza!D291","v":602029}]
["41700","INGRESOS POR VENTAS DE BIENES Y PRESTACIÓN DE SERVICIOS",{"$nulls":47},{"$f":"AX103+AX105+AX106+AX108+AX109+AX110+AX111+AX113","v":0},{"$f":"AY103+AY105+AY106+AY108+AY109+AY110+AY111+AY113","v":0}]
["41710","Ingresos por venta de bienes y prestación de servicios de instituciones públicas de seguridad social",{"$nulls":47},{"$f":"SUM(AX104)","v":0},{"$f":"SUM(AY104)","v":0}]
["41710-1","  Ingresos por venta de bienes y prestación de servicios de instituciones públicas de seguridad social",{"$nulls":47},{"$f":"Balanza!H294","v":0},{"$f":"Balanza!D294","v":0}]
["41720","Ingresos por venta de bienes y prestación de servicios de empresas productivas del estado",{"$nulls":47},0,0]
["41730","Ingresos por venta de bienes y prestación de servicios de entidades paraestatales y fideicomisos no empresariales y no financieros",{"$nulls":47},{"$f":"SUM(AX107)","v":0},{"$f":"SUM(AY107)","v":0}]
["41730-1","  Ingresos por venta de bienes y prestación de servicios de entidades paraestatales y fideicomisos no empresariales y no financieros",{"$nulls":47},{"$f":"Balanza!H297","v":0},{"$f":"Balanza!D297","v":0}]
["41740","Ingresos por venta de bienes y prestación de servicios de entidades paraestatales empresariales no financieras con participación estatal mayoritaria",{"$nulls":47},0,0]
["41750","Ing. por vta. de bienes y prestación de servicios de entidades paraestatales empresariales financieras monetarias con participación estatal mayoritaria",{"$nulls":47},0,0]
["41760","Ing. por vta. de bienes y prestación de servicios de entidades paraestatales empresariales financ. no monetarias con participación estatal mayoritaria",{"$nulls":47},0,0]
["41770","Ingresos por venta de bienes y prestación de servicios de fideicomisos financieros públicos con participación estatal mayoritaria",{"$nulls":47},{"$f":"SUM(AX112)","v":0},{"$f":"SUM(AY112)","v":0}]
["41770-1","  Ingresos por venta de bienes y prestación de servicios de fideicomisos financieros públicos con participación estatal mayoritaria",{"$nulls":47},{"$f":"Balanza!H302","v":0},{"$f":"Balanza!D302","v":0}]
["41780","Ingresos por venta de bienes y prestación de servicios de los poderes legislativo y judicial, y de los órganos autónomos",{"$nulls":47},0,0]
["41900","ING. NO COM. EN LAS FRAC. DE LA LEY DE ING. CAUSADOS EN EJERc. FISC. ANTERIORES PENDIENTES DE LIQ. O PAGO (DEROGADO)",{"$nulls":47},{"$f":"SUM(AX115:AX116)","v":0},{"$f":"SUM(AY115:AY116)","v":0}]
["41910","Impuestos no comprendidos  en las frac. de la ley de ingresos causados en ejercicios fiscales anteriores pendientes de liquidación o pago (derogada)",{"$nulls":47},0,0]
["41920","Contrib. de mejo., derech., produc. y aprovecha. no comprend. en las fracc. de la ley de ing. causad. en ejerc. fisc. ante. pend. de liq. o pago (derogada)",{"$nulls":47},0,0]
["42000"," PART, APORT, CONV, INCEN. DERIV. DE LA COLAB. FISC, FONDOS DISTINTOS DE APORT, TRANSF, ASIG, SUB Y SUBVE, Y PENS. Y JUB.",{"$nulls":47},{"$f":"AX118+AX149","v":39705329.43},{"$f":"AY118+AY149","v":37228238.379999988}]
["42100","PARTIC. APORT. CONVENIOS, INCENTIVOS DERIVADOS DE LA COLABORACIÓN FISCAL Y FONDOS DISTINTOS DE APORTACIONES.",{"$nulls":47},{"$f":"AX119+AX132+AX135+AX140+AX146","v":39705329.43},{"$f":"AY119+AY132+AY135+AY140+AY146","v":37228238.379999988}]
["42110","Participaciones",{"$nulls":47},{"$f":"SUM(AX120:AX131)","v":24420587.930000003},{"$f":"SUM(AY120:AY131)","v":22279582.569999993}]
["42110-1","  Fondo general de participaciones (federal)",{"$nulls":47},{"$f":"Balanza!H310","v":17152650.690000001},{"$f":"Balanza!D310","v":16330744.789999999}]
["42110-2","  Fondo de fomento municipal (federal)",{"$nulls":47},{"$f":"Balanza!H311","v":4099611.85},{"$f":"Balanza!D311","v":4176894.7}]
["42110-3","  Fondo de fiscalización y recaudación (federal)",{"$nulls":47},{"$f":"Balanza!H312","v":232160.82},{"$f":"Balanza!D312","v":264839.15000000002}]
["42110-4","  Fondo de compensación (federal)",{"$nulls":47},{"$f":"Balanza!H313","v":0},{"$f":"Balanza!D313","v":0}]
["42110-5","  Fondo de extracción de hidrocarburos (federal)",{"$nulls":47},{"$f":"Balanza!H314","v":0},{"$f":"Balanza!D314","v":0}]
["42110-6","  Impuesto especial sobre producción y servicios (federal)",{"$nulls":47},{"$f":"Balanza!H315","v":446914.35},{"$f":"Balanza!D315","v":399947.24}]
["42110-7","  0.136% de la recaudación federal participable (federal)",{"$nulls":47},{"$f":"Balanza!H316","v":0},{"$f":"Balanza!D316","v":0}]
["42110-8","  3.17% sobre extracción de petróleo (federal)",{"$nulls":47},{"$f":"Balanza!H317","v":0},{"$f":"Balanza!D317","v":0}]
["42110-9","  Gasolinas y diésel (federal)",{"$nulls":47},{"$f":"Balanza!H318","v":770457.35},{"$f":"Balanza!D318","v":883807.29}]
["42110-10","  Fondo del impuesto sobre la renta (federal)",{"$nulls":47},{"$f":"Balanza!H319","v":1555537.17},{"$f":"Balanza!D319","v":0}]
["42110-11","  Fondo de estabilización de los ingresos de las entidades federativas (federal)",{"$nulls":47},{"$f":"Balanza!H320","v":156538.9},{"$f":"Balanza!D320","v":0}]
["42110-12","  Participaciones del estado",{"$nulls":47},{"$f":"Balanza!H321","v":6716.8},{"$f":"Balanza!D321","v":223349.4}]
["42120"," Aportaciones",{"$nulls":47},{"$f":"SUM(AX133:AX134)","v":12954133.24},{"$f":"SUM(AY133:AY134)","v":12751805.77}]
["42120-1","  Fondo de aportaciones para la infraestructura social municipal",{"$nulls":47},{"$f":"Balanza!H323","v":7786787.1600000001},{"$f":"Balanza!D323","v":7928909.46}]
["42120-2","  Fondo de aportaciones para el fortalecimiento municipal",{"$nulls":47},{"$f":"Balanza!H324","v":5167346.08},{"$f":"Balanza!D324","v":4822896.3099999996}]
["42130","Convenios",{"$nulls":47},{"$f":"SUM(AX136:AX139)","v":1865390},{"$f":"SUM(AY136:AY139)","v":1840233.49}]
["42130-1","  Convenios de protección social en salud",{"$nulls":47},{"$f":"Balanza!H326","v":0},{"$f":"Balanza!D326","v":0}]
["42130-2","  Convenios de descentralizados",{"$nulls":47},{"$f":"Balanza!H327","v":0},{"$f":"Balanza!D327","v":0}]
["42130-3","  Convenio de reasignación",{"$nulls":47},{"$f":"Balanza!H328","v":0},{"$f":"Balanza!D328","v":0}]
["42130-456","  Otros convenios y subsidios",{"$nulls":47},{"$f":"Balanza!H329+Balanza!H330+Balanza!H331","v":1865390},{"$f":"Balanza!D329+Balanza!D330+Balanza!D331","v":1840233.49}]
["42140","Incentivos derivados de la colaboración fiscal",{"$nulls":47},{"$f":"SUM(AX141:AX145)","v":465218.26},{"$f":"SUM(AY141:AY145)","v":356616.55000000005}]
["42140-1","  Tenencia o uso de vehículos",{"$nulls":47},{"$f":"Balanza!H333","v":301.58},{"$f":"Balanza!D333","v":540.53}]
["42140-2","  Fondo de compensación ISAN",{"$nulls":47},{"$f":"Balanza!H334","v":74455.320000000007},{"$f":"Balanza!D334","v":67939.63}]
["42140-3","  Impuesto sobre automóviles nuevos",{"$nulls":47},{"$f":"Balanza!H335","v":390461.36},{"$f":"Balanza!D335","v":288136.39}]
["42140-4","  Fondo de compensación de repecos-intermedios",{"$nulls":47},{"$f":"Balanza!H336","v":0},{"$f":"Balanza!D336","v":0}]
["42140-5","  Otros incentivos económicos",{"$nulls":47},{"$f":"Balanza!H337","v":0},{"$f":"Balanza!D337","v":0}]
["42150","Fondos distintos de aportaciones",{"$nulls":47},{"$f":"SUM(AX147:AX148)","v":0},{"$f":"SUM(AY147:AY148)","v":0}]
["42150-1","  Fondo para entidades federativas y municipios productores de hidrocarburos",{"$nulls":47},{"$f":"Balanza!H339","v":0},{"$f":"Balanza!D339","v":0}]
["42150-2","  Fondo minero",{"$nulls":47},{"$f":"Balanza!H340","v":0},{"$f":"Balanza!D340","v":0}]
["42200","TRANSFERENCIAS, ASIGNACIONES, SUBSIDIOS Y  SUBVENCIONES, PENSIONES Y JUBILACIONES",{"$nulls":47},{"$f":"AX150+AX152+AX153+AX155+AX156+AX158+AX159","v":0},{"$f":"AY150+AY152+AY153+AY155+AY156+AY158+AY159","v":0}]
["42210","Transferencias y asignaciones",{"$nulls":47},{"$f":"SUM(AX151)","v":0},{"$f":"SUM(AY151)","v":0}]
["42210-12","  Transferencias y asignaciones",{"$nulls":47},{"$f":"Balanza!H343+Balanza!H344","v":0},{"$f":"Balanza!D343+Balanza!D344","v":0}]
["42220","Transferencias del sector público (derogada)",{"$nulls":47},0,0]
["42230","Subsidios y subvenciones",{"$nulls":47},{"$f":"SUM(AX154)","v":0},{"$f":"SUM(AY154)","v":0}]
["42230-12","  Subsidios y subvenciones",{"$nulls":47},{"$f":"Balanza!H347+Balanza!H348","v":0},{"$f":"Balanza!D347+Balanza!D348","v":0}]
["42240","Ayudas sociales (derogada)",{"$nulls":47},0,0]
["42250","Pensiones y jubilaciones",{"$nulls":47},{"$f":"SUM(AX157)","v":0},{"$f":"SUM(AY157)","v":0}]
["42250-1","  Pensiones y jubilaciones",{"$nulls":47},{"$f":"Balanza!H351","v":0},{"$f":"Balanza!D351","v":0}]
["42260","Transferencias del exterior (derogada)",{"$nulls":47},0,0]
["42270","Transferencias del fondo mexicano del petróleo para la estabilización y el desarrollo",{"$nulls":47},{"$f":"SUM(AX160)","v":0},{"$f":"SUM(AY160)","v":0}]
["42270-1","  Transferencias del fondo mexicano del petróleo para la estabilización y el desarrollo",{"$nulls":47},{"$f":"Balanza!H354","v":0},{"$f":"Balanza!D354","v":0}]
["43000"," OTROS INGRESOS Y BENEFICIOS",{"$nulls":47},{"$f":"AX162+AX165+AX171+AX173+AX175","v":0},{"$f":"AY162+AY165+AY171+AY173+AY175","v":0}]
["43100","INGRESOS FINANCIEROS",{"$nulls":47},{"$f":"SUM(AX163:AX164)","v":0},{"$f":"SUM(AY163:AY164)","v":0}]
["43110","Intereses ganados de títulos, valores y demás instrumentos financieros",{"$nulls":47},{"$f":"Balanza!H358","v":0},{"$f":"Balanza!D358","v":0}]
["43190","Otros ingresos financieros",{"$nulls":47},{"$f":"Balanza!H360","v":0},{"$f":"Balanza!D360","v":0}]
["43200","INCREMENTO POR VARIACIÓN DE INVENTARIOS",{"$nulls":47},{"$f":"SUM(AX166:AX170)","v":0},{"$f":"SUM(AY166:AY170)","v":0}]
["43210","Incremento por varación de inventarios de mercancías para venta",{"$nulls":47},0,0]
["43220","Incremento por variación de inventarios de mercancías terminadas",{"$nulls":47},0,0]
["43230","Incremento por variación de inventarios de mercancías en proceso de elaboración",{"$nulls":47},0,0]
["43240","Incremento por variación de inventarios de materias primas, materiales y suministros para producción",{"$nulls":47},0,0]
["43250","Incremento por variación de almacén de mercancías primas, materiales y suministros de consumo",{"$nulls":47},0,0]
["43300","DISMINUCIÓN DEL EXCESO DE ESTIMACIONES POR PÉRDIDA O DETERIORO U OBSOLESCENCIA",{"$nulls":47},{"$f":"SUM(AX172)","v":0},{"$f":"SUM(AY172)","v":0}]
["43310","Disminución del Exceso de Estimaciones por Pérdida o Deterioro u Obsolescencia",{"$nulls":47},{"$f":"Balanza!H369","v":0},{"$f":"Balanza!D369","v":0}]
["43400","DISMINUCIÓN DEL EXCESO DE PROVISIONES",{"$nulls":47},{"$f":"AX174","v":0},{"$f":"AY174","v":0}]
["43410","Disminución del exceso de provisiones",{"$nulls":47},{"$f":"Balanza!H372","v":0},{"$f":"Balanza!D372","v":0}]
["43900","OTROS INGRESOS Y BENEFICIOS VARIOS",{"$nulls":47},{"$f":"SUM(AX176:AX183)","v":0},{"$f":"SUM(AY176:AY183)","v":0}]
["43910","Otros ingresos de ejercicios anteriores (derogada)",{"$nulls":47},0,0]
["43920","Bonificaciónes y descuentos obtenidos",{"$nulls":47},{"$f":"Balanza!H376","v":0},{"$f":"Balanza!D376","v":0}]
["43930","Diferencias por tipo de cambio a favor",{"$nulls":47},{"$f":"Balanza!H378","v":0},{"$f":"Balanza!D378","v":0}]
["43940","Diferencias de cotizaciones a favor en valores negociables",{"$nulls":47},{"$f":"Balanza!H380","v":0},{"$f":"Balanza!D380","v":0}]
["43950","Resultado por posición monetaria",{"$nulls":47},{"$f":"Balanza!H382","v":0},{"$f":"Balanza!D382","v":0}]
["43960","Utilidades por participación patrimonial",{"$nulls":47},{"$f":"Balanza!H384","v":0},{"$f":"Balanza!D384","v":0}]
["43970","Diferencias por reestructuración de deuda pública a favor",{"$nulls":47},{"$f":"Balanza!H386","v":0},{"$f":"Balanza!D386","v":0}]
["43990","Otros ingresos y beneficios varios",{"$nulls":47},{"$f":"Balanza!H388","v":0},{"$f":"Balanza!D388","v":0}]
[null,"TOTAL DE INGRESOS",{"$nulls":47},{"$f":"AX7+AX117+AX161","v":49351198},{"$f":"AY7+AY117+AY161","v":43025166.679999985}]
["50000","GASTOS Y OTRAS PÉRDIDAS"]
["51000"," GASTOS DE FUNCIONAMIENTO",{"$nulls":47},{"$f":"AX187+AX222+AX287","v":33734915.456},{"$f":"AY187+AY222+AY287","v":30396045.329999998}]
["51100","SERVICIOS PERSONALES",{"$nulls":47},{"$f":"AX188+AX193+AX198+AX207+AX212+AX219","v":18118436.470000003},{"$f":"AY188+AY193+AY198+AY207+AY212+AY219","v":17054348.789999999}]
["51110","Remuneraciones al personal de carácter permanente",{"$nulls":47},{"$f":"SUM(AX189:AX192)","v":10250517.66},{"$f":"SUM(AY189:AY192)","v":10287161.860000001}]
["51110-1","  Dietas",{"$nulls":47},{"$f":"Balanza!G393","v":1462276.57},{"$f":"Balanza!C393","v":1679546.65}]
["51110-2","  Haberes",{"$nulls":47},{"$f":"Balanza!G394","v":0},{"$f":"Balanza!C394","v":0}]
["51110-3","  Sueldos base al personal permanente",{"$nulls":47},{"$f":"Balanza!G395","v":8788241.0899999999},{"$f":"Balanza!C395","v":8607615.2100000009}]
["51110-4","  Remuneraciones por adscripción laboral en el extranjero",{"$nulls":47},{"$f":"Balanza!G396","v":0},{"$f":"Balanza!C396","v":0}]
["51120","Remuneraciones al personal de carácter transitorio",{"$nulls":47},{"$f":"SUM(AX194:AX197)","v":5809910.1900000004},{"$f":"SUM(AY194:AY197)","v":4801844.1399999997}]
["51120-1","  Honorarios asimilables a salarios",{"$nulls":47},{"$f":"Balanza!G398","v":0},{"$f":"Balanza!C398","v":0}]
["51120-2","  Sueldos base al personal eventual",{"$nulls":47},{"$f":"Balanza!G399","v":5809910.1900000004},{"$f":"Balanza!C399","v":4801844.1399999997}]
["51120-3","  Retribuciones por servicios de carácter social",{"$nulls":47},{"$f":"Balanza!G400","v":0},{"$f":"Balanza!C400","v":0}]
["51120-4","  Retribución a los representantes de los trabajadores y de los patrones en la Junta de Conciliación y Arbitraje",{"$nulls":47},{"$f":"Balanza!G401","v":0},{"$f":"Balanza!C401","v":0}]
["51130","Remuneraciones adicionales y especiales",{"$nulls":47},{"$f":"SUM(AX199:AX206)","v":1992316.62},{"$f":"SUM(AY199:AY206)","v":1965342.79}]
["51130-1","  Primas por años de servicios efectivos prestados",{"$nulls":47},{"$f":"Balanza!G403","v":0},{"$f":"Balanza!C403","v":0}]
["51130-2","  Primas de vacaciones, dominical y gratificación de fin de año",{"$nulls":47},{"$f":"Balanza!G404","v":1935992.83},{"$f":"Balanza!C404","v":1893041.43}]
["51130-3","  Horas extraordinarias",{"$nulls":47},{"$f":"Balanza!G405","v":56323.79},{"$f":"Balanza!C405","v":72301.36}]
["51130-4","  Compensaciones",{"$nulls":47},{"$f":"Balanza!G406","v":0},{"$f":"Balanza!C406","v":0}]
["51130-5","  Sobrehaberes",{"$nulls":47},{"$f":"Balanza!G407","v":0},{"$f":"Balanza!C407","v":0}]
["51130-6","  Asignaciones de técnico, de mando, por comisión, de vuelo y de técnico especial",{"$nulls":47},{"$f":"Balanza!G408","v":0},{"$f":"Balanza!C408","v":0}]
["51130-7","  Honorarios especiales",{"$nulls":47},{"$f":"Balanza!G409","v":0},{"$f":"Balanza!C409","v":0}]
["51130-8","  Participaciones por vigilancia en el cumplimiento de la leyes y custodia de valores",{"$nulls":47},{"$f":"Balanza!G410","v":0},{"$f":"Balanza!C410","v":0}]
["51140","Seguridad social",{"$nulls":47},{"$f":"SUM(AX208:AX211)","v":0},{"$f":"SUM(AY208:AY211)","v":0}]
["51140-1","  Aportaciones de seguridad social",{"$nulls":47},{"$f":"Balanza!G412","v":0},{"$f":"Balanza!C412","v":0}]
["51140-2","  Aportaciones a fondos de vivienda",{"$nulls":47},{"$f":"Balanza!G413","v":0},{"$f":"Balanza!C413","v":0}]
["51140-3","  Aportaciones al sistema para el retiro",{"$nulls":47},{"$f":"Balanza!G414","v":0},{"$f":"Balanza!C414","v":0}]
["51140-4","  Aportaciones para seguros",{"$nulls":47},{"$f":"Balanza!G415","v":0},{"$f":"Balanza!C415","v":0}]
["51150","Otras prestaciones sociales y económicas",{"$nulls":47},{"$f":"SUM(AX213:AX218)","v":65692},{"$f":"SUM(AY213:AY218)","v":0}]
["51150-1","  Cuotas para el fondo de ahorro y fondo de trabajo",{"$nulls":47},{"$f":"Balanza!G417","v":0},{"$f":"Balanza!C417","v":0}]
["51150-2","  Indemnizaciones",{"$nulls":47},{"$f":"Balanza!G418","v":65692},{"$f":"Balanza!C418","v":0}]
["51150-3","  Prestaciones y haberes de retiro",{"$nulls":47},{"$f":"Balanza!G419","v":0},{"$f":"Balanza!C419","v":0}]
["51150-4","  Prestaciones contractuales",{"$nulls":47},{"$f":"Balanza!G420","v":0},{"$f":"Balanza!C420","v":0}]
["51150-5","  Apoyos a la capacitación de los servidores públicos",{"$nulls":47},{"$f":"Balanza!G421","v":0},{"$f":"Balanza!C421","v":0}]
["51150-6","  Otras prestaciones sociales y económicas",{"$nulls":47},{"$f":"Balanza!G422","v":0},{"$f":"Balanza!C422","v":0}]
["51160","Pago de estímulos a servidores públicos",{"$nulls":47},{"$f":"SUM(AX220:AX221)","v":0},{"$f":"SUM(AY220:AY221)","v":0}]
["51160-1","  Estímulos",{"$nulls":47},{"$f":"Balanza!G424","v":0},{"$f":"Balanza!C424","v":0}]
["51160-2","  Recompensas",{"$nulls":47},{"$f":"Balanza!G425","v":0},{"$f":"Balanza!C425","v":0}]
["51200","MATERIALES Y SUMINISTROS",{"$nulls":47},{"$f":"AX223+AX232+AX236+AX246+AX256+AX264+AX267+AX273+AX277","v":3906677.5060000001},{"$f":"AY223+AY232+AY236+AY246+AY256+AY264+AY267+AY273+AY277","v":4617870.82}]
["51210","Materiales de administración, emisión de documentos y artículos oficiales",{"$nulls":47},{"$f":"SUM(AX224:AX231)","v":341096.15},{"$f":"SUM(AY224:AY231)","v":296508.90000000002}]
["51210-1","  Materiales, útiles y equipos menores de oficina",{"$nulls":47},{"$f":"Balanza!G428","v":145017.14000000001},{"$f":"Balanza!C428","v":114171.41}]
["51210-2","  Materiales y útiles de impresión y reproducción",{"$nulls":47},{"$f":"Balanza!G429","v":21615.78},{"$f":"Balanza!C429","v":0}]
["51210-3","  Material estadístico y geográfico",{"$nulls":47},{"$f":"Balanza!G430","v":0},{"$f":"Balanza!C430","v":0}]
["51210-4","  Materiales, útiles y equipos menores de tecnologías de la información y comunicaciones",{"$nulls":47},{"$f":"Balanza!G431","v":0},{"$f":"Balanza!C431","v":0}]
["51210-5","  Material impreso e información digital",{"$nulls":47},{"$f":"Balanza!G432","v":106492.07},{"$f":"Balanza!C432","v":119128.6}]
["51210-6","  Material de limpieza",{"$nulls":47},{"$f":"Balanza!G433","v":38700.76},{"$f":"Balanza!C433","v":63208.89}]
["51210-7","  Materiales y útiles de enseñanza",{"$nulls":47},{"$f":"Balanza!G434","v":0},{"$f":"Balanza!C434","v":0}]
["51210-8","  Materiales para el registro e identificación de bienes y personas",{"$nulls":47},{"$f":"Balanza!G435","v":29270.400000000001},{"$f":"Balanza!C435","v":0}]
["51220","Alimentos y utensilios",{"$nulls":47},{"$f":"SUM(AX233:AX235)","v":292538.86},{"$f":"SUM(AY233:AY235)","v":292586.06}]
["51220-1","  Productos alimenticios para personas",{"$nulls":47},{"$f":"Balanza!G437","v":281273.40999999997},{"$f":"Balanza!C437","v":292586.06}]
["51220-2","  Productos alimenticios para animales",{"$nulls":47},{"$f":"Balanza!G438","v":0},{"$f":"Balanza!C438","v":0}]
["51220-3","  Utensilios para el servicio de alimentación",{"$nulls":47},{"$f":"Balanza!G439","v":11265.45},{"$f":"Balanza!C439","v":0}]
["51230","Materias primas y materiales de producción y comercialización",{"$nulls":47},{"$f":"SUM(AX237:AX245)","v":0},{"$f":"SUM(AY237:AY245)","v":0}]
["51230-1","  Productos alimenticios, agropecuarios y forestales adquiridos como materia prima",{"$nulls":47},{"$f":"Balanza!G441","v":0},{"$f":"Balanza!C441","v":0}]
["51230-2","  Insumos textiles adquiridos como materia prima",{"$nulls":47},{"$f":"Balanza!G442","v":0},{"$f":"Balanza!C442","v":0}]
["51230-3","  Productos de papel, cartón e impresos adquiridos como materia prima",{"$nulls":47},{"$f":"Balanza!G443","v":0},{"$f":"Balanza!C443","v":0}]
["51230-4","  Combustibles, lubricantes, aditivos, carbón y sus derivados adquiridos como materia prima",{"$nulls":47},{"$f":"Balanza!G444","v":0},{"$f":"Balanza!C444","v":0}]
["51230-5","  Productos químicos, farmacéuticos y de laboratorio adquiridos como materia prima",{"$nulls":47},{"$f":"Balanza!G445","v":0},{"$f":"Balanza!C445","v":0}]
["51230-6","  Productos metálicos y a base de minerales no metálicos adquiridos como materia prima",{"$nulls":47},{"$f":"Balanza!G446","v":0},{"$f":"Balanza!C446","v":0}]
["51230-7","  Productos de cuero, piel, plástico y hule adquiridos como materia prima",{"$nulls":47},{"$f":"Balanza!G447","v":0},{"$f":"Balanza!C447","v":0}]
["51230-8","  Mercancías adquiridas para su comercialización",{"$nulls":47},{"$f":"Balanza!G448","v":0},{"$f":"Balanza!C448","v":0}]
["51230-9","  Otros productos adquiridos como materia prima",{"$nulls":47},{"$f":"Balanza!G449","v":0},{"$f":"Balanza!C449","v":0}]
["51240","Materiales y artículos de construcción y de reparación",{"$nulls":47},{"$f":"SUM(AX247:AX255)","v":570184.72},{"$f":"SUM(AY247:AY255)","v":901394.74}]
["51240-1","  Productos minerales no metálicos",{"$nulls":47},{"$f":"Balanza!G451","v":0},{"$f":"Balanza!C451","v":0}]
["51240-2","  Cemento y productos de concreto",{"$nulls":47},{"$f":"Balanza!G452","v":7320},{"$f":"Balanza!C452","v":0}]
["51240-3","  Cal, yeso y productos de yeso",{"$nulls":47},{"$f":"Balanza!G453","v":13200.04},{"$f":"Balanza!C453","v":0}]
["51240-4","  Madera y productos de madera",{"$nulls":47},{"$f":"Balanza!G454","v":0},{"$f":"Balanza!C454","v":0}]
["51240-5","  Vidrio y productos de vidrio",{"$nulls":47},{"$f":"Balanza!G455","v":0},{"$f":"Balanza!C455","v":0}]
["51240-6","  Material eléctrico y electrónico",{"$nulls":47},{"$f":"Balanza!G456","v":309532.57},{"$f":"Balanza!C456","v":397772.52}]
["51240-7","  Artículos metálicos para la construcción",{"$nulls":47},{"$f":"Balanza!G457","v":11359.76},{"$f":"Balanza!C457","v":0}]
["51240-8","  Materiales complementarios",{"$nulls":47},{"$f":"Balanza!G458","v":0},{"$f":"Balanza!C458","v":0}]
["51240-9","  Otros materiales y artículos de construcción y reparación",{"$nulls":47},{"$f":"Balanza!G459","v":228772.35},{"$f":"Balanza!C459","v":503622.22}]
["51250","Productos químicos, farmacéuticos y de laboratorio",{"$nulls":47},{"$f":"SUM(AX257:AX263)","v":155664.68},{"$f":"SUM(AY257:AY263)","v":117380.69}]
["51250-1","  Productos químicos básicos",{"$nulls":47},{"$f":"Balanza!G461","v":520},{"$f":"Balanza!C461","v":0}]
["51250-2","  Fertilizantes, pesticidas y otros agroquímicos",{"$nulls":47},{"$f":"Balanza!G462","v":500},{"$f":"Balanza!C462","v":0}]
["51250-3","  Medicinas y productos farmacéuticos",{"$nulls":47},{"$f":"Balanza!G463","v":19599.62},{"$f":"Balanza!C463","v":109666.69}]
["51250-4","  Materiales, accesorios y suministros médicos",{"$nulls":47},{"$f":"Balanza!G464","v":700},{"$f":"Balanza!C464","v":0}]
["51250-5","  Materiales, accesorios y suministros de laboratorio",{"$nulls":47},{"$f":"Balanza!G465","v":0},{"$f":"Balanza!C465","v":7714}]
["51250-6","  Fibras sintéticas, hules plásticos y derivados",{"$nulls":47},{"$f":"Balanza!G466","v":24543.72},{"$f":"Balanza!C466","v":0}]
["51250-7","  Otros productos químicos",{"$nulls":47},{"$f":"Balanza!G467","v":109801.34},{"$f":"Balanza!C467","v":0}]
["51260","Combustibles, lubricantes y aditivos",{"$nulls":47},{"$f":"SUM(AX265:AX266)","v":1950927.5560000001},{"$f":"SUM(AY265:AY266)","v":2618742.4}]
["51260-1","  Combustibles, lubricantes y aditivos",{"$nulls":47},{"$f":"Balanza!G469","v":1950927.5560000001},{"$f":"Balanza!C469","v":2618742.4}]
["51260-2","  Carbón y sus derivados",{"$nulls":47},{"$f":"Balanza!G470","v":0},{"$f":"Balanza!C470","v":0}]
["51270","Vestuario, blancos, prendas de protección y artículos deportivos",{"$nulls":47},{"$f":"SUM(AX268:AX272)","v":98676.47},{"$f":"SUM(AY268:AY272)","v":50787.86}]
["51270-1","  Vestuario y uniformes",{"$nulls":47},{"$f":"Balanza!G472","v":56337.27},{"$f":"Balanza!C472","v":21111.34}]
["51270-2","  Prendas de seguridad y protección personal",{"$nulls":47},{"$f":"Balanza!G473","v":10687.2},{"$f":"Balanza!C473","v":8987.58}]
["51270-3","  Artículos deportivos",{"$nulls":47},{"$f":"Balanza!G474","v":31572},{"$f":"Balanza!C474","v":20688.939999999999}]
["51270-4","  Productos textiles",{"$nulls":47},{"$f":"Balanza!G475","v":0},{"$f":"Balanza!C475","v":0}]
["51270-5","  Blancos y otros productos textiles, excepto prendas de vestir",{"$nulls":47},{"$f":"Balanza!G476","v":80},{"$f":"Balanza!C476","v":0}]
["51280","Materiales y suministros para seguridad",{"$nulls":47},{"$f":"SUM(AX274:AX276)","v":0},{"$f":"SUM(AY274:AY276)","v":0}]
["51280-1","  Sustancias y materiales explosivos",{"$nulls":47},{"$f":"Balanza!G478","v":0},{"$f":"Balanza!C478","v":0}]
["51280-2","  Materiales de seguridad pública",{"$nulls":47},{"$f":"Balanza!G479","v":0},{"$f":"Balanza!C479","v":0}]
["51280-3","  Prendas de protección para seguridad pública y nacional",{"$nulls":47},{"$f":"Balanza!G480","v":0},{"$f":"Balanza!C480","v":0}]
["51290","Herramientas, refacciones y accesorios menores",{"$nulls":47},{"$f":"SUM(AX278:AX286)","v":497589.07000000007},{"$f":"SUM(AY278:AY286)","v":340470.17}]
["51290-1","  Herramientas menores",{"$nulls":47},{"$f":"Balanza!G482","v":50439.56},{"$f":"Balanza!C482","v":0}]
["51290-2","  Refacciones y accesorios menores de edificios",{"$nulls":47},{"$f":"Balanza!G483","v":260},{"$f":"Balanza!C483","v":5678.2}]
["51290-3","  Refacciones y accesorios menores de mobiliario  y equipo de administración, educacional y recreativo",{"$nulls":47},{"$f":"Balanza!G484","v":0},{"$f":"Balanza!C484","v":0}]
["51290-4","  Refacciones y accesorios menores de equipo de cómputo y tecnologías de la información",{"$nulls":47},{"$f":"Balanza!G485","v":49236.23},{"$f":"Balanza!C485","v":103506.53}]
["51290-5","  Refacciones y accesorios menores de equipo e instrumental médico y de laboratorio",{"$nulls":47},{"$f":"Balanza!G486","v":0},{"$f":"Balanza!C486","v":0}]
["51290-6","  Refacciones y accesorios menores de equipo de transporte",{"$nulls":47},{"$f":"Balanza!G487","v":395390.26},{"$f":"Balanza!C487","v":143599.93}]
["51290-7","  Refacciones y accesorios menores de equipo de defensa y seguridad",{"$nulls":47},{"$f":"Balanza!G488","v":0},{"$f":"Balanza!C488","v":0}]
["51290-8","  Refacciones y accesorios menores de maquinaria y otros equipos",{"$nulls":47},{"$f":"Balanza!G489","v":2263.02},{"$f":"Balanza!C489","v":87685.51}]
["51290-9","  Refacciones y accesorios menores otros bienes muebles",{"$nulls":47},{"$f":"Balanza!G490","v":0},{"$f":"Balanza!C490","v":0}]
["51300","SERVICIOS GENERALES",{"$nulls":47},{"$f":"AX288+AX298+AX308+AX318+AX328+AX338+AX346+AX356+AX362","v":11709801.48},{"$f":"AY288+AY298+AY308+AY318+AY328+AY338+AY346+AY356+AY362","v":8723825.7199999988}]
["51310","Servicios básicos",{"$nulls":47},{"$f":"SUM(AX289:AX297)","v":5406917.370000001},{"$f":"SUM(AY289:AY297)","v":5449869.8300000001}]
["51310-1","  Energía eléctrica",{"$nulls":47},{"$f":"Balanza!G493","v":5234823.83},{"$f":"Balanza!C493","v":5332026.9400000004}]
["51310-2","  Gas ",{"$nulls":47},{"$f":"Balanza!G494","v":0},{"$f":"Balanza!C494","v":0}]
["51310-3","  Agua",{"$nulls":47},{"$f":"Balanza!G495","v":114},{"$f":"Balanza!C495","v":0}]
["51310-4","  Telefonía tradicional",{"$nulls":47},{"$f":"Balanza!G496","v":90603.23},{"$f":"Balanza!C496","v":115851.87}]
["51310-5","  Telefonía celular",{"$nulls":47},{"$f":"Balanza!G497","v":0},{"$f":"Balanza!C497","v":0}]
["51310-6","  Servicios de telecomunicaciones y satélites",{"$nulls":47},{"$f":"Balanza!G498","v":0},{"$f":"Balanza!C498","v":0}]
["51310-7","  Servicios de acceso de Internet, redes y procesamiento de información",{"$nulls":47},{"$f":"Balanza!G499","v":80788.87},{"$f":"Balanza!C499","v":1991.02}]
["51310-8","  Servicios postales y telegráficos",{"$nulls":47},{"$f":"Balanza!G500","v":587.44000000000005},{"$f":"Balanza!C500","v":0}]
["51310-9","  Servicios integrales y otros servicios",{"$nulls":47},{"$f":"Balanza!G501","v":0},{"$f":"Balanza!C501","v":0}]
["51320","Servicios de arrendamiento",{"$nulls":47},{"$f":"SUM(AX299:AX307)","v":311487.51999999996},{"$f":"SUM(AY299:AY307)","v":416110.99}]
["51320-1","  Arrendamiento de terrenos",{"$nulls":47},{"$f":"Balanza!G503","v":0},{"$f":"Balanza!C503","v":0}]
["51320-2","  Arrendamiento de edificios",{"$nulls":47},{"$f":"Balanza!G504","v":43800},{"$f":"Balanza!C504","v":44800}]
["51320-3","  Arrendamiento de mobiliario y equipo de administración, educacional y recreativo",{"$nulls":47},{"$f":"Balanza!G505","v":26321.279999999999},{"$f":"Balanza!C505","v":0}]
["51320-4","  Arrendamiento de equipo e instrumental médico y de laboratorio",{"$nulls":47},{"$f":"Balanza!G506","v":0},{"$f":"Balanza!C506","v":0}]
["51320-5","  Arrendamiento de equipo de transporte",{"$nulls":47},{"$f":"Balanza!G507","v":49416},{"$f":"Balanza!C507","v":0}]
["51320-6","  Arrendamiento de maquinaria, otros equipos y herramientas",{"$nulls":47},{"$f":"Balanza!G508","v":180996.07},{"$f":"Balanza!C508","v":371310.99}]
["51320-7","  Arrendamiento de activos intangibles",{"$nulls":47},{"$f":"Balanza!G509","v":0},{"$f":"Balanza!C509","v":0}]
["51320-8","  Arrendamiento financiero",{"$nulls":47},{"$f":"Balanza!G510","v":0},{"$f":"Balanza!C510","v":0}]
["51320-9","  Otros arrendamientos",{"$nulls":47},{"$f":"Balanza!G511","v":10954.17},{"$f":"Balanza!C511","v":0}]
["51330","Servicios profesionales, científicos, técnicos y otros servicios",{"$nulls":47},{"$f":"SUM(AX309:AX317)","v":306097.40000000002},{"$f":"SUM(AY309:AY317)","v":23200}]
["51330-1","  Servicios legales, de contabilidad, auditoría y relacionados",{"$nulls":47},{"$f":"Balanza!G513","v":29000},{"$f":"Balanza!C513","v":0}]
["51330-2","  Servicios de diseño, arquitectura, ingeniería y actividades relacionadas",{"$nulls":47},{"$f":"Balanza!G514","v":0},{"$f":"Balanza!C514","v":0}]
["51330-3","  Servicios de consultoría administrativa, procesos, técnica y en tecnologías de la información",{"$nulls":47},{"$f":"Balanza!G515","v":0},{"$f":"Balanza!C515","v":0}]
["51330-4","  Servicios de capacitación",{"$nulls":47},{"$f":"Balanza!G516","v":0},{"$f":"Balanza!C516","v":0}]
["51330-5","  Servicios de investigación científica y desarrollo",{"$nulls":47},{"$f":"Balanza!G517","v":0},{"$f":"Balanza!C517","v":0}]
["51330-6","  Servicios de apoyo administrativo, traducción, fotocopiado e impresión",{"$nulls":47},{"$f":"Balanza!G518","v":0},{"$f":"Balanza!C518","v":0}]
["51330-7","  Servicios de protección y seguridad",{"$nulls":47},{"$f":"Balanza!G519","v":0},{"$f":"Balanza!C519","v":0}]
["51330-8","  Servicios de vigilancia",{"$nulls":47},{"$f":"Balanza!G520","v":45025.4},{"$f":"Balanza!C520","v":0}]
["51330-9","  Servicios profesionales, científicos y técnicos integrales",{"$nulls":47},{"$f":"Balanza!G521","v":232072},{"$f":"Balanza!C521","v":23200}]
["51340","Servicios financieros, bancarios y comerciales",{"$nulls":47},{"$f":"SUM(AX319:AX327)","v":128396.59},{"$f":"SUM(AY319:AY327)","v":145475.31}]
["51340-1","  Servicios financieros y bancarios",{"$nulls":47},{"$f":"Balanza!G523","v":34859.51},{"$f":"Balanza!C523","v":28880.39}]
["51340-2","  Servicios de cobranza, investigación crediticia y similar",{"$nulls":47},{"$f":"Balanza!G524","v":0},{"$f":"Balanza!C524","v":0}]
["51340-3","  Servicios de recaudación, traslado y custodia de valores",{"$nulls":47},{"$f":"Balanza!G525","v":0},{"$f":"Balanza!C525","v":0}]
["51340-4","  Seguros de responsabilidad patrimonial y fianzas",{"$nulls":47},{"$f":"Balanza!G526","v":0},{"$f":"Balanza!C526","v":12747.24}]
["51340-5","  Seguro de bienes patrimoniales",{"$nulls":47},{"$f":"Balanza!G527","v":71705.52},{"$f":"Balanza!C527","v":79111.679999999993}]
["51340-6","  Almacenaje, envase y embalaje",{"$nulls":47},{"$f":"Balanza!G528","v":0},{"$f":"Balanza!C528","v":0}]
["51340-7","  Fletes y maniobras",{"$nulls":47},{"$f":"Balanza!G529","v":10300},{"$f":"Balanza!C529","v":24736}]
["51340-8","  Comisiones por ventas",{"$nulls":47},{"$f":"Balanza!G530","v":0},{"$f":"Balanza!C530","v":0}]
["51340-9","  Servicios financieros, bancarios y comerciales integrales",{"$nulls":47},{"$f":"Balanza!G531","v":11531.56},{"$f":"Balanza!C531","v":0}]
["51350","Servicios de instalación, reparación, mantenimiento y conservación",{"$nulls":47},{"$f":"SUM(AX329:AX337)","v":2154074.7400000002},{"$f":"SUM(AY329:AY337)","v":1462118.96}]
["51350-1","  Conservación y mantenimiento menor de inmuebles",{"$nulls":47},{"$f":"Balanza!G533","v":51375.02},{"$f":"Balanza!C533","v":68045.350000000006}]
["51350-2","  Instalación, reparación y mantenimiento de mobiliario y equipo de administración, educacional y recreativo",{"$nulls":47},{"$f":"Balanza!G534","v":0},{"$f":"Balanza!C534","v":0}]
["51350-3","  Instalación, reparación y mantenimiento de equipo de cómputo y tecnología de la información",{"$nulls":47},{"$f":"Balanza!G535","v":23363.08},{"$f":"Balanza!C535","v":0}]
["51350-4","  Instalación, reparación y mantenimiento de equipo e instrumental médico y de laboratorio",{"$nulls":47},{"$f":"Balanza!G536","v":0},{"$f":"Balanza!C536","v":0}]
["51350-5","  Reparación y mantenimiento de equipo de transporte",{"$nulls":47},{"$f":"Balanza!G537","v":574436.77},{"$f":"Balanza!C537","v":408123.76}]
["51350-6","  Reparación y mantenimiento de equipo de defensa y seguridad",{"$nulls":47},{"$f":"Balanza!G538","v":0},{"$f":"Balanza!C538","v":0}]
["51350-7","  Instalación, reparación y mantenimiento de maquinaria, otros equipos y herramienta",{"$nulls":47},{"$f":"Balanza!G539","v":204952.83},{"$f":"Balanza!C539","v":18451.12}]
["51350-8","  Servicios de limpieza y manejo de desechos",{"$nulls":47},{"$f":"Balanza!G540","v":1299947.04},{"$f":"Balanza!C540","v":967498.73}]
["51350-9","  Servicios de jardinería y fumigación",{"$nulls":47},{"$f":"Balanza!G541","v":0},{"$f":"Balanza!C541","v":0}]
["51360","Servicios de comunicación social y publicidad",{"$nulls":47},{"$f":"SUM(AX339:AX345)","v":44660},{"$f":"SUM(AY339:AY345)","v":11600}]
["51360-1","  Difusión por radio, televisión y otros medios de mensajes sobre programas y actividades gubernamentales",{"$nulls":47},{"$f":"Balanza!G543","v":0},{"$f":"Balanza!C543","v":0}]
["51360-2","  Difusión por radio, televisión y otros medios de mensajes comerciales para promover la venta de bienes o servicios",{"$nulls":47},{"$f":"Balanza!G544","v":0},{"$f":"Balanza!C544","v":0}]
["51360-3","  Servicios de creatividad, preproducción y producción de publicidad, excepto Internet",{"$nulls":47},{"$f":"Balanza!G545","v":0},{"$f":"Balanza!C545","v":0}]
["51360-4","  Servicios de revelado de  fotografías",{"$nulls":47},{"$f":"Balanza!G546","v":0},{"$f":"Balanza!C546","v":0}]
["51360-5","  Servicios de la industria fílmica, del sonido y del video",{"$nulls":47},{"$f":"Balanza!G547","v":0},{"$f":"Balanza!C547","v":0}]
["51360-6","  Servicio de creación y difusión de contenido exclusivamente a través de Internet",{"$nulls":47},{"$f":"Balanza!G548","v":44660},{"$f":"Balanza!C548","v":11600}]
["51360-7","  Otros servicios de información",{"$nulls":47},{"$f":"Balanza!G549","v":0},{"$f":"Balanza!C549","v":0}]
["51370","Servicios de traslado y viáticos",{"$nulls":47},{"$f":"SUM(AX347:AX355)","v":450459.8},{"$f":"SUM(AY347:AY355)","v":409791.53}]
["51370-1","  Pasajes aéreos",{"$nulls":47},{"$f":"Balanza!G551","v":13487},{"$f":"Balanza!C551","v":0}]
["51370-2","  Pasajes terrestres",{"$nulls":47},{"$f":"Balanza!G552","v":0},{"$f":"Balanza!C552","v":0}]
["51370-3","  Pasajes marítimos, lacustres y fluviales",{"$nulls":47},{"$f":"Balanza!G553","v":0},{"$f":"Balanza!C553","v":0}]
["51370-4","  Autotransporte",{"$nulls":47},{"$f":"Balanza!G554","v":225},{"$f":"Balanza!C554","v":0}]
["51370-5","  Viáticos en el país",{"$nulls":47},{"$f":"Balanza!G555","v":436747.8},{"$f":"Balanza!C555","v":409791.53}]
["51370-6","  Viáticos en el extranjero ",{"$nulls":47},{"$f":"Balanza!G556","v":0},{"$f":"Balanza!C556","v":0}]
["51370-7","  Gastos de instalación y traslado de menaje",{"$nulls":47},{"$f":"Balanza!G557","v":0},{"$f":"Balanza!C557","v":0}]
["51370-8","  Servicios integrales de traslado y viáticos",{"$nulls":47},{"$f":"Balanza!G558","v":0},{"$f":"Balanza!C558","v":0}]
["51370-9","  Otros servicios de traslado y hospedaje",{"$nulls":47},{"$f":"Balanza!G559","v":0},{"$f":"Balanza!C559","v":0}]
["51380","Servicios oficiales",{"$nulls":47},{"$f":"SUM(AX357:AX361)","v":504090.52},{"$f":"SUM(AY357:AY361)","v":368365.1}]
["51380-1","  Gastos de ceremonial",{"$nulls":47},{"$f":"Balanza!G561","v":3347.33},{"$f":"Balanza!C561","v":0}]
["51380-2","  Gastos de orden  social y cultural",{"$nulls":47},{"$f":"Balanza!G562","v":500743.19},{"$f":"Balanza!C562","v":368365.1}]
["51380-3","  Congresos y convenciones",{"$nulls":47},{"$f":"Balanza!G563","v":0},{"$f":"Balanza!C563","v":0}]
["51380-4","  Exposiciones",{"$nulls":47},{"$f":"Balanza!G564","v":0},{"$f":"Balanza!C564","v":0}]
["51380-5","  Gastos de representación",{"$nulls":47},{"$f":"Balanza!G565","v":0},{"$f":"Balanza!C565","v":0}]
["51390","Otros servicios generales",{"$nulls":47},{"$f":"SUM(AX363:AX371)","v":2403617.54},{"$f":"SUM(AY363:AY371)","v":437294}]
["51390-1","  Servicios funerarios y de cementerios",{"$nulls":47},{"$f":"Balanza!G567","v":0},{"$f":"Balanza!C567","v":0}]
["51390-2","  Impuestos y derechos",{"$nulls":47},{"$f":"Balanza!G568","v":734322.63},{"$f":"Balanza!C568","v":437294}]
["51390-3","  Impuestos y derechos de importación",{"$nulls":47},{"$f":"Balanza!G569","v":0},{"$f":"Balanza!C569","v":0}]
["51390-4","  Sentencias y resoluciones por autoridad competente",{"$nulls":47},{"$f":"Balanza!G570","v":0},{"$f":"Balanza!C570","v":0}]
["51390-5","  Penas, multas, accesorios y actualizaciones",{"$nulls":47},{"$f":"Balanza!G571","v":0},{"$f":"Balanza!C571","v":0}]
["51390-6","  Otros gastos por responsabilidades",{"$nulls":47},{"$f":"Balanza!G572","v":9795.0400000000009},{"$f":"Balanza!C572","v":0}]
["51390-7","  Utilidades",{"$nulls":47},{"$f":"Balanza!G573","v":0},{"$f":"Balanza!C573","v":0}]
["51390-8","  Impuesto sobre nómina y otros que se deriven de una relación laboral",{"$nulls":47},{"$f":"Balanza!G574","v":1659499.87},{"$f":"Balanza!C574","v":0}]
["51390-9","  Otros servicios generales",{"$nulls":47},{"$f":"Balanza!G575","v":0},{"$f":"Balanza!C575","v":0}]
["52000"," TRANSFERENCIAS, ASIGNACIONES, SUBSIDIOS Y OTRAS  AYUDAS",{"$nulls":47},{"$f":"AX373+AX385+AX391+AX403+AX416+AX423+AX433+AX436+AX447","v":3503874.62},{"$f":"AY373+AY385+AY391+AY403+AY416+AY423+AY433+AY436+AY447","v":4221984.17}]
["52100","TRANSFERENCIAS INTERNAS Y ASIGNACIONES AL SECTOR PÚBLICO",{"$nulls":47},{"$f":"AX374+AX384","v":1020000},{"$f":"AY374+AY384","v":0}]
["52110","Asignaciones al sector público",{"$nulls":47},{"$f":"SUM(AX375:AX383)","v":1020000},{"$f":"SUM(AY375:AY383)","v":0}]
["52110-1","  Asignaciones presupuestarias al Poder Ejecutivo",{"$nulls":47},{"$f":"Balanza!G579","v":0},{"$f":"Balanza!C579","v":0}]
["52110-2","  Asignaciones presupuestarias al Poder Legislativo",{"$nulls":47},{"$f":"Balanza!G580","v":0},{"$f":"Balanza!C580","v":0}]
["52110-3","  Asignaciones presupuestarias al Poder Judicial",{"$nulls":47},{"$f":"Balanza!G581","v":0},{"$f":"Balanza!C581","v":0}]
["52110-4","  Asignaciones presupuestarias a Órganos Autónomos",{"$nulls":47},{"$f":"Balanza!G582","v":0},{"$f":"Balanza!C582","v":0}]
["52110-5","  Transferencias internas otorgadas a entidades paraestatales no empresariales y no financieras",{"$nulls":47},{"$f":"Balanza!G583","v":0},{"$f":"Balanza!C583","v":0}]
["52110-6","  Transferencias internas otorgadas a entidades paraestatales empresariales y no financieras",{"$nulls":47},{"$f":"Balanza!G584","v":0},{"$f":"Balanza!C584","v":0}]
["52110-7","  Transferencias internas otorgadas a fideicomisos públicos empresariales y no financieros",{"$nulls":47},{"$f":"Balanza!G585","v":1020000},{"$f":"Balanza!C585","v":0}]
["52110-8","  Transferencias internas otorgadas a instituciones paraestatales públicas financieras",{"$nulls":47},{"$f":"Balanza!G586","v":0},{"$f":"Balanza!C586","v":0}]
["52110-9","  Transferencias internas otorgadas a fideicomisos públicos financieros",{"$nulls":47},{"$f":"Balanza!G587","v":0},{"$f":"Balanza!C587","v":0}]
["52120","Transferencias internas al sector público",{"$nulls":47},{"$f":"Balanza!C588","v":0},{"$f":"Balanza!G588","v":0}]
["52200","TRANSFERENCIAS  AL RESTO DEL SECTOR PÚBLICO",{"$nulls":47},{"$f":"AX386+AX390","v":480000},{"$f":"AY386+AY390","v":1273021}]
[52210,"Transferencias a entidades paraestatales",{"$nulls":47},{"$f":"SUM(AX387:AX389)","v":480000},{"$f":"SUM(AY387:AY389)","v":1273021}]
["52210-1","  Transferencias otorgadas a entidades paraestatales no empresariales y no financieras",{"$nulls":47},{"$f":"Balanza!G591","v":480000},{"$f":"Balanza!C591","v":1273021}]
["52210-2","  Transferencias otorgadas para entidades paraestatales empresariales y no financieras",{"$nulls":47},{"$f":"Balanza!G592","v":0},{"$f":"Balanza!C592","v":0}]
["52210-3","  Transferencias otorgadas para instituciones paraestatales públicas financieras  ",{"$nulls":47},{"$f":"Balanza!G593","v":0},{"$f":"Balanza!C593","v":0}]
["52220-12","Transferencias a entidades federativas y municipios",{"$nulls":47},{"$f":"Balanza!G594","v":0},{"$f":"Balanza!C594","v":0}]
["52300","SUBSIDIOS Y SUBVENCIONES",{"$nulls":47},{"$f":"AX392+AX401","v":0},{"$f":"AY392+AY401","v":0}]
["52310","Subsidios",{"$nulls":47},{"$f":"SUM(AX393:AX400)","v":0},{"$f":"SUM(AY393:AY400)","v":0}]
["52310-1","  Subsidios a la producción",{"$nulls":47},{"$f":"Balanza!G599","v":0},{"$f":"Balanza!C599","v":0}]
["52310-2","  Subsidios a la distribución",{"$nulls":47},{"$f":"Balanza!G600","v":0},{"$f":"Balanza!C600","v":0}]
["52310-3","  Subsidios a la inversión",{"$nulls":47},{"$f":"Balanza!G601","v":0},{"$f":"Balanza!C601","v":0}]
["52310-4","  Subsidios a la prestación de servicios públicos",{"$nulls":47},{"$f":"Balanza!G602","v":0},{"$f":"Balanza!C602","v":0}]
["52310-5","  Subsidios para cubrir diferenciales de tasas de interés",{"$nulls":47},{"$f":"Balanza!G603","v":0},{"$f":"Balanza!C603","v":0}]
["52310-6","  Subsidios a la vivienda ",{"$nulls":47},{"$f":"Balanza!G604","v":0},{"$f":"Balanza!C604","v":0}]
["52310-7","  Subsidios a entidades federativas y municipios",{"$nulls":47},{"$f":"Balanza!G605","v":0},{"$f":"Balanza!C605","v":0}]
["52310-8","  Otros subsidios",{"$nulls":47},{"$f":"Balanza!G606","v":0},{"$f":"Balanza!C606","v":0}]
["52320","Subvenciones  ",{"$nulls":47},{"$f":"SUM(AX402)","v":0},{"$f":"SUM(AY402)","v":0}]
["52320-1","  Subvenciones al consumo",{"$nulls":47},{"$f":"Balanza!G608","v":0},{"$f":"Balanza!C608","v":0}]
["52400","AYUDAS SOCIALES",{"$nulls":47},{"$f":"AX404+AX406+AX408+AX414","v":2003874.62},{"$f":"AY404+AY406+AY408+AY414","v":2918963.17}]
["52410","Ayudas sociales a personas",{"$nulls":47},{"$f":"SUM(AX405)","v":1432459.01},{"$f":"SUM(AY405)","v":1192000.81}]
["52410-1","  Ayudas sociales a personas ",{"$nulls":47},{"$f":"Balanza!G611","v":1432459.01},{"$f":"Balanza!C611","v":1192000.81}]
["52420","Becas   ",{"$nulls":47},{"$f":"SUM(AX407)","v":0},{"$f":"SUM(AY407)","v":0}]
["52420-1","Becas y otras ayudas para programas de capacitación",{"$nulls":47},{"$f":"Balanza!G613","v":0},{"$f":"Balanza!C613","v":0}]
["52430","Ayudas sociales a instituciones",{"$nulls":47},{"$f":"SUM(AX409:AX413)","v":571415.61},{"$f":"SUM(AY409:AY413)","v":1726962.3599999999}]
["52430-1","  Ayudas sociales a instituciones de enseñanza",{"$nulls":47},{"$f":"Balanza!G615","v":234733},{"$f":"Balanza!C615","v":1168412.8899999999}]
["52430-2","  Ayudas sociales a actividades científicas o académicas",{"$nulls":47},{"$f":"Balanza!G616","v":0},{"$f":"Balanza!C616","v":0}]
["52430-3","  Ayudas sociales a instituciones sin fines de lucro",{"$nulls":47},{"$f":"Balanza!G617","v":336682.61},{"$f":"Balanza!C617","v":558549.47}]
["52430-4","  Ayudas sociales a cooperativas",{"$nulls":47},{"$f":"Balanza!G618","v":0},{"$f":"Balanza!C618","v":0}]
["52430-5","  Ayudas sociales a entidades de interés público",{"$nulls":47},{"$f":"Balanza!G619","v":0},{"$f":"Balanza!C619","v":0}]
["52440","Ayudas sociales por desastres naturales y otros siniestros",{"$nulls":47},{"$f":"SUM(AX415)","v":0},{"$f":"SUM(AY415)","v":0}]
["52440-1","  Ayudas por desastres naturales y otros siniestros",{"$nulls":47},{"$f":"Balanza!G621","v":0},{"$f":"Balanza!C621","v":0}]
["52500","PENSIONES Y JUBILACIONES",{"$nulls":47},{"$f":"AX417+AX419+AX421","v":0},{"$f":"AY417+AY419+AY421","v":0}]
["52510","Pensiones",{"$nulls":47},{"$f":"SUM(AX418)","v":0},{"$f":"SUM(AY418)","v":0}]
["52510-1","  Pensiones",{"$nulls":47},{"$f":"Balanza!G624","v":0},{"$f":"Balanza!C624","v":0}]
["52520","Jubilaciones",{"$nulls":47},{"$f":"SUM(AX420)","v":0},{"$f":"SUM(AY420)","v":0}]
["52520-1","  Jubilaciones",{"$nulls":47},{"$f":"Balanza!G626","v":0},{"$f":"Balanza!C626","v":0}]
["52590","Otras pensiones y jubilaciones",{"$nulls":47},{"$f":"SUM(AX422)","v":0},{"$f":"SUM(AY422)","v":0}]
["52590-1","  Otras pensiones y jubilaciones",{"$nulls":47},{"$f":"Balanza!G628","v":0},{"$f":"Balanza!C628","v":0}]
["52600","TRANSFERENCIAS A FIDEICOMISOS, MANDATOS Y CONTRATOS ANÁLOGOS",{"$nulls":47},{"$f":"AX424+AX428","v":0},{"$f":"AY424+AY428","v":0}]
["52610","Transferencias a fideicomisos, mandatos y contratos análogos al gobierno",{"$nulls":47},{"$f":"SUM(AX425:AX427)","v":0},{"$f":"SUM(AY425:AY427)","v":0}]
["52610-1","  Transferencias a fideicomisos del Poder Ejecutivo",{"$nulls":47},{"$f":"Balanza!G631","v":0},{"$f":"Balanza!C631","v":0}]
["52610-2","  Transferencias a fideicomisos del Poder Legislativo",{"$nulls":47},{"$f":"Balanza!G632","v":0},{"$f":"Balanza!C632","v":0}]
["52610-3","  Transferencias a fideicomisos del Poder Judicial",{"$nulls":47},{"$f":"Balanza!G633","v":0},{"$f":"Balanza!C633","v":0}]
["52620","Transferencias a fideicomisos, mandatos y contratos análogos a entidades paraestatales",{"$nulls":47},{"$f":"SUM(AX429:AX432)","v":0},{"$f":"SUM(AY429:AY432)","v":0}]
["52610-1","  Transferencias a fideicomisos públicos de entidades paraestatales no empresariales y no financieras",{"$nulls":47},{"$f":"Balanza!G635","v":0},{"$f":"Balanza!C635","v":0}]
["52610-2","  Transferencias a fideicomisos públicos de entidades paraestatales empresariales y no financieras",{"$nulls":47},{"$f":"Balanza!G636","v":0},{"$f":"Balanza!C636","v":0}]
["52610-3","  Transferencias a fideicomisos de instituciones públicas financieras",{"$nulls":47},{"$f":"Balanza!G637","v":0},{"$f":"Balanza!C637","v":0}]
["52610-4","  Otras transferencias a fideicomisos   ",{"$nulls":47},{"$f":"Balanza!G638","v":0},{"$f":"Balanza!C638","v":0}]
["52700","TRANSFERENCIAS A LA SEGURIDAD SOCIAL",{"$nulls":47},{"$f":"SUM(AX434)","v":0},{"$f":"SUM(AY434)","v":0}]
["52710","Transferencias por obligaciones de ley",{"$nulls":47},{"$f":"SUM(AX435)","v":0},{"$f":"SUM(AY435)","v":0}]
["52710-1","  Transferencias por obligación de ley",{"$nulls":47},{"$f":"Balanza!G641","v":0},{"$f":"Balanza!C641","v":0}]
["52800","DONATIVOS",{"$nulls":47},{"$f":"AX437+AX439+AX441+AX443+AX445","v":0},{"$f":"AY437+AY439+AY441+AY443+AY445","v":30000}]
["52810","Donativos a instituciones sin fines de lucro",{"$nulls":47},{"$f":"SUM(AX438)","v":0},{"$f":"SUM(AY438)","v":30000}]
["52810-1","  Donativos a instituciones sin fines de lucro",{"$nulls":47},{"$f":"Balanza!G644","v":0},{"$f":"Balanza!C644","v":30000}]
["52820","Donativos a entidades federativas y municipios",{"$nulls":47},{"$f":"SUM(AX440)","v":0},{"$f":"SUM(AY440)","v":0}]
["52820-1","  Donativos a entidades federativas ",{"$nulls":47},{"$f":"Balanza!G646","v":0},{"$f":"Balanza!C646","v":0}]
["52830","Donativos a fideicomisos, mandatos y contratos análogos privados",{"$nulls":47},{"$f":"SUM(AX442)","v":0},{"$f":"SUM(AY442)","v":0}]
["52830-1","  Donativos a fideicomisos privados",{"$nulls":47},{"$f":"Balanza!G648","v":0},{"$f":"Balanza!C648","v":0}]
["52840","Donativos a fideicomisos, mandatos y contratos análogos estatales",{"$nulls":47},{"$f":"SUM(AX444)","v":0},{"$f":"SUM(AY444)","v":0}]
["52840-1","  Donativos a fideicomisos estatales",{"$nulls":47},{"$f":"Balanza!G650","v":0},{"$f":"Balanza!C650","v":0}]
["52850","Donativos internacional",{"$nulls":47},{"$f":"SUM(AX446)","v":0},{"$f":"SUM(AY446)","v":0}]
["52850-1","  Donativos internacional",{"$nulls":47},{"$f":"Balanza!G652","v":0},{"$f":"Balanza!C652","v":0}]
["52900","TRANSFERENCIAS AL EXTERIOR",{"$nulls":47},{"$f":"AX448+AX451","v":0},{"$f":"AY448+AY451","v":0}]
["52910","Transferencias al exterior a gobiernos extranjeros y organismos internacionales",{"$nulls":47},{"$f":"SUM(AX449:AX450)","v":0},{"$f":"SUM(AY449:AY450)","v":0}]
["52910-1","Transferencias para gobiernos extranjeros",{"$nulls":47},{"$f":"Balanza!G655","v":0},{"$f":"Balanza!C655","v":0}]
["52910-2","Transferencias para organismos internacionales",{"$nulls":47},{"$f":"Balanza!G656","v":0},{"$f":"Balanza!C656","v":0}]
["52920","Transferencias al sector privado externo",{"$nulls":47},{"$f":"SUM(AX452)","v":0},{"$f":"SUM(AY452)","v":0}]
["52920-1","  Transferencias para el sector privado externo",{"$nulls":47},{"$f":"Balanza!G658","v":0},{"$f":"Balanza!C658","v":0}]
["53000"," PARTICIPACIONES Y APORTACIONES",{"$nulls":47},{"$f":"AX454+AX463+AX471","v":0},{"$f":"AY454+AY463+AY471","v":0}]
["53100","PARTICIPACIONES",{"$nulls":47},{"$f":"AX455+AX459","v":0},{"$f":"AY455+AY459","v":0}]
["53110","Participaciones de la federación a entidades federativas y municipios",{"$nulls":47},{"$f":"SUM(AX456:AX458)","v":0},{"$f":"SUM(AY456:AY458)","v":0}]
["53110-1","  Fondo general de participaciones",{"$nulls":47},{"$f":"Balanza!G662","v":0},{"$f":"Balanza!C662","v":0}]
["53110-2","  Otros conceptos participables de la Federación a entidades federativas",{"$nulls":47},{"$f":"Balanza!G663","v":0},{"$f":"Balanza!C663","v":0}]
["53110-3","  Fondo de fomento municipal",{"$nulls":47},{"$f":"Balanza!G664","v":0},{"$f":"Balanza!C664","v":0}]
["53120","Participaciones de las entidades federativas a los municipios",{"$nulls":47},{"$f":"SUM(AX460:AX462)","v":0},{"$f":"SUM(AY460:AY462)","v":0}]
["53120-1","  Participaciones de las entidades federativas a los municipios",{"$nulls":47},{"$f":"Balanza!G666","v":0},{"$f":"Balanza!C666","v":0}]
["53120-2","  Otros conceptos participables de la Federación a municipios",{"$nulls":47},{"$f":"Balanza!G667","v":0},{"$f":"Balanza!C667","v":0}]
["53120-3","  Convenios de colaboración administrativa",{"$nulls":47},{"$f":"Balanza!G668","v":0},{"$f":"Balanza!C668","v":0}]
["53200","APORTACIONES",{"$nulls":47},{"$f":"AX464+AX469","v":0},{"$f":"AY464+AY469","v":0}]
["53210","Aportaciones de la federación a entidades federativas y municipios",{"$nulls":47},0,0]
["53210-1","  Aportaciones de la Federación a las entidades federativas",{"$nulls":47},{"$f":"Balanza!G671","v":0},{"$f":"Balanza!C671","v":0}]
["53210-2","  Aportaciones de la Federación a municipios",{"$nulls":47},{"$f":"Balanza!G672","v":0},{"$f":"Balanza!C672","v":0}]
["53210-3","  Aportaciones  previstas en leyes y decretos al sistema de protección social",{"$nulls":47},{"$f":"Balanza!G673","v":0},{"$f":"Balanza!C673","v":0}]
["53210-4","  Aportaciones previstas en leyes y decretos compensatorias a entidades federativas y municipios",{"$nulls":47},{"$f":"Balanza!G674","v":0},{"$f":"Balanza!C674","v":0}]
["53220","Aportaciones de las entidades federativas a los municipios",{"$nulls":47},{"$f":"SUM(AX470)","v":0},{"$f":"SUM(AY470)","v":0}]
["53220-1","  Aportaciones de las entidades federativas a los municipios",{"$nulls":47},{"$f":"Balanza!G676","v":0},{"$f":"Balanza!C676","v":0}]
["53300","CONVENIOS",{"$nulls":47},{"$f":"AX472+AX474","v":0},{"$f":"AY472+AY474","v":0}]
["53310","Convenios de reasignación",{"$nulls":47},{"$f":"SUM(AX473)","v":0},{"$f":"SUM(AY473)","v":0}]
["53310-1","  Convenios de reasignación",{"$nulls":47},{"$f":"Balanza!G679","v":0},{"$f":"Balanza!C679","v":0}]
["53320","Convenios de descentralización y otros",{"$nulls":47},{"$f":"SUM(AX475:AX476)","v":0},{"$f":"SUM(AY475:AY476)","v":0}]
["53320-1","  Convenios de descentralización",{"$nulls":47},{"$f":"Balanza!G681","v":0},{"$f":"Balanza!C681","v":0}]
["53320-2","  Otros convenios",{"$nulls":47},{"$f":"Balanza!G682","v":0},{"$f":"Balanza!C682","v":0}]
["54000"," INTERESES, COMISIONES Y OTROS GASTOS DE LA DEUDA PÚBLICA",{"$nulls":47},{"$f":"AX478+AX489+AX494+AX499+AX502","v":38454.21},{"$f":"AY478+AY489+AY494+AY499+AY502","v":139765.48000000001}]
["54100","INTERESES DE LA DEUDA PÚBLICA",{"$nulls":47},{"$f":"AX479+AX483","v":38454.21},{"$f":"AY479+AY483","v":139765.48000000001}]
["54110","Intereses de la deuda pública interna",{"$nulls":47},{"$f":"SUM(AX480:AX482)","v":38454.21},{"$f":"SUM(AY480:AY482)","v":139765.48000000001}]
["54110-1","  Intereses de la deuda interna con instituciones de crédito",{"$nulls":47},{"$f":"Balanza!G686","v":38454.21},{"$f":"Balanza!C686","v":139765.48000000001}]
["54110-2","  Intereses derivados de la colocación de títulos y valores",{"$nulls":47},{"$f":"Balanza!G687","v":0},{"$f":"Balanza!C687","v":0}]
["54110-3","  Intereses por arrendamientos  financieros nacionales",{"$nulls":47},{"$f":"Balanza!G688","v":0},{"$f":"Balanza!C688","v":0}]
["54120","Intereses de la deuda pública externa",{"$nulls":47},{"$f":"SUM(AX484:AX488)","v":0},{"$f":"SUM(AY484:AY488)","v":0}]
["54120-1","  Intereses de la deuda externa con instituciones de crédito ",{"$nulls":47},{"$f":"Balanza!G690","v":0},{"$f":"Balanza!C690","v":0}]
["54120-2","  Intereses de la deuda con organismos financieros internacionales",{"$nulls":47},{"$f":"Balanza!G691","v":0},{"$f":"Balanza!C691","v":0}]
["54120-3","  Intereses de la deuda bilateral  ",{"$nulls":47},{"$f":"Balanza!G692","v":0},{"$f":"Balanza!C692","v":0}]
["54120-4","  Intereses derivados de la colocación de títulos y valores en el exterior",{"$nulls":47},{"$f":"Balanza!G693","v":0},{"$f":"Balanza!C693","v":0}]
["54120-5","  Intereses por arrendamientos financieros internacionales",{"$nulls":47},{"$f":"Balanza!G694","v":0},{"$f":"Balanza!C694","v":0}]
["54200","COMISIONES DE LA DEUDA PÚBLICA",{"$nulls":47},{"$f":"AX490+AX492","v":0},{"$f":"AY490+AY492","v":0}]
["54210","Comisiones de la deuda pública interna",{"$nulls":47},{"$f":"SUM(AX491)","v":0},{"$f":"SUM(AY491)","v":0}]
["54210-1","  Comisiones de la deuda pública interna",{"$nulls":47},{"$f":"Balanza!G697","v":0},{"$f":"Balanza!C697","v":0}]
["54220","Comisiones de la deuda pública externa",{"$nulls":47},{"$f":"SUM(AX493)","v":0},{"$f":"SUM(AY493)","v":0}]
["54220-1","  Comisiones de la deuda pública externa",{"$nulls":47},{"$f":"Balanza!G699","v":0},{"$f":"Balanza!C699","v":0}]
["54300","GASTOS DE LA DEUDA PÚBLICA",{"$nulls":47},{"$f":"AX495+AX497","v":0},{"$f":"AY495+AY497","v":0}]
["54310","Gastos de la deuda pública interna",{"$nulls":47},{"$f":"SUM(AX496)","v":0},{"$f":"SUM(AY496)","v":0}]
["54310-1","  Gastos de la deuda pública interna",{"$nulls":47},{"$f":"Balanza!G702","v":0},{"$f":"Balanza!C702","v":0}]
["54320","Gastos de la deuda pública externa",{"$nulls":47},{"$f":"SUM(AX498)","v":0},{"$f":"SUM(AY498)","v":0}]
["54320-1","  Gastos de la deuda pública externa",{"$nulls":47},{"$f":"Balanza!G704","v":0},{"$f":"Balanza!C704","v":0}]
["54400","COSTO POR COBERTURAS",{"$nulls":47},{"$f":"AX500","v":0},{"$f":"AY500","v":0}]
["54410","Costo por coberturas",{"$nulls":47},{"$f":"SUM(AX501)","v":0},{"$f":"SUM(AY501)","v":0}]
["54410-1","  Costo por coberturas",{"$nulls":47},{"$f":"Balanza!G707","v":0},{"$f":"Balanza!C707","v":0}]
["54500","APOYOS FINANCIEROS",{"$nulls":47},{"$f":"AX503+AX505","v":0},{"$f":"AY503+AY505","v":0}]
["54510","Apoyos financieros a intermediarios",{"$nulls":47},{"$f":"SUM(AX504)","v":0},{"$f":"SUM(AY504)","v":0}]
["54510-1","  Apoyos financieros a intermediarios",{"$nulls":47},{"$f":"Balanza!G710","v":0},{"$f":"Balanza!C710","v":0}]
["54520","Apoyos financieros a ahorradores y deudores del sistema financiero nacional",{"$nulls":47},{"$f":"SUM(AX506)","v":0},{"$f":"SUM(AY506)","v":0}]
["54520-1","  Apoyos financieros a ahorradores y deudores del sistema financiero nacional",{"$nulls":47},{"$f":"Balanza!G712","v":0},{"$f":"Balanza!C712","v":0}]
["55000"," OTROS GASTOS Y PÉRDIDAS EXTRAORDINARIAS",{"$nulls":47},{"$f":"AX508+AX517+AX520+AX526+AX528+AX530","v":0},{"$f":"AY508+AY517+AY520+AY526+AY528+AY530","v":0}]
["55100","ESTIMACIONES, DEPRECIACIONES, DETERIOROS, OBSOLESCENCIA Y AMORTIZACIONES",{"$nulls":47},{"$f":"SUM(AX509:AX516)","v":0},{"$f":"SUM(AY509:AY516)","v":0}]
["55110","Estimaciones por pérdida o deterioro de activos circulantes",{"$nulls":47},{"$f":"Balanza!G715","v":0},{"$f":"Balanza!C715","v":0}]
["55120","Estimaciones por pérdida o deterioro de activo no circulante",{"$nulls":47},{"$f":"Balanza!G716","v":0},{"$f":"Balanza!C716","v":0}]
["55130","Depreciación de bienes inmuebles",{"$nulls":47},{"$f":"Balanza!G717","v":0},{"$f":"Balanza!C717","v":0}]
["55140","Depreciación de infraestructura",{"$nulls":47},{"$f":"Balanza!G718","v":0},{"$f":"Balanza!C718","v":0}]
["55150","Depreciación de bienes muebles",{"$nulls":47},{"$f":"Balanza!G719","v":0},{"$f":"Balanza!C719","v":0}]
["55160","Deterioro de los activos biológicos",{"$nulls":47},{"$f":"Balanza!G720","v":0},{"$f":"Balanza!C720","v":0}]
["55170","Amortización de activos intangibles",{"$nulls":47},{"$f":"Balanza!G721","v":0},{"$f":"Balanza!C721","v":0}]
["55180","Disminución de bienes por pérdida, obsolescencia y deterioro",{"$nulls":47},{"$f":"Balanza!G722","v":0},{"$f":"Balanza!C722","v":0}]
["55200","PROVISIONES  ",{"$nulls":47},{"$f":"SUM(AX518:AX519)","v":0},{"$f":"SUM(AY518:AY519)","v":0}]
["55210","Provisiones de pasivos a corto plazo",{"$nulls":47},{"$f":"Balanza!G724","v":0},{"$f":"Balanza!C724","v":0}]
["55220","Provisiones de pasivos a largo plazo",{"$nulls":47},{"$f":"Balanza!G725","v":0},{"$f":"Balanza!C725","v":0}]
["55300","DISMINUCIÓN DE INVENTARIOS",{"$nulls":47},{"$f":"SUM(AX521:AX525)","v":0},{"$f":"SUM(AY521:AY525)","v":0}]
["55310","Disminución de inventarios de mercancías para venta",{"$nulls":47},{"$f":"Balanza!G727","v":0},{"$f":"Balanza!C727","v":0}]
["55320","Disminución de inventarios de mercancías terminadas",{"$nulls":47},{"$f":"Balanza!G728","v":0},{"$f":"Balanza!C728","v":0}]
["55330","Disminución de inventarios de mercancías en proceso de elaboración",{"$nulls":47},{"$f":"Balanza!G729","v":0},{"$f":"Balanza!C729","v":0}]
["55340","Disminución de inventarios de materias primas, materiales y suministros para producción",{"$nulls":47},{"$f":"Balanza!G730","v":0},{"$f":"Balanza!C730","v":0}]
["55350","Disminución de almacén de materiales y suministros de consumo",{"$nulls":47},{"$f":"Balanza!G731","v":0},{"$f":"Balanza!C731","v":0}]
["55400","AUMENTO POR INSUFICIENCIA DE ESTIMACIONES POR PÉRDIDA O DETERIORO U OBSOLESCENCIA",{"$nulls":47},{"$f":"AX527","v":0},{"$f":"AY527","v":0}]
["55410","Aumento por insuficiencia de estimaciones por pérdida o deterioro u obsolescencia",{"$nulls":47},{"$f":"Balanza!G733","v":0},{"$f":"Balanza!C733","v":0}]
["55500","AUMENTO POR INSUFICIENCIA DE PROVISIONES",{"$nulls":47},{"$f":"AX529","v":0},{"$f":"AY529","v":0}]
["55510","Aumento por insuficiencia de provisiones",{"$nulls":47},{"$f":"Balanza!G735","v":0},{"$f":"Balanza!C735","v":0}]
["55900","OTROS GASTOS",{"$nulls":47},{"$f":"SUM(AX531:AX539)","v":0},{"$f":"SUM(AY531:AY539)","v":0}]
["55910","Gastos de ejercicios anteriores",{"$nulls":47},{"$f":"Balanza!G737","v":0},{"$f":"Balanza!C737","v":0}]
["55920","Pérdidas por responsabilidades",{"$nulls":47},{"$f":"Balanza!G738","v":0},{"$f":"Balanza!C738","v":0}]
["55930","Bonificaciones y descuentos otorgados",{"$nulls":47},{"$f":"Balanza!G739","v":0},{"$f":"Balanza!C739","v":0}]
["55940","Diferencias por tipo de cambio negativas",{"$nulls":47},{"$f":"Balanza!G740","v":0},{"$f":"Balanza!C740","v":0}]
["55950","Diferencias de cotizaciones negativas en valores negociables",{"$nulls":47},{"$f":"Balanza!G741","v":0},{"$f":"Balanza!C741","v":0}]
["55960","Resultado por posición monetaria",{"$nulls":47},{"$f":"Balanza!G742","v":0},{"$f":"Balanza!C742","v":0}]
["55970","Pérdidas por participación patrimonial",{"$nulls":47},{"$f":"Balanza!G743","v":0},{"$f":"Balanza!C743","v":0}]
["55980","Diferencias por reestructuración de deuda pública negativas",{"$nulls":47},{"$f":"Balanza!G744","v":0},{"$f":"Balanza!C744","v":0}]
["55990","Otros gastos varios",{"$nulls":47},{"$f":"Balanza!G745","v":0},{"$f":"Balanza!C745","v":0}]
["56000"," INVERSIÓN PÚBLICA",{"$nulls":47},{"$f":"AX541","v":0},{"$f":"AY541","v":0}]
["56100","INVERSIÓN PÚBLICA NO CAPITALIZABLE",{"$nulls":47},{"$f":"SUM(AX542)","v":0},{"$f":"SUM(AY542)","v":0}]
["56110","Construcción en bienes no capitalizables",{"$nulls":47},{"$f":"Balanza!G748","v":0},{"$f":"Balanza!C748","v":0}]
[null,"TOTAL DE GASTOS Y OTRAS PERDIDAS",{"$nulls":47},{"$f":"AX186+AX372+AX453+AX477+AX507+AX540","v":37277244.285999998},{"$f":"AY186+AY372+AY453+AY477+AY507+AY540","v":34757794.979999997}]
[null,"RESULTADO DEL EJERCICIO (AHORRO/DESAHORRO)",{"$nulls":47},{"$f":"AX184-AX543","v":12073953.714000002},{"$f":"AY184-AY543","v":8267371.6999999881}]
[]
[null,"Bajo protesta de decir verdad declaramos que los estados financieros y sus notas, son razonablemente correctos y son responsabilidad del emisor."]
[]
[]
[]
[]
[{"$nulls":47}," "]
[{"$nulls":15},{"$f":"Validacion!A7","v":"C. SANTIAGO LEON CASTRO"},{"$nulls":31},{"$f":"Validacion!A9","v":"L.T. JOCELYN SANCHEZ HERRERA"}]
[]
[{"$nulls":15},"Presidente Municipal o Títular del ente público",{"$nulls":31},"Encargado de la Hacienda Pública Municipal o\n Responsable de las finanzas del ente público"]

{"sheet":"F2","index":17,"n_rows":42,"n_cols":7,"rows_kept":42,"cut":false,"hidden":false,"merged":[[0,0,0,6],[1,0,1,6],[2,0,2,6],[5,0,5,1],[9,0,9,1],[39,1,40,1],[39,3,40,6],[41,1,42,1],[41,3,42,6],[15,0,15,1],[18,0,18,1],[19,0,19,1],[23,0,23,1],[29,0,29,1],[32,0,32,1]]}
[{"$f":"Validacion!A2","v":"Atemajac de Brizuela"}]
["ESTADO DE VARIACIÓN DE LA HACIENDA PÚBLICA"]
[{"$f":"'F6'!A3","v":"Del 1° de Enero al 31 de Diciembre de 2021"}]
[]
[null,"CONCEPTO","Hacienda pública/patrimonio contribuido","Hacienda pública/patrimonio generado de ejercicios anteriores","Hacienda pública/patrimonio generado del ejercicio","Exceso o insuficiencia en la actualización de la Hacienda pública/patrimonio","TOTAL"]
["Hacienda pública / patrimonio contribuido neto de 2020",null,{"$f":"SUM(C7:C9)","v":0},null,null,null,{"$f":"SUM(C6:F6)","v":0}]
[null,"Aportaciones",{"$f":"Balanza!D175","v":0},null,null,null,{"$f":"SUM(C7:F7)","v":0}]
[null,"Donaciones de capital",{"$f":"Balanza!D176","v":0},null,null,null,{"$f":"SUM(C8:F8)","v":0}]
[null,"Actualización de la hacienda pública/patrimonio",{"$f":"Balanza!D177","v":0},null,null,null,0]
["Hacienda pública / patrimonio generado neto de 2020",null,null,{"$f":"SUM(D12:D15)","v":8461300.8499999996},{"$f":"SUM(E11)","v":8267371.6999999881},null,16728672.549999988]
[null,"Resultados del ejercicio (ahorro/desahorro)",null,null,{"$f":"Balanza!D179","v":8267371.6999999881},null,8267371.6999999881]
[null,"Resultados de ejercicios anteriores",null,{"$f":"Balanza!D180","v":8461300.8499999996},null,null,8461300.8499999996]
[null,"Revalúos",null,{"$f":"Balanza!D181","v":0},null,null,0]
[null,"Reservas",null,{"$f":"Balanza!D186","v":0},null,null,0]
[null,"Rectificaciones de resultados de ejercicios anteriores",null,{"$f":"Balanza!D190","v":0},null,null,0]
["Exceso o insuficiencia en la actualización de la Hacienda pública/patrimonio neto  2020",{"$nulls":4},{"$f":"SUM(F17:F18)","v":0},0]
[null,"Resultado por posición monetaria ",null,null,null,{"$f":"Balanza!D194","v":0},0]
[null,"Resultado por tenencia de activos no monetarios",null,null,null,{"$f":"Balanza!D195","v":0},0]
["Hacienda pública / patrimonio neto final de 2020",null,{"$f":"C6","v":0},{"$f":"D10","v":8461300.8499999996},{"$f":"E10","v":8267371.6999999881},{"$f":"F16","v":0},16728672.549999988]
["Cambios en la hacienda pública/patrimonio contribuido neto de 2021",null,{"$f":"SUM(C21:C23)","v":0},null,null,null,0]
[null,"Aportaciones",{"$f":"Balanza!F175-Balanza!E175","v":0},null,null,null,0]
[null,"Donaciones de capital",{"$f":"Balanza!F176-Balanza!E176","v":0},null,null,null,0]
[null,"Actualización de la hacienda pública/patrimonio",{"$f":"Balanza!F177-Balanza!E177","v":0},null,null,null,0]
["Variaciones de la hacienda pública/patrimonio generado neto de 2021",null,null,{"$f":"SUM(D26)","v":8267371.6999999881},{"$f":"SUM(E25:E29)","v":3806582.0140000135},null,12073953.714000002]
[null,"Resultados del ejercicio (ahorro/desahorro)",null,null,{"$f":"Balanza!H179","v":12073953.714000002},null,12073953.714000002]
[null,"Resultados de ejercicios anteriores",null,{"$f":"Balanza!H180-Balanza!D180","v":8267371.6999999881},{"$f":"(Balanza!D179)*-1","v":-8267371.6999999881},null,0]
[null,"Revalúos",null,null,{"$f":"Balanza!F181-Balanza!E181","v":0},null,0]
[null,"Reservas",null,null,{"$f":"Balanza!F186-Balanza!E186","v":0},null,0]
[null,"Rectificaciones de resultados de ejercicios anteriores",null,null,{"$f":"Balanza!F190-Balanza!E190","v":0},null,0]
["Cambios en el exceso o insuficiencia en la actualización de la hacienda pública/patrimonio neto de 2021",{"$nulls":4},{"$f":"SUM(F31:F32)","v":0},0]
[null,"Resultados por posición monetaria ",null,null,null,{"$f":"Balanza!F194-Balanza!E194","v":0},0]
[null,"Resultados por terceros de activos no monetarios ",null,null,null,{"$f":"Balanza!F195-Balanza!E195","v":0},0]
[" Hacienda pública/patrimonio neto final de 2021",null,{"$f":"C19+C20","v":0},{"$f":"D19+D24","v":16728672.549999988},{"$f":"E19+E24","v":12073953.714000002},{"$f":"F19+F30","v":0},28802626.263999991]
[]
[null,"Bajo protesta de decir verdad declaramos que los estados financieros y sus notas, son razonablemente correctos y son responsabilidad del emisor."]
[]
[]
[]
[]
[null,{"$f":"Validacion!A7","v":"C. SANTIAGO LEON CASTRO"},null,{"$f":"Validacion!A9","v":"L.T. JOCELYN SANCHEZ HERRERA"}]
[]
[null,"Presidente Municipal o titular del ente público",null,"Encargado de la Hacienda Municipal o Responsable\nde las finanzas del ente público"]

{"sheet":"F4A1","index":18,"n_rows":32,"n_cols":4,"rows_kept":32,"cut":false,"hidden":false,"merged":[[23,1,24,1],[25,1,26,1],[29,1,30,1],[31,1,32,1],[0,0,0,3],[1,0,1,3],[2,0,2,3],[19,0,20,3],[5,0,5,1],[4,0,4,1],[4,2,4,3]]}
[{"$f":"Validacion!A2","v":"Atemajac de Brizuela"}]
["CONCILIACIÓN ENTRE LOS INGRESO PRESUPUESTARIOS Y CONTABLES"]
[{"$f":"'F6'!A3","v":"Del 1° de Enero al 31 de Diciembre de 2021"}]
[]
["CONCEPTO",null,"IMPORTE"]
["1. Total de ingresos presupuestarios",null,null,{"$f":"'F7'!F70","v":49351198}]
["2. Ingresos contables no presupuestarios",null,null,{"$f":"SUM(C8:C13)","v":0}]
[null,"2.1 Ingresos financieros",{"$f":"'F6'!AX162","v":0}]
[null,"2.2 Incremento por variaciones de inventarios",{"$f":"'F6'!AX165","v":0}]
[null,"2.3 Disminución del exceso de estimación por pérdida o deterioro u obsolescencia",{"$f":"'F6'!AX171","v":0}]
[null,"2.4 Disminución del exceso de provisiones",{"$f":"'F6'!AX173","v":0}]
[null,"2.5 Otros ingresos y beneficios varios",{"$f":"'F6'!AX175","v":0}]
[null,"2.6 Otros ingresos contables no presupuestarios"]
["3. Ingresos presupuestarios no contables",null,null,{"$f":"SUM(C15:C17)","v":0}]
[null,"3.1 Aprovechamientos patrimoniales",{"$f":"'F7'!F39","v":0}]
[null,"3.2 Ingresos derivados de financiamientos",{"$f":"'F7'!F66","v":0}]
[null,"3.3 Otros ingresos presupuestarios no contables"]
["4. Total de ingresos contables",null,null,{"$f":"D6+D7-D14","v":49351198}]
[]
["Bajo protesta de decir verdad declaramos que los estados financieros y sus notas, son razonablemente correctos y son responsabilidad del emisor."]
[]
[]
[]
[null,{"$f":"Validacion!A7","v":"C. SANTIAGO LEON CASTRO"}]
[]
[null,"Presidente Municipal o titular del ente público"]
[]
[]
[]
[null,{"$f":"Validacion!A9","v":"L.T. JOCELYN SANCHEZ HERRERA"}]
[]
[null,"Encargado de la Hacienda Municipal\no Responsable de las finanzas del ente público"]

{"sheet":"F4A2","index":19,"n_rows":51,"n_cols":4,"rows_kept":51,"cut":false,"hidden":false,"merged":[[5,0,5,1],[0,0,0,3],[1,0,1,3],[2,0,2,3],[4,0,4,1],[4,2,4,3],[38,0,39,3],[42,1,43,1],[44,1,45,1],[48,1,49,1],[50,1,51,1]]}
[{"$f":"Validacion!A2","v":"Atemajac de Brizuela"}]
["CONCILIACIÓN ENTRE LOS EGRESOS PRESUPUESTARIOS Y LOS GASTOS CONTABLES"]
[{"$f":"'F6'!A3","v":"Del 1° de Enero al 31 de Diciembre de 2021"}]
[]
["CONCEPTO",null,"IMPORTE"]
["1. Total de egresos presupuestarios",null,null,{"$f":"'F8'!F80","v":49049839.680000007}]
["2. Egresos presupuestarios no contables",null,null,{"$f":"SUM(C8:C28)","v":11772595.390000001}]
[null,"2.1 Materias primas y materiales de producción y comercialización",0]
[null,"2.2 Materiales y suministros",0]
[null,"2.3 Mobiliario y equipo de administración",{"$f":"'F8'!F47","v":132912.97}]
[null,"2.4 Mobiliario y equipo educacional y recreativo",{"$f":"'F8'!F48","v":0}]
[null,"2.5 Equipo e instrumental médico y de laboratorio",{"$f":"'F8'!F49","v":0}]
[null,"2.6 Vehículos y equipo de transporte",{"$f":"'F8'!F50","v":227500}]
[null,"2.7 Equipo de defensa y seguridad",{"$f":"'F8'!F51","v":0}]
[null,"2.8 Maquinaria, otros equipos y herramientas",{"$f":"'F8'!F52","v":0}]
[null,"2.9 Activos biológicos",{"$f":"'F8'!F53","v":0}]
[null,"2.10 Bienes inmuebles",{"$f":"'F8'!F54","v":0}]
[null,"2.11 Activos intangibles",{"$f":"'F8'!F55","v":0}]
[null,"2.12 Obras públicas en bienes de dominio público",{"$f":"'F8'!F57","v":8962182.4199999999}]
[null,"2.13 Obras públicas en bienes propios",{"$f":"'F8'!F58","v":0}]
[null,"2.14 Acciones y participaciones de capital",{"$f":"'F8'!F62","v":0}]
[null,"2.15 Compra de títulos y valores",{"$f":"'F8'!F63","v":0}]
[null,"2.16 Concesión de préstamos",{"$f":"'F8'!F64","v":0}]
[null,"2.17 Inversiones en fideicomisos, mandatos y otros análogos",{"$f":"'F8'!F65","v":0}]
[null,"2.18 Provisiones para contingencias y otras erogaciones especiales",{"$f":"'F8'!F67","v":0}]
[null,"2.19 Amortización de la deuda pública",{"$f":"'F8'!F73","v":2450000}]
[null,"2.20 Adeudos de ejercicios fiscales anteriores (ADEFAS)",{"$f":"'F8'!F79","v":0}]
[null,"2.21 Otros egresos presupuestales no contables"]
["3. Gastos contables no presupuestales",null,null,{"$f":"SUM(C30:C36)","v":0}]
[null,"3.1 Estimaciones, depreciaciones, deterioros, obsolescencias y amortizaciones",{"$f":"'F6'!AX508","v":0}]
[null,"3.2 Previsiones",{"$f":"'F6'!AX517","v":0}]
[null,"3.3 Disminución de inventarios",{"$f":"'F6'!AX520","v":0}]
[null,"3.4 Aumento por insuficiencia de estimaciones por pérdida o deterioro u obsolescencias",{"$f":"'F6'!AX526","v":0}]
[null,"3.5 Aumento por insuficiencia de provisiones",{"$f":"'F6'!AX528","v":0}]
[null,"3.6 Otros gastos",{"$f":"'F6'!AX530","v":0}]
[null,"3.7 Otros gastos contables no presupuestales"]
["4. Total de gastos contables",null,null,{"$f":"D6-D7+D29","v":37277244.290000007}]
[]
["Bajo protesta de decir verdad declaramos que los estados financieros y sus notas, son razonablemente correctos y son responsabilidad del emisor."]
[]
[]
[]
[null,{"$f":"Validacion!A7","v":"C. SANTIAGO LEON CASTRO"}]
[]
[null,"Presidente Municipal o titular del ente público"]
[]
[]
[]
[null,{"$f":"Validacion!A9","v":"L.T. JOCELYN SANCHEZ HERRERA"}]
[]
[null,"Encargado de la Hacienda Municipal\no Responsable de las finanzas del ente público"]

{"sheet":"F5","index":20,"n_rows":34,"n_cols":9,"rows_kept":34,"cut":false,"hidden":false,"merged":[[33,3,34,3],[33,5,34,7],[31,3,32,3],[31,5,32,7],[25,3,27,8],[0,0,0,8],[1,0,1,8],[2,0,2,8],[3,0,3,8],[4,0,4,3]]}
[{"$f":"Validacion!A2","v":"Atemajac de Brizuela"}]
["ESTADO ANALÍTICO DEL ACTIVO"]
[{"$f":"'F6'!A3","v":"Del 1° de Enero al 31 de Diciembre de 2021"}]
[]
["CONCEPTO",null,null,null,"SALDO\nINICIAL","CARGO DEL PERIODO","ABONO DEL PERIODO","SALDO\nFINAL","VARIACIÓN DEL PERIODO"]
["Activo ",null,null,null,{"$f":"E7+E15","v":20676732.960000001},{"$f":"F7+F15","v":165547245.24000001},{"$f":"G7+G15","v":157094109.21000001},{"$f":"E6+F6-G6","v":29129868.99000001},{"$f":"ROUND(H6-E6,2)","v":8453136.0299999993}]
[null,"Activo circulante",null,null,{"$f":"SUM(E8:E14)","v":1638603.84},{"$f":"SUM(F8:F14)","v":156224649.84999999},{"$f":"SUM(G8:G14)","v":157094109.21000001},{"$f":"E7+F7-G7","v":769144.47999998927},{"$f":"H7-E7","v":-869459.36000001081}]
[null,null,"Efectivo y equivalentes",null,{"$f":"Balanza!C5","v":1439544.34},{"$f":"Balanza!E5","v":110003201.92999999},{"$f":"Balanza!F5","v":110677601.79000001},765144.47999998927,-674399.86000001081]
[null,null,"Derechos a recibir efectivo o equivalentes",null,{"$f":"Balanza!C13","v":199059.5},{"$f":"Balanza!E13","v":43765425.82},{"$f":"Balanza!F13","v":43960485.32},4000,-195059.5]
[null,null,"Derechos a recibir bienes o servicios",null,{"$f":"Balanza!C21","v":0},{"$f":"Balanza!E21","v":0},{"$f":"Balanza!F21","v":0},0,0]
[null,null,"Inventarios",null,{"$f":"Balanza!C27","v":0},{"$f":"Balanza!E27","v":0},{"$f":"Balanza!F27","v":0},0,0]
[null,null,"Almacenes",null,{"$f":"Balanza!C33","v":0},{"$f":"Balanza!E33","v":2456022.1},{"$f":"Balanza!F33","v":2456022.1},0,0]
[null,null,"Estimación por pérdida o deterioro de activos circulantes",null,{"$f":"Balanza!C35","v":0},{"$f":"Balanza!E35","v":0},{"$f":"Balanza!F35","v":0},0,0]
[null,null,"Otros activos circulantes",null,{"$f":"Balanza!C38","v":0},{"$f":"Balanza!E38","v":0},{"$f":"Balanza!F38","v":0},0,0]
[null,"Activo no circulante",null,null,{"$f":"SUM(E16:E24)","v":19038129.120000001},{"$f":"SUM(F16:F24)","v":9322595.3900000006},{"$f":"SUM(G16:G24)","v":0},28360724.510000002,9322595.3900000006]
[null,null,"Inversiones financieras a largo plazo",null,{"$f":"Balanza!C44","v":0},{"$f":"Balanza!E44","v":0},{"$f":"Balanza!F44","v":0},0,0]
[null,null,"Derechos a recibir efectivo o equivalentes a largo plazo",null,{"$f":"Balanza!C49","v":0},{"$f":"Balanza!E49","v":0},{"$f":"Balanza!F49","v":0},0,0]
[null,null,"Bienes inmuebles, infraestructura y construcciones en proceso",null,{"$f":"Balanza!C55","v":16868234.870000001},{"$f":"Balanza!E55","v":8962182.4199999999},{"$f":"Balanza!F55","v":0},25830417.289999999,8962182.4199999981]
[null,null,"Bienes muebles",null,{"$f":"Balanza!C63","v":2169894.25},{"$f":"Balanza!E63","v":360412.97},{"$f":"Balanza!F63","v":0},2530307.2199999997,360412.96999999974]
[null,null,"Activos intangibles",null,{"$f":"Balanza!C72","v":0},{"$f":"Balanza!E72","v":0},{"$f":"Balanza!F72","v":0},{"$f":"E20+F20-G20","v":0},{"$f":"H20-E20","v":0}]
[null,null,"Depreciación, deterioro y amortización acumulada de bienes",null,{"$f":"Balanza!C78","v":0},{"$f":"Balanza!E78","v":0},{"$f":"Balanza!F78","v":0},0,0]
[null,null,"Activos diferidos",null,{"$f":"Balanza!C84","v":0},{"$f":"Balanza!E84","v":0},{"$f":"Balanza!F84","v":0},0,0]
[null,null,"Estimación por pérdida o deterioro de activos no circulantes",null,{"$f":"Balanza!C91","v":0},{"$f":"Balanza!E91","v":0},{"$f":"Balanza!F91","v":0},0,0]
[null,null,"Otros activos no circulantes",null,{"$f":"Balanza!C97","v":0},{"$f":"Balanza!E97","v":0},{"$f":"Balanza!F97","v":0},0,0]
[]
[null,null,null,"Bajo protesta de decir verdad declaramos que los estados financieros y sus notas, son razonablemente correctos y son resposabilidad del emisor."]
[]
[]
[]
[]
[]
[null,null,null,{"$f":"Validacion!A7","v":"C. SANTIAGO LEON CASTRO"},null,{"$f":"Validacion!A9","v":"L.T. JOCELYN SANCHEZ HERRERA"}]
[]
[null,null,null,"Presidente Municipal o titular del ente público",null,"Encargado de la Hacienda Municipal o Responsable de las finanzas del ente público"]

{"sheet":"F7","index":21,"n_rows":78,"n_cols":8,"rows_kept":78,"cut":false,"hidden":false,"merged":[[77,1,78,1],[77,3,78,6],[75,1,76,1],[75,3,76,6],[51,0,51,1],[69,7,70,7],[0,0,0,7],[1,0,1,7],[2,0,2,7],[4,0,5,1],[4,2,4,6],[4,7,5,7]]}
[{"$f":"Validacion!A2","v":"Atemajac de Brizuela"}]
["ESTADO ANALÍTICO DE INGRESOS"]
[{"$f":"'F6'!A3","v":"Del 1° de Enero al 31 de Diciembre de 2021"}]
[]
["RUBRO DE INGRESOS",null,"INGRESO",{"$nulls":4},"DIFERENCIA"]
[null,null,"ESTIMADO","AMPLIACIÓN Y REDUCCIÓN","MODIFICADO","DEVENGADO","RECAUDADO"]
["Impuestos",null,{"$f":"SUM(C8:C16)","v":3016201},{"$f":"SUM(D8:D16)","v":0},{"$f":"C7+D7","v":3016201},{"$f":"SUM(F8:F16)","v":4282314.9799999995},{"$f":"SUM(G8:G16)","v":4282314.9799999995},{"$f":"G7-C7","v":1266113.9799999995}]
[null,"Impuestos sobre los ingresos",{"$f":"Balanza!G797","v":0},{"$f":"Balanza!G931","v":0},{"$f":"C8+D8","v":0},{"$f":"Balanza!F998","v":15088},{"$f":"Balanza!H1065","v":15088},{"$f":"G8-C8","v":15088}]
[null,"Impuestos sobre patrimonio",{"$f":"Balanza!G798","v":2968300},{"$f":"Balanza!G932","v":0},2968300,{"$f":"Balanza!F999","v":4235306.8499999996},{"$f":"Balanza!H1066","v":4235306.8499999996},1267006.8499999996]
[null,"Impuestos sobre la producción, el consumo y las transacciones",{"$f":"Balanza!G799","v":0},{"$f":"Balanza!G933","v":0},0,{"$f":"Balanza!F1000","v":0},{"$f":"Balanza!H1067","v":0},0]
[null,"Impuestos al comercio exterior",{"$f":"Balanza!G800","v":0},{"$f":"Balanza!G934","v":0},0,{"$f":"Balanza!F1001","v":0},{"$f":"Balanza!H1068","v":0},0]
[null,"Impuestos sobre nóminas y asimilables",{"$f":"Balanza!G801","v":0},{"$f":"Balanza!G935","v":0},0,{"$f":"Balanza!F1002","v":0},{"$f":"Balanza!H1069","v":0},0]
[null,"Impuestos ecológicos",{"$f":"Balanza!G802","v":0},{"$f":"Balanza!G936","v":0},0,{"$f":"Balanza!F1003","v":0},{"$f":"Balanza!H1070","v":0},0]
[null,"Accesorios",{"$f":"Balanza!G803","v":0},{"$f":"Balanza!G937","v":0},0,{"$f":"Balanza!F1004","v":31920.13},{"$f":"Balanza!H1071","v":0},0]
[null,"Otros impuestos",{"$f":"Balanza!G804","v":47901},{"$f":"Balanza!G938","v":0},47901,{"$f":"Balanza!F1005","v":0},{"$f":"Balanza!H1072","v":31920.13},-15980.869999999999]
[null,"Impuestos no comprendidos en la ley de ingresos vigente, causados en ejercicios fiscales anteriores pendientes de liquidar o pago",{"$f":"Balanza!G805","v":0},{"$f":"Balanza!G939","v":0},0,{"$f":"Balanza!F1006","v":0},{"$f":"Balanza!H1073","v":0},0]
["Cuotas y aportaciones de seguridad social",null,{"$f":"SUM(C18:C22)","v":0},{"$f":"SUM(D18:D22)","v":0},0,{"$f":"SUM(F18:F22)","v":0},0,0]
[null,"Aportaciones para fondos de vivienda",{"$f":"Balanza!G807","v":0},{"$f":"Balanza!G941","v":0},0,{"$f":"Balanza!F1008","v":0},{"$f":"Balanza!H1075","v":0},0]
[null,"Cuotas para la seguridad social",{"$f":"Balanza!G808","v":0},{"$f":"Balanza!G942","v":0},0,{"$f":"Balanza!F1009","v":0},{"$f":"Balanza!H1076","v":0},0]
[null,"Cuotas de ahorro para el retiro",{"$f":"Balanza!G809","v":0},{"$f":"Balanza!G943","v":0},0,{"$f":"Balanza!F1010","v":0},{"$f":"Balanza!H1077","v":0},0]
[null,"Otras cuotas y aportaciones para la seguridad social",{"$f":"Balanza!G810","v":0},{"$f":"Balanza!G944","v":0},0,{"$f":"Balanza!F1011","v":0},{"$f":"Balanza!H1078","v":0},0]
[null,"Accesorios de cuotas y aportaciones de seguridad social",{"$f":"Balanza!G811","v":0},{"$f":"Balanza!G945","v":0},0,{"$f":"Balanza!F1012","v":0},{"$f":"Balanza!H1079","v":0},0]
["Contribuciones de mejora",null,{"$f":"SUM(C24:C25)","v":0},{"$f":"SUM(D24:D25)","v":0},0,{"$f":"SUM(F24:F25)","v":0},0,0]
[null,"Contribuciones de mejoras por obras públicas",{"$f":"Balanza!G813","v":0},{"$f":"Balanza!G947","v":0},0,{"$f":"Balanza!F1014","v":0},{"$f":"Balanza!H1081","v":0},0]
[null,"Contribuciones de mejoras no comprendidas en la ley de ingresos vigente, causadas en ejercicios fiscales anteriores pendientes de liquidación o pago",{"$f":"Balanza!G814","v":0},{"$f":"Balanza!G948","v":0},0,{"$f":"Balanza!F1015","v":0},{"$f":"Balanza!H1082","v":0},0]
["Derechos",null,{"$f":"SUM(C27:C32)","v":1732545},{"$f":"SUM(D27:D32)","v":0},1732545,{"$f":"SUM(F27:F32)","v":4717158.67},4717158.67,2984613.67]
[null,"Derechos por el uso, goce, aprovechamiento o explotación de bienes de dominio público",{"$f":"Balanza!G816","v":32899},{"$f":"Balanza!G950","v":0},32899,{"$f":"Balanza!F1017","v":157383},{"$f":"Balanza!H1084","v":157383},124484]
[null,"Derecho a los hidrocarburos (derogado)",{"$f":"Balanza!G817","v":0},{"$f":"Balanza!G951","v":0},0,{"$f":"Balanza!F1018","v":0},{"$f":"Balanza!H1085","v":0},0]
[null,"Derechos por prestación de servicios",{"$f":"Balanza!G818","v":1686977},{"$f":"Balanza!G952","v":0},1686977,{"$f":"Balanza!F1019","v":4552870.1500000004},{"$f":"Balanza!H1086","v":4552870.1500000004},2865893.1500000004]
[null,"Otros derechos",{"$f":"Balanza!G819","v":0},{"$f":"Balanza!G953","v":0},0,{"$f":"Balanza!F1020","v":0},{"$f":"Balanza!H1087","v":0},0]
[null,"Accesorios",{"$f":"Balanza!G820","v":12669},{"$f":"Balanza!G954","v":0},12669,{"$f":"Balanza!F1021","v":6905.52},{"$f":"Balanza!H1088","v":0},-12669]
[null,"Derechos no comprendidos en la ley de ingresos vigente, causados en ejercicios fiscales anteriores pendientes de liquidación o pago",{"$f":"Balanza!G821","v":0},{"$f":"Balanza!G955","v":0},0,{"$f":"Balanza!F1022","v":0},{"$f":"Balanza!H1089","v":6905.52},6905.52]
["Productos",null,{"$f":"SUM(C34:C36)","v":164588},{"$f":"SUM(D34:D36)","v":0},164588,{"$f":"SUM(F34:F36)","v":53968.85},53968.85,-110619.15]
[null,"Productos",{"$f":"Balanza!G823","v":164588},{"$f":"Balanza!G957","v":0},164588,{"$f":"Balanza!F1024","v":53968.85},{"$f":"Balanza!H1091","v":53968.85},-110619.15]
[null,"Productos de capital (derogado)",{"$f":"Balanza!G824","v":0},{"$f":"Balanza!G958","v":0},0,{"$f":"Balanza!F1025","v":0},{"$f":"Balanza!H1092","v":0},0]
[null,"Productos no comprendidos en la ley de ingresos vigente, causados en ejercicios fiscales anteriores pendientes de liquidación o pago",{"$f":"Balanza!G825","v":0},{"$f":"Balanza!G959","v":0},0,{"$f":"Balanza!F1026","v":0},{"$f":"Balanza!H1093","v":0},0]
["Aprovechamientos",null,{"$f":"SUM(C38:C41)","v":550910},{"$f":"SUM(D38:D41)","v":0},550910,{"$f":"SUM(F38:F41)","v":592426.06999999995},592426.06999999995,41516.069999999949]
[null,"Aprovechamientos",{"$f":"Balanza!G827","v":8380},{"$f":"Balanza!G961","v":0},8380,{"$f":"Balanza!F1028","v":349127.05},{"$f":"Balanza!H1095","v":349127.05},340747.05]
[null,"Aprovechamientos patrimoniales",{"$f":"Balanza!G828","v":0},{"$f":"Balanza!G962","v":0},0,{"$f":"Balanza!F1029","v":0},{"$f":"Balanza!H1096","v":0},0]
[null,"Accesorios de aprovechamientos",{"$f":"Balanza!G829","v":0},{"$f":"Balanza!G963","v":0},0,{"$f":"Balanza!F1030","v":0},{"$f":"Balanza!H1097","v":0},0]
[null,"Aprovechamientos no comprendidos en la ley de ingresos vigente, causados en ejercicios fiscales anteriores pendientes de liquidación o pago",{"$f":"Balanza!G830","v":542530},{"$f":"Balanza!G964","v":0},542530,{"$f":"Balanza!F1031","v":243299.02},{"$f":"Balanza!H1098","v":243299.02},-299230.98]
["Ingresos por venta de bienes, prestación de servicios y otros ingresos",null,{"$f":"SUM(C43:C51)","v":0},{"$f":"SUM(D43:D51)","v":0},0,{"$f":"SUM(F43:F51)","v":0},0,0]
[null,"Ingresos por venta de bienes y prestación de servicios de instituciones públicas de seguridad social",{"$f":"Balanza!G832","v":0},{"$f":"Balanza!G966","v":0},0,{"$f":"Balanza!F1033","v":0},{"$f":"Balanza!H1100","v":0},0]
[null,"Ingresos por venta de bienes y prestación de servicios de empresas productivas del estado",{"$f":"Balanza!G833","v":0},{"$f":"Balanza!G967","v":0},0,{"$f":"Balanza!F1034","v":0},{"$f":"Balanza!H1101","v":0},0]
[null,"Ingresos por venta de bienes y prestación de servicios de entidades paraestatales y fideicomisos no empresariales y no financieros",{"$f":"Balanza!G834","v":0},{"$f":"Balanza!G968","v":0},0,{"$f":"Balanza!F1035","v":0},{"$f":"Balanza!H1102","v":0},0]
[null,"Ingresos por venta de bienes y prestación de servicios de entidades paraestatales empresariales y no financieros con participación estatal mayoritaria",{"$f":"Balanza!G835","v":0},{"$f":"Balanza!G969","v":0},0,{"$f":"Balanza!F1036","v":0},{"$f":"Balanza!H1103","v":0},0]
[null,"Ingresos por venta de bienes y prestación de servicios de entidades paraestatales empresariales financieras monetarias con participación estatal mayoritaria",{"$f":"Balanza!G836","v":0},{"$f":"Balanza!G970","v":0},0,{"$f":"Balanza!F1037","v":0},{"$f":"Balanza!H1104","v":0},0]
[null,"Ingresos por venta de bienes y prestación de servicios de entidades paraestatales empresariales financieras no monetarias con participación estatal mayoritaria",{"$f":"Balanza!G837","v":0},{"$f":"Balanza!G971","v":0},0,{"$f":"Balanza!F1038","v":0},{"$f":"Balanza!H1105","v":0},0]
[null,"Ingresos por venta de bienes y prestación de servicios de fideicomisos financieros públicos con participación estatal mayoritaria",{"$f":"Balanza!G838","v":0},{"$f":"Balanza!G972","v":0},0,{"$f":"Balanza!F1039","v":0},{"$f":"Balanza!H1106","v":0},0]
[null,"Ingresos por venta de bienes y prestación de servicios de los poderes legislativo y judicial, y de los órganos autónomos",{"$f":"Balanza!G839","v":0},{"$f":"Balanza!G973","v":0},0,{"$f":"Balanza!F1040","v":0},{"$f":"Balanza!H1107","v":0},0]
[null,"Otros ingresos",{"$f":"Balanza!G840","v":0},{"$f":"Balanza!G974","v":0},0,{"$f":"Balanza!F1041","v":0},{"$f":"Balanza!H1108","v":0},0]
["Participaciones, aportaciones, convenios, incentivos derivados de la colaboración fiscal y fondos distintos de aportaciones",null,{"$f":"SUM(C53:C57)","v":39534574},{"$f":"SUM(D53:D57)","v":0},39534574,{"$f":"SUM(F53:F57)","v":39705329.43},39705329.43,170755.4299999997]
[null,"Participaciones",{"$f":"Balanza!G842","v":23528908},{"$f":"Balanza!G976","v":0},23528908,{"$f":"Balanza!F1043","v":24420587.93},{"$f":"Balanza!H1110","v":24420587.93},891679.9299999997]
[null,"Aportaciones",{"$f":"Balanza!G843","v":13005666},{"$f":"Balanza!G977","v":0},13005666,{"$f":"Balanza!F1044","v":12954133.24},{"$f":"Balanza!H1111","v":12954133.24},-51532.759999999776]
[null,"Convenios",{"$f":"SUM(Balanza!G844:G845)","v":3000000},{"$f":"SUM(Balanza!G978:G979)","v":0},3000000,{"$f":"SUM(Balanza!F1045:F1046)","v":1865390},{"$f":"SUM(Balanza!H1112:H1113)","v":1865390},-1134610]
[null,"Incentivos derivados de la colaboración fiscal",{"$f":"Balanza!G846","v":0},{"$f":"Balanza!G980","v":0},0,{"$f":"Balanza!F1047","v":465218.26},{"$f":"Balanza!H1114","v":465218.26},465218.26]
[null,"Fondos distintos de aportaciones",{"$f":"Balanza!G847","v":0},{"$f":"Balanza!G981","v":0},0,{"$f":"Balanza!F1048","v":0},{"$f":"Balanza!H1115","v":0},0]
["Transferencias, asignaciones, subsidios y subvenciones, y pensiones y jubilaciones",null,{"$f":"SUM(C59:C65)","v":0},{"$f":"SUM(D59:D65)","v":0},0,{"$f":"SUM(F59:F65)","v":0},{"$f":"SUM(G59:G65)","v":0},0]
[null,"Transferencias y asignaciones",{"$f":"SUM(Balanza!G849:G850)","v":0},{"$f":"SUM(Balanza!G983:G984)","v":0},0,{"$f":"SUM(Balanza!F1050:F1051)","v":0},{"$f":"SUM(Balanza!H1117:H1118)","v":0},0]
[null,"Transferencias al resto del sector público (derogado)",{"$f":"Balanza!G851","v":0},{"$f":"Balanza!G985","v":0},0,{"$f":"Balanza!F1052","v":0},{"$f":"Balanza!H1119","v":0},0]
[null,"Subsidios y subvenciones",{"$f":"SUM(Balanza!G852:G853)","v":0},{"$f":"SUM(Balanza!G986:G987)","v":0},0,{"$f":"SUM(Balanza!F1053:F1054)","v":0},{"$f":"SUM(Balanza!H1120:H1121)","v":0},0]
[null,"Ayudas sociales (derogado)",{"$f":"Balanza!G854","v":0},{"$f":"Balanza!G988","v":0},0,{"$f":"Balanza!F1055","v":0},{"$f":"Balanza!H1122","v":0},0]
[null,"Pensiones y jubilaciones",{"$f":"Balanza!G855","v":0},{"$f":"Balanza!G989","v":0},0,{"$f":"Balanza!F1056","v":0},{"$f":"Balanza!H1123","v":0},0]
[null,"Transferencias a fideicomisos, mandatos y análogos (derogado)",{"$f":"Balanza!G856","v":0},{"$f":"Balanza!G990","v":0},0,{"$f":"Balanza!F1057","v":0},{"$f":"Balanza!H1124","v":0},0]
[null,"Transferencias del fondo mexicano del petróleo para la estabilización y el desarrollo",{"$f":"Balanza!G857","v":0},{"$f":"Balanza!G991","v":0},0,{"$f":"Balanza!F1058","v":0},{"$f":"Balanza!H1125","v":0},0]
["Ingresos derivados de financiamiento",null,{"$f":"SUM(C67:C69)","v":0},{"$f":"SUM(D67:D69)","v":0},0,{"$f":"SUM(F67:F69)","v":0},0,0]
[null,"Endeudamiento interno",{"$f":"Balanza!G859","v":0},{"$f":"Balanza!G993","v":0},0,{"$f":"Balanza!F1060","v":0},{"$f":"Balanza!H1127","v":0},{"$f":"G67-C67","v":0}]
[null,"Endeudamiento externo",{"$f":"Balanza!G860","v":0},{"$f":"Balanza!G994","v":0},0,{"$f":"Balanza!F1061","v":0},{"$f":"Balanza!H1128","v":0},0]
[null,"Financiamiento interno",{"$f":"Balanza!G861","v":0},{"$f":"Balanza!G995","v":0},0,{"$f":"Balanza!F1062","v":0},{"$f":"Balanza!H1129","v":0},0]
[null,"TOTAL",{"$f":"SUM(C7+C17+C23+C26+C33+C37+C52+C58+C66+C42)","v":44998818},{"$f":"SUM(D7+D17+D23+D26+D33+D37+D52+D58+D66+D42)","v":0},44998818,{"$f":"SUM(F7+F17+F23+F26+F33+F37+F52+F58+F66+F42)","v":49351198},49351198,{"$f":"IF(C70>G70,0,(G70-C70))","v":4352380}]
[{"$nulls":6},"Ingresos Excedentes"]
[]
["Bajo protesta de decir verdad declaramos que los estados financieros y sus notas, son razonablemente correctos y son responsabilidad del emisor."]
[]
[]
[null,{"$f":"Validacion!A7","v":"C. SANTIAGO LEON CASTRO"},null,{"$f":"Validacion!A9","v":"L.T. JOCELYN SANCHEZ HERRERA"}]
[]
[null,"Presidente Municipal o titular del ente público",null,"Encargado de la Hacienda Municipal\no Responsable de las finanzas del ente público"]

{"sheet":"F7A","index":22,"n_rows":33,"n_cols":9,"rows_kept":33,"cut":false,"hidden":false,"merged":[[19,1,19,2],[21,1,21,2],[22,8,23,8],[23,6,23,7],[32,2,33,2],[32,4,33,6],[30,2,31,2],[30,4,31,6],[18,1,18,2],[7,1,7,2],[8,1,8,2],[9,1,9,2],[10,1,10,2],[11,1,11,2],[12,1,12,2],[13,1,13,2],[14,1,14,2],[15,0,15,2],[16,1,16,2],[17,1,17,2],[0,0,0,8],[1,0,1,8],[2,0,2,8],[4,0,5,2],[4,3,4,7],[4,8,5,8]]}
[{"$f":"Validacion!A2","v":"Atemajac de Brizuela"}]
["ESTADO ANALÍTICO DE INGRESOS POR FUENTE DE FINANCIAMIENTO"]
[{"$f":"'F6'!A3","v":"Del 1° de Enero al 31 de Diciembre de 2021"}]
[]
["RUBRO DE INGRESOS",null,null,"INGRESOS",{"$nulls":4},"DIFERENCIA"]
[null,null,null,"ESTIMADO","AMPLACIONES Y REDUCCIONES","MODIFICADO","DEVENGADO","RECAUDADO"]
["Ingresos del municipio",null,null,{"$f":"SUM(D8:D15)","v":44998818},{"$f":"SUM(E8:E15)","v":0},{"$f":"D7+E7","v":44998818},{"$f":"SUM(G8:G15)","v":49351198},{"$f":"SUM(H8:H15)","v":49351198},{"$f":"H7-D7","v":4352380}]
[null,"Impuestos",null,{"$f":"Balanza!G796","v":3016201},{"$f":"Balanza!G930","v":0},{"$f":"D8+E8","v":3016201},{"$f":"Balanza!F997","v":4282314.9799999995},{"$f":"Balanza!H1064","v":4282314.9799999995},{"$f":"H8-D8","v":1266113.9799999995}]
[null,"Cuotas y aportaciones de seguridad social",null,{"$f":"Balanza!G806","v":0},{"$f":"Balanza!G940","v":0},0,{"$f":"Balanza!F1007","v":0},{"$f":"Balanza!H1074","v":0},0]
[null,"Contribuciones de mejoras",null,{"$f":"Balanza!G812","v":0},{"$f":"Balanza!G946","v":0},0,{"$f":"Balanza!F1013","v":0},{"$f":"Balanza!H1080","v":0},0]
[null,"Derechos",null,{"$f":"Balanza!G815","v":1732545},{"$f":"Balanza!G949","v":0},1732545,{"$f":"Balanza!F1016","v":4717158.67},{"$f":"Balanza!H1083","v":4717158.67},2984613.67]
[null,"Productos",null,{"$f":"Balanza!G822","v":164588},{"$f":"Balanza!G956","v":0},164588,{"$f":"Balanza!F1023","v":53968.85},{"$f":"Balanza!H1090","v":53968.85},-110619.15]
[null,"Aprovechamientos",null,{"$f":"Balanza!G826","v":550910},{"$f":"Balanza!G960","v":0},550910,{"$f":"Balanza!F1027","v":592426.06999999995},{"$f":"Balanza!H1094","v":592426.06999999995},41516.069999999949]
[null,"Participaciones, aportaciones, convenios, incentivos derivados de la colaboración fiscal y fondos distintos de aportaciones",null,{"$f":"Balanza!G841","v":39534574},{"$f":"Balanza!G975","v":0},39534574,{"$f":"Balanza!F1042","v":39705329.43},{"$f":"Balanza!H1109","v":39705329.43},170755.4299999997]
[null,"Transferencias, asignaciones, subsidios y subvenciones, y pensiones y jubilaciones",null,{"$f":"Balanza!G848","v":0},{"$f":"Balanza!G982","v":0},0,{"$f":"Balanza!F1049","v":0},{"$f":"Balanza!H1116","v":0},0]
["Ingresos de los entes públicos del sector paramunicipal, así como de las empresas productivas del municipio",null,null,{"$f":"SUM(D17:D20)","v":0},{"$f":"SUM(E17:E20)","v":0},0,{"$f":"SUM(G17:G20)","v":0},{"$f":"SUM(H17:H20)","v":0},0]
[null,"Cuotas y aportaciones de seguridad social",null,0,0,0,0,0,0]
[null,"Productos",null,0,0,0,0,0,0]
[null,"Ingresos por ventas de bienes, prestación de  servicios y otros ingresos",null,{"$f":"Balanza!G831","v":0},{"$f":"Balanza!G965","v":0},0,{"$f":"Balanza!F1032","v":0},{"$f":"Balanza!H1099","v":0},0]
[null,"Transferencias, asignaciones, subsidios y subvenciones, y pensiones y jubilaciones",null,0,0,0,0,0,0]
["Ingresos derivados de financiamiento",null,null,{"$f":"D22","v":0},{"$f":"E22","v":0},0,{"$f":"G22","v":0},{"$f":"H22","v":0},0]
[null,"Ingresos derivados de financiamientos",null,{"$f":"Balanza!G858","v":0},{"$f":"Balanza!G992","v":0},0,{"$f":"Balanza!F1059","v":0},{"$f":"Balanza!H1126","v":0},0]
[null,null,"TOTAL",{"$f":"D7+D16+D21","v":44998818},{"$f":"E7+E16+E21","v":0},44998818,{"$f":"G7+G16+G21","v":49351198},49351198,{"$f":"IF(D23>H23,0,(H23-D23))","v":4352380}]
[{"$nulls":6},"Ingresos excedentes"]
[]
["Bajo protesta de decir verdad declaramos que los estados financieros y sus notas, son razonablemente correctos y son responsabilidad del emisor."]
[]
[]
[]
[]
[null,null,{"$f":"Validacion!A7","v":"C. SANTIAGO LEON CASTRO"},null,{"$f":"Validacion!A9","v":"L.T. JOCELYN SANCHEZ HERRERA"}]
[]
[null,null,"Presidente Municipal o titular del ente público",null,"Encargado de la Hacienda Municipal\n o Responsable de las finanzas del ente público"]

{"sheet":"F8","index":23,"n_rows":86,"n_cols":8,"rows_kept":86,"cut":false,"hidden":false,"merged":[[85,1,86,1],[83,3,84,6],[85,3,86,6],[2,0,2,8],[0,0,0,7],[1,0,1,7],[3,0,3,7],[4,0,4,7],[5,0,6,1],[5,2,5,6],[5,7,6,7],[83,1,84,1]]}
[{"$f":"Validacion!A2","v":"Atemajac de Brizuela"}]
["ESTADO ANALÍTICO DEL EJERCICIO DEL PRESPUESTO DE EGRESOS"]
["CLASIFICACIÓN POR OBJETO DEL GASTO (CAPÍTULO Y CONCEPTO)"]
[{"$f":"'F6'!A3","v":"Del 1° de Enero al 31 de Diciembre de 2021"}]
[]
["CONCEPTO",null,"EGRESOS",{"$nulls":4},"SUBEJERCICIO"]
[null,null,"APROBADO","AMPLIACIONES/\n(REDUCCIONES)","MODIFICADO","DEVENGADO","PAGADO"]
["Servicios personales",null,{"$f":"SUM(C9:C15)","v":16806207},{"$f":"SUM(D9:D15)","v":0},{"$f":"C8+D8","v":16806207},{"$f":"SUM(F9:F15)","v":18118436.470000003},{"$f":"SUM(G9:G15)","v":18118436.470000003},{"$f":"E8-F8","v":-1312229.4700000025}]
[null,"Remuneraciones al personal de carácter permanente",{"$f":"SUM(Balanza!H1133:H1134)","v":10457412},{"$f":"SUM(Balanza!H1405:H1406)","v":0},{"$f":"C9+D9","v":10457412},{"$f":"SUM(Balanza!E1677:E1678)","v":10250517.66},{"$f":"SUM(Balanza!G1949:G1950)","v":10250517.66},{"$f":"E9-F9","v":206894.33999999985}]
[null,"Remuneraciones al personal de carácter transitorio",{"$f":"SUM(Balanza!H1135:H1136)","v":3988817},{"$f":"SUM(Balanza!H1407:H1408)","v":0},3988817,{"$f":"SUM(Balanza!E1679:E1680)","v":5809910.1900000004},{"$f":"SUM(Balanza!G1951:G1952)","v":5809910.1900000004},-1821093.1900000004]
[null,"Remuneraciones adicionales especiales",{"$f":"SUM(Balanza!H1137:H1138)","v":2159978},{"$f":"SUM(Balanza!H1409:H1410)","v":0},2159978,{"$f":"SUM(Balanza!E1681:E1682)","v":1992316.62},{"$f":"SUM(Balanza!G1953:G1954)","v":1992316.62},167661.37999999989]
[null,"Seguridad social",{"$f":"SUM(Balanza!H1139:H1140)","v":0},{"$f":"SUM(Balanza!H1411:H1412)","v":0},0,{"$f":"SUM(Balanza!E1683:E1684)","v":0},{"$f":"SUM(Balanza!G1955:G1956)","v":0},0]
[null,"Otras prestaciones sociales y económicas",{"$f":"SUM(Balanza!H1141:H1142)","v":200000},{"$f":"SUM(Balanza!H1413:H1414)","v":0},200000,{"$f":"SUM(Balanza!E1685:E1686)","v":65692},{"$f":"SUM(Balanza!G1957:G1958)","v":65692},134308]
[null,"Previsiones",{"$f":"SUM(Balanza!H1143:H1144)","v":0},{"$f":"SUM(Balanza!H1415:H1416)","v":0},0,{"$f":"SUM(Balanza!E1687:E1688)","v":0},{"$f":"SUM(Balanza!G1959:G1960)","v":0},0]
[null,"Pago de estímulos a servidores públicos",{"$f":"SUM(Balanza!H1145:H1146)","v":0},{"$f":"SUM(Balanza!H1417:H1418)","v":0},0,{"$f":"SUM(Balanza!E1689:E1690)","v":0},{"$f":"SUM(Balanza!G1961:G1962)","v":0},0]
["Materiales y suministros",null,{"$f":"SUM(C17:C25)","v":4635580},{"$f":"SUM(D17:D25)","v":0},4635580,{"$f":"SUM(F17:F25)","v":3906677.51},{"$f":"SUM(G17:G25)","v":3906677.51},728902.49000000022]
[null,"Materiales de administración, emisión de documentos y artículos oficiales",{"$f":"SUM(Balanza!H1148:H1149)","v":280000},{"$f":"SUM(Balanza!H1420:H1421)","v":0},280000,{"$f":"SUM(Balanza!E1692:E1693)","v":341096.15},{"$f":"SUM(Balanza!G1964:G1965)","v":341096.15},-61096.150000000023]
[null,"Alimentos y utensilios",{"$f":"SUM(Balanza!H1150:H1151)","v":302000},{"$f":"SUM(Balanza!H1422:H1423)","v":0},302000,{"$f":"SUM(Balanza!E1694:E1695)","v":292538.86},{"$f":"SUM(Balanza!G1966:G1967)","v":292538.86},9461.140000000014]
[null,"Materias primas y materiales de producción y comercialización",{"$f":"SUM(Balanza!H1152:H1153)","v":0},{"$f":"SUM(Balanza!H1424:H1425)","v":0},0,{"$f":"SUM(Balanza!E1696:E1697)","v":0},{"$f":"SUM(Balanza!G1968:G1969)","v":0},0]
[null,"Materiales y artículos de construcción y de reparación",{"$f":"SUM(Balanza!H1154:H1155)","v":520000},{"$f":"SUM(Balanza!H1426:H1427)","v":0},520000,{"$f":"SUM(Balanza!E1698:E1699)","v":570184.72},{"$f":"SUM(Balanza!G1970:G1971)","v":570184.72},-50184.719999999972]
[null,"Productos químicos, farmacéuticos y de laboratorio",{"$f":"SUM(Balanza!H1156:H1157)","v":345000},{"$f":"SUM(Balanza!H1428:H1429)","v":0},345000,{"$f":"SUM(Balanza!E1700:E1701)","v":155664.68},{"$f":"SUM(Balanza!G1972:G1973)","v":155664.68},189335.32]
[null,"Combustibles, lubricantes y aditivos",{"$f":"SUM(Balanza!H1158:H1159)","v":2623580},{"$f":"SUM(Balanza!H1430:H1431)","v":0},2623580,{"$f":"SUM(Balanza!E1702:E1703)","v":1950927.5599999998},{"$f":"SUM(Balanza!G1974:G1975)","v":1950927.5599999998},672652.44000000018]
[null,"Vestuario, blancos, prendas de protección y artículos deportivos",{"$f":"SUM(Balanza!H1160:H1161)","v":130000},{"$f":"SUM(Balanza!H1432:H1433)","v":0},130000,{"$f":"SUM(Balanza!E1704:E1705)","v":98676.47},{"$f":"SUM(Balanza!G1976:G1977)","v":98676.47},31323.53]
[null,"Materiales y suministros de seguridad",{"$f":"SUM(Balanza!H1162:H1163)","v":15000},{"$f":"SUM(Balanza!H1434:H1435)","v":0},15000,{"$f":"SUM(Balanza!E1706:E1707)","v":0},{"$f":"SUM(Balanza!G1978:G1979)","v":0},15000]
[null,"Herramientas, refacciones y accesorios menores",{"$f":"SUM(Balanza!H1164:H1165)","v":420000},{"$f":"SUM(Balanza!H1436:H1437)","v":0},420000,{"$f":"SUM(Balanza!E1708:E1709)","v":497589.07},{"$f":"SUM(Balanza!G1980:G1981)","v":497589.07},-77589.070000000007]
["Servicios generales",null,{"$f":"SUM(C27:C35)","v":7342988},{"$f":"SUM(D27:D35)","v":0},7342988,{"$f":"SUM(F27:F35)","v":11709801.48},{"$f":"SUM(G27:G35)","v":11709801.48},-4366813.4800000004]
[null,"Servicios básicos",{"$f":"SUM(Balanza!H1167:H1168)","v":3356728},{"$f":"SUM(Balanza!H1439:H1440)","v":0},3356728,{"$f":"SUM(Balanza!E1711:E1712)","v":5406917.3700000001},{"$f":"SUM(Balanza!G1983:G1984)","v":5406917.3700000001},-2050189.37]
[null,"Servicios de arrendamiento",{"$f":"SUM(Balanza!H1169:H1170)","v":194960},{"$f":"SUM(Balanza!H1441:H1442)","v":0},194960,{"$f":"SUM(Balanza!E1713:E1714)","v":311487.52},{"$f":"SUM(Balanza!G1985:G1986)","v":311487.52},-116527.52000000002]
[null,"Servicios profesionales, científicos, técnicos y otros servicios",{"$f":"SUM(Balanza!H1171:H1172)","v":10000},{"$f":"SUM(Balanza!H1443:H1444)","v":0},10000,{"$f":"SUM(Balanza!E1715:E1716)","v":306097.40000000002},{"$f":"SUM(Balanza!G1987:G1988)","v":306097.40000000002},-296097.40000000002]
[null,"Servicios financieros, bancarios y comerciales",{"$f":"SUM(Balanza!H1173:H1174)","v":250000},{"$f":"SUM(Balanza!H1445:H1446)","v":0},250000,{"$f":"SUM(Balanza!E1717:E1718)","v":128396.59},{"$f":"SUM(Balanza!G1989:G1990)","v":128396.59},121603.41]
[null,"Servicios de instalación, reparación, mantenimiento y conservación",{"$f":"SUM(Balanza!H1175:H1176)","v":1695000},{"$f":"SUM(Balanza!H1447:H1448)","v":0},1695000,{"$f":"SUM(Balanza!E1719:E1720)","v":2154074.7400000002},{"$f":"SUM(Balanza!G1991:G1992)","v":2154074.7400000002},-459074.74000000022]
[null,"Servicios de comunicación social y publicidad",{"$f":"SUM(Balanza!H1177:H1178)","v":30000},{"$f":"SUM(Balanza!H1449:H1450)","v":0},30000,{"$f":"SUM(Balanza!E1721:E1722)","v":44660},{"$f":"SUM(Balanza!G1993:G1994)","v":44660},-14660]
[null,"Servicios de traslado y viáticos",{"$f":"SUM(Balanza!H1179:H1180)","v":186000},{"$f":"SUM(Balanza!H1451:H1452)","v":0},186000,{"$f":"SUM(Balanza!E1723:E1724)","v":450459.8},{"$f":"SUM(Balanza!G1995:G1996)","v":450459.8},-264459.8]
[null,"Servicios oficiales",{"$f":"SUM(Balanza!H1181:H1182)","v":720000},{"$f":"SUM(Balanza!H1453:H1454)","v":0},720000,{"$f":"SUM(Balanza!E1725:E1726)","v":504090.52},{"$f":"SUM(Balanza!G1997:G1998)","v":504090.52},215909.47999999998]
[null,"Otros servicios generales",{"$f":"SUM(Balanza!H1183:H1184)","v":900300},{"$f":"SUM(Balanza!H1455:H1456)","v":0},900300,{"$f":"SUM(Balanza!E1727:E1728)","v":2403617.54},{"$f":"SUM(Balanza!G1999:G2000)","v":2403617.54},-1503317.54]
["Transferencias, asignaciones, subsidios y otras ayudas",null,{"$f":"SUM(C37:C45)","v":3088878},{"$f":"SUM(D37:D45)","v":0},3088878,{"$f":"SUM(F37:F45)","v":3503874.62},{"$f":"SUM(G37:G45)","v":3503874.62},-414996.62000000011]
[null,"Transferencias internas y asignaciones al sector público",{"$f":"SUM(Balanza!H1186:H1187)","v":0},{"$f":"SUM(Balanza!H1458:H1459)","v":0},0,{"$f":"SUM(Balanza!E1730:E1731)","v":1020000},{"$f":"SUM(Balanza!G2002:G2003)","v":1020000},-1020000]
[null,"Transferencias al resto del sector público",{"$f":"SUM(Balanza!H1188:H1189)","v":1320000},{"$f":"SUM(Balanza!H1460:H1461)","v":0},1320000,{"$f":"SUM(Balanza!E1732:E1733)","v":480000},{"$f":"SUM(Balanza!G2004:G2005)","v":480000},840000]
[null,"Subsidios y subvenciones",{"$f":"SUM(Balanza!H1190:H1191)","v":0},{"$f":"SUM(Balanza!H1462:H1463)","v":0},0,{"$f":"SUM(Balanza!E1734:E1735)","v":0},{"$f":"SUM(Balanza!G2006:G2007)","v":0},0]
[null,"Ayudas sociales",{"$f":"SUM(Balanza!H1192:H1193)","v":1768878},{"$f":"SUM(Balanza!H1464:H1465)","v":0},1768878,{"$f":"SUM(Balanza!E1736:E1737)","v":2003874.62},{"$f":"SUM(Balanza!G2008:G2009)","v":2003874.62},-234996.62000000011]
[null,"Pensiones y jubilaciones",{"$f":"SUM(Balanza!H1194:H1195)","v":0},{"$f":"SUM(Balanza!H1466:H1467)","v":0},0,{"$f":"SUM(Balanza!E1738:E1739)","v":0},{"$f":"SUM(Balanza!G2010:G2011)","v":0},0]
[null,"Transferencias a fideicomisos, mandatos y otros análogos",{"$f":"SUM(Balanza!H1196:H1197)","v":0},{"$f":"SUM(Balanza!H1468:H1469)","v":0},0,{"$f":"SUM(Balanza!E1740:E1741)","v":0},{"$f":"SUM(Balanza!G2012:G2013)","v":0},0]
[null,"Transferencias a la seguridad social",{"$f":"SUM(Balanza!H1198:H1199)","v":0},{"$f":"SUM(Balanza!H1470:H1471)","v":0},0,{"$f":"SUM(Balanza!E1742:E1743)","v":0},{"$f":"SUM(Balanza!G2014:G2015)","v":0},0]
[null,"Donativos",{"$f":"SUM(Balanza!H1200:H1201)","v":0},{"$f":"SUM(Balanza!H1472:H1473)","v":0},0,{"$f":"SUM(Balanza!E1744:E1745)","v":0},{"$f":"SUM(Balanza!G2016:G2017)","v":0},0]
[null,"Transferencias al exterior",{"$f":"SUM(Balanza!H1202:H1203)","v":0},{"$f":"SUM(Balanza!H1474:H1475)","v":0},0,{"$f":"SUM(Balanza!E1746:E1747)","v":0},{"$f":"SUM(Balanza!G2018:G2019)","v":0},0]
["Bienes muebles, inmuebles e intangibles",null,{"$f":"SUM(C47:C55)","v":0},{"$f":"SUM(D47:D55)","v":0},0,{"$f":"SUM(F47:F55)","v":360412.97},{"$f":"SUM(G47:G55)","v":360412.97},-360412.97]
[null,"Mobiliario y equipo de administración",{"$f":"SUM(Balanza!H1205:H1206)","v":0},{"$f":"SUM(Balanza!H1477:H1478)","v":0},0,{"$f":"SUM(Balanza!E1749:E1750)","v":132912.97},{"$f":"SUM(Balanza!G2021:G2022)","v":132912.97},-132912.97]
[null,"Mobiliario y equipo educacional y recreativo",{"$f":"SUM(Balanza!H1207:H1208)","v":0},{"$f":"SUM(Balanza!H1479:H1480)","v":0},0,{"$f":"SUM(Balanza!E1751:E1752)","v":0},{"$f":"SUM(Balanza!G2023:G2024)","v":0},0]
[null,"Equipo instrumental médico y de laboratorio",{"$f":"SUM(Balanza!H1209:H1210)","v":0},{"$f":"SUM(Balanza!H1481:H1482)","v":0},0,{"$f":"SUM(Balanza!E1753:E1754)","v":0},{"$f":"SUM(Balanza!G2025:G2026)","v":0},0]
[null,"Vehículos y equipo de transporte",{"$f":"SUM(Balanza!H1211:H1212)","v":0},{"$f":"SUM(Balanza!H1483:H1484)","v":0},0,{"$f":"SUM(Balanza!E1755:E1756)","v":227500},{"$f":"SUM(Balanza!G2027:G2028)","v":227500},-227500]
[null,"Equipo de defensa y seguridad",{"$f":"SUM(Balanza!H1213:H1214)","v":0},{"$f":"SUM(Balanza!H1485:H1486)","v":0},0,{"$f":"SUM(Balanza!E1757:E1758)","v":0},{"$f":"SUM(Balanza!G2029:G2030)","v":0},0]
[null,"Maquinaria, otros equipos y herramientas",{"$f":"SUM(Balanza!H1215:H1216)","v":0},{"$f":"SUM(Balanza!H1487:H1488)","v":0},0,{"$f":"SUM(Balanza!E1759:E1760)","v":0},{"$f":"SUM(Balanza!G2031:G2032)","v":0},0]
[null,"Activos biológicos",{"$f":"SUM(Balanza!H1217:H1218)","v":0},{"$f":"SUM(Balanza!H1489:H1490)","v":0},0,{"$f":"SUM(Balanza!E1761:E1762)","v":0},{"$f":"SUM(Balanza!G2033:G2034)","v":0},0]
[null,"Bienes inmuebles",{"$f":"SUM(Balanza!H1219:H1220)","v":0},{"$f":"SUM(Balanza!H1491:H1492)","v":0},0,{"$f":"SUM(Balanza!E1763:E1764)","v":0},{"$f":"SUM(Balanza!G2035:G2036)","v":0},0]
[null,"Activos intangibles",{"$f":"SUM(Balanza!H1221:H1222)","v":0},{"$f":"SUM(Balanza!H1493:H1494)","v":0},0,{"$f":"SUM(Balanza!E1765:E1766)","v":0},{"$f":"SUM(Balanza!G2037:G2038)","v":0},0]
["Inversión pública",null,{"$f":"SUM(C57:C59)","v":11086710},{"$f":"SUM(D57:D59)","v":0},11086710,{"$f":"SUM(F57:F59)","v":8962182.4199999999},{"$f":"SUM(G57:G59)","v":8962182.4199999999},2124527.58]
[null,"Obra pública en bienes de dominio público",{"$f":"SUM(Balanza!H1224:H1225)","v":11086710},{"$f":"SUM(Balanza!H1496:H1497)","v":0},11086710,{"$f":"SUM(Balanza!E1768:E1769)","v":8962182.4199999999},{"$f":"SUM(Balanza!G2040:G2041)","v":8962182.4199999999},2124527.58]
[null,"Obra pública en bienes de dominio propios",{"$f":"SUM(Balanza!H1226:H1227)","v":0},{"$f":"SUM(Balanza!H1498:H1499)","v":0},0,{"$f":"SUM(Balanza!E1770:E1771)","v":0},{"$f":"SUM(Balanza!G2042:G2043)","v":0},0]
[null,"Proyectos productivos y acciones de fomento",{"$f":"SUM(Balanza!H1228:H1229)","v":0},{"$f":"SUM(Balanza!H1500:H1501)","v":0},0,{"$f":"SUM(Balanza!E1772:E1773)","v":0},{"$f":"SUM(Balanza!G2044:G2045)","v":0},0]
["Inversiones financieras y otras provisiones",null,{"$f":"SUM(C61:C67)","v":0},{"$f":"SUM(D61:D67)","v":0},0,{"$f":"SUM(F61:F67)","v":0},{"$f":"SUM(G61:G67)","v":0},0]
[null,"Inversiones para el fomento de actividades productivas",{"$f":"SUM(Balanza!H1231:H1232)","v":0},{"$f":"SUM(Balanza!H1503:H1504)","v":0},0,{"$f":"SUM(Balanza!E1775:E1776)","v":0},{"$f":"SUM(Balanza!G2047:G2048)","v":0},0]
[null,"Acciones y participaciones de capital",{"$f":"SUM(Balanza!H1233:H1234)","v":0},{"$f":"SUM(Balanza!H1505:H1506)","v":0},0,{"$f":"SUM(Balanza!E1777:E1778)","v":0},{"$f":"SUM(Balanza!G2049:G2050)","v":0},0]
[null,"Compra de títulos y valores",{"$f":"SUM(Balanza!H1235:H1236)","v":0},{"$f":"SUM(Balanza!H1507:H1508)","v":0},0,{"$f":"SUM(Balanza!E1779:E1780)","v":0},{"$f":"SUM(Balanza!G2051:G2052)","v":0},0]
[null,"Concesión de préstamos",{"$f":"SUM(Balanza!H1237:H1238)","v":0},{"$f":"SUM(Balanza!H1509:H1510)","v":0},0,{"$f":"SUM(Balanza!E1781:E1782)","v":0},{"$f":"SUM(Balanza!G2053:G2054)","v":0},0]
[null,"Inversiones en fideicomisos, mandatos y otros análogos",{"$f":"SUM(Balanza!H1239:H1240)","v":0},{"$f":"SUM(Balanza!H1511:H1512)","v":0},0,{"$f":"SUM(Balanza!E1783:E1784)","v":0},{"$f":"SUM(Balanza!G2055:G2056)","v":0},0]
[null,"Otras inversiones financieras",{"$f":"SUM(Balanza!H1241:H1242)","v":0},{"$f":"SUM(Balanza!H1513:H1514)","v":0},0,{"$f":"SUM(Balanza!E1785:E1786)","v":0},{"$f":"SUM(Balanza!G2057:G2058)","v":0},0]
[null,"Provisiones para contingencias y otras erogaciones especiales",{"$f":"SUM(Balanza!H1243:H1244)","v":0},{"$f":"SUM(Balanza!H1515:H1516)","v":0},0,{"$f":"SUM(Balanza!E1787:E1788)","v":0},{"$f":"SUM(Balanza!G2059:G2060)","v":0},0]
["Participaciones y aportaciones",null,{"$f":"SUM(C69:C71)","v":0},{"$f":"SUM(D69:D71)","v":0},0,{"$f":"SUM(F69:F71)","v":0},{"$f":"SUM(G69:G71)","v":0},0]
[null,"Participaciones",{"$f":"SUM(Balanza!H1246:H1247)","v":0},{"$f":"SUM(Balanza!H1518:H1519)","v":0},0,{"$f":"SUM(Balanza!E1790:E1791)","v":0},{"$f":"SUM(Balanza!G2062:G2063)","v":0},0]
[null,"Aportaciones",{"$f":"SUM(Balanza!H1248:H1249)","v":0},{"$f":"SUM(Balanza!H1520:H1521)","v":0},0,{"$f":"SUM(Balanza!E1792:E1793)","v":0},{"$f":"SUM(Balanza!G2064:G2065)","v":0},0]
[null,"Convenios",{"$f":"SUM(Balanza!H1250:H1251)","v":0},{"$f":"SUM(Balanza!H1522:H1523)","v":0},0,{"$f":"SUM(Balanza!E1794:E1795)","v":0},{"$f":"SUM(Balanza!G2066:G2067)","v":0},0]
["Deuda pública",null,{"$f":"SUM(C73:C79)","v":2038455},{"$f":"SUM(D73:D79)","v":0},2038455,{"$f":"SUM(F73:F79)","v":2488454.21},{"$f":"SUM(G73:G79)","v":2488454.21},-449999.20999999996]
[null,"Amortización de la deuda pública",{"$f":"SUM(Balanza!H1253:H1254)","v":2000000},{"$f":"SUM(Balanza!H1525:H1526)","v":0},{"$f":"C73+D73","v":2000000},{"$f":"SUM(Balanza!E1797:E1798)","v":2450000},{"$f":"SUM(Balanza!G2069:G2070)","v":2450000},{"$f":"E73-F73","v":-450000}]
[null,"Intereses de la deuda pública",{"$f":"SUM(Balanza!H1255:H1256)","v":38455},{"$f":"SUM(Balanza!H1527:H1528)","v":0},38455,{"$f":"SUM(Balanza!E1799:E1800)","v":38454.21},{"$f":"SUM(Balanza!G2071:G2072)","v":38454.21},0.79000000000087311]
[null,"Comisiones de la deuda pública",{"$f":"SUM(Balanza!H1257:H1258)","v":0},{"$f":"SUM(Balanza!H1529:H1530)","v":0},0,{"$f":"SUM(Balanza!E1801:E1802)","v":0},{"$f":"SUM(Balanza!G2073:G2074)","v":0},0]
[null,"Gastos de la deuda pública",{"$f":"SUM(Balanza!H1259:H1260)","v":0},{"$f":"SUM(Balanza!H1531:H1532)","v":0},0,{"$f":"SUM(Balanza!E1803:E1804)","v":0},{"$f":"SUM(Balanza!G2075:G2076)","v":0},0]
[null,"Costo por coberturas",{"$f":"SUM(Balanza!H1261:H1262)","v":0},{"$f":"SUM(Balanza!H1533:H1534)","v":0},0,{"$f":"SUM(Balanza!E1805:E1806)","v":0},{"$f":"SUM(Balanza!G2077:G2078)","v":0},0]
[null,"Apoyos financieros",{"$f":"SUM(Balanza!H1263:H1264)","v":0},{"$f":"SUM(Balanza!H1535:H1536)","v":0},0,{"$f":"SUM(Balanza!E1807:E1808)","v":0},{"$f":"SUM(Balanza!G2079:G2080)","v":0},0]
[null,"Adeudos de ejercicios anteriores (adefas)",{"$f":"SUM(Balanza!H1265:H1266)","v":0},{"$f":"SUM(Balanza!H1537:H1538)","v":0},0,{"$f":"SUM(Balanza!E1809:E1810)","v":0},{"$f":"SUM(Balanza!G2081:G2082)","v":0},0]
[null,"TOTAL DEL GASTO",{"$f":"C8+C16+C26+C36+C46+C56+C60+C68+C72","v":44998818},0,44998818,49049839.680000007,49049839.680000007,-4051021.6800000025]
[]
[null,"Bajo protesta de decir verdad declaramos que los estados financieros y sus notas, son razonablemente correctos y son responsabilidad del emisor."]
[]
[null,{"$f":"Validacion!A7","v":"C. SANTIAGO LEON CASTRO"},null,{"$f":"Validacion!A9","v":"L.T. JOCELYN SANCHEZ HERRERA"}]
[]
[null,"Presidente Municipal o titular del ente público",null,"Encargado de la Hacienda Municipal\n o Responsable de las finanzas del ente público"]

{"sheet":"F8B","index":24,"n_rows":163,"n_cols":9,"rows_kept":163,"cut":false,"hidden":false,"merged":[[0,1,0,8],[162,2,163,2],[160,2,161,2],[1,1,1,8],[2,1,2,8],[3,1,3,8],[4,1,5,2],[4,3,4,7],[4,8,5,8],[162,5,163,7],[160,5,161,7],[68,1,70,1],[80,1,80,8],[142,1,144,1]]}
[null,{"$f":"Validacion!B2","v":0}]
[null,"ESTADO ANALÍTICO DEL EJERCICIO DEL PRESPUESTO DE EGRESOS DETALLADO - LDF\nCLASIFICACIÓN POR OBJETO DEL GASTO (CAPÍTULO Y CONCEPTO)"]
[null,{"$f":"'F6'!A3","v":"Del 1° de Enero al 31 de Diciembre de 2021"}]
[]
[null,"CONCEPTO",null,"EGRESOS",{"$nulls":4},"SUBEJERCICIO"]
[null,null,null,"APROBADO","AMPLACIONES/\n(REDUCCIONES)","MODFICADO","DEVENGADO","PAGADO"]
["I","GASTO NO ETIQUETADO"]
[null,"A","Servicios personales",{"$f":"SUM(D9:D15)","v":15564039},{"$f":"SUM(E9:E15)","v":0},{"$f":"D8+E8","v":15564039},{"$f":"SUM(G9:G15)","v":18118436.470000003},{"$f":"SUM(H9:H15)","v":18118436.470000003},{"$f":"F8-G8","v":-2554397.4700000025}]
[null,null,"Remuneraciones al personal de carácter permanente",{"$f":"Balanza!H1133","v":9215244},{"$f":"Balanza!H1405","v":0},{"$f":"D9+E9","v":9215244},{"$f":"Balanza!E1677","v":10250517.66},{"$f":"Balanza!G1949","v":10250517.66},{"$f":"F9-G9","v":-1035273.6600000001}]
[null,null,"Remuneraciones al personal de carácter transitorio",{"$f":"Balanza!H1135","v":3988817},{"$f":"Balanza!H1407","v":0},3988817,{"$f":"Balanza!E1679","v":5809910.1900000004},{"$f":"Balanza!G1951","v":5809910.1900000004},-1821093.1900000004]
[null,null,"Remuneraciones adicionales especiales",{"$f":"Balanza!H1137","v":2159978},{"$f":"Balanza!H1409","v":0},2159978,{"$f":"Balanza!E1681","v":1992316.62},{"$f":"Balanza!G1953","v":1992316.62},167661.37999999989]
[null,null,"Seguridad social",{"$f":"Balanza!H1139","v":0},{"$f":"Balanza!H1411","v":0},0,{"$f":"Balanza!E1683","v":0},{"$f":"Balanza!G1955","v":0},0]
[null,null,"Otras prestaciones sociales y económicas",{"$f":"Balanza!H1141","v":200000},{"$f":"Balanza!H1413","v":0},200000,{"$f":"Balanza!E1685","v":65692},{"$f":"Balanza!G1957","v":65692},134308]
[null,null,"Previsiones",{"$f":"Balanza!H1143","v":0},{"$f":"Balanza!H1415","v":0},0,{"$f":"Balanza!E1687","v":0},{"$f":"Balanza!G1959","v":0},0]
[null,null,"Pago de estímulos a servidores públicos",{"$f":"Balanza!H1145","v":0},{"$f":"Balanza!H1417","v":0},0,{"$f":"Balanza!E1689","v":0},{"$f":"Balanza!G1961","v":0},0]
[null,"B","Materiales y suministros",{"$f":"SUM(D17:D25)","v":3970580},{"$f":"SUM(E17:E25)","v":0},3970580,{"$f":"SUM(G17:G25)","v":3732465.42},{"$f":"SUM(H17:H25)","v":3732465.42},238114.58000000007]
[null,null,"Materiales de administración, emisión de documentos y artículos oficiales",{"$f":"Balanza!H1148","v":280000},{"$f":"Balanza!H1420","v":0},280000,{"$f":"Balanza!E1692","v":341096.15},{"$f":"Balanza!G1964","v":341096.15},-61096.150000000023]
[null,null,"Alimentos y utensilios",{"$f":"Balanza!H1150","v":262000},{"$f":"Balanza!H1422","v":0},262000,{"$f":"Balanza!E1694","v":287688.86},{"$f":"Balanza!G1966","v":287688.86},-25688.859999999986]
[null,null,"Materias primas y materiales de producción y comercialización",{"$f":"Balanza!H1152","v":0},{"$f":"Balanza!H1424","v":0},0,{"$f":"Balanza!E1696","v":0},{"$f":"Balanza!G1968","v":0},0]
[null,null,"Materiales y artículos de construcción y de reparación",{"$f":"Balanza!H1154","v":520000},{"$f":"Balanza!H1426","v":0},520000,{"$f":"Balanza!E1698","v":521026.72},{"$f":"Balanza!G1970","v":521026.72},-1026.7199999999721]
[null,null,"Productos químicos, farmacéuticos y de laboratorio",{"$f":"Balanza!H1156","v":305000},{"$f":"Balanza!H1428","v":0},305000,{"$f":"Balanza!E1700","v":147463.75},{"$f":"Balanza!G1972","v":147463.75},157536.25]
[null,null,"Combustibles, lubricantes y aditivos",{"$f":"Balanza!H1158","v":2143580},{"$f":"Balanza!H1430","v":0},2143580,{"$f":"Balanza!E1702","v":1845124.4},{"$f":"Balanza!G1974","v":1845124.4},298455.60000000009]
[null,null,"Vestuario, blancos, prendas de protección y artículos deportivos",{"$f":"Balanza!H1160","v":100000},{"$f":"Balanza!H1432","v":0},100000,{"$f":"Balanza!E1704","v":98676.47},{"$f":"Balanza!G1976","v":98676.47},1323.5299999999988]
[null,null,"Materiales y suministros de seguridad",{"$f":"Balanza!H1162","v":0},{"$f":"Balanza!H1434","v":0},0,{"$f":"Balanza!E1706","v":0},{"$f":"Balanza!G1978","v":0},0]
[null,null,"Herramientas, refacciones y accesorios menores",{"$f":"Balanza!H1164","v":360000},{"$f":"Balanza!H1436","v":0},360000,{"$f":"Balanza!E1708","v":491389.07},{"$f":"Balanza!G1980","v":491389.07},-131389.07]
[null,"C","Servicios generales",{"$f":"SUM(D27:D35)","v":4331200},{"$f":"SUM(E27:E35)","v":0},4331200,{"$f":"SUM(G27:G35)","v":6750634.6100000003},{"$f":"SUM(H27:H35)","v":6750634.6100000003},-2419434.6100000003]
[null,null,"Servicios básicos",{"$f":"Balanza!H1167","v":467940},{"$f":"Balanza!H1439","v":0},467940,{"$f":"Balanza!E1711","v":450987.14},{"$f":"Balanza!G1983","v":450987.14},16952.859999999986]
[null,null,"Servicios de arrendamiento",{"$f":"Balanza!H1169","v":194960},{"$f":"Balanza!H1441","v":0},194960,{"$f":"Balanza!E1713","v":311487.52},{"$f":"Balanza!G1985","v":311487.52},-116527.52000000002]
[null,null,"Servicios profesionales, científicos, técnicos y otros servicios",{"$f":"Balanza!H1171","v":10000},{"$f":"Balanza!H1443","v":0},10000,{"$f":"Balanza!E1715","v":306097.40000000002},{"$f":"Balanza!G1987","v":306097.40000000002},-296097.40000000002]
[null,null,"Servicios financieros, bancarios y comerciales",{"$f":"Balanza!H1173","v":127000},{"$f":"Balanza!H1445","v":0},127000,{"$f":"Balanza!E1717","v":125159.95},{"$f":"Balanza!G1989","v":125159.95},1840.0500000000029]
[null,null,"Servicios de instalación, reparación, mantenimiento y conservación",{"$f":"Balanza!H1175","v":1695000},{"$f":"Balanza!H1447","v":0},1695000,{"$f":"Balanza!E1719","v":2154074.7400000002},{"$f":"Balanza!G1991","v":2154074.7400000002},-459074.74000000022]
[null,null,"Servicios de comunicación social y publicidad",{"$f":"Balanza!H1177","v":30000},{"$f":"Balanza!H1449","v":0},30000,{"$f":"Balanza!E1721","v":44660},{"$f":"Balanza!G1993","v":44660},-14660]
[null,null,"Servicios de traslado y viáticos",{"$f":"Balanza!H1179","v":186000},{"$f":"Balanza!H1451","v":0},186000,{"$f":"Balanza!E1723","v":450459.8},{"$f":"Balanza!G1995","v":450459.8},-264459.8]
[null,null,"Servicios oficiales",{"$f":"Balanza!H1181","v":720000},{"$f":"Balanza!H1453","v":0},720000,{"$f":"Balanza!E1725","v":504090.52},{"$f":"Balanza!G1997","v":504090.52},215909.47999999998]
[null,null,"Otros servicios generales",{"$f":"Balanza!H1183","v":900300},{"$f":"Balanza!H1455","v":0},900300,{"$f":"Balanza!E1727","v":2403617.54},{"$f":"Balanza!G1999","v":2403617.54},-1503317.54]
[null,"D","Transferencias, asignaciones, subsidios y otras ayudas",{"$f":"SUM(D37:D45)","v":3088878},{"$f":"SUM(E37:E45)","v":0},3088878,{"$f":"SUM(G37:G45)","v":3503874.62},{"$f":"SUM(H37:H45)","v":3503874.62},-414996.62000000011]
[null,null,"Transferencias internas y asignaciones al sector público",{"$f":"Balanza!H1186","v":0},{"$f":"Balanza!H1458","v":0},0,{"$f":"Balanza!E1730","v":1020000},{"$f":"Balanza!G2002","v":1020000},-1020000]
[null,null,"Transferencias al resto del sector público",{"$f":"Balanza!H1188","v":1320000},{"$f":"Balanza!H1460","v":0},1320000,{"$f":"Balanza!E1732","v":480000},{"$f":"Balanza!G2004","v":480000},840000]
[null,null,"Subsidios y subvenciones",{"$f":"Balanza!H1190","v":0},{"$f":"Balanza!H1462","v":0},0,{"$f":"Balanza!E1734","v":0},{"$f":"Balanza!G2006","v":0},0]
[null,null,"Ayudas sociales",{"$f":"Balanza!H1192","v":1768878},{"$f":"Balanza!H1464","v":0},1768878,{"$f":"Balanza!E1736","v":2003874.62},{"$f":"Balanza!G2008","v":2003874.62},-234996.62000000011]
[null,null,"Pensiones y jubilaciones",{"$f":"Balanza!H1194","v":0},{"$f":"Balanza!H1466","v":0},0,{"$f":"Balanza!E1738","v":0},{"$f":"Balanza!G2010","v":0},0]
[null,null,"Transferencias a fideicomisos, mandatos y análogos",{"$f":"Balanza!H1196","v":0},{"$f":"Balanza!H1468","v":0},0,{"$f":"Balanza!E1740","v":0},{"$f":"Balanza!G2012","v":0},0]
[null,null,"Transferencias a la seguridad social",{"$f":"Balanza!H1198","v":0},{"$f":"Balanza!H1470","v":0},0,{"$f":"Balanza!E1742","v":0},{"$f":"Balanza!G2014","v":0},0]
[null,null,"Donativos",{"$f":"Balanza!H1200","v":0},{"$f":"Balanza!H1472","v":0},0,{"$f":"Balanza!E1744","v":0},{"$f":"Balanza!G2016","v":0},0]
[null,null,"Transferencias al exterior",{"$f":"Balanza!H1202","v":0},{"$f":"Balanza!H1474","v":0},0,{"$f":"Balanza!E1746","v":0},{"$f":"Balanza!G2018","v":0},0]
[null,"E","Bienes muebles, inmuebles e intangibles",{"$f":"SUM(D47:D55)","v":0},{"$f":"SUM(E47:E55)","v":0},0,{"$f":"SUM(G47:G55)","v":326445.84999999998},{"$f":"SUM(H47:H55)","v":326445.84999999998},-326445.84999999998]
[null,null,"Mobiliario y equipo de administración",{"$f":"Balanza!H1205","v":0},{"$f":"Balanza!H1477","v":0},0,{"$f":"Balanza!E1749","v":98945.85},{"$f":"Balanza!G2021","v":98945.85},-98945.85]
[null,null,"Mobiliario y equipo educacional y recreativo",{"$f":"Balanza!H1207","v":0},{"$f":"Balanza!H1479","v":0},0,{"$f":"Balanza!E1751","v":0},{"$f":"Balanza!G2023","v":0},0]
[null,null,"Equipo instrumental médico y de laboratorio",{"$f":"Balanza!H1209","v":0},{"$f":"Balanza!H1481","v":0},0,{"$f":"Balanza!E1753","v":0},{"$f":"Balanza!G2025","v":0},0]
[null,null,"Vehículos y equipo de transporte",{"$f":"Balanza!H1211","v":0},{"$f":"Balanza!H1483","v":0},0,{"$f":"Balanza!E1755","v":227500},{"$f":"Balanza!G2027","v":227500},-227500]
[null,null,"Equipo de defensa y seguridad",{"$f":"Balanza!H1213","v":0},{"$f":"Balanza!H1485","v":0},0,{"$f":"Balanza!E1757","v":0},{"$f":"Balanza!G2029","v":0},0]
[null,null,"Maquinaria, otros equipos y herramientas",{"$f":"Balanza!H1215","v":0},{"$f":"Balanza!H1487","v":0},0,{"$f":"Balanza!E1759","v":0},{"$f":"Balanza!G2031","v":0},0]
[null,null,"Activos biológicos",{"$f":"Balanza!H1217","v":0},{"$f":"Balanza!H1489","v":0},0,{"$f":"Balanza!E1761","v":0},{"$f":"Balanza!G2033","v":0},0]
[null,null,"Bienes inmuebles",{"$f":"Balanza!H1219","v":0},{"$f":"Balanza!H1491","v":0},0,{"$f":"Balanza!E1763","v":0},{"$f":"Balanza!G2035","v":0},0]
[null,null,"Activos intangibles",{"$f":"Balanza!H1221","v":0},{"$f":"Balanza!H1493","v":0},0,{"$f":"Balanza!E1765","v":0},{"$f":"Balanza!G2037","v":0},0]
[null,"F","Inversión pública",{"$f":"SUM(D57:D59)","v":0},{"$f":"SUM(E57:E59)","v":0},0,{"$f":"SUM(G57:G59)","v":1175395.26},{"$f":"SUM(H57:H59)","v":1175395.26},-1175395.26]
[null,null,"Obra pública en bienes de dominio público",{"$f":"Balanza!H1224","v":0},{"$f":"Balanza!H1496","v":0},0,{"$f":"Balanza!E1768","v":1175395.26},{"$f":"Balanza!G2040","v":1175395.26},-1175395.26]
[null,null,"Obra pública en bienes de dominio propios",{"$f":"Balanza!H1226","v":0},{"$f":"Balanza!H1498","v":0},0,{"$f":"Balanza!E1770","v":0},{"$f":"Balanza!G2042","v":0},0]
[null,null,"Proyectos productivos y acciones de fomento",{"$f":"Balanza!H1228","v":0},{"$f":"Balanza!H1500","v":0},0,{"$f":"Balanza!E1772","v":0},{"$f":"Balanza!G2044","v":0},0]
[null,"G","Inversiones financieras y otras provisiones",{"$f":"SUM(D61:D67)","v":0},{"$f":"SUM(E61:E67)","v":0},0,{"$f":"SUM(G61:G67)","v":0},{"$f":"SUM(H61:H67)","v":0},0]
[null,null,"Inversiones para el fomento de actividades productivas",{"$f":"Balanza!H1231","v":0},{"$f":"Balanza!H1503","v":0},0,{"$f":"Balanza!E1775","v":0},{"$f":"Balanza!G2047","v":0},0]
[null,null,"Acciones y participaciones de capital",{"$f":"Balanza!H1233","v":0},{"$f":"Balanza!H1505","v":0},0,{"$f":"Balanza!E1777","v":0},{"$f":"Balanza!G2049","v":0},0]
[null,null,"Compra de títulos y valores",{"$f":"Balanza!H1235","v":0},{"$f":"Balanza!H1507","v":0},0,{"$f":"Balanza!E1779","v":0},{"$f":"Balanza!G2051","v":0},0]
[null,null,"Concesión de préstamos",{"$f":"Balanza!H1237","v":0},{"$f":"Balanza!H1509","v":0},0,{"$f":"Balanza!E1781","v":0},{"$f":"Balanza!G2053","v":0},0]
[null,null,"Inversiones en fideicomisos, mandatos y otros análogos",{"$f":"Balanza!H1239","v":0},{"$f":"Balanza!H1511","v":0},0,{"$f":"Balanza!E1783","v":0},{"$f":"Balanza!G2055","v":0},0]
[null,null,"Otras inversiones financieras",{"$f":"Balanza!H1241","v":0},{"$f":"Balanza!H1513","v":0},0,{"$f":"Balanza!E1785","v":0},{"$f":"Balanza!G2057","v":0},0]
[null,null,"Provisiones para contingencias y otras erogaciones especiales",{"$f":"Balanza!H1243","v":0},{"$f":"Balanza!H1515","v":0},0,{"$f":"Balanza!E1787","v":0},{"$f":"Balanza!G2059","v":0},0]
[null,"H","Participaciones y aportaciones",{"$f":"SUM(D69:D71)","v":0},{"$f":"SUM(E69:E71)","v":0},0,{"$f":"SUM(G69:G71)","v":0},{"$f":"SUM(H69:H71)","v":0},0]
[null,null,"Participaciones",{"$f":"Balanza!H1246","v":0},{"$f":"Balanza!H1518","v":0},0,{"$f":"Balanza!E1790","v":0},{"$f":"Balanza!G2062","v":0},0]
[null,null,"Aportaciones",{"$f":"Balanza!H1248","v":0},{"$f":"Balanza!H1520","v":0},0,{"$f":"Balanza!E1792","v":0},{"$f":"Balanza!G2064","v":0},0]
[null,null,"Convenios",{"$f":"Balanza!H1250","v":0},{"$f":"Balanza!H1522","v":0},0,{"$f":"Balanza!E1794","v":0},{"$f":"Balanza!G2066","v":0},0]
[null,"I","Deuda pública",{"$f":"SUM(D73:D79)","v":2038455},{"$f":"SUM(E73:E79)","v":0},2038455,{"$f":"SUM(G73:G79)","v":2488454.21},{"$f":"SUM(H73:H79)","v":2488454.21},-449999.20999999996]
[null,null,"Amortización de la deuda pública",{"$f":"Balanza!H1253","v":2000000},{"$f":"Balanza!H1525","v":0},{"$f":"D73+E73","v":2000000},{"$f":"Balanza!E1797","v":2450000},{"$f":"Balanza!G2069","v":2450000},{"$f":"F73-G73","v":-450000}]
[null,null,"Intereses de la deuda pública",{"$f":"Balanza!H1255","v":38455},{"$f":"Balanza!H1527","v":0},38455,{"$f":"Balanza!E1799","v":38454.21},{"$f":"Balanza!G2071","v":38454.21},0.79000000000087311]
[null,null,"Comisiones de la deuda pública",{"$f":"Balanza!H1257","v":0},{"$f":"Balanza!H1529","v":0},0,{"$f":"Balanza!E1801","v":0},{"$f":"Balanza!G2073","v":0},0]
[null,null,"Gastos de la deuda pública",{"$f":"Balanza!H1259","v":0},{"$f":"Balanza!H1531","v":0},0,{"$f":"Balanza!E1803","v":0},{"$f":"Balanza!G2075","v":0},0]
[null,null,"Costo por coberturas",{"$f":"Balanza!H1261","v":0},{"$f":"Balanza!H1533","v":0},0,{"$f":"Balanza!E1805","v":0},{"$f":"Balanza!G2077","v":0},0]
[null,null,"Apoyos financieros",{"$f":"Balanza!H1263","v":0},{"$f":"Balanza!H1535","v":0},0,{"$f":"Balanza!E1807","v":0},{"$f":"Balanza!G2079","v":0},0]
[null,null,"Adeudos de ejercicios fiscales anteriores (ADEFAS)",{"$f":"Balanza!H1265","v":0},{"$f":"Balanza!H1537","v":0},0,{"$f":"Balanza!E1809","v":0},{"$f":"Balanza!G2081","v":0},0]
[null,null,"TOTAL DEL GASTO NO ETIQUETADO",{"$f":"D8+D16+D26+D36+D46+D56+D60+D68+D72","v":28993152},{"$f":"E8+E16+E26+E36+E46+E56+E60+E68+E72","v":0},{"$f":"D80+E80","v":28993152},{"$f":"G8+G16+G26+G36+G46+G56+G60+G68+G72","v":36095706.440000005},{"$f":"H8+H16+H26+H36+H46+H56+H60+H68+H72","v":36095706.440000005},-7102554.4400000051]
["II","GASTO ETIQUETADO"]
[null,"A","Servicios personales",{"$f":"SUM(D83:D89)","v":1242168},{"$f":"SUM(E83:E89)","v":0},{"$f":"D82+E82","v":1242168},{"$f":"SUM(G83:G89)","v":0},0,{"$f":"F82-G82","v":1242168}]
[null,null,"Remuneraciones al personal de carácter permanente",{"$f":"Balanza!H1134","v":1242168},{"$f":"Balanza!H1406","v":0},1242168,{"$f":"Balanza!E1678","v":0},{"$f":"Balanza!G1950","v":0},{"$f":"F83-G83","v":1242168}]
[null,null,"Remuneraciones al personal de carácter transitorio",{"$f":"Balanza!H1136","v":0},{"$f":"Balanza!H1408","v":0},0,{"$f":"Balanza!E1680","v":0},{"$f":"Balanza!G1952","v":0},0]
[null,null,"Remuneraciones adicionales especiales",{"$f":"Balanza!H1138","v":0},{"$f":"Balanza!H1410","v":0},0,{"$f":"Balanza!E1682","v":0},{"$f":"Balanza!G1954","v":0},0]
[null,null,"Seguridad social",{"$f":"Balanza!H1140","v":0},{"$f":"Balanza!H1412","v":0},0,{"$f":"Balanza!E1684","v":0},{"$f":"Balanza!G1956","v":0},0]
[null,null,"Otras prestaciones sociales y económicas",{"$f":"Balanza!H1142","v":0},{"$f":"Balanza!H1414","v":0},0,{"$f":"Balanza!E1686","v":0},{"$f":"Balanza!G1958","v":0},0]
[null,null,"Previsiones",{"$f":"Balanza!H1144","v":0},{"$f":"Balanza!H1416","v":0},0,{"$f":"Balanza!E1688","v":0},{"$f":"Balanza!G1960","v":0},0]
[null,null,"Pago de estímulos a servidores públicos",{"$f":"Balanza!H1146","v":0},{"$f":"Balanza!H1418","v":0},0,{"$f":"Balanza!E1690","v":0},{"$f":"Balanza!G1962","v":0},0]
[null,"B","Materiales y suministros",{"$f":"SUM(D91:D99)","v":665000},{"$f":"SUM(E91:E99)","v":0},665000,{"$f":"SUM(G91:G99)","v":174212.09},{"$f":"SUM(H91:H99)","v":174212.09},490787.91000000003]
[null,null,"Materiales de administración, emisión de documentos y artículos oficiales",{"$f":"Balanza!H1149","v":0},{"$f":"Balanza!H1421","v":0},0,{"$f":"Balanza!E1693","v":0},{"$f":"Balanza!G1965","v":0},0]
[null,null,"Alimentos y utencilios",{"$f":"Balanza!H1151","v":40000},{"$f":"Balanza!H1423","v":0},40000,{"$f":"Balanza!E1695","v":4850},{"$f":"Balanza!G1967","v":4850},35150]
[null,null,"Materias primas y materiales de producción y comercialización",{"$f":"Balanza!H1153","v":0},{"$f":"Balanza!H1425","v":0},0,{"$f":"Balanza!E1697","v":0},{"$f":"Balanza!G1969","v":0},0]
[null,null,"Materiales y artículos de construcción y de reparación",{"$f":"Balanza!H1155","v":0},{"$f":"Balanza!H1427","v":0},0,{"$f":"Balanza!E1699","v":49158},{"$f":"Balanza!G1971","v":49158},-49158]
[null,null,"Productos químicos, farmacéuticos y de laboratorio",{"$f":"Balanza!H1157","v":40000},{"$f":"Balanza!H1429","v":0},40000,{"$f":"Balanza!E1701","v":8200.93},{"$f":"Balanza!G1973","v":8200.93},31799.07]
[null,null,"Combustibles, lubricantes y aditivos",{"$f":"Balanza!H1159","v":480000},{"$f":"Balanza!H1431","v":0},480000,{"$f":"Balanza!E1703","v":105803.16},{"$f":"Balanza!G1975","v":105803.16},374196.83999999997]
[null,null,"Vestuario, blancos, prendas de protección y artículos deportivos",{"$f":"Balanza!H1161","v":30000},{"$f":"Balanza!H1433","v":0},30000,{"$f":"Balanza!E1705","v":0},{"$f":"Balanza!G1977","v":0},30000]
[null,null,"Materiales y suministros de seguridad",{"$f":"Balanza!H1163","v":15000},{"$f":"Balanza!H1435","v":0},15000,{"$f":"Balanza!E1707","v":0},{"$f":"Balanza!G1979","v":0},15000]
[null,null,"Herramientas, refacciones y accesorios menores",{"$f":"Balanza!H1165","v":60000},{"$f":"Balanza!H1437","v":0},60000,{"$f":"Balanza!E1709","v":6200},{"$f":"Balanza!G1981","v":6200},53800]
[null,"C","Servicios generales",{"$f":"SUM(D101:D109)","v":3011788},{"$f":"SUM(E101:E109)","v":0},3011788,{"$f":"SUM(G101:G109)","v":4959166.87},4959166.87,-1947378.87]
[null,null,"Servicios básicos",{"$f":"Balanza!H1168","v":2888788},{"$f":"Balanza!H1440","v":0},2888788,{"$f":"Balanza!E1712","v":4955930.2300000004},{"$f":"Balanza!G1984","v":4955930.2300000004},-2067142.2300000004]
[null,null,"Servicios de arrendamiento",{"$f":"Balanza!H1170","v":0},{"$f":"Balanza!H1442","v":0},0,{"$f":"Balanza!E1714","v":0},{"$f":"Balanza!G1986","v":0},0]
[null,null,"Servicios profesionales, científicos, técnicos y otros servicios",{"$f":"Balanza!H1172","v":0},{"$f":"Balanza!H1444","v":0},0,{"$f":"Balanza!E1716","v":0},{"$f":"Balanza!G1988","v":0},0]
[null,null,"Servicios financieros, bancarios y comerciales",{"$f":"Balanza!H1174","v":123000},{"$f":"Balanza!H1446","v":0},123000,{"$f":"Balanza!E1718","v":3236.64},{"$f":"Balanza!G1990","v":3236.64},119763.36]
[null,null,"Servicios de instalación, reparación, mantenimiento y conservación",{"$f":"Balanza!H1176","v":0},{"$f":"Balanza!H1448","v":0},0,{"$f":"Balanza!E1720","v":0},{"$f":"Balanza!G1992","v":0},0]
[null,null,"Servicios de comunicación social y publicidad",{"$f":"Balanza!H1178","v":0},{"$f":"Balanza!H1450","v":0},0,{"$f":"Balanza!E1722","v":0},{"$f":"Balanza!G1994","v":0},0]
[null,null,"Servicios de traslado y viáticos",{"$f":"Balanza!H1180","v":0},{"$f":"Balanza!H1452","v":0},0,{"$f":"Balanza!E1724","v":0},{"$f":"Balanza!G1996","v":0},0]
[null,null,"Servicios oficiales",{"$f":"Balanza!H1182","v":0},{"$f":"Balanza!H1454","v":0},0,{"$f":"Balanza!E1726","v":0},{"$f":"Balanza!G1998","v":0},0]
[null,null,"Otros servicios generales",{"$f":"Balanza!H1184","v":0},{"$f":"Balanza!H1456","v":0},0,{"$f":"Balanza!E1728","v":0},{"$f":"Balanza!G2000","v":0},0]
[null,"D","Transferencias, asignaciones, subsidios y otras ayudas",{"$f":"SUM(D111:D119)","v":0},{"$f":"SUM(E111:E119)","v":0},0,{"$f":"SUM(G111:G119)","v":0},{"$f":"SUM(H111:H119)","v":0},0]
[null,null,"Transferencias internas y asignaciones al sector público",{"$f":"Balanza!H1187","v":0},{"$f":"Balanza!H1459","v":0},0,{"$f":"Balanza!E1731","v":0},{"$f":"Balanza!G2003","v":0},0]
[null,null,"Transferencias al resto del sector público",{"$f":"Balanza!H1189","v":0},{"$f":"Balanza!H1461","v":0},0,{"$f":"Balanza!E1733","v":0},{"$f":"Balanza!G2005","v":0},0]
[null,null,"Subsidios y subvenciones",{"$f":"Balanza!H1191","v":0},{"$f":"Balanza!H1463","v":0},0,{"$f":"Balanza!E1735","v":0},{"$f":"Balanza!G2007","v":0},0]
[null,null,"Ayudas sociales",{"$f":"Balanza!H1193","v":0},{"$f":"Balanza!H1465","v":0},0,{"$f":"Balanza!E1737","v":0},{"$f":"Balanza!G2009","v":0},0]
[null,null,"Pensiones y jubilaciones",{"$f":"Balanza!H1195","v":0},{"$f":"Balanza!H1467","v":0},0,{"$f":"Balanza!E1739","v":0},{"$f":"Balanza!G2011","v":0},0]
[null,null,"Transferencias a fideicomisos, mandatos y análogos",{"$f":"Balanza!H1197","v":0},{"$f":"Balanza!H1469","v":0},0,{"$f":"Balanza!E1741","v":0},{"$f":"Balanza!G2013","v":0},0]
[null,null,"Transferencias a la seguridad social",{"$f":"Balanza!H1199","v":0},{"$f":"Balanza!H1471","v":0},0,{"$f":"Balanza!E1743","v":0},{"$f":"Balanza!G2015","v":0},0]
[null,null,"Donativos",{"$f":"Balanza!H1201","v":0},{"$f":"Balanza!H1473","v":0},0,{"$f":"Balanza!E1745","v":0},{"$f":"Balanza!G2017","v":0},0]
[null,null,"Transferencias al exterior",{"$f":"Balanza!H1203","v":0},{"$f":"Balanza!H1475","v":0},0,{"$f":"Balanza!E1747","v":0},{"$f":"Balanza!G2019","v":0},0]
[null,"E","Bienes muebles, inmuebles e intangibles",{"$f":"SUM(D121:D129)","v":0},{"$f":"SUM(E121:E129)","v":0},0,{"$f":"SUM(G121:G129)","v":33967.120000000003},33967.120000000003,-33967.120000000003]
[null,null,"Mobiliario y equipo de administración",{"$f":"Balanza!H1206","v":0},{"$f":"Balanza!H1478","v":0},0,{"$f":"Balanza!E1750","v":33967.120000000003},{"$f":"Balanza!G2022","v":33967.120000000003},-33967.120000000003]
[null,null,"Mobiliario y equipo educacional y recreativo",{"$f":"Balanza!H1208","v":0},{"$f":"Balanza!H1480","v":0},0,{"$f":"Balanza!E1752","v":0},{"$f":"Balanza!G2024","v":0},0]
[null,null,"Equipo instrumental médico y de laboratorio",{"$f":"Balanza!H1210","v":0},{"$f":"Balanza!H1482","v":0},0,{"$f":"Balanza!E1754","v":0},{"$f":"Balanza!G2026","v":0},0]
[null,null,"Vehículos y equipo de transporte",{"$f":"Balanza!H1212","v":0},{"$f":"Balanza!H1484","v":0},0,{"$f":"Balanza!E1756","v":0},{"$f":"Balanza!G2028","v":0},0]
[null,null,"Equipo de defensa y seguridad",{"$f":"Balanza!H1214","v":0},{"$f":"Balanza!H1486","v":0},0,{"$f":"Balanza!E1758","v":0},{"$f":"Balanza!G2030","v":0},0]
[null,null,"Maquinaria, otros equipos y herramientas",{"$f":"Balanza!H1216","v":0},{"$f":"Balanza!H1488","v":0},0,{"$f":"Balanza!E1760","v":0},{"$f":"Balanza!G2032","v":0},0]
[null,null,"Activos biológicos",{"$f":"Balanza!H1218","v":0},{"$f":"Balanza!H1490","v":0},0,{"$f":"Balanza!E1762","v":0},{"$f":"Balanza!G2034","v":0},0]
[null,null,"Bienes inmuebles",{"$f":"Balanza!H1220","v":0},{"$f":"Balanza!H1492","v":0},0,{"$f":"Balanza!E1764","v":0},{"$f":"Balanza!G2036","v":0},0]
[null,null,"Activos intangibles",{"$f":"Balanza!H1222","v":0},{"$f":"Balanza!H1494","v":0},0,{"$f":"Balanza!E1766","v":0},{"$f":"Balanza!G2038","v":0},0]
[null,"F","Inversión pública",{"$f":"SUM(D131:D133)","v":11086710},{"$f":"SUM(E131:E133)","v":0},11086710,{"$f":"SUM(G131:G133)","v":7786787.1600000001},7786787.1600000001,3299922.84]
[null,null,"Obra pública en bienes de dominio público",{"$f":"Balanza!H1225","v":11086710},{"$f":"Balanza!H1497","v":0},11086710,{"$f":"Balanza!E1769","v":7786787.1600000001},{"$f":"Balanza!G2041","v":7786787.1600000001},3299922.84]
[null,null,"Obra pública en bienes de dominio propios",{"$f":"Balanza!H1227","v":0},{"$f":"Balanza!H1499","v":0},0,{"$f":"Balanza!E1771","v":0},{"$f":"Balanza!G2043","v":0},0]
[null,null,"Proyectos productivos y acciones de fomento",{"$f":"Balanza!H1229","v":0},{"$f":"Balanza!H1501","v":0},0,{"$f":"Balanza!E1773","v":0},{"$f":"Balanza!G2045","v":0},0]
[null,"G","Inversiones financieras y otras provisiones",{"$f":"SUM(D135:D141)","v":0},{"$f":"SUM(E135:E141)","v":0},0,{"$f":"SUM(G135:G141)","v":0},{"$f":"SUM(H135:H141)","v":0},0]
[null,null,"Inversiones para el fomento de actividades productivas",{"$f":"Balanza!H1232","v":0},{"$f":"Balanza!H1504","v":0},0,{"$f":"Balanza!E1776","v":0},{"$f":"Balanza!G2048","v":0},0]
[null,null,"Acciones y participaciones de capital",{"$f":"Balanza!H1234","v":0},{"$f":"Balanza!H1506","v":0},0,{"$f":"Balanza!E1778","v":0},{"$f":"Balanza!G2050","v":0},0]
[null,null,"Compra de títulos y valores",{"$f":"Balanza!H1236","v":0},{"$f":"Balanza!H1508","v":0},0,{"$f":"Balanza!E1780","v":0},{"$f":"Balanza!G2052","v":0},0]
[null,null,"Concesión de préstamos",{"$f":"Balanza!H1238","v":0},{"$f":"Balanza!H1510","v":0},0,{"$f":"Balanza!E1782","v":0},{"$f":"Balanza!G2054","v":0},0]
[null,null,"Inversiones en fideicomisos, mandatos y otros análogos",{"$f":"Balanza!H1240","v":0},{"$f":"Balanza!H1511","v":0},0,{"$f":"Balanza!E1784","v":0},{"$f":"Balanza!G2056","v":0},0]
[null,null,"Otras inversiones financieras",{"$f":"Balanza!H1242","v":0},{"$f":"Balanza!H1514","v":0},0,{"$f":"Balanza!E1786","v":0},{"$f":"Balanza!G2058","v":0},0]
[null,null,"Provisiones para contingencias y otras erogaciones especiales",{"$f":"Balanza!H1244","v":0},{"$f":"Balanza!H1516","v":0},0,{"$f":"Balanza!E1788","v":0},{"$f":"Balanza!G2060","v":0},0]
[null,"H","Participaciones y aportaciones",{"$f":"SUM(D143:D145)","v":0},{"$f":"SUM(E143:E145)","v":0},0,{"$f":"SUM(G143:G145)","v":0},0,0]
[null,null,"Participaciones",{"$f":"Balanza!H1247","v":0},{"$f":"Balanza!H1519","v":0},0,{"$f":"Balanza!E1791","v":0},{"$f":"Balanza!G2063","v":0},0]
[null,null,"Aportaciones",{"$f":"Balanza!H1249","v":0},{"$f":"Balanza!H1521","v":0},0,{"$f":"Balanza!E1793","v":0},{"$f":"Balanza!G2065","v":0},0]
[null,null,"Convenios",{"$f":"Balanza!H1251","v":0},{"$f":"Balanza!H1523","v":0},0,{"$f":"Balanza!E1795","v":0},{"$f":"Balanza!G2067","v":0},0]
[null,"I","Deuda pública",{"$f":"SUM(D147:D153)","v":0},{"$f":"SUM(E147:E153)","v":0},{"$f":"D146+E146","v":0},{"$f":"SUM(G147:G153)","v":0},0,0]
[null,null,"Amortización de la deuda pública",{"$f":"Balanza!H1254","v":0},{"$f":"Balanza!H1526","v":0},0,{"$f":"Balanza!E1798","v":0},{"$f":"Balanza!G2070","v":0},{"$f":"F147-G147","v":0}]
[null,null,"Intereses de la deuda pública",{"$f":"Balanza!H1256","v":0},{"$f":"Balanza!H1528","v":0},0,{"$f":"Balanza!E1800","v":0},{"$f":"Balanza!G2072","v":0},0]
[null,null,"Comisiones de la deuda pública",{"$f":"Balanza!H1258","v":0},{"$f":"Balanza!H1530","v":0},0,{"$f":"Balanza!E1802","v":0},{"$f":"Balanza!G2074","v":0},0]
[null,null,"Gastos de la deuda pública",{"$f":"Balanza!H1260","v":0},{"$f":"Balanza!H1532","v":0},0,{"$f":"Balanza!E1804","v":0},{"$f":"Balanza!G2076","v":0},0]
[null,null,"Costo por coberturas",{"$f":"Balanza!H1262","v":0},{"$f":"Balanza!H1534","v":0},0,{"$f":"Balanza!E1806","v":0},{"$f":"Balanza!G2078","v":0},0]
[null,null,"Apoyos financieros",{"$f":"Balanza!H1264","v":0},{"$f":"Balanza!H1536","v":0},0,{"$f":"Balanza!E1808","v":0},{"$f":"Balanza!G2080","v":0},0]
[null,null,"Adeudos de ejercicios fiscales anteriores (ADEFAS)",{"$f":"Balanza!H1266","v":0},{"$f":"Balanza!H1538","v":0},0,{"$f":"Balanza!E1810","v":0},{"$f":"Balanza!G2082","v":0},0]
[null,null,"TOTAL DEL GASTO ETIQUETADO",{"$f":"D82+D90+D100+D110+D120+D130+D134+D142+D146","v":16005666},{"$f":"E82+E90+E100+E110+E120+E130+E134+E142+E146","v":0},16005666,{"$f":"G82+G90+G100+G110+G120+G130+G134+G142+G146","v":12954133.24},12954133.24,3051532.76]
[null,null,"TOTAL DE EGRESOS",{"$f":"D80+D154","v":44998818},{"$f":"E80+E154","v":0},44998818,{"$f":"G80+G154","v":49049839.680000007},49049839.680000007,-4051021.6800000072]
[]
[null,null,"Bajo protesta de decir verdad declaramos que los estados financieros y sus notas, son razonablemente correctos y son responsabilidad del emisor."]
[]
[]
[]
[null,null,{"$f":"Validacion!A7","v":"C. SANTIAGO LEON CASTRO"},null,null,{"$f":"Validacion!A9","v":"L.T. JOCELYN SANCHEZ HERRERA"}]
[]
[null,null,"Presidente Municipal o titular del ente público",null,null,"Encargado de la Hacienda Municipal o\nResponsable de las finanzas del ente público"]

{"sheet":"F12","index":25,"n_rows":37,"n_cols":8,"rows_kept":37,"cut":false,"hidden":false,"merged":[[0,0,0,7],[1,0,1,7],[2,0,2,7],[4,0,5,1],[4,2,4,7],[13,0,13,1],[34,1,35,1],[34,3,35,5],[36,1,37,1],[36,3,37,5],[18,0,19,1],[18,2,18,7]]}
[{"$f":"Validacion!A2","v":"Atemajac de Brizuela"}]
["FLUJO CONTABLE DE INGRESOS Y EGRESOS"]
[{"$f":"'F6'!A3","v":"Del 1° de Enero al 31 de Diciembre de 2021"}]
[]
["TÍTULO",null,"INGRESO"]
[null,null,"ESTIMADO","AMPLIACIÓN Y REDUCCIÓN","MODIFICADO","DEVENGADO","AVANCE FINANCIERO","PENDIENTE DE INGRESAR"]
["Impuestos",null,{"$f":"Balanza!G796","v":3016201},{"$f":"Balanza!G930","v":0},{"$f":"C7+D7","v":3016201},{"$f":"Balanza!F997","v":4282314.9799999995},{"$f":"IF(E7=0,0,F7/E7)","v":1.4197710895261952},{"$f":"1-G7","v":-0.41977108952619524}]
["Cuotas y aportaciones de seguridad social",null,{"$f":"Balanza!G806","v":0},{"$f":"Balanza!G940","v":0},{"$f":"C8+D8","v":0},{"$f":"Balanza!F1007","v":0},{"$f":"IF(E8=0,0,F8/E8)","v":0},{"$f":"1-G8","v":1}]
["Contribuciones de mejora",null,{"$f":"Balanza!G812","v":0},{"$f":"Balanza!G946","v":0},0,{"$f":"Balanza!F1013","v":0},0,1]
["Derechos",null,{"$f":"Balanza!G815","v":1732545},{"$f":"Balanza!G949","v":0},1732545,{"$f":"Balanza!F1016","v":4717158.67},2.7226759882138705,-1.7226759882138705]
["Productos",null,{"$f":"Balanza!G822","v":164588},{"$f":"Balanza!G956","v":0},164588,{"$f":"Balanza!F1023","v":53968.85},0.32790270250565046,0.67209729749434954]
["Aprovechamientos",null,{"$f":"Balanza!G826","v":550910},{"$f":"Balanza!G960","v":0},550910,{"$f":"Balanza!F1027","v":592426.06999999995},1.0753590786153817,-7.5359078615381714E-2]
["Ingresos por venta de bienes, prestación de servicios y otros ingresos",null,{"$f":"Balanza!G831","v":0},{"$f":"Balanza!G965","v":0},0,{"$f":"Balanza!F1032","v":0},0,1]
["Participaciones, aportaciones, convenios, incentivos derivados de la colaboración fiscal y fondos distintos de aportaciones",null,{"$f":"Balanza!G841","v":39534574},{"$f":"Balanza!G975","v":0},39534574,{"$f":"Balanza!F1042","v":39705329.43},1.0043191417719588,-4.319141771958801E-3]
["Transferencias, asignaciones, subsidios y subvenciones, y pensiones y jubilaciones",null,{"$f":"Balanza!G848","v":0},{"$f":"Balanza!G982","v":0},0,{"$f":"Balanza!F1049","v":0},0,1]
["Ingresos derivados de financiamiento",null,{"$f":"Balanza!G858","v":0},{"$f":"Balanza!G992","v":0},0,{"$f":"Balanza!F1059","v":0},0,1]
[null,"TOTAL",{"$f":"SUM(C7:C16)","v":44998818},{"$f":"SUM(D7:D16)","v":0},{"$f":"SUM(E7:E16)","v":44998818},{"$f":"SUM(F7:F16)","v":49351198},{"$f":"IF(E17=0,0,F17/E17)","v":1.0967220961226136},-9.6722096122613621E-2]
[]
["CAPÍTULO",null,"EGRESOS"]
[null,null,"APROBADO","AMPLIACIONES/ (REDUCCIONES)","MODIFICADO","DEVENGADO","AVANCE FINANCIERO","PENDIENTE POR EJERCER"]
["Servicios personales",null,{"$f":"Balanza!H1132","v":16806207},{"$f":"Balanza!H1404","v":0},{"$f":"C21+D21","v":16806207},{"$f":"Balanza!E1676","v":18118436.470000003},{"$f":"IF(E21=0,0,F21/E21)","v":1.0780800492341909},{"$f":"1-G21","v":-7.8080049234190874E-2}]
["Materiales y suministros",null,{"$f":"Balanza!H1147","v":4635580},{"$f":"Balanza!H1419","v":0},{"$f":"C22+D22","v":4635580},{"$f":"Balanza!E1691","v":3906677.51},{"$f":"IF(E22=0,0,F22/E22)","v":0.84275916066597922},{"$f":"1-G22","v":0.15724083933402078}]
["Servicios generales",null,{"$f":"Balanza!H1166","v":7342988},{"$f":"Balanza!H1438","v":0},7342988,{"$f":"Balanza!E1710","v":11709801.48},1.594691626896299,-0.59469162689629895]
["Transferencias, asignaciones, subsidios y otras ayudas",null,{"$f":"Balanza!H1185","v":3088878},{"$f":"Balanza!H1457","v":0},3088878,{"$f":"Balanza!E1729","v":3503874.62},1.1343518973556095,-0.13435189735560948]
["Bienes muebles, inmuebles e intangibles",null,{"$f":"Balanza!H1204","v":0},{"$f":"Balanza!H1476","v":0},0,{"$f":"Balanza!E1748","v":360412.97},0,1]
["Inversión pública",null,{"$f":"Balanza!H1223","v":11086710},{"$f":"Balanza!H1495","v":0},11086710,{"$f":"Balanza!E1767","v":8962182.4199999999},0.80837168285271288,0.19162831714728712]
["Inversiones financieras y otras provisiones",null,{"$f":"Balanza!H1230","v":0},{"$f":"Balanza!H1502","v":0},0,{"$f":"Balanza!E1774","v":0},0,1]
["Participaciones y aportaciones",null,{"$f":"Balanza!H1245","v":0},{"$f":"Balanza!H1517","v":0},0,{"$f":"Balanza!E1789","v":0},0,1]
["Deuda pública",null,{"$f":"Balanza!H1252","v":2038455},{"$f":"Balanza!H1524","v":0},2038455,{"$f":"Balanza!E1796","v":2488454.21},1.220755037516158,-0.22075503751615799]
[null,"TOTAL",{"$f":"SUM(C21:C29)","v":44998818},{"$f":"SUM(D21:D29)","v":0},{"$f":"SUM(E21:E29)","v":44998818},{"$f":"SUM(F21:F29)","v":49049839.680000007},{"$f":"IF(E30=0,0,F30/E30)","v":1.0900250686584703},-9.0025068658470264E-2]
[]
["Bajo protesta de decir verdad declaramos que los estados financieros y sus notas, son razonablemente correctos y son responsabilidad del emisor."]
[]
[]
[null,{"$f":"Validacion!A7","v":"C. SANTIAGO LEON CASTRO"},null,{"$f":"Validacion!A9","v":"L.T. JOCELYN SANCHEZ HERRERA"}]
[]
[null,"Presidente Municipal o titular del ente público",null,"Encargado de la Hacienda Municipal\no Responsable de las finanzas del ente público"]

{"sheet":"F16","index":26,"n_rows":70,"n_cols":6,"rows_kept":70,"cut":false,"hidden":false,"merged":[[67,3,68,3],[69,3,70,3],[63,4,63,5],[4,0,4,3],[56,0,58,5],[63,3,64,3],[61,3,62,3],[48,2,48,3],[49,2,49,3],[50,2,50,3],[51,2,51,3],[53,2,53,3],[54,2,54,3],[40,2,40,3],[41,0,41,3],[43,2,43,3],[44,2,44,3],[45,2,45,3],[47,2,47,3],[33,2,33,3],[35,2,35,3],[36,2,36,3],[37,2,37,3],[38,2,38,3],[39,2,39,3],[32,2,32,3],[20,2,20,3],[21,2,21,3],[22,2,22,3],[23,2,23,3],[24,0,24,3],[26,2,26,3],[27,2,27,3],[28,2,28,3],[29,2,29,3],[30,2,30,3],[31,2,31,3],[19,2,19,3],[7,2,7,3],[8,2,8,3],[9,2,9,3],[10,2,10,3],[11,2,11,3],[12,2,12,3],[13,2,13,3],[15,2,15,3],[16,2,16,3],[17,2,17,3],[18,2,18,3],[0,0,0,5],[1,0,1,5],[2,0,2,5],[3,3,3,5],[5,0,5,3]]}
[{"$f":"Validacion!A2","v":"Atemajac de Brizuela"}]
["ESTADO DE CAMBIOS EN LA SITUACIÓN FINANCIERA"]
[{"$f":"'F6'!A3","v":"Del 1° de Enero al 31 de Diciembre de 2021"}]
[]
["CONCEPTO",null,null,null,"ORIGEN","APLICACIÓN"]
["Activo",null,null,null,{"$f":"ROUND(E7+E15,2)","v":-869459.36},{"$f":"ROUND(F7+F15,2)","v":9322595.3900000006}]
[null,"Activo circulante",null,null,{"$f":"SUM(E8:E14)","v":-869459.36000001081},{"$f":"SUM(F8:F14)","v":0}]
[null,null,"Efectivo y equivalentes",null,{"$f":"IF('F1'!AG8>'F1'!AF8,'F1'!AF8-'F1'!AG8,0)","v":-674399.86000001081},{"$f":"IF('F1'!AF8>'F1'!AG8,'F1'!AF8-'F1'!AG8,0)","v":0}]
[null,null,"Derechos a recibir efectivo o equivalentes",null,{"$f":"IF('F1'!AG16>'F1'!AF16,'F1'!AF16-'F1'!AG16,0)","v":-195059.5},{"$f":"IF('F1'!AF16>'F1'!AG16,'F1'!AF16-'F1'!AG16,0)","v":0}]
[null,null,"Derechos a recibir bienes o servicios",null,{"$f":"IF('F1'!AG24>'F1'!AF24,'F1'!AF24-'F1'!AG24,0)","v":0},{"$f":"IF('F1'!AF24>'F1'!AG24,'F1'!AF24-'F1'!AG24,0)","v":0}]
[null,null,"Inventarios ",null,{"$f":"IF('F1'!AG30>'F1'!AF30,'F1'!AF30-'F1'!AG30,0)","v":0},{"$f":"IF('F1'!AF30>'F1'!AG30,'F1'!AF30-'F1'!AG30,0)","v":0}]
[null,null,"Almacenes",null,{"$f":"IF('F1'!AG36>'F1'!AF36,'F1'!AF36-'F1'!AG36,0)","v":0},{"$f":"IF('F1'!AF36>'F1'!AG36,'F1'!AF36-'F1'!AG36,0)","v":0}]
[null,null,"Estimación por pérdida o deterioro de activos circulantes",null,{"$f":"IF('F1'!AG38>'F1'!AF38,'F1'!AF38-'F1'!AG38,0)","v":0},{"$f":"IF('F1'!AF38>'F1'!AG38,'F1'!AF38-'F1'!AG38,0)","v":0}]
[null,null,"Otros activos  circulantes",null,{"$f":"IF('F1'!AG41>'F1'!AF41,'F1'!AF41-'F1'!AG41,0)","v":0},{"$f":"IF('F1'!AF41>'F1'!AG41,'F1'!AF41-'F1'!AG41,0)","v":0}]
[null,"Activo no circulante",null,null,{"$f":"SUM(E16:E24)","v":0},{"$f":"SUM(F16:F24)","v":9322595.3899999987}]
[null,null,"Inversiones financieras a largo plazo",null,{"$f":"IF('F1'!AG48>'F1'!AF48,'F1'!AF48-'F1'!AG48,0)","v":0},{"$f":"IF('F1'!AF48>'F1'!AG48,'F1'!AF48-'F1'!AG48,0)","v":0}]
[null,null,"Derechos a recibir efectivo o equivalentes a largo plazo",null,{"$f":"IF('F1'!AG53>'F1'!AF53,'F1'!AF53-'F1'!AG53,0)","v":0},{"$f":"IF('F1'!AF53>'F1'!AG53,'F1'!AF53-'F1'!AG53,0)","v":0}]
[null,null,"Bienes inmuebles, infraestructura y construcciones en proceso",null,{"$f":"IF('F1'!AG59>'F1'!AF59,'F1'!AF59-'F1'!AG59,0)","v":0},{"$f":"IF('F1'!AF59>'F1'!AG59,'F1'!AF59-'F1'!AG59,0)","v":8962182.4199999981}]
[null,null,"Bienes muebles",null,{"$f":"IF('F1'!AG67>'F1'!AF67,'F1'!AF67-'F1'!AG67,0)","v":0},{"$f":"IF('F1'!AF67>'F1'!AG67,'F1'!AF67-'F1'!AG67,0)","v":360412.9700000002}]
[null,null,"Activos intangibles",null,{"$f":"IF('F1'!AG76>'F1'!AF76,'F1'!AF76-'F1'!AG76,0)","v":0},{"$f":"IF('F1'!AF76>'F1'!AG76,'F1'!AF76-'F1'!AG76,0)","v":0}]
[null,null,"Depreciación, deterioro y amortización acumulada de bienes",null,{"$f":"IF('F1'!AG82>'F1'!AF82,'F1'!AF82-'F1'!AG82,0)","v":0},{"$f":"IF('F1'!AF82>'F1'!AG82,'F1'!AF82-'F1'!AG82,0)","v":0}]
[null,null,"Activos diferidos",null,{"$f":"IF('F1'!AG88>'F1'!AF88,'F1'!AF88-'F1'!AG88,0)","v":0},{"$f":"IF('F1'!AF88>'F1'!AG88,'F1'!AF88-'F1'!AG88,0)","v":0}]
[null,null,"Estimación por pérdida o deterioro de activos no circulantes",null,{"$f":"IF('F1'!AG95>'F1'!AF95,'F1'!AF95-'F1'!AG95,0)","v":0},{"$f":"IF('F1'!AF95>'F1'!AG95,'F1'!AF95-'F1'!AG95,0)","v":0}]
[null,null,"Otros activos no circulantes",null,{"$f":"IF('F1'!AG101>'F1'!AF101,'F1'!AF101-'F1'!AG101,0)","v":0},{"$f":"IF('F1'!AF101>'F1'!AG101,'F1'!AF101-'F1'!AG101,0)","v":0}]
["Pasivo",null,null,null,{"$f":"E26+E35","v":261060.72999999998},{"$f":"F26+F35","v":-3881878.41}]
[null,"Pasivo circulante",null,null,{"$f":"SUM(E27:E34)","v":261060.72999999998},{"$f":"SUM(F27:F34)","v":-3881878.41}]
[null,null,"Cuentas por pagar a corto plazo",null,{"$f":"IF('F1'!BM8>'F1'!BN8,'F1'!BM8-'F1'!BN8,0)","v":261060.72999999998},{"$f":"IF('F1'!BN8>'F1'!BM8,'F1'!BM8-'F1'!BN8,0)","v":0}]
[null,null,"Documentos por pagar a corto plazo",null,{"$f":"IF('F1'!BM18>'F1'!BN18,'F1'!BM18-'F1'!BN18,0)","v":0},{"$f":"IF('F1'!BN18>'F1'!BM18,'F1'!BM18-'F1'!BN18,0)","v":-1431878.4100000004}]
[null,null,"Porción a corto plazo de la deuda pública a largo plazo",null,{"$f":"IF('F1'!BM22>'F1'!BN22,'F1'!BM22-'F1'!BN22,0)","v":0},{"$f":"IF('F1'!BN22>'F1'!BM22,'F1'!BM22-'F1'!BN22,0)","v":-2450000}]
[null,null,"Títulos y valores a corto plazo",null,{"$f":"IF('F1'!BM26>'F1'!BN26,'F1'!BM26-'F1'!BN26,0)","v":0},{"$f":"IF('F1'!BN26>'F1'!BM26,'F1'!BM26-'F1'!BN26,0)","v":0}]
[null,null,"Pasivos diferidos a corto plazo",null,{"$f":"IF('F1'!BM29>'F1'!BN29,'F1'!BM29-'F1'!BN29,0)","v":0},{"$f":"IF('F1'!BN29>'F1'!BM29,'F1'!BM29-'F1'!BN29,0)","v":0}]
[null,null,"Fondos y bienes de terceros en garantía y/o administración a corto plazo",null,{"$f":"IF('F1'!BM33>'F1'!BN33,'F1'!BM33-'F1'!BN33,0)","v":0},{"$f":"IF('F1'!BN33>'F1'!BM33,'F1'!BM33-'F1'!BN33,0)","v":0}]
[null,null,"Provisiones a corto plazo",null,{"$f":"IF('F1'!BM40>'F1'!BN40,'F1'!BM40-'F1'!BN40,0)","v":0},{"$f":"IF('F1'!BN40>'F1'!BM40,'F1'!BM40-'F1'!BN40,0)","v":0}]
[null,null,"Otros pasivos a corto plazo",null,{"$f":"IF('F1'!BM44>'F1'!BN44,'F1'!BM44-'F1'!BN44,0)","v":0},{"$f":"IF('F1'!BN44>'F1'!BM44,'F1'!BM44-'F1'!BN44,0)","v":0}]
[null,"Pasivo no circulante",null,null,{"$f":"SUM(E36:E41)","v":0},{"$f":"SUM(F36:F41)","v":0}]
[null,null,"Cuentas por pagar a largo plazo",null,{"$f":"IF('F1'!BM50>'F1'!BN50,'F1'!BM50-'F1'!BN50,0)","v":0},{"$f":"IF('F1'!BN50>'F1'!BM50,'F1'!BM50-'F1'!BN50,0)","v":0}]
[null,null,"Documentos por pagar a largo plazo",null,{"$f":"IF('F1'!BM53>'F1'!BN53,'F1'!BM53-'F1'!BN53,0)","v":0},{"$f":"IF('F1'!BN53>'F1'!BM53,'F1'!BM53-'F1'!BN53,0)","v":0}]
[null,null,"Deuda pública a largo plazo",null,{"$f":"IF('F1'!BM57>'F1'!BN57,'F1'!BM57-'F1'!BN57,0)","v":0},{"$f":"IF('F1'!BN57>'F1'!BM57,'F1'!BM57-'F1'!BN57,0)","v":0}]
[null,null,"Pasivos diferidos a largo plazo",null,{"$f":"IF('F1'!BM63>'F1'!BN63,'F1'!BM63-'F1'!BN63,0)","v":0},{"$f":"IF('F1'!BN63>'F1'!BM63,'F1'!BM63-'F1'!BN63,0)","v":0}]
[null,null,"Fondos y bienes de terceros en garantía y/o en administración a largo plazo",null,{"$f":"IF('F1'!BM67>'F1'!BN67,'F1'!BM67-'F1'!BN67,0)","v":0},{"$f":"IF('F1'!BN67>'F1'!BM67,'F1'!BM67-'F1'!BN67,0)","v":0}]
[null,null,"Provisiones a largo plazo",null,{"$f":"IF('F1'!BM74>'F1'!BN74,'F1'!BM74-'F1'!BN74,0)","v":0},{"$f":"IF('F1'!BN74>'F1'!BM74,'F1'!BM74-'F1'!BN74,0)","v":0}]
["Hacienda pública/patrimonio",null,null,null,{"$f":"E43+E47+E53","v":12073953.714000002},{"$f":"F43+F47+F53","v":0}]
[null,"Hacienda pública/patrimonio contribuido",null,null,{"$f":"SUM(E44:E46)","v":0},{"$f":"SUM(F44:F46)","v":0}]
[null,null,"Aportaciones",null,{"$f":"IF('F1'!BM83>'F1'!BN83,'F1'!BM83-'F1'!BN83,0)","v":0},{"$f":"IF('F1'!BN83>'F1'!BM83,'F1'!BM83-'F1'!BN83,0)","v":0}]
[null,null,"Donaciones de capital",null,{"$f":"IF('F1'!BM84>'F1'!BN84,'F1'!BM84-'F1'!BN84,0)","v":0},{"$f":"IF('F1'!BN84>'F1'!BM84,'F1'!BM84-'F1'!BN84,0)","v":0}]
[null,null,"Actualización de la hacienda pública / patrimonio",null,{"$f":"IF('F1'!BM85>'F1'!BN85,'F1'!BM85-'F1'!BN85,0)","v":0},{"$f":"IF('F1'!BN85>'F1'!BM85,'F1'!BM85-'F1'!BN85,0)","v":0}]
[null,"Hacienda pública/patrimonio generado",null,null,{"$f":"SUM(E48:E52)","v":12073953.714000002},{"$f":"SUM(F48:F52)","v":0}]
[null,null,"Resultados del ejercicio (ahorro / desahorro)",null,{"$f":"IF('F1'!BM87>'F1'!BN87,'F1'!BM87-'F1'!BN87,0)","v":3806582.0140000135},{"$f":"IF('F1'!BN87>'F1'!BM87,'F1'!BM87-'F1'!BN87,0)","v":0}]
[null,null,"Resultados de ejercicios anteriores",null,{"$f":"IF('F1'!BM88>'F1'!BN88,'F1'!BM88-'F1'!BN88,0)","v":8267371.6999999881},{"$f":"IF('F1'!BN88>'F1'!BM88,'F1'!BM88-'F1'!BN88,0)","v":0}]
[null,null,"Revalúos",null,{"$f":"IF('F1'!BM89>'F1'!BN89,'F1'!BM89-'F1'!BN89,0)","v":0},{"$f":"IF('F1'!BN89>'F1'!BM89,'F1'!BM89-'F1'!BN89,0)","v":0}]
[null,null,"Reservas",null,{"$f":"IF('F1'!BM94>'F1'!BN94,'F1'!BM94-'F1'!BN94,0)","v":0},{"$f":"IF('F1'!BN94>'F1'!BM94,'F1'!BM94-'F1'!BN94,0)","v":0}]
[null,null,"Rectificaciones de resultados de ejercicios anteriores",null,{"$f":"IF('F1'!BM98>'F1'!BN98,'F1'!BM98-'F1'!BN98,0)","v":0},{"$f":"IF('F1'!BN98>'F1'!BM98,'F1'!BM98-'F1'!BN98,0)","v":0}]
[null,"Exceso o insuficiencia en la actualización de la hacienda pública/patrimonio",null,null,{"$f":"SUM(E54:E55)","v":0},{"$f":"SUM(F54:F55)","v":0}]
[null,null,"Resultado por posición monetaria",null,{"$f":"IF('F1'!BM102>'F1'!BN102,'F1'!BM102-'F1'!BN102,0)","v":0},{"$f":"IF('F1'!BN102>'F1'!BM102,'F1'!BM102-'F1'!BN102,0)","v":0}]
[null,null,"Resultado por tenencia de activos no monetarios",null,{"$f":"IF('F1'!BM103>'F1'!BN103,'F1'!BM103-'F1'!BN103,0)","v":0},{"$f":"IF('F1'!BN103>'F1'!BM103,'F1'!BM103-'F1'!BN103,0)","v":0}]
[]
["Bajo protesta de decir verdad declaramos que los estados financieros y sus notas, son razonablemente correctos y son responsabilidad del emisor."]
[]
[]
[]
[]
[null,null,null,{"$f":"Validacion!A7","v":"C. SANTIAGO LEON CASTRO"}]
[]
[null,null,null,"Presidente Municipal o titular del ente público"]
[]
[]
[]
[null,null,null,{"$f":"Validacion!A9","v":"L.T. JOCELYN SANCHEZ HERRERA"}]
[]
[null,null,null,"Encargado de la Hacienda Municipal o Responsable\nde las finanzas del ente público"]

{"sheet":"F17","index":27,"n_rows":22,"n_cols":8,"rows_kept":22,"cut":false,"hidden":false,"merged":[[21,1,22,3],[21,5,22,7],[12,0,12,1],[3,0,3,7],[5,0,6,1],[14,0,15,7],[19,1,20,3],[19,5,20,7],[7,0,7,1],[8,0,8,1],[9,0,9,1],[10,0,10,1],[11,0,11,1],[0,0,0,7],[1,0,1,7],[2,0,2,7],[5,2,5,6],[5,7,6,7]]}
[{"$f":"Validacion!A2","v":"Atemajac de Brizuela"}]
["ESTADO ANALÍTICO DEL EJERCICIO DEL PRESUPUESTO DE EGRESOS"]
["CLASIFICACIÓN ECONÓMICA (POR TIPO DE GASTO)"]
[{"$f":"'F6'!A3","v":"Del 1° de Enero al 31 de Diciembre de 2021"}]
[]
["CONCEPTO",null,"EGRESOS",{"$nulls":4},"SUBEJERCICIO"]
[null,null,"APROBADO","AMPLIACIONES/\n(REDUCCIONES)","MODIFICADO","DEVENGADO","PAGADO"]
["Gasto corriente",null,{"$f":"'F8'!C8+'F8'!C16+'F8'!C26+'F8'!C36-'F8'!C41","v":31873653},{"$f":"'F8'!D8+'F8'!D16+'F8'!D26+'F8'!D36-'F8'!D41","v":0},{"$f":"C8+D8","v":31873653},{"$f":"'F8'!F8+'F8'!F16+'F8'!F26+'F8'!F36-'F8'!F41","v":37238790.080000006},{"$f":"'F8'!G8+'F8'!G16+'F8'!G26+'F8'!G36-'F8'!G41","v":37238790.080000006},{"$f":"E8-F8","v":-5365137.0800000057}]
["Gasto de capital",null,{"$f":"'F8'!C46+'F8'!C56+'F8'!C60","v":11086710},{"$f":"'F8'!D46+'F8'!D56+'F8'!D60","v":0},{"$f":"C9+D9","v":11086710},{"$f":"'F8'!F46+'F8'!F56+'F8'!F60","v":9322595.3900000006},{"$f":"'F8'!G46+'F8'!G56+'F8'!G60","v":9322595.3900000006},{"$f":"E9-F9","v":1764114.6099999994}]
["Amortización de la deuda y disminución de pasivos",null,{"$f":"'F8'!C72","v":2038455},{"$f":"'F8'!D72","v":0},2038455,{"$f":"'F8'!F72","v":2488454.21},{"$f":"'F8'!G72","v":2488454.21},-449999.20999999996]
["Pensiones y jubilaciones",null,{"$f":"'F8'!C41","v":0},{"$f":"'F8'!D41","v":0},0,{"$f":"'F8'!F41","v":0},{"$f":"'F8'!G41","v":0},0]
["Participaciones",null,{"$f":"'F8'!C68","v":0},{"$f":"'F8'!D68","v":0},0,{"$f":"'F8'!F68","v":0},{"$f":"'F8'!G68","v":0},0]
["TOTAL DEL GASTO",null,{"$f":"SUM(C8:C12)","v":44998818},{"$f":"SUM(D8:D12)","v":0},44998818,{"$f":"SUM(F8:F12)","v":49049839.680000007},{"$f":"SUM(G8:G12)","v":49049839.680000007},{"$f":"SUM(H8:H12)","v":-4051021.6800000062}]
[]
["Bajo protesta de decir verdad declaramos que los estados financieros y sus notas, son razonablemente correctos y son responsabilidad del emisor."]
[]
[]
[]
[]
[null,{"$f":"Validacion!A7","v":"C. SANTIAGO LEON CASTRO"},null,null,null,{"$f":"Validacion!A9","v":"L.T. JOCELYN SANCHEZ HERRERA"}]
[]
[null,"Presidente Municipal o titular del ente público",null,null,null,"Encargado de la Hacienda Municipal\n o Responsable de las finanzas del ente público"]

{"sheet":"F18","index":28,"n_rows":66,"n_cols":44,"rows_kept":66,"cut":false,"hidden":false,"merged":[[65,0,66,1],[65,3,66,5],[0,0,0,6],[1,0,1,6],[2,0,2,6],[5,1,5,5],[5,6,6,6],[63,3,64,5],[63,0,64,1],[3,0,3,6],[5,0,6,0],[59,0,60,6]]}
[{"$f":"Validacion!A2","v":"Atemajac de Brizuela"}]
["ESTADO ANALÍTICO DEL EJERCICIO DEL PRESUPUESTO DE EGRESOS"]
["CLASIFICACIÓN ADMINISTRATIVA"]
[{"$f":"'F6'!A3","v":"Del 1° de Enero al 31 de Diciembre de 2021"}]
[]
["CONCEPTO","EGRESOS",{"$nulls":4},"SUBEJERCICIO"]
[null,"APROBADO","AMPLIACIONES/\n(REDUCCIONES)","MODIFICADO","DEVENGADO","PAGADO",{"$nulls":6},{"$f":"IF(AND(F18A!$A9=0),\"\",F18A!$A9)","v":"GOBIERNO MUNICIPAL"},{"$f":"IF(AND(F18A!$A10=0),\"\",F18A!$A10)","v":""},{"$f":"IF(AND(F18A!$A11=0),\"\",F18A!$A11)","v":""},{"$f":"IF(AND(F18A!$A12=0),\"\",F18A!$A12)","v":""},{"$f":"IF(AND(F18A!$A13=0),\"\",F18A!$A13)","v":""},{"$f":"IF(AND(F18A!$A14=0),\"\",F18A!$A14)","v":""},{"$f":"IF(AND(F18A!$A15=0),\"\",F18A!$A15)","v":""},{"$f":"IF(AND(F18A!$A16=0),\"\",F18A!$A16)","v":""},{"$f":"IF(AND(F18A!$A17=0),\"\",F18A!$A17)","v":""},{"$f":"IF(AND(F18A!$A18=0),\"\",F18A!$A18)","v":""},{"$f":"IF(AND(F18A!$A19=0),\"\",F18A!$A19)","v":""},{"$f":"IF(AND(F18A!$A20=0),\"\",F18A!$A20)","v":""},{"$f":"IF(AND(F18A!$A21=0),\"\",F18A!$A21)","v":""},{"$f":"IF(AND(F18A!$A22=0),\"\",F18A!$A22)","v":""},{"$f":"IF(AND(F18A!$A23=0),\"\",F18A!$A23)","v":""},{"$f":"IF(AND(F18A!$A24=0),\"\",F18A!$A24)","v":""},{"$f":"IF(AND(F18A!$A25=0),\"\",F18A!$A25)","v":""},{"$f":"IF(AND(F18A!$A26=0),\"\",F18A!$A26)","v":""},{"$f":"IF(AND(F18A!$A27=0),\"\",F18A!$A27)","v":""},{"$f":"IF(AND(F18A!$A28=0),\"\",F18A!$A28)","v":""},{"$f":"IF(AND(F18A!$A29=0),\"\",F18A!$A29)","v":""},{"$f":"IF(AND(F18A!$A30=0),\"\",F18A!$A30)","v":""},{"$f":"IF(AND(F18A!$A31=0),\"\",F18A!$A31)","v":""},{"$f":"IF(AND(F18A!$A32=0),\"\",F18A!$A32)","v":""},{"$f":"IF(AND(F18A!$A33=0),\"\",F18A!$A33)","v":""}]
[{"$f":"IFERROR(AR8,\"\")","v":"GOBIERNO MUNICIPAL"},{"$f":"SUMIF(F18A!$A$9:$A$60,'F18'!A8,F18A!$B$9:$B$60)","v":44998818},{"$f":"SUMIF(F18A!$A$9:$A$60,'F18'!A8,F18A!$C$9:$C$60)","v":0},{"$f":"B8+C8","v":44998818},{"$f":"SUMIF(F18A!$A$9:$A$60,'F18'!A8,F18A!$E$9:$E$60)","v":49049839.68},{"$f":"SUMIF(F18A!$A$9:$A$60,'F18'!A8,F18A!$F$9:$F$60)","v":49049839.68},{"$f":"D8-E8","v":-4051021.6799999997},null,null,null,{"$f":"IF(SUM(M8:AK8)=25,L8,\"\")","v":""},{"$f":"IF(AND(F18A!A36=0),\"\",F18A!A36)","v":"GOBIERNO MUNICIPAL"},{"$f":"IF(AND(M7<>L8),1,\"\")","v":""},{"$f":"IF(AND(N7<>L8),1,\"\")","v":1},{"$f":"IF(AND(O7<>L8),1,\"\")","v":1},{"$f":"IF(AND(P7<>L8),1,\"\")","v":1},{"$f":"IF(AND(Q7<>L8),1,\"\")","v":1},{"$f":"IF(AND(R7<>L8),1,\"\")","v":1},{"$f":"IF(AND(S7<>L8),1,\"\")","v":1},{"$f":"IF(AND(T7<>L8),1,\"\")","v":1},{"$f":"IF(AND(U7<>L8),1,\"\")","v":1},{"$f":"IF(AND(V7<>L8),1,\"\")","v":1},{"$f":"IF(AND(W7<>L8),1,\"\")","v":1},{"$f":"IF(AND(X7<>L8),1,\"\")","v":1},{"$f":"IF(AND(Y7<>L8),1,\"\")","v":1},{"$f":"IF(AND(Z7<>L8),1,\"\")","v":1},{"$f":"IF(AND(AA7<>L8),1,\"\")","v":1},{"$f":"IF(AND(AB7<>L8),1,\"\")","v":1},{"$f":"IF(AND(AC7<>L8),1,\"\")","v":1},{"$f":"IF(AND(AD7<>L8),1,\"\")","v":1},{"$f":"IF(AND(AE7<>L8),1,\"\")","v":1},{"$f":"IF(AND(AF7<>L8),1,\"\")","v":1},{"$f":"IF(AND(AG7<>L8),1,\"\")","v":1},{"$f":"IF(AND(AH7<>L8),1,\"\")","v":1},{"$f":"IF(AND(AI7<>L8),1,\"\")","v":1},{"$f":"IF(AND(AJ7<>L8),1,\"\")","v":1},{"$f":"IF(AND(AK7<>L8),1,\"\")","v":1},null,null,{"$f":"M$7","v":"GOBIERNO MUNICIPAL"},{"$f":"IF(AN$8:AN$57<>\"\",ROW(AN8:AN57))","v":8},1,{"$f":"SMALL(AO$8:AO$57,AP8)","v":8},{"$f":"INDEX(AN:AN,AQ$8:AQ$57)","v":"GOBIERNO MUNICIPAL"}]
["",{"$f":"SUMIF(F18A!$A$9:$A$60,'F18'!A9,F18A!$B$9:$B$60)","v":0},{"$f":"SUMIF(F18A!$A$9:$A$60,'F18'!A9,F18A!$C$9:$C$60)","v":0},{"$f":"B9+C9","v":0},{"$f":"SUMIF(F18A!$A$9:$A$60,'F18'!A9,F18A!$E$9:$E$60)","v":0},{"$f":"SUMIF(F18A!$A$9:$A$60,'F18'!A9,F18A!$F$9:$F$60)","v":0},{"$f":"D9-E9","v":0},null,null,null,{"$f":"IF(SUM(M9:AK9)=25,L9,\"\")","v":""},{"$f":"IF(AND(F18A!A37=0),\"\",F18A!A37)","v":""},{"$f":"IF(AND(M7<>L9),1,\"\")","v":1},{"$f":"IF(AND(N7<>L9),1,\"\")","v":""},{"$f":"IF(AND(O7<>L9),1,\"\")","v":""},{"$f":"IF(AND(P7<>L9),1,\"\")","v":""},{"$f":"IF(AND(Q7<>L9),1,\"\")","v":""},{"$f":"IF(AND(R7<>L9),1,\"\")","v":""},{"$f":"IF(AND(S7<>L9),1,\"\")","v":""},{"$f":"IF(AND(T7<>L9),1,\"\")","v":""},{"$f":"IF(AND(U7<>L9),1,\"\")","v":""},{"$f":"IF(AND(V7<>L9),1,\"\")","v":""},{"$f":"IF(AND(W7<>L9),1,\"\")","v":""},{"$f":"IF(AND(X7<>L9),1,\"\")","v":""},{"$f":"IF(AND(Y7<>L9),1,\"\")","v":""},{"$f":"IF(AND(Z7<>L9),1,\"\")","v":""},{"$f":"IF(AND(AA7<>L9),1,\"\")","v":""},{"$f":"IF(AND(AB7<>L9),1,\"\")","v":""},{"$f":"IF(AND(AC7<>L9),1,\"\")","v":""},{"$f":"IF(AND(AD7<>L9),1,\"\")","v":""},{"$f":"IF(AND(AE7<>L9),1,\"\")","v":""},{"$f":"IF(AND(AF7<>L9),1,\"\")","v":""},{"$f":"IF(AND(AG7<>L9),1,\"\")","v":""},{"$f":"IF(AND(AH7<>L9),1,\"\")","v":""},{"$f":"IF(AND(AI7<>L9),1,\"\")","v":""},{"$f":"IF(AND(AJ7<>L9),1,\"\")","v":""},{"$f":"IF(AND(AK7<>L9),1,\"\")","v":""},null,null,{"$f":"N$7","v":""},{"$f":"IF(AN$8:AN$57<>\"\",ROW(AN9:AN58))","v":false},2,{"$f":"SMALL(AO$8:AO$57,AP9)","v":{"$error":"#NUM!"}},{"$f":"INDEX(AN:AN,AQ$8:AQ$57)","v":{"$error":"#NUM!"}}]
["",{"$f":"SUMIF(F18A!$A$9:$A$60,'F18'!A10,F18A!$B$9:$B$60)","v":0},{"$f":"SUMIF(F18A!$A$9:$A$60,'F18'!A10,F18A!$C$9:$C$60)","v":0},0,{"$f":"SUMIF(F18A!$A$9:$A$60,'F18'!A10,F18A!$E$9:$E$60)","v":0},{"$f":"SUMIF(F18A!$A$9:$A$60,'F18'!A10,F18A!$F$9:$F$60)","v":0},0,null,null,null,"",{"$f":"IF(AND(F18A!A38=0),\"\",F18A!A38)","v":""},{"$f":"IF(AND(M7<>L10),1,\"\")","v":1},{"$f":"IF(AND(N7<>L10),1,\"\")","v":""},{"$f":"IF(AND(O7<>L10),1,\"\")","v":""},{"$f":"IF(AND(P7<>L10),1,\"\")","v":""},{"$f":"IF(AND(Q7<>L10),1,\"\")","v":""},{"$f":"IF(AND(R7<>L10),1,\"\")","v":""},{"$f":"IF(AND(S7<>L10),1,\"\")","v":""},{"$f":"IF(AND(T7<>L10),1,\"\")","v":""},{"$f":"IF(AND(U7<>L10),1,\"\")","v":""},{"$f":"IF(AND(V7<>L10),1,\"\")","v":""},{"$f":"IF(AND(W7<>L10),1,\"\")","v":""},{"$f":"IF(AND(X7<>L10),1,\"\")","v":""},{"$f":"IF(AND(Y7<>L10),1,\"\")","v":""},{"$f":"IF(AND(Z7<>L10),1,\"\")","v":""},{"$f":"IF(AND(AA7<>L10),1,\"\")","v":""},{"$f":"IF(AND(AB7<>L10),1,\"\")","v":""},{"$f":"IF(AND(AC7<>L10),1,\"\")","v":""},{"$f":"IF(AND(AD7<>L10),1,\"\")","v":""},{"$f":"IF(AND(AE7<>L10),1,\"\")","v":""},{"$f":"IF(AND(AF7<>L10),1,\"\")","v":""},{"$f":"IF(AND(AG7<>L10),1,\"\")","v":""},{"$f":"IF(AND(AH7<>L10),1,\"\")","v":""},{"$f":"IF(AND(AI7<>L10),1,\"\")","v":""},{"$f":"IF(AND(AJ7<>L10),1,\"\")","v":""},{"$f":"IF(AND(AK7<>L10),1,\"\")","v":""},null,null,{"$f":"O$7","v":""},false,3,{"$error":"#NUM!"},{"$error":"#NUM!"}]
["",{"$f":"SUMIF(F18A!$A$9:$A$60,'F18'!A11,F18A!$B$9:$B$60)","v":0},{"$f":"SUMIF(F18A!$A$9:$A$60,'F18'!A11,F18A!$C$9:$C$60)","v":0},0,{"$f":"SUMIF(F18A!$A$9:$A$60,'F18'!A11,F18A!$E$9:$E$60)","v":0},{"$f":"SUMIF(F18A!$A$9:$A$60,'F18'!A11,F18A!$F$9:$F$60)","v":0},0,null,null,null,"",{"$f":"IF(AND(F18A!A39=0),\"\",F18A!A39)","v":""},{"$f":"IF(AND(M7<>L11),1,\"\")","v":1},{"$f":"IF(AND(N7<>L11),1,\"\")","v":""},{"$f":"IF(AND(O7<>L11),1,\"\")","v":""},{"$f":"IF(AND(P7<>L11),1,\"\")","v":""},{"$f":"IF(AND(Q7<>L11),1,\"\")","v":""},{"$f":"IF(AND(R7<>L11),1,\"\")","v":""},{"$f":"IF(AND(S7<>L11),1,\"\")","v":""},{"$f":"IF(AND(T7<>L11),1,\"\")","v":""},{"$f":"IF(AND(U7<>L11),1,\"\")","v":""},{"$f":"IF(AND(V7<>L11),1,\"\")","v":""},{"$f":"IF(AND(W7<>L11),1,\"\")","v":""},{"$f":"IF(AND(X7<>L11),1,\"\")","v":""},{"$f":"IF(AND(Y7<>L11),1,\"\")","v":""},{"$f":"IF(AND(Z7<>L11),1,\"\")","v":""},{"$f":"IF(AND(AA7<>L11),1,\"\")","v":""},{"$f":"IF(AND(AB7<>L11),1,\"\")","v":""},{"$f":"IF(AND(AC7<>L11),1,\"\")","v":""},{"$f":"IF(AND(AD7<>L11),1,\"\")","v":""},{"$f":"IF(AND(AE7<>L11),1,\"\")","v":""},{"$f":"IF(AND(AF7<>L11),1,\"\")","v":""},{"$f":"IF(AND(AG7<>L11),1,\"\")","v":""},{"$f":"IF(AND(AH7<>L11),1,\"\")","v":""},{"$f":"IF(AND(AI7<>L11),1,\"\")","v":""},{"$f":"IF(AND(AJ7<>L11),1,\"\")","v":""},{"$f":"IF(AND(AK7<>L11),1,\"\")","v":""},null,null,{"$f":"P$7","v":""},false,4,{"$error":"#NUM!"},{"$error":"#NUM!"}]
["",{"$f":"SUMIF(F18A!$A$9:$A$60,'F18'!A12,F18A!$B$9:$B$60)","v":0},{"$f":"SUMIF(F18A!$A$9:$A$60,'F18'!A12,F18A!$C$9:$C$60)","v":0},0,{"$f":"SUMIF(F18A!$A$9:$A$60,'F18'!A12,F18A!$E$9:$E$60)","v":0},{"$f":"SUMIF(F18A!$A$9:$A$60,'F18'!A12,F18A!$F$9:$F$60)","v":0},0,null,null,null,"",{"$f":"IF(AND(F18A!A40=0),\"\",F18A!A40)","v":""},{"$f":"IF(AND(M7<>L12),1,\"\")","v":1},{"$f":"IF(AND(N7<>L12),1,\"\")","v":""},{"$f":"IF(AND(O7<>L12),1,\"\")","v":""},{"$f":"IF(AND(P7<>L12),1,\"\")","v":""},{"$f":"IF(AND(Q7<>L12),1,\"\")","v":""},{"$f":"IF(AND(R7<>L12),1,\"\")","v":""},{"$f":"IF(AND(S7<>L12),1,\"\")","v":""},{"$f":"IF(AND(T7<>L12),1,\"\")","v":""},{"$f":"IF(AND(U7<>L12),1,\"\")","v":""},{"$f":"IF(AND(V7<>L12),1,\"\")","v":""},{"$f":"IF(AND(W7<>L12),1,\"\")","v":""},{"$f":"IF(AND(X7<>L12),1,\"\")","v":""},{"$f":"IF(AND(Y7<>L12),1,\"\")","v":""},{"$f":"IF(AND(Z7<>L12),1,\"\")","v":""},{"$f":"IF(AND(AA7<>L12),1,\"\")","v":""},{"$f":"IF(AND(AB7<>L12),1,\"\")","v":""},{"$f":"IF(AND(AC7<>L12),1,\"\")","v":""},{"$f":"IF(AND(AD7<>L12),1,\"\")","v":""},{"$f":"IF(AND(AE7<>L12),1,\"\")","v":""},{"$f":"IF(AND(AF7<>L12),1,\"\")","v":""},{"$f":"IF(AND(AG7<>L12),1,\"\")","v":""},{"$f":"IF(AND(AH7<>L12),1,\"\")","v":""},{"$f":"IF(AND(AI7<>L12),1,\"\")","v":""},{"$f":"IF(AND(AJ7<>L12),1,\"\")","v":""},{"$f":"IF(AND(AK7<>L12),1,\"\")","v":""},null,null,{"$f":"Q$7","v":""},false,5,{"$error":"#NUM!"},{"$error":"#NUM!"}]
["",{"$f":"SUMIF(F18A!$A$9:$A$60,'F18'!A13,F18A!$B$9:$B$60)","v":0},{"$f":"SUMIF(F18A!$A$9:$A$60,'F18'!A13,F18A!$C$9:$C$60)","v":0},0,{"$f":"SUMIF(F18A!$A$9:$A$60,'F18'!A13,F18A!$E$9:$E$60)","v":0},{"$f":"SUMIF(F18A!$A$9:$A$60,'F18'!A13,F18A!$F$9:$F$60)","v":0},0,null,null,null,"",{"$f":"IF(AND(F18A!A41=0),\"\",F18A!A41)","v":""},{"$f":"IF(AND(M7<>L13),1,\"\")","v":1},{"$f":"IF(AND(N7<>L13),1,\"\")","v":""},{"$f":"IF(AND(O7<>L13),1,\"\")","v":""},{"$f":"IF(AND(P7<>L13),1,\"\")","v":""},{"$f":"IF(AND(Q7<>L13),1,\"\")","v":""},{"$f":"IF(AND(R7<>L13),1,\"\")","v":""},{"$f":"IF(AND(S7<>L13),1,\"\")","v":""},{"$f":"IF(AND(T7<>L13),1,\"\")","v":""},{"$f":"IF(AND(U7<>L13),1,\"\")","v":""},{"$f":"IF(AND(V7<>L13),1,\"\")","v":""},{"$f":"IF(AND(W7<>L13),1,\"\")","v":""},{"$f":"IF(AND(X7<>L13),1,\"\")","v":""},{"$f":"IF(AND(Y7<>L13),1,\"\")","v":""},{"$f":"IF(AND(Z7<>L13),1,\"\")","v":""},{"$f":"IF(AND(AA7<>L13),1,\"\")","v":""},{"$f":"IF(AND(AB7<>L13),1,\"\")","v":""},{"$f":"IF(AND(AC7<>L13),1,\"\")","v":""},{"$f":"IF(AND(AD7<>L13),1,\"\")","v":""},{"$f":"IF(AND(AE7<>L13),1,\"\")","v":""},{"$f":"IF(AND(AF7<>L13),1,\"\")","v":""},{"$f":"IF(AND(AG7<>L13),1,\"\")","v":""},{"$f":"IF(AND(AH7<>L13),1,\"\")","v":""},{"$f":"IF(AND(AI7<>L13),1,\"\")","v":""},{"$f":"IF(AND(AJ7<>L13),1,\"\")","v":""},{"$f":"IF(AND(AK7<>L13),1,\"\")","v":""},null,null,{"$f":"R$7","v":""},false,6,{"$error":"#NUM!"},{"$error":"#NUM!"}]
["",{"$f":"SUMIF(F18A!$A$9:$A$60,'F18'!A14,F18A!$B$9:$B$60)","v":0},{"$f":"SUMIF(F18A!$A$9:$A$60,'F18'!A14,F18A!$C$9:$C$60)","v":0},0,{"$f":"SUMIF(F18A!$A$9:$A$60,'F18'!A14,F18A!$E$9:$E$60)","v":0},{"$f":"SUMIF(F18A!$A$9:$A$60,'F18'!A14,F18A!$F$9:$F$60)","v":0},0,null,null,null,"",{"$f":"IF(AND(F18A!A42=0),\"\",F18A!A42)","v":""},{"$f":"IF(AND(M7<>L14),1,\"\")","v":1},{"$f":"IF(AND(N7<>L14),1,\"\")","v":""},{"$f":"IF(AND(O7<>L14),1,\"\")","v":""},{"$f":"IF(AND(P7<>L14),1,\"\")","v":""},{"$f":"IF(AND(Q7<>L14),1,\"\")","v":""},{"$f":"IF(AND(R7<>L14),1,\"\")","v":""},{"$f":"IF(AND(S7<>L14),1,\"\")","v":""},{"$f":"IF(AND(T7<>L14),1,\"\")","v":""},{"$f":"IF(AND(U7<>L14),1,\"\")","v":""},{"$f":"IF(AND(V7<>L14),1,\"\")","v":""},{"$f":"IF(AND(W7<>L14),1,\"\")","v":""},{"$f":"IF(AND(X7<>L14),1,\"\")","v":""},{"$f":"IF(AND(Y7<>L14),1,\"\")","v":""},{"$f":"IF(AND(Z7<>L14),1,\"\")","v":""},{"$f":"IF(AND(AA7<>L14),1,\"\")","v":""},{"$f":"IF(AND(AB7<>L14),1,\"\")","v":""},{"$f":"IF(AND(AC7<>L14),1,\"\")","v":""},{"$f":"IF(AND(AD7<>L14),1,\"\")","v":""},{"$f":"IF(AND(AE7<>L14),1,\"\")","v":""},{"$f":"IF(AND(AF7<>L14),1,\"\")","v":""},{"$f":"IF(AND(AG7<>L14),1,\"\")","v":""},{"$f":"IF(AND(AH7<>L14),1,\"\")","v":""},{"$f":"IF(AND(AI7<>L14),1,\"\")","v":""},{"$f":"IF(AND(AJ7<>L14),1,\"\")","v":""},{"$f":"IF(AND(AK7<>L14),1,\"\")","v":""},null,null,{"$f":"S$7","v":""},false,7,{"$error":"#NUM!"},{"$error":"#NUM!"}]
["",{"$f":"SUMIF(F18A!$A$9:$A$60,'F18'!A15,F18A!$B$9:$B$60)","v":0},{"$f":"SUMIF(F18A!$A$9:$A$60,'F18'!A15,F18A!$C$9:$C$60)","v":0},0,{"$f":"SUMIF(F18A!$A$9:$A$60,'F18'!A15,F18A!$E$9:$E$60)","v":0},{"$f":"SUMIF(F18A!$A$9:$A$60,'F18'!A15,F18A!$F$9:$F$60)","v":0},0,null,null,null,"",{"$f":"IF(AND(F18A!A43=0),\"\",F18A!A43)","v":""},{"$f":"IF(AND(M7<>L15),1,\"\")","v":1},{"$f":"IF(AND(N7<>L15),1,\"\")","v":""},{"$f":"IF(AND(O7<>L15),1,\"\")","v":""},{"$f":"IF(AND(P7<>L15),1,\"\")","v":""},{"$f":"IF(AND(Q7<>L15),1,\"\")","v":""},{"$f":"IF(AND(R7<>L15),1,\"\")","v":""},{"$f":"IF(AND(S7<>L15),1,\"\")","v":""},{"$f":"IF(AND(T7<>L15),1,\"\")","v":""},{"$f":"IF(AND(U7<>L15),1,\"\")","v":""},{"$f":"IF(AND(V7<>L15),1,\"\")","v":""},{"$f":"IF(AND(W7<>L15),1,\"\")","v":""},{"$f":"IF(AND(X7<>L15),1,\"\")","v":""},{"$f":"IF(AND(Y7<>L15),1,\"\")","v":""},{"$f":"IF(AND(Z7<>L15),1,\"\")","v":""},{"$f":"IF(AND(AA7<>L15),1,\"\")","v":""},{"$f":"IF(AND(AB7<>L15),1,\"\")","v":""},{"$f":"IF(AND(AC7<>L15),1,\"\")","v":""},{"$f":"IF(AND(AD7<>L15),1,\"\")","v":""},{"$f":"IF(AND(AE7<>L15),1,\"\")","v":""},{"$f":"IF(AND(AF7<>L15),1,\"\")","v":""},{"$f":"IF(AND(AG7<>L15),1,\"\")","v":""},{"$f":"IF(AND(AH7<>L15),1,\"\")","v":""},{"$f":"IF(AND(AI7<>L15),1,\"\")","v":""},{"$f":"IF(AND(AJ7<>L15),1,\"\")","v":""},{"$f":"IF(AND(AK7<>L15),1,\"\")","v":""},null,null,{"$f":"T$7","v":""},false,8,{"$error":"#NUM!"},{"$error":"#NUM!"}]
["",{"$f":"SUMIF(F18A!$A$9:$A$60,'F18'!A16,F18A!$B$9:$B$60)","v":0},{"$f":"SUMIF(F18A!$A$9:$A$60,'F18'!A16,F18A!$C$9:$C$60)","v":0},0,{"$f":"SUMIF(F18A!$A$9:$A$60,'F18'!A16,F18A!$E$9:$E$60)","v":0},{"$f":"SUMIF(F18A!$A$9:$A$60,'F18'!A16,F18A!$F$9:$F$60)","v":0},0,null,null,null,"",{"$f":"IF(AND(F18A!A44=0),\"\",F18A!A44)","v":""},{"$f":"IF(AND(M7<>L16),1,\"\")","v":1},{"$f":"IF(AND(N7<>L16),1,\"\")","v":""},{"$f":"IF(AND(O7<>L16),1,\"\")","v":""},{"$f":"IF(AND(P7<>L16),1,\"\")","v":""},{"$f":"IF(AND(Q7<>L16),1,\"\")","v":""},{"$f":"IF(AND(R7<>L16),1,\"\")","v":""},{"$f":"IF(AND(S7<>L16),1,\"\")","v":""},{"$f":"IF(AND(T7<>L16),1,\"\")","v":""},{"$f":"IF(AND(U7<>L16),1,\"\")","v":""},{"$f":"IF(AND(V7<>L16),1,\"\")","v":""},{"$f":"IF(AND(W7<>L16),1,\"\")","v":""},{"$f":"IF(AND(X7<>L16),1,\"\")","v":""},{"$f":"IF(AND(Y7<>L16),1,\"\")","v":""},{"$f":"IF(AND(Z7<>L16),1,\"\")","v":""},{"$f":"IF(AND(AA7<>L16),1,\"\")","v":""},{"$f":"IF(AND(AB7<>L16),1,\"\")","v":""},{"$f":"IF(AND(AC7<>L16),1,\"\")","v":""},{"$f":"IF(AND(AD7<>L16),1,\"\")","v":""},{"$f":"IF(AND(AE7<>L16),1,\"\")","v":""},{"$f":"IF(AND(AF7<>L16),1,\"\")","v":""},{"$f":"IF(AND(AG7<>L16),1,\"\")","v":""},{"$f":"IF(AND(AH7<>L16),1,\"\")","v":""},{"$f":"IF(AND(AI7<>L16),1,\"\")","v":""},{"$f":"IF(AND(AJ7<>L16),1,\"\")","v":""},{"$f":"IF(AND(AK7<>L16),1,\"\")","v":""},null,null,{"$f":"U$7","v":""},false,9,{"$error":"#NUM!"},{"$error":"#NUM!"}]
["",{"$f":"SUMIF(F18A!$A$9:$A$60,'F18'!A17,F18A!$B$9:$B$60)","v":0},{"$f":"SUMIF(F18A!$A$9:$A$60,'F18'!A17,F18A!$C$9:$C$60)","v":0},0,{"$f":"SUMIF(F18A!$A$9:$A$60,'F18'!A17,F18A!$E$9:$E$60)","v":0},{"$f":"SUMIF(F18A!$A$9:$A$60,'F18'!A17,F18A!$F$9:$F$60)","v":0},0,null,null,null,"",{"$f":"IF(AND(F18A!A45=0),\"\",F18A!A45)","v":""},{"$f":"IF(AND(M7<>L17),1,\"\")","v":1},{"$f":"IF(AND(N7<>L17),1,\"\")","v":""},{"$f":"IF(AND(O7<>L17),1,\"\")","v":""},{"$f":"IF(AND(P7<>L17),1,\"\")","v":""},{"$f":"IF(AND(Q7<>L17),1,\"\")","v":""},{"$f":"IF(AND(R7<>L17),1,\"\")","v":""},{"$f":"IF(AND(S7<>L17),1,\"\")","v":""},{"$f":"IF(AND(T7<>L17),1,\"\")","v":""},{"$f":"IF(AND(U7<>L17),1,\"\")","v":""},{"$f":"IF(AND(V7<>L17),1,\"\")","v":""},{"$f":"IF(AND(W7<>L17),1,\"\")","v":""},{"$f":"IF(AND(X7<>L17),1,\"\")","v":""},{"$f":"IF(AND(Y7<>L17),1,\"\")","v":""},{"$f":"IF(AND(Z7<>L17),1,\"\")","v":""},{"$f":"IF(AND(AA7<>L17),1,\"\")","v":""},{"$f":"IF(AND(AB7<>L17),1,\"\")","v":""},{"$f":"IF(AND(AC7<>L17),1,\"\")","v":""},{"$f":"IF(AND(AD7<>L17),1,\"\")","v":""},{"$f":"IF(AND(AE7<>L17),1,\"\")","v":""},{"$f":"IF(AND(AF7<>L17),1,\"\")","v":""},{"$f":"IF(AND(AG7<>L17),1,\"\")","v":""},{"$f":"IF(AND(AH7<>L17),1,\"\")","v":""},{"$f":"IF(AND(AI7<>L17),1,\"\")","v":""},{"$f":"IF(AND(AJ7<>L17),1,\"\")","v":""},{"$f":"IF(AND(AK7<>L17),1,\"\")","v":""},null,null,{"$f":"V$7","v":""},false,10,{"$error":"#NUM!"},{"$error":"#NUM!"}]
["",{"$f":"SUMIF(F18A!$A$9:$A$60,'F18'!A18,F18A!$B$9:$B$60)","v":0},{"$f":"SUMIF(F18A!$A$9:$A$60,'F18'!A18,F18A!$C$9:$C$60)","v":0},0,{"$f":"SUMIF(F18A!$A$9:$A$60,'F18'!A18,F18A!$E$9:$E$60)","v":0},{"$f":"SUMIF(F18A!$A$9:$A$60,'F18'!A18,F18A!$F$9:$F$60)","v":0},0,null,null,null,"",{"$f":"IF(AND(F18A!A46=0),\"\",F18A!A46)","v":""},{"$f":"IF(AND(M7<>L18),1,\"\")","v":1},{"$f":"IF(AND(N7<>L18),1,\"\")","v":""},{"$f":"IF(AND(O7<>L18),1,\"\")","v":""},{"$f":"IF(AND(P7<>L18),1,\"\")","v":""},{"$f":"IF(AND(Q7<>L18),1,\"\")","v":""},{"$f":"IF(AND(R7<>L18),1,\"\")","v":""},{"$f":"IF(AND(S7<>L18),1,\"\")","v":""},{"$f":"IF(AND(T7<>L18),1,\"\")","v":""},{"$f":"IF(AND(U7<>L18),1,\"\")","v":""},{"$f":"IF(AND(V7<>L18),1,\"\")","v":""},{"$f":"IF(AND(W7<>L18),1,\"\")","v":""},{"$f":"IF(AND(X7<>L18),1,\"\")","v":""},{"$f":"IF(AND(Y7<>L18),1,\"\")","v":""},{"$f":"IF(AND(Z7<>L18),1,\"\")","v":""},{"$f":"IF(AND(AA7<>L18),1,\"\")","v":""},{"$f":"IF(AND(AB7<>L18),1,\"\")","v":""},{"$f":"IF(AND(AC7<>L18),1,\"\")","v":""},{"$f":"IF(AND(AD7<>L18),1,\"\")","v":""},{"$f":"IF(AND(AE7<>L18),1,\"\")","v":""},{"$f":"IF(AND(AF7<>L18),1,\"\")","v":""},{"$f":"IF(AND(AG7<>L18),1,\"\")","v":""},{"$f":"IF(AND(AH7<>L18),1,\"\")","v":""},{"$f":"IF(AND(AI7<>L18),1,\"\")","v":""},{"$f":"IF(AND(AJ7<>L18),1,\"\")","v":""},{"$f":"IF(AND(AK7<>L18),1,\"\")","v":""},null,null,{"$f":"W$7","v":""},false,11,{"$error":"#NUM!"},{"$error":"#NUM!"}]
["",{"$f":"SUMIF(F18A!$A$9:$A$60,'F18'!A19,F18A!$B$9:$B$60)","v":0},{"$f":"SUMIF(F18A!$A$9:$A$60,'F18'!A19,F18A!$C$9:$C$60)","v":0},0,{"$f":"SUMIF(F18A!$A$9:$A$60,'F18'!A19,F18A!$E$9:$E$60)","v":0},{"$f":"SUMIF(F18A!$A$9:$A$60,'F18'!A19,F18A!$F$9:$F$60)","v":0},0,null,null,null,"",{"$f":"IF(AND(F18A!A47=0),\"\",F18A!A47)","v":""},{"$f":"IF(AND(M7<>L19),1,\"\")","v":1},{"$f":"IF(AND(N7<>L19),1,\"\")","v":""},{"$f":"IF(AND(O7<>L19),1,\"\")","v":""},{"$f":"IF(AND(P7<>L19),1,\"\")","v":""},{"$f":"IF(AND(Q7<>L19),1,\"\")","v":""},{"$f":"IF(AND(R7<>L19),1,\"\")","v":""},{"$f":"IF(AND(S7<>L19),1,\"\")","v":""},{"$f":"IF(AND(T7<>L19),1,\"\")","v":""},{"$f":"IF(AND(U7<>L19),1,\"\")","v":""},{"$f":"IF(AND(V7<>L19),1,\"\")","v":""},{"$f":"IF(AND(W7<>L19),1,\"\")","v":""},{"$f":"IF(AND(X7<>L19),1,\"\")","v":""},{"$f":"IF(AND(Y7<>L19),1,\"\")","v":""},{"$f":"IF(AND(Z7<>L19),1,\"\")","v":""},{"$f":"IF(AND(AA7<>L19),1,\"\")","v":""},{"$f":"IF(AND(AB7<>L19),1,\"\")","v":""},{"$f":"IF(AND(AC7<>L19),1,\"\")","v":""},{"$f":"IF(AND(AD7<>L19),1,\"\")","v":""},{"$f":"IF(AND(AE7<>L19),1,\"\")","v":""},{"$f":"IF(AND(AF7<>L19),1,\"\")","v":""},{"$f":"IF(AND(AG7<>L19),1,\"\")","v":""},{"$f":"IF(AND(AH7<>L19),1,\"\")","v":""},{"$f":"IF(AND(AI7<>L19),1,\"\")","v":""},{"$f":"IF(AND(AJ7<>L19),1,\"\")","v":""},{"$f":"IF(AND(AK7<>L19),1,\"\")","v":""},null,null,{"$f":"X$7","v":""},false,12,{"$error":"#NUM!"},{"$error":"#NUM!"}]
["",{"$f":"SUMIF(F18A!$A$9:$A$60,'F18'!A20,F18A!$B$9:$B$60)","v":0},{"$f":"SUMIF(F18A!$A$9:$A$60,'F18'!A20,F18A!$C$9:$C$60)","v":0},0,{"$f":"SUMIF(F18A!$A$9:$A$60,'F18'!A20,F18A!$E$9:$E$60)","v":0},{"$f":"SUMIF(F18A!$A$9:$A$60,'F18'!A20,F18A!$F$9:$F$60)","v":0},0,null,null,null,"",{"$f":"IF(AND(F18A!A48=0),\"\",F18A!A48)","v":""},{"$f":"IF(AND(M7<>L20),1,\"\")","v":1},{"$f":"IF(AND(N7<>L20),1,\"\")","v":""},{"$f":"IF(AND(O7<>L20),1,\"\")","v":""},{"$f":"IF(AND(P7<>L20),1,\"\")","v":""},{"$f":"IF(AND(Q7<>L20),1,\"\")","v":""},{"$f":"IF(AND(R7<>L20),1,\"\")","v":""},{"$f":"IF(AND(S7<>L20),1,\"\")","v":""},{"$f":"IF(AND(T7<>L20),1,\"\")","v":""},{"$f":"IF(AND(U7<>L20),1,\"\")","v":""},{"$f":"IF(AND(V7<>L20),1,\"\")","v":""},{"$f":"IF(AND(W7<>L20),1,\"\")","v":""},{"$f":"IF(AND(X7<>L20),1,\"\")","v":""},{"$f":"IF(AND(Y7<>L20),1,\"\")","v":""},{"$f":"IF(AND(Z7<>L20),1,\"\")","v":""},{"$f":"IF(AND(AA7<>L20),1,\"\")","v":""},{"$f":"IF(AND(AB7<>L20),1,\"\")","v":""},{"$f":"IF(AND(AC7<>L20),1,\"\")","v":""},{"$f":"IF(AND(AD7<>L20),1,\"\")","v":""},{"$f":"IF(AND(AE7<>L20),1,\"\")","v":""},{"$f":"IF(AND(AF7<>L20),1,\"\")","v":""},{"$f":"IF(AND(AG7<>L20),1,\"\")","v":""},{"$f":"IF(AND(AH7<>L20),1,\"\")","v":""},{"$f":"IF(AND(AI7<>L20),1,\"\")","v":""},{"$f":"IF(AND(AJ7<>L20),1,\"\")","v":""},{"$f":"IF(AND(AK7<>L20),1,\"\")","v":""},null,null,{"$f":"Y$7","v":""},false,13,{"$error":"#NUM!"},{"$error":"#NUM!"}]
["",{"$f":"SUMIF(F18A!$A$9:$A$60,'F18'!A21,F18A!$B$9:$B$60)","v":0},{"$f":"SUMIF(F18A!$A$9:$A$60,'F18'!A21,F18A!$C$9:$C$60)","v":0},0,{"$f":"SUMIF(F18A!$A$9:$A$60,'F18'!A21,F18A!$E$9:$E$60)","v":0},{"$f":"SUMIF(F18A!$A$9:$A$60,'F18'!A21,F18A!$F$9:$F$60)","v":0},0,null,null,null,"",{"$f":"IF(AND(F18A!A49=0),\"\",F18A!A49)","v":""},{"$f":"IF(AND(M7<>L21),1,\"\")","v":1},{"$f":"IF(AND(N7<>L21),1,\"\")","v":""},{"$f":"IF(AND(O7<>L21),1,\"\")","v":""},{"$f":"IF(AND(P7<>L21),1,\"\")","v":""},{"$f":"IF(AND(Q7<>L21),1,\"\")","v":""},{"$f":"IF(AND(R7<>L21),1,\"\")","v":""},{"$f":"IF(AND(S7<>L21),1,\"\")","v":""},{"$f":"IF(AND(T7<>L21),1,\"\")","v":""},{"$f":"IF(AND(U7<>L21),1,\"\")","v":""},{"$f":"IF(AND(V7<>L21),1,\"\")","v":""},{"$f":"IF(AND(W7<>L21),1,\"\")","v":""},{"$f":"IF(AND(X7<>L21),1,\"\")","v":""},{"$f":"IF(AND(Y7<>L21),1,\"\")","v":""},{"$f":"IF(AND(Z7<>L21),1,\"\")","v":""},{"$f":"IF(AND(AA7<>L21),1,\"\")","v":""},{"$f":"IF(AND(AB7<>L21),1,\"\")","v":""},{"$f":"IF(AND(AC7<>L21),1,\"\")","v":""},{"$f":"IF(AND(AD7<>L21),1,\"\")","v":""},{"$f":"IF(AND(AE7<>L21),1,\"\")","v":""},{"$f":"IF(AND(AF7<>L21),1,\"\")","v":""},{"$f":"IF(AND(AG7<>L21),1,\"\")","v":""},{"$f":"IF(AND(AH7<>L21),1,\"\")","v":""},{"$f":"IF(AND(AI7<>L21),1,\"\")","v":""},{"$f":"IF(AND(AJ7<>L21),1,\"\")","v":""},{"$f":"IF(AND(AK7<>L21),1,\"\")","v":""},null,null,{"$f":"Z$7","v":""},false,14,{"$error":"#NUM!"},{"$error":"#NUM!"}]
["",{"$f":"SUMIF(F18A!$A$9:$A$60,'F18'!A22,F18A!$B$9:$B$60)","v":0},{"$f":"SUMIF(F18A!$A$9:$A$60,'F18'!A22,F18A!$C$9:$C$60)","v":0},0,{"$f":"SUMIF(F18A!$A$9:$A$60,'F18'!A22,F18A!$E$9:$E$60)","v":0},{"$f":"SUMIF(F18A!$A$9:$A$60,'F18'!A22,F18A!$F$9:$F$60)","v":0},0,null,null,null,"",{"$f":"IF(AND(F18A!A50=0),\"\",F18A!A50)","v":""},{"$f":"IF(AND(M7<>L22),1,\"\")","v":1},{"$f":"IF(AND(N7<>L22),1,\"\")","v":""},{"$f":"IF(AND(O7<>L22),1,\"\")","v":""},{"$f":"IF(AND(P7<>L22),1,\"\")","v":""},{"$f":"IF(AND(Q7<>L22),1,\"\")","v":""},{"$f":"IF(AND(R7<>L22),1,\"\")","v":""},{"$f":"IF(AND(S7<>L22),1,\"\")","v":""},{"$f":"IF(AND(T7<>L22),1,\"\")","v":""},{"$f":"IF(AND(U7<>L22),1,\"\")","v":""},{"$f":"IF(AND(V7<>L22),1,\"\")","v":""},{"$f":"IF(AND(W7<>L22),1,\"\")","v":""},{"$f":"IF(AND(X7<>L22),1,\"\")","v":""},{"$f":"IF(AND(Y7<>L22),1,\"\")","v":""},{"$f":"IF(AND(Z7<>L22),1,\"\")","v":""},{"$f":"IF(AND(AA7<>L22),1,\"\")","v":""},{"$f":"IF(AND(AB7<>L22),1,\"\")","v":""},{"$f":"IF(AND(AC7<>L22),1,\"\")","v":""},{"$f":"IF(AND(AD7<>L22),1,\"\")","v":""},{"$f":"IF(AND(AE7<>L22),1,\"\")","v":""},{"$f":"IF(AND(AF7<>L22),1,\"\")","v":""},{"$f":"IF(AND(AG7<>L22),1,\"\")","v":""},{"$f":"IF(AND(AH7<>L22),1,\"\")","v":""},{"$f":"IF(AND(AI7<>L22),1,\"\")","v":""},{"$f":"IF(AND(AJ7<>L22),1,\"\")","v":""},{"$f":"IF(AND(AK7<>L22),1,\"\")","v":""},null,null,{"$f":"AA$7","v":""},false,15,{"$error":"#NUM!"},{"$error":"#NUM!"}]
["",{"$f":"SUMIF(F18A!$A$9:$A$60,'F18'!A23,F18A!$B$9:$B$60)","v":0},{"$f":"SUMIF(F18A!$A$9:$A$60,'F18'!A23,F18A!$C$9:$C$60)","v":0},0,{"$f":"SUMIF(F18A!$A$9:$A$60,'F18'!A23,F18A!$E$9:$E$60)","v":0},{"$f":"SUMIF(F18A!$A$9:$A$60,'F18'!A23,F18A!$F$9:$F$60)","v":0},0,null,null,null,"",{"$f":"IF(AND(F18A!A51=0),\"\",F18A!A51)","v":""},{"$f":"IF(AND(M7<>L23),1,\"\")","v":1},{"$f":"IF(AND(N7<>L23),1,\"\")","v":""},{"$f":"IF(AND(O7<>L23),1,\"\")","v":""},{"$f":"IF(AND(P7<>L23),1,\"\")","v":""},{"$f":"IF(AND(Q7<>L23),1,\"\")","v":""},{"$f":"IF(AND(R7<>L23),1,\"\")","v":""},{"$f":"IF(AND(S7<>L23),1,\"\")","v":""},{"$f":"IF(AND(T7<>L23),1,\"\")","v":""},{"$f":"IF(AND(U7<>L23),1,\"\")","v":""},{"$f":"IF(AND(V7<>L23),1,\"\")","v":""},{"$f":"IF(AND(W7<>L23),1,\"\")","v":""},{"$f":"IF(AND(X7<>L23),1,\"\")","v":""},{"$f":"IF(AND(Y7<>L23),1,\"\")","v":""},{"$f":"IF(AND(Z7<>L23),1,\"\")","v":""},{"$f":"IF(AND(AA7<>L23),1,\"\")","v":""},{"$f":"IF(AND(AB7<>L23),1,\"\")","v":""},{"$f":"IF(AND(AC7<>L23),1,\"\")","v":""},{"$f":"IF(AND(AD7<>L23),1,\"\")","v":""},{"$f":"IF(AND(AE7<>L23),1,\"\")","v":""},{"$f":"IF(AND(AF7<>L23),1,\"\")","v":""},{"$f":"IF(AND(AG7<>L23),1,\"\")","v":""},{"$f":"IF(AND(AH7<>L23),1,\"\")","v":""},{"$f":"IF(AND(AI7<>L23),1,\"\")","v":""},{"$f":"IF(AND(AJ7<>L23),1,\"\")","v":""},{"$f":"IF(AND(AK7<>L23),1,\"\")","v":""},null,null,{"$f":"AB$7","v":""},false,16,{"$error":"#NUM!"},{"$error":"#NUM!"}]
["",{"$f":"SUMIF(F18A!$A$9:$A$60,'F18'!A24,F18A!$B$9:$B$60)","v":0},{"$f":"SUMIF(F18A!$A$9:$A$60,'F18'!A24,F18A!$C$9:$C$60)","v":0},0,{"$f":"SUMIF(F18A!$A$9:$A$60,'F18'!A24,F18A!$E$9:$E$60)","v":0},{"$f":"SUMIF(F18A!$A$9:$A$60,'F18'!A24,F18A!$F$9:$F$60)","v":0},0,null,null,null,"",{"$f":"IF(AND(F18A!A52=0),\"\",F18A!A52)","v":""},{"$f":"IF(AND(M7<>L24),1,\"\")","v":1},{"$f":"IF(AND(N7<>L24),1,\"\")","v":""},{"$f":"IF(AND(O7<>L24),1,\"\")","v":""},{"$f":"IF(AND(P7<>L24),1,\"\")","v":""},{"$f":"IF(AND(Q7<>L24),1,\"\")","v":""},{"$f":"IF(AND(R7<>L24),1,\"\")","v":""},{"$f":"IF(AND(S7<>L24),1,\"\")","v":""},{"$f":"IF(AND(T7<>L24),1,\"\")","v":""},{"$f":"IF(AND(U7<>L24),1,\"\")","v":""},{"$f":"IF(AND(V7<>L24),1,\"\")","v":""},{"$f":"IF(AND(W7<>L24),1,\"\")","v":""},{"$f":"IF(AND(X7<>L24),1,\"\")","v":""},{"$f":"IF(AND(Y7<>L24),1,\"\")","v":""},{"$f":"IF(AND(Z7<>L24),1,\"\")","v":""},{"$f":"IF(AND(AA7<>L24),1,\"\")","v":""},{"$f":"IF(AND(AB7<>L24),1,\"\")","v":""},{"$f":"IF(AND(AC7<>L24),1,\"\")","v":""},{"$f":"IF(AND(AD7<>L24),1,\"\")","v":""},{"$f":"IF(AND(AE7<>L24),1,\"\")","v":""},{"$f":"IF(AND(AF7<>L24),1,\"\")","v":""},{"$f":"IF(AND(AG7<>L24),1,\"\")","v":""},{"$f":"IF(AND(AH7<>L24),1,\"\")","v":""},{"$f":"IF(AND(AI7<>L24),1,\"\")","v":""},{"$f":"IF(AND(AJ7<>L24),1,\"\")","v":""},{"$f":"IF(AND(AK7<>L24),1,\"\")","v":""},null,null,{"$f":"AC$7","v":""},false,17,{"$error":"#NUM!"},{"$error":"#NUM!"}]
["",{"$f":"SUMIF(F18A!$A$9:$A$60,'F18'!A25,F18A!$B$9:$B$60)","v":0},{"$f":"SUMIF(F18A!$A$9:$A$60,'F18'!A25,F18A!$C$9:$C$60)","v":0},0,{"$f":"SUMIF(F18A!$A$9:$A$60,'F18'!A25,F18A!$E$9:$E$60)","v":0},{"$f":"SUMIF(F18A!$A$9:$A$60,'F18'!A25,F18A!$F$9:$F$60)","v":0},0,null,null,null,"",{"$f":"IF(AND(F18A!A53=0),\"\",F18A!A53)","v":""},{"$f":"IF(AND(M7<>L25),1,\"\")","v":1},{"$f":"IF(AND(N7<>L25),1,\"\")","v":""},{"$f":"IF(AND(O7<>L25),1,\"\")","v":""},{"$f":"IF(AND(P7<>L25),1,\"\")","v":""},{"$f":"IF(AND(Q7<>L25),1,\"\")","v":""},{"$f":"IF(AND(R7<>L25),1,\"\")","v":""},{"$f":"IF(AND(S7<>L25),1,\"\")","v":""},{"$f":"IF(AND(T7<>L25),1,\"\")","v":""},{"$f":"IF(AND(U7<>L25),1,\"\")","v":""},{"$f":"IF(AND(V7<>L25),1,\"\")","v":""},{"$f":"IF(AND(W7<>L25),1,\"\")","v":""},{"$f":"IF(AND(X7<>L25),1,\"\")","v":""},{"$f":"IF(AND(Y7<>L25),1,\"\")","v":""},{"$f":"IF(AND(Z7<>L25),1,\"\")","v":""},{"$f":"IF(AND(AA7<>L25),1,\"\")","v":""},{"$f":"IF(AND(AB7<>L25),1,\"\")","v":""},{"$f":"IF(AND(AC7<>L25),1,\"\")","v":""},{"$f":"IF(AND(AD7<>L25),1,\"\")","v":""},{"$f":"IF(AND(AE7<>L25),1,\"\")","v":""},{"$f":"IF(AND(AF7<>L25),1,\"\")","v":""},{"$f":"IF(AND(AG7<>L25),1,\"\")","v":""},{"$f":"IF(AND(AH7<>L25),1,\"\")","v":""},{"$f":"IF(AND(AI7<>L25),1,\"\")","v":""},{"$f":"IF(AND(AJ7<>L25),1,\"\")","v":""},{"$f":"IF(AND(AK7<>L25),1,\"\")","v":""},null,null,{"$f":"AD$7","v":""},false,18,{"$error":"#NUM!"},{"$error":"#NUM!"}]
["",{"$f":"SUMIF(F18A!$A$9:$A$60,'F18'!A26,F18A!$B$9:$B$60)","v":0},{"$f":"SUMIF(F18A!$A$9:$A$60,'F18'!A26,F18A!$C$9:$C$60)","v":0},0,{"$f":"SUMIF(F18A!$A$9:$A$60,'F18'!A26,F18A!$E$9:$E$60)","v":0},{"$f":"SUMIF(F18A!$A$9:$A$60,'F18'!A26,F18A!$F$9:$F$60)","v":0},0,null,null,null,"",{"$f":"IF(AND(F18A!A54=0),\"\",F18A!A54)","v":""},{"$f":"IF(AND(M7<>L26),1,\"\")","v":1},{"$f":"IF(AND(N7<>L26),1,\"\")","v":""},{"$f":"IF(AND(O7<>L26),1,\"\")","v":""},{"$f":"IF(AND(P7<>L26),1,\"\")","v":""},{"$f":"IF(AND(Q7<>L26),1,\"\")","v":""},{"$f":"IF(AND(R7<>L26),1,\"\")","v":""},{"$f":"IF(AND(S7<>L26),1,\"\")","v":""},{"$f":"IF(AND(T7<>L26),1,\"\")","v":""},{"$f":"IF(AND(U7<>L26),1,\"\")","v":""},{"$f":"IF(AND(V7<>L26),1,\"\")","v":""},{"$f":"IF(AND(W7<>L26),1,\"\")","v":""},{"$f":"IF(AND(X7<>L26),1,\"\")","v":""},{"$f":"IF(AND(Y7<>L26),1,\"\")","v":""},{"$f":"IF(AND(Z7<>L26),1,\"\")","v":""},{"$f":"IF(AND(AA7<>L26),1,\"\")","v":""},{"$f":"IF(AND(AB7<>L26),1,\"\")","v":""},{"$f":"IF(AND(AC7<>L26),1,\"\")","v":""},{"$f":"IF(AND(AD7<>L26),1,\"\")","v":""},{"$f":"IF(AND(AE7<>L26),1,\"\")","v":""},{"$f":"IF(AND(AF7<>L26),1,\"\")","v":""},{"$f":"IF(AND(AG7<>L26),1,\"\")","v":""},{"$f":"IF(AND(AH7<>L26),1,\"\")","v":""},{"$f":"IF(AND(AI7<>L26),1,\"\")","v":""},{"$f":"IF(AND(AJ7<>L26),1,\"\")","v":""},{"$f":"IF(AND(AK7<>L26),1,\"\")","v":""},null,null,{"$f":"AE$7","v":""},false,19,{"$error":"#NUM!"},{"$error":"#NUM!"}]
["",{"$f":"SUMIF(F18A!$A$9:$A$60,'F18'!A27,F18A!$B$9:$B$60)","v":0},{"$f":"SUMIF(F18A!$A$9:$A$60,'F18'!A27,F18A!$C$9:$C$60)","v":0},0,{"$f":"SUMIF(F18A!$A$9:$A$60,'F18'!A27,F18A!$E$9:$E$60)","v":0},{"$f":"SUMIF(F18A!$A$9:$A$60,'F18'!A27,F18A!$F$9:$F$60)","v":0},0,null,null,null,"",{"$f":"IF(AND(F18A!A55=0),\"\",F18A!A55)","v":""},{"$f":"IF(AND(M7<>L27),1,\"\")","v":1},{"$f":"IF(AND(N7<>L27),1,\"\")","v":""},{"$f":"IF(AND(O7<>L27),1,\"\")","v":""},{"$f":"IF(AND(P7<>L27),1,\"\")","v":""},{"$f":"IF(AND(Q7<>L27),1,\"\")","v":""},{"$f":"IF(AND(R7<>L27),1,\"\")","v":""},{"$f":"IF(AND(S7<>L27),1,\"\")","v":""},{"$f":"IF(AND(T7<>L27),1,\"\")","v":""},{"$f":"IF(AND(U7<>L27),1,\"\")","v":""},{"$f":"IF(AND(V7<>L27),1,\"\")","v":""},{"$f":"IF(AND(W7<>L27),1,\"\")","v":""},{"$f":"IF(AND(X7<>L27),1,\"\")","v":""},{"$f":"IF(AND(Y7<>L27),1,\"\")","v":""},{"$f":"IF(AND(Z7<>L27),1,\"\")","v":""},{"$f":"IF(AND(AA7<>L27),1,\"\")","v":""},{"$f":"IF(AND(AB7<>L27),1,\"\")","v":""},{"$f":"IF(AND(AC7<>L27),1,\"\")","v":""},{"$f":"IF(AND(AD7<>L27),1,\"\")","v":""},{"$f":"IF(AND(AE7<>L27),1,\"\")","v":""},{"$f":"IF(AND(AF7<>L27),1,\"\")","v":""},{"$f":"IF(AND(AG7<>L27),1,\"\")","v":""},{"$f":"IF(AND(AH7<>L27),1,\"\")","v":""},{"$f":"IF(AND(AI7<>L27),1,\"\")","v":""},{"$f":"IF(AND(AJ7<>L27),1,\"\")","v":""},{"$f":"IF(AND(AK7<>L27),1,\"\")","v":""},null,null,{"$f":"AF$7","v":""},false,20,{"$error":"#NUM!"},{"$error":"#NUM!"}]
["",{"$f":"SUMIF(F18A!$A$9:$A$60,'F18'!A28,F18A!$B$9:$B$60)","v":0},{"$f":"SUMIF(F18A!$A$9:$A$60,'F18'!A28,F18A!$C$9:$C$60)","v":0},0,{"$f":"SUMIF(F18A!$A$9:$A$60,'F18'!A28,F18A!$E$9:$E$60)","v":0},{"$f":"SUMIF(F18A!$A$9:$A$60,'F18'!A28,F18A!$F$9:$F$60)","v":0},0,null,null,null,"",{"$f":"IF(AND(F18A!A56=0),\"\",F18A!A56)","v":""},{"$f":"IF(AND(M7<>L28),1,\"\")","v":1},{"$f":"IF(AND(N7<>L28),1,\"\")","v":""},{"$f":"IF(AND(O7<>L28),1,\"\")","v":""},{"$f":"IF(AND(P7<>L28),1,\"\")","v":""},{"$f":"IF(AND(Q7<>L28),1,\"\")","v":""},{"$f":"IF(AND(R7<>L28),1,\"\")","v":""},{"$f":"IF(AND(S7<>L28),1,\"\")","v":""},{"$f":"IF(AND(T7<>L28),1,\"\")","v":""},{"$f":"IF(AND(U7<>L28),1,\"\")","v":""},{"$f":"IF(AND(V7<>L28),1,\"\")","v":""},{"$f":"IF(AND(W7<>L28),1,\"\")","v":""},{"$f":"IF(AND(X7<>L28),1,\"\")","v":""},{"$f":"IF(AND(Y7<>L28),1,\"\")","v":""},{"$f":"IF(AND(Z7<>L28),1,\"\")","v":""},{"$f":"IF(AND(AA7<>L28),1,\"\")","v":""},{"$f":"IF(AND(AB7<>L28),1,\"\")","v":""},{"$f":"IF(AND(AC7<>L28),1,\"\")","v":""},{"$f":"IF(AND(AD7<>L28),1,\"\")","v":""},{"$f":"IF(AND(AE7<>L28),1,\"\")","v":""},{"$f":"IF(AND(AF7<>L28),1,\"\")","v":""},{"$f":"IF(AND(AG7<>L28),1,\"\")","v":""},{"$f":"IF(AND(AH7<>L28),1,\"\")","v":""},{"$f":"IF(AND(AI7<>L28),1,\"\")","v":""},{"$f":"IF(AND(AJ7<>L28),1,\"\")","v":""},{"$f":"IF(AND(AK7<>L28),1,\"\")","v":""},null,null,{"$f":"AG$7","v":""},false,21,{"$error":"#NUM!"},{"$error":"#NUM!"}]
["",{"$f":"SUMIF(F18A!$A$9:$A$60,'F18'!A29,F18A!$B$9:$B$60)","v":0},{"$f":"SUMIF(F18A!$A$9:$A$60,'F18'!A29,F18A!$C$9:$C$60)","v":0},0,{"$f":"SUMIF(F18A!$A$9:$A$60,'F18'!A29,F18A!$E$9:$E$60)","v":0},{"$f":"SUMIF(F18A!$A$9:$A$60,'F18'!A29,F18A!$F$9:$F$60)","v":0},0,null,null,null,"",{"$f":"IF(AND(F18A!A57=0),\"\",F18A!A57)","v":""},{"$f":"IF(AND(M7<>L29),1,\"\")","v":1},{"$f":"IF(AND(N7<>L29),1,\"\")","v":""},{"$f":"IF(AND(O7<>L29),1,\"\")","v":""},{"$f":"IF(AND(P7<>L29),1,\"\")","v":""},{"$f":"IF(AND(Q7<>L29),1,\"\")","v":""},{"$f":"IF(AND(R7<>L29),1,\"\")","v":""},{"$f":"IF(AND(S7<>L29),1,\"\")","v":""},{"$f":"IF(AND(T7<>L29),1,\"\")","v":""},{"$f":"IF(AND(U7<>L29),1,\"\")","v":""},{"$f":"IF(AND(V7<>L29),1,\"\")","v":""},{"$f":"IF(AND(W7<>L29),1,\"\")","v":""},{"$f":"IF(AND(X7<>L29),1,\"\")","v":""},{"$f":"IF(AND(Y7<>L29),1,\"\")","v":""},{"$f":"IF(AND(Z7<>L29),1,\"\")","v":""},{"$f":"IF(AND(AA7<>L29),1,\"\")","v":""},{"$f":"IF(AND(AB7<>L29),1,\"\")","v":""},{"$f":"IF(AND(AC7<>L29),1,\"\")","v":""},{"$f":"IF(AND(AD7<>L29),1,\"\")","v":""},{"$f":"IF(AND(AE7<>L29),1,\"\")","v":""},{"$f":"IF(AND(AF7<>L29),1,\"\")","v":""},{"$f":"IF(AND(AG7<>L29),1,\"\")","v":""},{"$f":"IF(AND(AH7<>L29),1,\"\")","v":""},{"$f":"IF(AND(AI7<>L29),1,\"\")","v":""},{"$f":"IF(AND(AJ7<>L29),1,\"\")","v":""},{"$f":"IF(AND(AK7<>L29),1,\"\")","v":""},null,null,{"$f":"AH$7","v":""},false,22,{"$error":"#NUM!"},{"$error":"#NUM!"}]
["",{"$f":"SUMIF(F18A!$A$9:$A$60,'F18'!A30,F18A!$B$9:$B$60)","v":0},{"$f":"SUMIF(F18A!$A$9:$A$60,'F18'!A30,F18A!$C$9:$C$60)","v":0},0,{"$f":"SUMIF(F18A!$A$9:$A$60,'F18'!A30,F18A!$E$9:$E$60)","v":0},{"$f":"SUMIF(F18A!$A$9:$A$60,'F18'!A30,F18A!$F$9:$F$60)","v":0},0,null,null,null,"",{"$f":"IF(AND(F18A!A58=0),\"\",F18A!A58)","v":""},{"$f":"IF(AND(M7<>L30),1,\"\")","v":1},{"$f":"IF(AND(N7<>L30),1,\"\")","v":""},{"$f":"IF(AND(O7<>L30),1,\"\")","v":""},{"$f":"IF(AND(P7<>L30),1,\"\")","v":""},{"$f":"IF(AND(Q7<>L30),1,\"\")","v":""},{"$f":"IF(AND(R7<>L30),1,\"\")","v":""},{"$f":"IF(AND(S7<>L30),1,\"\")","v":""},{"$f":"IF(AND(T7<>L30),1,\"\")","v":""},{"$f":"IF(AND(U7<>L30),1,\"\")","v":""},{"$f":"IF(AND(V7<>L30),1,\"\")","v":""},{"$f":"IF(AND(W7<>L30),1,\"\")","v":""},{"$f":"IF(AND(X7<>L30),1,\"\")","v":""},{"$f":"IF(AND(Y7<>L30),1,\"\")","v":""},{"$f":"IF(AND(Z7<>L30),1,\"\")","v":""},{"$f":"IF(AND(AA7<>L30),1,\"\")","v":""},{"$f":"IF(AND(AB7<>L30),1,\"\")","v":""},{"$f":"IF(AND(AC7<>L30),1,\"\")","v":""},{"$f":"IF(AND(AD7<>L30),1,\"\")","v":""},{"$f":"IF(AND(AE7<>L30),1,\"\")","v":""},{"$f":"IF(AND(AF7<>L30),1,\"\")","v":""},{"$f":"IF(AND(AG7<>L30),1,\"\")","v":""},{"$f":"IF(AND(AH7<>L30),1,\"\")","v":""},{"$f":"IF(AND(AI7<>L30),1,\"\")","v":""},{"$f":"IF(AND(AJ7<>L30),1,\"\")","v":""},{"$f":"IF(AND(AK7<>L30),1,\"\")","v":""},null,null,{"$f":"AI$7","v":""},false,23,{"$error":"#NUM!"},{"$error":"#NUM!"}]
["",{"$f":"SUMIF(F18A!$A$9:$A$60,'F18'!A31,F18A!$B$9:$B$60)","v":0},{"$f":"SUMIF(F18A!$A$9:$A$60,'F18'!A31,F18A!$C$9:$C$60)","v":0},0,{"$f":"SUMIF(F18A!$A$9:$A$60,'F18'!A31,F18A!$E$9:$E$60)","v":0},{"$f":"SUMIF(F18A!$A$9:$A$60,'F18'!A31,F18A!$F$9:$F$60)","v":0},0,null,null,null,"",{"$f":"IF(AND(F18A!A59=0),\"\",F18A!A59)","v":""},{"$f":"IF(AND(M7<>L31),1,\"\")","v":1},{"$f":"IF(AND(N7<>L31),1,\"\")","v":""},{"$f":"IF(AND(O7<>L31),1,\"\")","v":""},{"$f":"IF(AND(P7<>L31),1,\"\")","v":""},{"$f":"IF(AND(Q7<>L31),1,\"\")","v":""},{"$f":"IF(AND(R7<>L31),1,\"\")","v":""},{"$f":"IF(AND(S7<>L31),1,\"\")","v":""},{"$f":"IF(AND(T7<>L31),1,\"\")","v":""},{"$f":"IF(AND(U7<>L31),1,\"\")","v":""},{"$f":"IF(AND(V7<>L31),1,\"\")","v":""},{"$f":"IF(AND(W7<>L31),1,\"\")","v":""},{"$f":"IF(AND(X7<>L31),1,\"\")","v":""},{"$f":"IF(AND(Y7<>L31),1,\"\")","v":""},{"$f":"IF(AND(Z7<>L31),1,\"\")","v":""},{"$f":"IF(AND(AA7<>L31),1,\"\")","v":""},{"$f":"IF(AND(AB7<>L31),1,\"\")","v":""},{"$f":"IF(AND(AC7<>L31),1,\"\")","v":""},{"$f":"IF(AND(AD7<>L31),1,\"\")","v":""},{"$f":"IF(AND(AE7<>L31),1,\"\")","v":""},{"$f":"IF(AND(AF7<>L31),1,\"\")","v":""},{"$f":"IF(AND(AG7<>L31),1,\"\")","v":""},{"$f":"IF(AND(AH7<>L31),1,\"\")","v":""},{"$f":"IF(AND(AI7<>L31),1,\"\")","v":""},{"$f":"IF(AND(AJ7<>L31),1,\"\")","v":""},{"$f":"IF(AND(AK7<>L31),1,\"\")","v":""},null,null,{"$f":"AJ$7","v":""},false,24,{"$error":"#NUM!"},{"$error":"#NUM!"}]
["",{"$f":"SUMIF(F18A!$A$9:$A$60,'F18'!A32,F18A!$B$9:$B$60)","v":0},{"$f":"SUMIF(F18A!$A$9:$A$60,'F18'!A32,F18A!$C$9:$C$60)","v":0},0,{"$f":"SUMIF(F18A!$A$9:$A$60,'F18'!A32,F18A!$E$9:$E$60)","v":0},{"$f":"SUMIF(F18A!$A$9:$A$60,'F18'!A32,F18A!$F$9:$F$60)","v":0},0,null,null,null,"",{"$f":"IF(AND(F18A!A60=0),\"\",F18A!A60)","v":""},{"$f":"IF(AND(M7<>L32),1,\"\")","v":1},{"$f":"IF(AND(N7<>L32),1,\"\")","v":""},{"$f":"IF(AND(O7<>L32),1,\"\")","v":""},{"$f":"IF(AND(P7<>L32),1,\"\")","v":""},{"$f":"IF(AND(Q7<>L32),1,\"\")","v":""},{"$f":"IF(AND(R7<>L32),1,\"\")","v":""},{"$f":"IF(AND(S7<>L32),1,\"\")","v":""},{"$f":"IF(AND(T7<>L32),1,\"\")","v":""},{"$f":"IF(AND(U7<>L32),1,\"\")","v":""},{"$f":"IF(AND(V7<>L32),1,\"\")","v":""},{"$f":"IF(AND(W7<>L32),1,\"\")","v":""},{"$f":"IF(AND(X7<>L32),1,\"\")","v":""},{"$f":"IF(AND(Y7<>L32),1,\"\")","v":""},{"$f":"IF(AND(Z7<>L32),1,\"\")","v":""},{"$f":"IF(AND(AA7<>L32),1,\"\")","v":""},{"$f":"IF(AND(AB7<>L32),1,\"\")","v":""},{"$f":"IF(AND(AC7<>L32),1,\"\")","v":""},{"$f":"IF(AND(AD7<>L32),1,\"\")","v":""},{"$f":"IF(AND(AE7<>L32),1,\"\")","v":""},{"$f":"IF(AND(AF7<>L32),1,\"\")","v":""},{"$f":"IF(AND(AG7<>L32),1,\"\")","v":""},{"$f":"IF(AND(AH7<>L32),1,\"\")","v":""},{"$f":"IF(AND(AI7<>L32),1,\"\")","v":""},{"$f":"IF(AND(AJ7<>L32),1,\"\")","v":""},{"$f":"IF(AND(AK7<>L32),1,\"\")","v":""},null,null,{"$f":"AK$7","v":""},false,25,{"$error":"#NUM!"},{"$error":"#NUM!"}]
["",{"$f":"SUMIF(F18A!$A$9:$A$60,'F18'!A33,F18A!$B$9:$B$60)","v":0},{"$f":"SUMIF(F18A!$A$9:$A$60,'F18'!A33,F18A!$C$9:$C$60)","v":0},0,{"$f":"SUMIF(F18A!$A$9:$A$60,'F18'!A33,F18A!$E$9:$E$60)","v":0},{"$f":"SUMIF(F18A!$A$9:$A$60,'F18'!A33,F18A!$F$9:$F$60)","v":0},0,{"$nulls":32},{"$f":"K8","v":""},false,26,{"$error":"#NUM!"},{"$error":"#NUM!"}]
["",{"$f":"SUMIF(F18A!$A$9:$A$60,'F18'!A34,F18A!$B$9:$B$60)","v":0},{"$f":"SUMIF(F18A!$A$9:$A$60,'F18'!A34,F18A!$C$9:$C$60)","v":0},0,{"$f":"SUMIF(F18A!$A$9:$A$60,'F18'!A34,F18A!$E$9:$E$60)","v":0},{"$f":"SUMIF(F18A!$A$9:$A$60,'F18'!A34,F18A!$F$9:$F$60)","v":0},0,{"$nulls":32},{"$f":"K9","v":""},false,27,{"$error":"#NUM!"},{"$error":"#NUM!"}]
["",{"$f":"SUMIF(F18A!$A$9:$A$60,'F18'!A35,F18A!$B$9:$B$60)","v":0},{"$f":"SUMIF(F18A!$A$9:$A$60,'F18'!A35,F18A!$C$9:$C$60)","v":0},0,{"$f":"SUMIF(F18A!$A$9:$A$60,'F18'!A35,F18A!$E$9:$E$60)","v":0},{"$f":"SUMIF(F18A!$A$9:$A$60,'F18'!A35,F18A!$F$9:$F$60)","v":0},0,{"$nulls":32},"",false,28,{"$error":"#NUM!"},{"$error":"#NUM!"}]
["",{"$f":"SUMIF(F18A!$A$9:$A$60,'F18'!A36,F18A!$B$9:$B$60)","v":0},{"$f":"SUMIF(F18A!$A$9:$A$60,'F18'!A36,F18A!$C$9:$C$60)","v":0},0,{"$f":"SUMIF(F18A!$A$9:$A$60,'F18'!A36,F18A!$E$9:$E$60)","v":0},{"$f":"SUMIF(F18A!$A$9:$A$60,'F18'!A36,F18A!$F$9:$F$60)","v":0},0,{"$nulls":32},"",false,29,{"$error":"#NUM!"},{"$error":"#NUM!"}]
["",{"$f":"SUMIF(F18A!$A$9:$A$60,'F18'!A37,F18A!$B$9:$B$60)","v":0},{"$f":"SUMIF(F18A!$A$9:$A$60,'F18'!A37,F18A!$C$9:$C$60)","v":0},0,{"$f":"SUMIF(F18A!$A$9:$A$60,'F18'!A37,F18A!$E$9:$E$60)","v":0},{"$f":"SUMIF(F18A!$A$9:$A$60,'F18'!A37,F18A!$F$9:$F$60)","v":0},0,{"$nulls":32},"",false,30,{"$error":"#NUM!"},{"$error":"#NUM!"}]
["",{"$f":"SUMIF(F18A!$A$9:$A$60,'F18'!A38,F18A!$B$9:$B$60)","v":0},{"$f":"SUMIF(F18A!$A$9:$A$60,'F18'!A38,F18A!$C$9:$C$60)","v":0},0,{"$f":"SUMIF(F18A!$A$9:$A$60,'F18'!A38,F18A!$E$9:$E$60)","v":0},{"$f":"SUMIF(F18A!$A$9:$A$60,'F18'!A38,F18A!$F$9:$F$60)","v":0},0,{"$nulls":32},"",false,31,{"$error":"#NUM!"},{"$error":"#NUM!"}]
["",{"$f":"SUMIF(F18A!$A$9:$A$60,'F18'!A39,F18A!$B$9:$B$60)","v":0},{"$f":"SUMIF(F18A!$A$9:$A$60,'F18'!A39,F18A!$C$9:$C$60)","v":0},0,{"$f":"SUMIF(F18A!$A$9:$A$60,'F18'!A39,F18A!$E$9:$E$60)","v":0},{"$f":"SUMIF(F18A!$A$9:$A$60,'F18'!A39,F18A!$F$9:$F$60)","v":0},0,{"$nulls":32},"",false,32,{"$error":"#NUM!"},{"$error":"#NUM!"}]
["",{"$f":"SUMIF(F18A!$A$9:$A$60,'F18'!A40,F18A!$B$9:$B$60)","v":0},{"$f":"SUMIF(F18A!$A$9:$A$60,'F18'!A40,F18A!$C$9:$C$60)","v":0},0,{"$f":"SUMIF(F18A!$A$9:$A$60,'F18'!A40,F18A!$E$9:$E$60)","v":0},{"$f":"SUMIF(F18A!$A$9:$A$60,'F18'!A40,F18A!$F$9:$F$60)","v":0},0,{"$nulls":32},"",false,33,{"$error":"#NUM!"},{"$error":"#NUM!"}]
["",{"$f":"SUMIF(F18A!$A$9:$A$60,'F18'!A41,F18A!$B$9:$B$60)","v":0},{"$f":"SUMIF(F18A!$A$9:$A$60,'F18'!A41,F18A!$C$9:$C$60)","v":0},0,{"$f":"SUMIF(F18A!$A$9:$A$60,'F18'!A41,F18A!$E$9:$E$60)","v":0},{"$f":"SUMIF(F18A!$A$9:$A$60,'F18'!A41,F18A!$F$9:$F$60)","v":0},0,{"$nulls":32},"",false,34,{"$error":"#NUM!"},{"$error":"#NUM!"}]
["",{"$f":"SUMIF(F18A!$A$9:$A$60,'F18'!A42,F18A!$B$9:$B$60)","v":0},{"$f":"SUMIF(F18A!$A$9:$A$60,'F18'!A42,F18A!$C$9:$C$60)","v":0},0,{"$f":"SUMIF(F18A!$A$9:$A$60,'F18'!A42,F18A!$E$9:$E$60)","v":0},{"$f":"SUMIF(F18A!$A$9:$A$60,'F18'!A42,F18A!$F$9:$F$60)","v":0},0,{"$nulls":32},"",false,35,{"$error":"#NUM!"},{"$error":"#NUM!"}]
["",{"$f":"SUMIF(F18A!$A$9:$A$60,'F18'!A43,F18A!$B$9:$B$60)","v":0},{"$f":"SUMIF(F18A!$A$9:$A$60,'F18'!A43,F18A!$C$9:$C$60)","v":0},0,{"$f":"SUMIF(F18A!$A$9:$A$60,'F18'!A43,F18A!$E$9:$E$60)","v":0},{"$f":"SUMIF(F18A!$A$9:$A$60,'F18'!A43,F18A!$F$9:$F$60)","v":0},0,{"$nulls":32},"",false,36,{"$error":"#NUM!"},{"$error":"#NUM!"}]
["",{"$f":"SUMIF(F18A!$A$9:$A$60,'F18'!A44,F18A!$B$9:$B$60)","v":0},{"$f":"SUMIF(F18A!$A$9:$A$60,'F18'!A44,F18A!$C$9:$C$60)","v":0},0,{"$f":"SUMIF(F18A!$A$9:$A$60,'F18'!A44,F18A!$E$9:$E$60)","v":0},{"$f":"SUMIF(F18A!$A$9:$A$60,'F18'!A44,F18A!$F$9:$F$60)","v":0},0,{"$nulls":32},"",false,37,{"$error":"#NUM!"},{"$error":"#NUM!"}]
["",{"$f":"SUMIF(F18A!$A$9:$A$60,'F18'!A45,F18A!$B$9:$B$60)","v":0},{"$f":"SUMIF(F18A!$A$9:$A$60,'F18'!A45,F18A!$C$9:$C$60)","v":0},0,{"$f":"SUMIF(F18A!$A$9:$A$60,'F18'!A45,F18A!$E$9:$E$60)","v":0},{"$f":"SUMIF(F18A!$A$9:$A$60,'F18'!A45,F18A!$F$9:$F$60)","v":0},0,{"$nulls":32},"",false,38,{"$error":"#NUM!"},{"$error":"#NUM!"}]
["",{"$f":"SUMIF(F18A!$A$9:$A$60,'F18'!A46,F18A!$B$9:$B$60)","v":0},{"$f":"SUMIF(F18A!$A$9:$A$60,'F18'!A46,F18A!$C$9:$C$60)","v":0},0,{"$f":"SUMIF(F18A!$A$9:$A$60,'F18'!A46,F18A!$E$9:$E$60)","v":0},{"$f":"SUMIF(F18A!$A$9:$A$60,'F18'!A46,F18A!$F$9:$F$60)","v":0},0,{"$nulls":32},"",false,39,{"$error":"#NUM!"},{"$error":"#NUM!"}]
["",{"$f":"SUMIF(F18A!$A$9:$A$60,'F18'!A47,F18A!$B$9:$B$60)","v":0},{"$f":"SUMIF(F18A!$A$9:$A$60,'F18'!A47,F18A!$C$9:$C$60)","v":0},0,{"$f":"SUMIF(F18A!$A$9:$A$60,'F18'!A47,F18A!$E$9:$E$60)","v":0},{"$f":"SUMIF(F18A!$A$9:$A$60,'F18'!A47,F18A!$F$9:$F$60)","v":0},0,{"$nulls":32},"",false,40,{"$error":"#NUM!"},{"$error":"#NUM!"}]
["",{"$f":"SUMIF(F18A!$A$9:$A$60,'F18'!A48,F18A!$B$9:$B$60)","v":0},{"$f":"SUMIF(F18A!$A$9:$A$60,'F18'!A48,F18A!$C$9:$C$60)","v":0},0,{"$f":"SUMIF(F18A!$A$9:$A$60,'F18'!A48,F18A!$E$9:$E$60)","v":0},{"$f":"SUMIF(F18A!$A$9:$A$60,'F18'!A48,F18A!$F$9:$F$60)","v":0},0,{"$nulls":32},"",false,41,{"$error":"#NUM!"},{"$error":"#NUM!"}]
["",{"$f":"SUMIF(F18A!$A$9:$A$60,'F18'!A49,F18A!$B$9:$B$60)","v":0},{"$f":"SUMIF(F18A!$A$9:$A$60,'F18'!A49,F18A!$C$9:$C$60)","v":0},0,{"$f":"SUMIF(F18A!$A$9:$A$60,'F18'!A49,F18A!$E$9:$E$60)","v":0},{"$f":"SUMIF(F18A!$A$9:$A$60,'F18'!A49,F18A!$F$9:$F$60)","v":0},0,{"$nulls":32},"",false,42,{"$error":"#NUM!"},{"$error":"#NUM!"}]
["",{"$f":"SUMIF(F18A!$A$9:$A$60,'F18'!A50,F18A!$B$9:$B$60)","v":0},{"$f":"SUMIF(F18A!$A$9:$A$60,'F18'!A50,F18A!$C$9:$C$60)","v":0},0,{"$f":"SUMIF(F18A!$A$9:$A$60,'F18'!A50,F18A!$E$9:$E$60)","v":0},{"$f":"SUMIF(F18A!$A$9:$A$60,'F18'!A50,F18A!$F$9:$F$60)","v":0},0,{"$nulls":32},"",false,43,{"$error":"#NUM!"},{"$error":"#NUM!"}]
["",{"$f":"SUMIF(F18A!$A$9:$A$60,'F18'!A51,F18A!$B$9:$B$60)","v":0},{"$f":"SUMIF(F18A!$A$9:$A$60,'F18'!A51,F18A!$C$9:$C$60)","v":0},0,{"$f":"SUMIF(F18A!$A$9:$A$60,'F18'!A51,F18A!$E$9:$E$60)","v":0},{"$f":"SUMIF(F18A!$A$9:$A$60,'F18'!A51,F18A!$F$9:$F$60)","v":0},0,{"$nulls":32},"",false,44,{"$error":"#NUM!"},{"$error":"#NUM!"}]
["",{"$f":"SUMIF(F18A!$A$9:$A$60,'F18'!A52,F18A!$B$9:$B$60)","v":0},{"$f":"SUMIF(F18A!$A$9:$A$60,'F18'!A52,F18A!$C$9:$C$60)","v":0},0,{"$f":"SUMIF(F18A!$A$9:$A$60,'F18'!A52,F18A!$E$9:$E$60)","v":0},{"$f":"SUMIF(F18A!$A$9:$A$60,'F18'!A52,F18A!$F$9:$F$60)","v":0},0,{"$nulls":32},"",false,45,{"$error":"#NUM!"},{"$error":"#NUM!"}]
["",{"$f":"SUMIF(F18A!$A$9:$A$60,'F18'!A53,F18A!$B$9:$B$60)","v":0},{"$f":"SUMIF(F18A!$A$9:$A$60,'F18'!A53,F18A!$C$9:$C$60)","v":0},0,{"$f":"SUMIF(F18A!$A$9:$A$60,'F18'!A53,F18A!$E$9:$E$60)","v":0},{"$f":"SUMIF(F18A!$A$9:$A$60,'F18'!A53,F18A!$F$9:$F$60)","v":0},0,{"$nulls":32},"",false,46,{"$error":"#NUM!"},{"$error":"#NUM!"}]
["",{"$f":"SUMIF(F18A!$A$9:$A$60,'F18'!A54,F18A!$B$9:$B$60)","v":0},{"$f":"SUMIF(F18A!$A$9:$A$60,'F18'!A54,F18A!$C$9:$C$60)","v":0},0,{"$f":"SUMIF(F18A!$A$9:$A$60,'F18'!A54,F18A!$E$9:$E$60)","v":0},{"$f":"SUMIF(F18A!$A$9:$A$60,'F18'!A54,F18A!$F$9:$F$60)","v":0},0,{"$nulls":32},"",false,47,{"$error":"#NUM!"},{"$error":"#NUM!"}]
["",{"$f":"SUMIF(F18A!$A$9:$A$60,'F18'!A55,F18A!$B$9:$B$60)","v":0},{"$f":"SUMIF(F18A!$A$9:$A$60,'F18'!A55,F18A!$C$9:$C$60)","v":0},0,{"$f":"SUMIF(F18A!$A$9:$A$60,'F18'!A55,F18A!$E$9:$E$60)","v":0},{"$f":"SUMIF(F18A!$A$9:$A$60,'F18'!A55,F18A!$F$9:$F$60)","v":0},0,{"$nulls":32},"",false,48,{"$error":"#NUM!"},{"$error":"#NUM!"}]
["",{"$f":"SUMIF(F18A!$A$9:$A$60,'F18'!A56,F18A!$B$9:$B$60)","v":0},{"$f":"SUMIF(F18A!$A$9:$A$60,'F18'!A56,F18A!$C$9:$C$60)","v":0},0,{"$f":"SUMIF(F18A!$A$9:$A$60,'F18'!A56,F18A!$E$9:$E$60)","v":0},{"$f":"SUMIF(F18A!$A$9:$A$60,'F18'!A56,F18A!$F$9:$F$60)","v":0},0,{"$nulls":32},"",false,49,{"$error":"#NUM!"},{"$error":"#NUM!"}]
["",{"$f":"SUMIF(F18A!$A$9:$A$60,'F18'!A57,F18A!$B$9:$B$60)","v":0},{"$f":"SUMIF(F18A!$A$9:$A$60,'F18'!A57,F18A!$C$9:$C$60)","v":0},0,{"$f":"SUMIF(F18A!$A$9:$A$60,'F18'!A57,F18A!$E$9:$E$60)","v":0},{"$f":"SUMIF(F18A!$A$9:$A$60,'F18'!A57,F18A!$F$9:$F$60)","v":0},0,{"$nulls":32},"",false,50,{"$error":"#NUM!"},{"$error":"#NUM!"}]
["TOTAL DEL GASTO",{"$f":"SUM(B8:B57)","v":44998818},0,44998818,49049839.68,49049839.68,-4051021.6799999997]
[]
["Bajo protesta de decir verdad declaramos que los estados financieros y sus notas, son razonablemente correctos y son responsabilidad del emisor."]
[]
[]
[]
[{"$f":"Validacion!A7","v":"C. SANTIAGO LEON CASTRO"},null,null,{"$f":"Validacion!A9","v":"L.T. JOCELYN SANCHEZ HERRERA"}]
[]
["Presidente Municipal o Titular del ente público",null,null,"Encargado de la Hacienda Municipal\n o Responsable de las finanzas del ente público"]

{"sheet":"F19","index":29,"n_rows":47,"n_cols":8,"rows_kept":47,"cut":false,"hidden":false,"merged":[[0,0,0,8],[1,0,1,7],[2,0,2,7],[5,2,5,6],[5,7,6,7],[7,0,7,1],[16,0,16,1],[24,0,24,1],[34,0,34,1],[3,1,3,8],[5,0,6,1],[39,0,39,1],[44,1,45,1],[46,1,47,1],[44,3,45,6],[46,3,47,6]]}
[{"$f":"Validacion!A2","v":"Atemajac de Brizuela"}]
["ESTADO ANALÍTICO DEL EJERCICIO DEL PRESUPUESTO DE EGRESOS"]
["CLASIFICACIÓN FUNCIONAL (FINALIDAD Y FUNCIÓN)"]
[null,{"$f":"'F6'!A3","v":"Del 1° de Enero al 31 de Diciembre de 2021"}]
[]
["CONCEPTO",null,"EGRESOS",{"$nulls":4},"SUBEJERCICIO"]
[null,null,"APROBADO","AMPLIACIONES/\n(REDUCCIONES)","MODIFICADO","DEVENGADO","PAGADO"]
["Gobierno",null,{"$f":"SUM(C9:C16)","v":44998818},{"$f":"SUM(D9:D16)","v":0},{"$f":"C8+D8","v":44998818},{"$f":"SUM(F9:F16)","v":49049839.68},49049839.68,{"$f":"E8-F8","v":-4051021.6799999997}]
[null,"Legislación",{"$f":"F19A!D10+F19A!D44","v":0},{"$f":"F19A!E10+F19A!E44","v":0},{"$f":"C9+D9","v":0},{"$f":"F19A!G10+F19A!G44","v":0},{"$f":"F19A!H10+F19A!H44","v":0},{"$f":"E9-F9","v":0}]
[null,"Justicia",{"$f":"F19A!D11+F19A!D45","v":0},{"$f":"F19A!E11+F19A!E45","v":0},0,{"$f":"F19A!G11+F19A!G45","v":0},{"$f":"F19A!H11+F19A!H45","v":0},0]
[null,"Coordinación de la política de gobierno",{"$f":"F19A!D12+F19A!D46","v":0},{"$f":"F19A!E12+F19A!E46","v":0},0,{"$f":"F19A!G12+F19A!G46","v":0},{"$f":"F19A!H12+F19A!H46","v":0},0]
[null,"Relaciones exteriores",{"$f":"F19A!D13+F19A!D47","v":0},{"$f":"F19A!E13+F19A!E47","v":0},0,{"$f":"F19A!G13+F19A!G47","v":0},{"$f":"F19A!H13+F19A!H47","v":0},0]
[null,"Asuntos financieros y hacendarios",{"$f":"F19A!D14+F19A!D48","v":0},{"$f":"F19A!E14+F19A!E48","v":0},0,{"$f":"F19A!G14+F19A!G48","v":0},{"$f":"F19A!H14+F19A!H48","v":0},0]
[null,"Seguridad nacional",{"$f":"F19A!D15+F19A!D49","v":0},{"$f":"F19A!E15+F19A!E49","v":0},0,{"$f":"F19A!G15+F19A!G49","v":0},{"$f":"F19A!H15+F19A!H49","v":0},0]
[null,"Asuntos de orden público y de seguridad interior",{"$f":"F19A!D16+F19A!D50","v":0},{"$f":"F19A!E16+F19A!E50","v":0},0,{"$f":"F19A!G16+F19A!G50","v":0},{"$f":"F19A!H16+F19A!H50","v":0},0]
[null,"Otros servicios generales",{"$f":"F19A!D17+F19A!D51","v":44998818},{"$f":"F19A!E17+F19A!E51","v":0},44998818,{"$f":"F19A!G17+F19A!G51","v":49049839.68},{"$f":"F19A!H17+F19A!H51","v":49049839.68},-4051021.6799999997]
["Desarrollo social",null,{"$f":"SUM(C18:C24)","v":0},{"$f":"SUM(D18:D24)","v":0},0,{"$f":"SUM(F18:F24)","v":0},0,0]
[null,"Protección ambiental",{"$f":"F19A!D19+F19A!D53","v":0},{"$f":"F19A!E19+F19A!E53","v":0},{"$f":"C18+D18","v":0},{"$f":"F19A!G19+F19A!G53","v":0},{"$f":"F19A!H19+F19A!H53","v":0},0]
[null,"Vivienda y servicios a la comunidad",{"$f":"F19A!D20+F19A!D54","v":0},{"$f":"F19A!E20+F19A!E54","v":0},0,{"$f":"F19A!G20+F19A!G54","v":0},{"$f":"F19A!H20+F19A!H54","v":0},0]
[null,"Salud",{"$f":"F19A!D21+F19A!D55","v":0},{"$f":"F19A!E21+F19A!E55","v":0},0,{"$f":"F19A!G21+F19A!G55","v":0},{"$f":"F19A!H21+F19A!H55","v":0},0]
[null,"Recreación, cultura y otras manifestaciones sociales",{"$f":"F19A!D22+F19A!D56","v":0},{"$f":"F19A!E22+F19A!E56","v":0},0,{"$f":"F19A!G22+F19A!G56","v":0},{"$f":"F19A!H22+F19A!H56","v":0},0]
[null,"Educación",{"$f":"F19A!D23+F19A!D57","v":0},{"$f":"F19A!E23+F19A!E57","v":0},0,{"$f":"F19A!G23+F19A!G57","v":0},{"$f":"F19A!H23+F19A!H57","v":0},0]
[null,"Protección social",{"$f":"F19A!D24+F19A!D58","v":0},{"$f":"F19A!E24+F19A!E58","v":0},0,{"$f":"F19A!G24+F19A!G58","v":0},{"$f":"F19A!H24+F19A!H58","v":0},0]
[null,"Otros asuntos sociales",{"$f":"F19A!D25+F19A!D59","v":0},{"$f":"F19A!E25+F19A!E59","v":0},0,{"$f":"F19A!G25+F19A!G59","v":0},{"$f":"F19A!H25+F19A!H59","v":0},0]
["Desarrollo económico",null,{"$f":"SUM(C26:C34)","v":0},{"$f":"SUM(D26:D34)","v":0},0,{"$f":"SUM(F26:F34)","v":0},0,0]
[null,"Asuntos económicos, comerciales y laborales en general",{"$f":"F19A!D27+F19A!D61","v":0},{"$f":"F19A!E27+F19A!E61","v":0},{"$f":"C26+D26","v":0},{"$f":"F19A!G27+F19A!G61","v":0},{"$f":"F19A!H27+F19A!H61","v":0},0]
[null,"Agropecuaria, silvicultura, pesca y caza",{"$f":"F19A!D28+F19A!D62","v":0},{"$f":"F19A!E28+F19A!E62","v":0},0,{"$f":"F19A!G28+F19A!G62","v":0},{"$f":"F19A!H28+F19A!H62","v":0},0]
[null,"Combustibles y energía",{"$f":"F19A!D29+F19A!D63","v":0},{"$f":"F19A!E29+F19A!E63","v":0},0,{"$f":"F19A!G29+F19A!G63","v":0},{"$f":"F19A!H29+F19A!H63","v":0},0]
[null,"Minería, manufacturas y construcción",{"$f":"F19A!D30+F19A!D64","v":0},{"$f":"F19A!E30+F19A!E64","v":0},0,{"$f":"F19A!G30+F19A!G64","v":0},{"$f":"F19A!H30+F19A!H64","v":0},0]
[null,"Transporte",{"$f":"F19A!D31+F19A!D65","v":0},{"$f":"F19A!E31+F19A!E65","v":0},0,{"$f":"F19A!G31+F19A!G65","v":0},{"$f":"F19A!H31+F19A!H65","v":0},0]
[null,"Comunicaciones",{"$f":"F19A!D32+F19A!D66","v":0},{"$f":"F19A!E32+F19A!E66","v":0},0,{"$f":"F19A!G32+F19A!G66","v":0},{"$f":"F19A!H32+F19A!H66","v":0},0]
[null,"Turismo",{"$f":"F19A!D33+F19A!D67","v":0},{"$f":"F19A!E33+F19A!E67","v":0},0,{"$f":"F19A!G33+F19A!G67","v":0},{"$f":"F19A!H33+F19A!H67","v":0},0]
[null,"Ciencia, tecnología e innovación",{"$f":"F19A!D34+F19A!D68","v":0},{"$f":"F19A!E34+F19A!E68","v":0},0,{"$f":"F19A!G34+F19A!G68","v":0},{"$f":"F19A!H34+F19A!H68","v":0},0]
[null,"Otras industrias y otros asuntos económicos",{"$f":"F19A!D35+F19A!D69","v":0},{"$f":"F19A!E35+F19A!E69","v":0},0,{"$f":"F19A!G35+F19A!G69","v":0},{"$f":"F19A!H35+F19A!H69","v":0},0]
["Otras no clasificadas en fdunciones anteriores",null,{"$f":"SUM(C36:C39)","v":0},{"$f":"SUM(D36:D39)","v":0},0,{"$f":"SUM(F36:F39)","v":0},{"$f":"SUM(G36:G39)","v":0},0]
[null,"Transacciones de la deuda publica / costo financiero de la deuda",{"$f":"F19A!D37+F19A!D71","v":0},{"$f":"F19A!E37+F19A!E71","v":0},{"$f":"C36+D36","v":0},{"$f":"F19A!G37+F19A!G71","v":0},{"$f":"F19A!H37+F19A!H71","v":0},0]
[null,"Transferencias, participaciones y aportaciones entre diferentes niveles y órdenes de gobierno",{"$f":"F19A!D38+F19A!D72","v":0},{"$f":"F19A!E38+F19A!E72","v":0},0,{"$f":"F19A!G38+F19A!G72","v":0},{"$f":"F19A!H38+F19A!H72","v":0},0]
[null,"Saneamiento del sistema financiero",{"$f":"F19A!D39+F19A!D73","v":0},{"$f":"F19A!E39+F19A!E73","v":0},0,{"$f":"F19A!G39+F19A!G73","v":0},{"$f":"F19A!H39+F19A!H73","v":0},0]
[null,"Adeudos de ejercicios fiscales anteriores",{"$f":"F19A!D40+F19A!D74","v":0},{"$f":"F19A!E40+F19A!E74","v":0},0,{"$f":"F19A!G40+F19A!G74","v":0},{"$f":"F19A!H40+F19A!H74","v":0},0]
["TOTAL DEL GASTO",null,{"$f":"C8+C17+C25+C35","v":44998818},{"$f":"D8+D17+D25+D35","v":0},44998818,{"$f":"F8+F17+F25+F35","v":49049839.68},{"$f":"G8+G17+G25+G35","v":49049839.68},-4051021.6799999997]
[]
["Bajo protesta de decir verdad declaramos que los estados financieros y sus notas, son razonablemente correctos y son responsabilidad del emisor."]
[]
[]
[null,{"$f":"Validacion!A7","v":"C. SANTIAGO LEON CASTRO"},null,{"$f":"Validacion!A9","v":"L.T. JOCELYN SANCHEZ HERRERA"}]
[]
[null,"Presidente Municipal o titular del ente público",null,"Encargado de la Hacienda Municipal\n o Responsable de las finanzas del ente público"]